{"text_format":"2","workbook":"xlsx","n_sheets":8,"sheets":["Encarregado","Servente","Copeira","Recepcionista","Garçom","Bombeiro","Marceneiro","Resumo"],"not_rendered":{"charts":0,"images":0,"macros":0,"external_links":0,"defined_names":0,"comments":0,"pivot_tables":0},"unopened":[],"bounds":{"document_bytes":16777216,"sheet_cells":100000,"run_cost":"one","rows_first":2000,"rows_last":500,"rows_between":2000,"halvings":0,"cell_chars":16384,"cell_head_chars":4096},"cells_cut":0,"cells_raw":0,"read":"whole","date_system":"1900"}

{"sheet":"Encarregado","index":0,"n_rows":131,"n_cols":9,"rows_kept":131,"cut":false,"hidden":false,"merged":[[113,1,113,6],[114,1,114,6],[115,1,115,6],[116,1,116,6],[117,1,117,6],[118,1,118,6],[107,0,107,8],[108,0,108,8],[109,1,109,6],[110,1,110,6],[111,1,111,6],[112,1,112,6],[125,1,125,7],[126,1,126,7],[127,1,127,7],[128,0,128,7],[129,1,129,7],[130,0,130,7],[119,1,119,6],[120,0,120,7],[121,0,121,8],[122,0,122,8],[123,0,123,7],[124,1,124,7],[101,1,101,6],[102,1,102,6],[103,1,103,6],[104,1,104,6],[105,1,105,6],[106,0,106,6],[95,0,95,6],[96,1,96,6],[97,0,97,6],[98,0,98,8],[99,0,99,8],[100,1,100,6],[89,1,89,6],[90,1,90,6],[91,1,91,6],[92,1,92,6],[93,1,93,6],[94,1,94,6],[85,1,85,6],[86,0,86,6],[87,0,87,8],[88,0,88,8],[81,1,81,6],[82,1,82,6],[83,1,83,6],[84,1,84,6],[76,1,76,6],[77,0,77,6],[78,0,78,8],[79,1,79,6],[80,1,80,6],[70,1,70,6],[71,0,71,6],[72,0,72,8],[73,0,73,8],[74,1,74,6],[75,1,75,6],[64,0,64,8],[65,0,65,8],[66,1,66,6],[67,1,67,6],[68,1,68,6],[69,0,69,6],[58,1,58,6],[59,1,59,6],[60,1,60,6],[61,1,61,6],[62,1,62,6],[63,0,63,6],[52,0,52,8],[53,0,53,8],[54,1,54,6],[55,1,55,6],[56,1,56,6],[57,1,57,6],[45,1,45,8],[46,1,46,7],[47,1,47,7],[48,1,48,7],[50,0,50,7],[51,0,51,8],[40,1,40,7],[41,1,41,7],[42,0,42,7],[43,0,43,8],[44,0,44,8],[49,1,49,7],[34,0,34,7],[35,1,35,8],[36,1,36,7],[37,1,37,7],[38,1,38,7],[39,1,39,7],[28,1,28,7],[29,1,29,7],[30,1,30,7],[31,1,31,7],[32,0,32,7],[33,0,33,8],[22,0,22,8],[23,0,23,8],[24,1,24,7],[25,1,25,7],[26,1,26,7],[27,1,27,7],[19,1,19,6],[19,7,19,8],[20,1,20,6],[20,7,20,8],[21,1,21,6],[21,7,21,8],[14,0,14,8],[15,0,15,8],[16,0,16,8],[17,0,17,8],[18,1,18,6],[18,7,18,8],[12,1,12,2],[12,3,12,6],[12,7,12,8],[13,1,13,2],[13,3,13,6],[13,7,13,8],[11,0,11,8],[10,0,10,8],[5,0,5,6],[5,7,5,8],[6,0,6,8],[7,0,7,8],[8,0,8,8],[9,0,9,8],[1,0,1,8],[2,0,2,8],[3,0,3,8],[4,0,4,6],[4,7,4,8]]}
[{"$nulls":4},"ANEXO A"]
["COMPANHIA DE DESENVOLVIMENTO DOS VALES DO SÃO FRANCISCO E DO PARANAÍBA"]
["PLANILHA DE CUSTOS E FORMAÇÃO DE PREÇOS"]
["ENCARREGADO"]
["Nº do Processo"]
["Licitação Nº"]
["EMPRESA: "]
["CNPJ:"]
["Regime Tributário: "]
["Sindicato Representativo da Categoria: SINDISERVIÇOS/DF"]
[]
["Identificação do Serviço"]
["Item","Tipo de Serviço",null,"Unidade de Medida",null,null,null,"Quantidade total a contratar (em função da unidade de medida) "]
["I","ENCARREGADO GERAL",null,"Posto",null,null,null,1]
[]
["MÃO-DE-0BRA"]
["MÃO-DE-0BRA VINCULADA À EXECUÇÃO CONTRATUAL"]
["Dados complementares para composição dos custos referentes à mão-de-obra"]
[1,"Tipo de serviço (mesmo serviço com características distintas)",{"$nulls":5},"ENCARREGADO"]
[2,"Salário Normativo da Categoria Profissional"]
[3,"Categoria Profissional (vinculada à execução contratual)",{"$nulls":5},"ENCARREGADO"]
[4,"Data base da categoria",{"$nulls":5},"2016-01-01"]
[]
["MÓDULO 1: COMPOSIÇÃO DA REMUNERAÇÃO"]
[1,"Composição da Remuneração",{"$nulls":6},"Valor (R$)"]
["A","Salário Base "]
["B","Adicional de periculosidade ",{"$nulls":6},0]
["C","Adicional de Insalubridade ",{"$nulls":6},0]
["D","Adicional noturno",{"$nulls":6},0]
["E","Hora noturna adicional",{"$nulls":6},0]
["F","Adicional de hora extra",{"$nulls":6},0]
["G","Intervalo intrajornada",{"$nulls":6},0]
["Total da remuneração",{"$nulls":7},{"$f":"SUM(I26:I32)","v":0}]
[]
["MÓDULO 2: BENEFÍCIOS MENSAIS E DIÁRIOS",{"$nulls":7},"Valor (R$)"]
[2,"Benefícios mensais e diários"]
["A"," Transporte (R$ 7*2)*26 dias - Cláusula 16ª da CCT/2016/2016"]
["B","Dedução legal (- 6% sobre a remuneração)"]
["C","Auxílio-Alimentação (26 dias x R$ 27,50) - Cláusula 15ª - CCT 2016/2016"]
["D","Plano de Saúde - Cláusula 17ª CCT - 2016/2016"]
["E","Assistência Odontológica Cláusula 19ª - CCT 2016/2016"]
["F","Seguro de Vida e Auxílio funeral - Cláusula 18ª - CCT 2016/2016"]
["Total do Benefícios mensais e diários",{"$nulls":7},{"$f":"I37-I38+I39+I40+I41+I42","v":0}]
[]
["MÓDULO 3: INSUMOS DIVERSOS"]
[3,"Insumos Diversos"]
["A","Uniformes (Custo Total/Mês/Profissional)"]
["B","Materiais de Limpeza e Higiene Pessoal e EPI's",{"$nulls":6},0]
["C","Depreciação de Equipamentos",{"$nulls":6},0]
["D","Outros (especificar)",{"$nulls":6},0]
["Total de Insumos diversos",{"$nulls":7},{"$f":"SUM(I47:I50)","v":0}]
[]
["MÓDULO 4: ENCARGOS SOCIAIS E TRABALHISTAS"]
["Submódulo 4.1 - Encargos previdenciários e FGTS"]
["4.1","Encargos previdenciários e FGTS",{"$nulls":5},"%","Valor (R$)"]
["A","INSS",{"$nulls":6},{"$f":"$I$33*H56%","v":0}]
["B","SESI ou SESC",{"$nulls":6},{"$f":"$I$33*H57%","v":0}]
["C","SENAI ou SENAC",{"$nulls":6},0]
["D","INCRA",{"$nulls":6},0]
["E","Salário Educação",{"$nulls":6},0]
["F","FGTS",{"$nulls":6},0]
["G","Seguro Acidente do trabalho  (CCT Cláusula 74)",{"$nulls":6},0]
["H","SEBRAE",{"$nulls":6},0]
["TOTAL",{"$nulls":6},{"$f":"SUM(H56:H63)","v":0},0]
[]
["Submódulo 4.2 - 13º Salário e Adicional de Férias"]
["4.2","13º Salário e Adicional de Férias",{"$nulls":5},"% ","Valor (R$)"]
["A","13º Salário ",{"$nulls":6},{"$f":"$I$33*H68%","v":0}]
["B","Adicional de Férias",{"$nulls":6},{"$f":"$I$33*H69%","v":0}]
["Subtotal",{"$nulls":6},{"$f":"SUM(H68:H69)","v":0},0]
["C","Incidência do submódulo 4.1 sobre 13º Salário e Adicional de Férias",{"$nulls":6},0]
["TOTAL",{"$nulls":6},{"$f":"H70+H71","v":0},0]
[]
["Submódulo 4.3 - Afastamento Maternidade"]
["4.3","Afastamento Maternidade",{"$nulls":5},"%","VALOR (R$)"]
["A","Afastamento Maternidade",{"$nulls":5},0,{"$f":"$I$33*H76%","v":0}]
["B","Incidência do submódulo 4.1 sobre afastamento maternidade",{"$nulls":5},0,{"$f":"$I$33*H77%","v":0}]
["TOTAL",{"$nulls":6},{"$f":"SUM(H76:H77)","v":0},{"$f":"SUM(I76:I77)","v":0}]
["Submódulo 4.4 - Provisão para Rescisão"]
["4.4","Provisão para Rescisão",{"$nulls":5},"%","VALOR (R$)"]
["A","Aviso prévio indenizado",{"$nulls":6},{"$f":"$I$33*H81%","v":0}]
["B","Incidência do FGTS sobre o aviso prévio indenizado",{"$nulls":6},{"$f":"$I$33*H82%","v":0}]
["C","Multa do FGTS e Cont. Social sobre aviso prévio indenizado",{"$nulls":6},0]
["D","Aviso previo trabalhado",{"$nulls":5},0,0]
["E","Incidência do submódulo 4.1 sobre aviso prévio trabalhado",{"$nulls":6},0]
["F","Multa do FGTS do aviso prévio trabalhado",{"$nulls":6},0]
["TOTAL",{"$nulls":6},{"$f":"SUM(H81:H86)","v":0},0]
[]
["Submódulo 4.5 - Custo de Reposição do Profissional Ausente"]
["4.5","Composição do Custo de Reposição do Profissional Ausente",{"$nulls":5},"%","VALOR (R$)"]
["A","Férias",{"$nulls":6},{"$f":"$I$33*H91%","v":0}]
["B","Ausência por doença",{"$nulls":6},{"$f":"$I$33*H92%","v":0}]
["C","Licença paternidade",{"$nulls":6},0]
["D","Ausências legais",{"$nulls":6},0]
["E","Ausência por acidente de trabalho",{"$nulls":6},0]
["Subtotal",{"$nulls":6},{"$f":"SUM(H91:H95)","v":0},0]
["F","Incidência do submódulo 4.1 sobre o Custo de Reposição",{"$nulls":6},0]
["TOTAL",{"$nulls":6},{"$f":"H96+H97","v":0},0]
[]
["Quadro - Resumo - Módulo 4 - Encargos Sociais e Trabalhistas"]
[4,"Módulo 4 - Encargos Sociais e Trabalhistas",{"$nulls":5},"%","VALOR (R$)"]
["4.1","Encargos previdenciários e FGTS",{"$nulls":6},{"$f":"$I$33*H102%","v":0}]
["4.2","13º salário + Adicional de férias",{"$nulls":5},{"$f":"H72","v":0},{"$f":"$I$33*H103%","v":0}]
["4.3","Afastamento maternidade",{"$nulls":5},{"$f":"H78","v":0},0]
["4.4","Custo de rescisão",{"$nulls":5},{"$f":"H87","v":0},0]
["4.5","Custo de reposição de profissional ausente",{"$nulls":5},{"$f":"H98","v":0},0]
["TOTAL",{"$nulls":6},{"$f":"SUM(H102:H106)","v":0},{"$f":"$I$33*H107%","v":0}]
[]
["MÓDULO 5 - CUSTOS INDIRETOS, TRIBUTOS E LUCRO"]
[5,"Custos indiretos, tributos e lucro",{"$nulls":5},"%","VALOR (R$)"]
["A","Custos indiretos"]
["B","Tributos"]
[null,"B.1. Tributos Federais "]
[null,"PIS"]
[null,"COFINS"]
[null,"B.2. Tributos Estaduais "]
[null,"B.3. Tributos Municipais"]
[null,"ISS"]
[null,"B.4. Outros Tributos"]
["C","Lucro"]
["TOTAL",{"$nulls":7},{"$f":"I111+I114+I115+I118+I120","v":0}]
[]
[" Quadro resumo do custo por empregado"]
["Mão-de-obra vinculada à execução contratual (valor por empregado)",{"$nulls":7},"Valor (R$)"]
["A","Módulo 1 - Composição da Remuneração",{"$nulls":6},{"$f":"I33","v":0}]
["B","Módulo 2 - Benefícios Mensais e Diários",{"$nulls":6},{"$f":"I43","v":0}]
["C","Módulo 3 - Insumos Diversos (uniformes, materiais, equipamentos, outros)",{"$nulls":6},{"$f":"I51","v":0}]
["D","Módulo 4 - Encargos Sociais e Trabalhistas",{"$nulls":6},{"$f":"I107","v":0}]
["Subtotal (A + B + C + D)",{"$nulls":7},{"$f":"I125+I126+I127+I128","v":0}]
["E","Módulo 5 - Custos Indiretos, Tributos e Lucro",{"$nulls":6},{"$f":"I131-I129","v":0}]
["PREÇO POSTO/MÊS",{"$nulls":7},{"$f":"(I129+I111+I120)/0.9135","v":0}]

{"sheet":"Servente","index":1,"n_rows":131,"n_cols":9,"rows_kept":131,"cut":false,"hidden":false,"merged":[[129,1,129,7],[130,0,130,7],[123,0,123,7],[124,1,124,7],[125,1,125,7],[126,1,126,7],[127,1,127,7],[128,0,128,7],[117,1,117,6],[118,1,118,6],[119,1,119,6],[120,0,120,7],[121,0,121,8],[122,0,122,8],[111,1,111,6],[112,1,112,6],[113,1,113,6],[114,1,114,6],[115,1,115,6],[116,1,116,6],[105,1,105,6],[106,0,106,6],[107,0,107,8],[108,0,108,8],[109,1,109,6],[110,1,110,6],[99,0,99,8],[100,1,100,6],[101,1,101,6],[102,1,102,6],[103,1,103,6],[104,1,104,6],[93,1,93,6],[94,1,94,6],[95,0,95,6],[96,1,96,6],[97,0,97,6],[98,0,98,8],[87,0,87,8],[88,0,88,8],[89,1,89,6],[90,1,90,6],[91,1,91,6],[92,1,92,6],[81,1,81,6],[82,1,82,6],[83,1,83,6],[84,1,84,6],[85,1,85,6],[86,0,86,6],[75,1,75,6],[76,1,76,6],[77,0,77,6],[78,0,78,8],[79,1,79,6],[80,1,80,6],[69,0,69,6],[70,1,70,6],[71,0,71,6],[72,0,72,8],[73,0,73,8],[74,1,74,6],[63,0,63,6],[64,0,64,8],[65,0,65,8],[66,1,66,6],[67,1,67,6],[68,1,68,6],[57,1,57,6],[58,1,58,6],[59,1,59,6],[60,1,60,6],[61,1,61,6],[62,1,62,6],[51,0,51,8],[52,0,52,8],[53,0,53,8],[54,1,54,6],[55,1,55,6],[56,1,56,6],[45,1,45,8],[46,1,46,7],[47,1,47,7],[48,1,48,7],[49,1,49,7],[50,0,50,7],[40,1,40,7],[41,1,41,7],[42,0,42,7],[43,0,43,8],[44,0,44,8],[34,0,34,7],[35,1,35,8],[36,1,36,7],[37,1,37,7],[38,1,38,7],[39,1,39,7],[28,1,28,7],[29,1,29,7],[30,1,30,7],[31,1,31,7],[32,0,32,7],[33,0,33,8],[22,0,22,8],[23,0,23,8],[24,1,24,7],[25,1,25,7],[26,1,26,7],[27,1,27,7],[20,1,20,6],[20,7,20,8],[21,1,21,6],[21,7,21,8],[14,0,14,8],[15,0,15,8],[16,0,16,8],[17,0,17,8],[18,1,18,6],[18,7,18,8],[13,1,13,2],[13,3,13,6],[13,7,13,8],[6,0,6,8],[7,0,7,8],[8,0,8,8],[9,0,9,8],[10,0,10,8],[19,1,19,6],[19,7,19,8],[1,0,1,8],[2,0,2,8],[3,0,3,8],[4,0,4,6],[4,7,4,8],[5,0,5,6],[5,7,5,8],[11,0,11,8],[12,1,12,2],[12,3,12,6],[12,7,12,8]]}
[{"$nulls":4},"ANEXO B"]
["COMPANHIA DE DESENVOLVIMENTO DOS VALES DO SÃO FRANCISCO E DO PARANAÍBA"]
["PLANILHA DE CUSTOS E FORMAÇÃO DE PREÇOS"]
["SERVENTE"]
["Nº do Processo"]
["Licitação Nº",{"$nulls":6},"PE Nº "]
["EMPRESA: "]
["CNPJ:"]
["Regime Tributário: "]
["Sindicato Representativo da Categoria: SINDISERVIÇOS/DF"]
[]
["Identificação do Serviço"]
["Item","Tipo de Serviço",null,"Unidade de Medida",null,null,null,"Quantidade total a contratar (em função da unidade de medida) "]
["I","SERVENTE",null,"Posto",null,null,null,21]
[]
["MÃO-DE-0BRA"]
["MÃO-DE-0BRA VINCULADA À EXECUÇÃO CONTRATUAL"]
["Dados complementares para composição dos custos referentes à mão-de-obra"]
[1,"Tipo de serviço (mesmo serviço com características distintas)",{"$nulls":5},"SERVENTE"]
[2,"Salário Normativo da Categoria Profissional"]
[3,"Categoria Profissional (vinculada à execução contratual)",{"$nulls":5},"SERVENTE"]
[4,"Data base da categoria",{"$nulls":5},"2016-01-01"]
[]
["MÓDULO 1: COMPOSIÇÃO DA REMUNERAÇÃO"]
[1,"Composição da Remuneração",{"$nulls":6},"Valor (R$)"]
["A","Salário Base "]
["B","Adicional de periculosidade ",{"$nulls":6},0]
["C","Adicional de Insalubridade ",{"$nulls":6},0]
["D","Adicional noturno",{"$nulls":6},0]
["E","Hora noturna adicional",{"$nulls":6},0]
["F","Adicional de hora extra",{"$nulls":6},0]
["G","Intervalo intrajornada",{"$nulls":6},0]
["Total da remuneração",{"$nulls":7},{"$f":"SUM(I26:I32)","v":0}]
[]
["MÓDULO 2: BENEFÍCIOS MENSAIS E DIÁRIOS",{"$nulls":7},"Valor (R$)"]
[2,"Benefícios mensais e diários"]
["A"," Transporte (R$ 7*2)*26 dias - Cláusula 16ª da CCT/2016/2016"]
["B","Dedução legal (- 6% sobre a remuneração)",{"$nulls":6},{"$f":"I26*6%","v":0}]
["C","Auxílio-Alimentação (26 dias x R$ 27,50) - Cláusula 15ª - CCT 2016/2016"]
["D","Plano de Saúde - Cláusula 17ª CCT - 2016/2016"]
["E","Assistência Odontológica (Cláusula 19ª - CCT 2016/2016"]
["F","Seguro de Vida e Auxílio funeral - Cláusula 18ª - CCT 2016/2016"]
["Total do Benefícios mensais e diários",{"$nulls":7},{"$f":"I37-I38+I39+I40+I41+I42","v":0}]
[]
["MÓDULO 3: INSUMOS DIVERSOS"]
[3,"Insumos Diversos"]
["A","Uniformes (Custo Total/Mês/Profissional)"]
["B","Materiais de Limpeza e Higiene Pessoal e EPI's"]
["C","Depreciação de Equipamentos",{"$nulls":6},0]
["D","Outros (especificar)",{"$nulls":6},0]
["Total de Insumos diversos",{"$nulls":7},{"$f":"SUM(I47:I50)","v":0}]
[]
["MÓDULO 4: ENCARGOS SOCIAIS E TRABALHISTAS"]
["Submódulo 4.1 - Encargos previdenciários e FGTS"]
["4.1","Encargos previdenciários e FGTS",{"$nulls":5},"%","Valor (R$)"]
["A","INSS",{"$nulls":6},{"$f":"$I$33*H56%","v":0}]
["B","SESI ou SESC",{"$nulls":6},{"$f":"$I$33*H57%","v":0}]
["C","SENAI ou SENAC",{"$nulls":6},0]
["D","INCRA",{"$nulls":6},0]
["E","Salário Educação",{"$nulls":6},0]
["F","FGTS",{"$nulls":6},0]
["G","Seguro Acidente do trabalho (CCT 2016 cláusula 74)",{"$nulls":6},0]
["H","SEBRAE",{"$nulls":6},0]
["TOTAL",{"$nulls":7},0]
[]
["Submódulo 4.2 - 13º Salário e Adicional de Férias"]
["4.2","13º Salário e Adicional de Férias",{"$nulls":5},"% ","Valor (R$)"]
["A","13º Salário ",{"$nulls":6},{"$f":"$I$33*H68%","v":0}]
["B","Adicional de Férias",{"$nulls":6},{"$f":"$I$33*H69%","v":0}]
["Subtotal",{"$nulls":6},{"$f":"SUM(H68:H69)","v":0},0]
["C","Incidência do submódulo 4.1 sobre 13º Salário e Adicional de Férias",{"$nulls":6},0]
["TOTAL",{"$nulls":6},{"$f":"H70+H71","v":0},0]
[]
["Submódulo 4.3 - Afastamento Maternidade"]
["4.3","Afastamento Maternidade",{"$nulls":5},"%","VALOR (R$)"]
["A","Afastamento Maternidade",{"$nulls":6},{"$f":"$I$33*H76%","v":0}]
["B","Incidência do submódulo 4.1 sobre afastamento maternidade",{"$nulls":6},{"$f":"$I$33*H77%","v":0}]
["TOTAL",{"$nulls":6},{"$f":"SUM(H76:H77)","v":0},{"$f":"SUM(I76:I77)","v":0}]
["Submódulo 4.4 - Provisão para Rescisão"]
["4.4","Provisão para Rescisão",{"$nulls":5},"%","VALOR (R$)"]
["A","Aviso prévio indenizado",{"$nulls":6},{"$f":"$I$33*H81%","v":0}]
["B","Incidência do FGTS sobre o aviso prévio indenizado",{"$nulls":6},{"$f":"$I$33*H82%","v":0}]
["C","Multa do FGTS e Cont. Social sobre aviso prévio indenizado",{"$nulls":6},0]
["D","Aviso previo trabalhado",{"$nulls":5},0,0]
["E","Incidência do submódulo 4.1 sobre aviso prévio trabalhado",{"$nulls":6},0]
["F","Multa do FGTS do aviso prévio trabalhad0",{"$nulls":6},0]
["TOTAL",{"$nulls":6},{"$f":"SUM(H81:H86)","v":0},0]
[]
["Submódulo 4.5 - Custo de Reposição do Profissional Ausente"]
["4.5","Composição do Custo de Reposição do Profissional Ausente",{"$nulls":5},"%","VALOR (R$)"]
["A","Férias",{"$nulls":6},{"$f":"$I$33*H91%","v":0}]
["B","Ausência por doença",{"$nulls":6},{"$f":"$I$33*H92%","v":0}]
["C","Licença paternidade",{"$nulls":5},0,0]
["D","Ausências legais",{"$nulls":6},0]
["E","Ausência por acidente de trabalho",{"$nulls":6},0]
["Subtotal",{"$nulls":6},{"$f":"SUM(H91:H95)","v":0},0]
["F","Incidência do submódulo 4.1 sobre o Custo de Reposição",{"$nulls":6},0]
["TOTAL",{"$nulls":6},{"$f":"H96+H97","v":0},0]
[]
["Quadro - Resumo - Módulo 4 - Encargos Sociais e Trabalhistas"]
[4,"Módulo 4 - Encargos Sociais e Trabalhistas",{"$nulls":5},"%","VALOR (R$)"]
["4.1","Encargos previdenciários e FGTS",{"$nulls":6},{"$f":"$I$33*H102%","v":0}]
["4.2","13º salário + Adicional de férias",{"$nulls":5},{"$f":"H72","v":0},{"$f":"$I$33*H103%","v":0}]
["4.3","Afastamento maternidade",{"$nulls":5},{"$f":"H78","v":0},0]
["4.4","Custo de rescisão",{"$nulls":5},{"$f":"H87","v":0},0]
["4.5","Custo de reposição de profissional ausente",{"$nulls":5},{"$f":"H98","v":0},0]
["TOTAL",{"$nulls":6},{"$f":"SUM(H102:H106)","v":0},0]
[]
["MÓDULO 5 - CUSTOS INDIRETOS, TRIBUTOS E LUCRO"]
[5,"Custos indiretos, tributos e lucro",{"$nulls":5},"%","VALOR (R$)"]
["A","Custos indiretos",{"$nulls":6},{"$f":"(I33+I43+I51+I107)*H112%","v":0}]
["B","Tributos"]
[null,"B.1. Tributos Federais "]
[null,"PIS",{"$nulls":6},{"$f":"I131*H114%","v":0}]
[null,"COFINS",{"$nulls":6},{"$f":"I131*H115%","v":0}]
[null,"B.2. Tributos Estaduais "]
[null,"B.3. Tributos Municipais"]
[null,"ISS",{"$nulls":6},{"$f":"I131*H118%","v":0}]
[null,"B.4. Outros Tributos"]
["C","Lucro",{"$nulls":6},{"$f":"(I33+I43+I51+I107+I111)*6%","v":0}]
["TOTAL",{"$nulls":7},{"$f":"I111+I114+I115+I118+I120","v":0}]
[]
[" Quadro resumo do custo por empregado"]
["Mão-de-obra vinculada à execução contratual (valor por empregado)",{"$nulls":7},"Valor (R$)"]
["A","Módulo 1 - Composição da Remuneração",{"$nulls":6},{"$f":"I33","v":0}]
["B","Módulo 2 - Benefícios Mensais e Diários",{"$nulls":6},{"$f":"I43","v":0}]
["C","Módulo 3 - Insumos Diversos (uniformes, materiais, equipamentos, outros)",{"$nulls":6},{"$f":"I51","v":0}]
["D","Módulo 4 - Encargos Sociais e Trabalhistas",{"$nulls":6},{"$f":"I107","v":0}]
["Subtotal (A + B + C + D)",{"$nulls":7},{"$f":"I125+I126+I127+I128","v":0}]
["E","Módulo 5 - Custos Indiretos, Tributos e Lucro",{"$nulls":6},{"$f":"I131-I129","v":0}]
["PREÇO POSTO/MÊS",{"$nulls":7},{"$f":"(I129+I111+I120)/0.9135","v":0}]

{"sheet":"Copeira","index":2,"n_rows":131,"n_cols":9,"rows_kept":131,"cut":false,"hidden":false,"merged":[[129,1,129,7],[130,0,130,7],[123,0,123,7],[124,1,124,7],[125,1,125,7],[126,1,126,7],[127,1,127,7],[128,0,128,7],[117,1,117,6],[118,1,118,6],[119,1,119,6],[120,0,120,7],[121,0,121,8],[122,0,122,8],[111,1,111,6],[112,1,112,6],[113,1,113,6],[114,1,114,6],[115,1,115,6],[116,1,116,6],[105,1,105,6],[106,0,106,6],[107,0,107,8],[108,0,108,8],[109,1,109,6],[110,1,110,6],[99,0,99,8],[100,1,100,6],[101,1,101,6],[102,1,102,6],[103,1,103,6],[104,1,104,6],[93,1,93,6],[94,1,94,6],[95,0,95,6],[96,1,96,6],[97,0,97,6],[98,0,98,8],[87,0,87,8],[88,0,88,8],[89,1,89,6],[90,1,90,6],[91,1,91,6],[92,1,92,6],[81,1,81,6],[82,1,82,6],[83,1,83,6],[84,1,84,6],[85,1,85,6],[86,0,86,6],[75,1,75,6],[76,1,76,6],[77,0,77,6],[78,0,78,8],[79,1,79,6],[80,1,80,6],[69,0,69,6],[70,1,70,6],[71,0,71,6],[72,0,72,8],[73,0,73,8],[74,1,74,6],[63,0,63,6],[64,0,64,8],[65,0,65,8],[66,1,66,6],[67,1,67,6],[68,1,68,6],[57,1,57,6],[58,1,58,6],[59,1,59,6],[60,1,60,6],[61,1,61,6],[62,1,62,6],[51,0,51,8],[52,0,52,8],[53,0,53,8],[54,1,54,6],[55,1,55,6],[56,1,56,6],[45,1,45,8],[46,1,46,7],[47,1,47,7],[48,1,48,7],[49,1,49,7],[50,0,50,7],[40,1,40,7],[41,1,41,7],[42,0,42,7],[43,0,43,8],[44,0,44,8],[34,0,34,7],[35,1,35,8],[36,1,36,7],[37,1,37,7],[38,1,38,7],[39,1,39,7],[28,1,28,7],[29,1,29,7],[30,1,30,7],[31,1,31,7],[32,0,32,7],[33,0,33,8],[22,0,22,8],[23,0,23,8],[24,1,24,7],[25,1,25,7],[26,1,26,7],[27,1,27,7],[20,1,20,6],[20,7,20,8],[21,1,21,6],[21,7,21,8],[14,0,14,8],[15,0,15,8],[16,0,16,8],[17,0,17,8],[18,1,18,6],[18,7,18,8],[13,1,13,2],[13,3,13,6],[13,7,13,8],[6,0,6,8],[7,0,7,8],[8,0,8,8],[9,0,9,8],[10,0,10,8],[19,1,19,6],[19,7,19,8],[1,0,1,8],[2,0,2,8],[3,0,3,8],[4,0,4,6],[4,7,4,8],[5,0,5,6],[5,7,5,8],[11,0,11,8],[12,1,12,2],[12,3,12,6],[12,7,12,8]]}
[{"$nulls":4},"ANEXO C"]
["COMPANHIA DE DESENVOLVIMENTO DOS VALES DO SÃO FRANCISCO E DO PARANAÍBA"]
["PLANILHA DE CUSTOS E FORMAÇÃO DE PREÇOS"]
["COPEIRA"]
["Nº do Processo"]
["Licitação Nº",{"$nulls":6},"PE Nº  "]
["EMPRESA: "]
["CNPJ:"]
["Regime Tributário: "]
["Sindicato Representativo da Categoria: "]
[]
["Identificação do Serviço"]
["Item","Tipo de Serviço",null,"Unidade de Medida",null,null,null,"Quantidade total a contratar (em função da unidade de medida) "]
["I","COPEIRA",null,"Posto",null,null,null,5]
[]
["MÃO-DE-0BRA"]
["MÃO-DE-0BRA VINCULADA À EXECUÇÃO CONTRATUAL"]
["Dados complementares para composição dos custos referentes à mão-de-obra"]
[1,"Tipo de serviço (mesmo serviço com características distintas)",{"$nulls":5},"COPEIRA"]
[2,"Salário Normativo da Categoria Profissional",{"$nulls":5},{"$f":"I26","v":0}]
[3,"Categoria Profissional (vinculada à execução contratual)",{"$nulls":5},"COPEIRA"]
[4,"Data base da categoria",{"$nulls":5},"2016-01-01"]
[]
["MÓDULO 1: COMPOSIÇÃO DA REMUNERAÇÃO"]
[1,"Composição da Remuneração",{"$nulls":6},"Valor (R$)"]
["A","Salário Base "]
["B","Adicional de periculosidade ",{"$nulls":6},0]
["C","Adicional de Insalubridade ",{"$nulls":6},0]
["D","Adicional noturno",{"$nulls":6},0]
["E","Hora noturna adicional",{"$nulls":6},0]
["F","Adicional de hora extra",{"$nulls":6},0]
["G","Intervalo intrajornada",{"$nulls":6},0]
["Total da remuneração",{"$nulls":7},{"$f":"SUM(I26:I32)","v":0}]
[]
["MÓDULO 2: BENEFÍCIOS MENSAIS E DIÁRIOS",{"$nulls":7},"Valor (R$)"]
[2,"Benefícios mensais e diários"]
["A"," Transporte (R$7*2)*22 dias - Cláusula 16ª da CCT/2016/2016"]
["B","Dedução legal (- 6% sobre a remuneração)",{"$nulls":6},{"$f":"I26*6%","v":0}]
["C","Auxílio-Alimentação (22 dias x R$ 27,50) - Cláusula 15ª - CCT 2016/2016"]
["D","Plano de Saúde - Cláusula 17ª CCT - 2016/2016"]
["E","Assistência Odontológica (Cláusula 19ª - CCT 2016/2016"]
["F","Seguro de Vida e Auxílio funeral - Cláusula 18ª - CCT 2016/2016"]
["Total do Benefícios mensais e diários",{"$nulls":7},{"$f":"I37-I38+I39+I40+I41+I42","v":0}]
[]
["MÓDULO 3: INSUMOS DIVERSOS"]
[3,"Insumos Diversos"]
["A","Uniformes (Custo Total/Mês/Profissional)"]
["B","Materiais de Limpeza e Higiene Pessoal e EPI's"]
["C","Depreciação de Equipamentos",{"$nulls":6},0]
["D","Outros (especificar)",{"$nulls":6},0]
["Total de Insumos diversos",{"$nulls":7},{"$f":"SUM(I47:I50)","v":0}]
[]
["MÓDULO 4: ENCARGOS SOCIAIS E TRABALHISTAS"]
["Submódulo 4.1 - Encargos previdenciários e FGTS"]
["4.1","Encargos previdenciários e FGTS",{"$nulls":5},"%","Valor (R$)"]
["A","INSS",{"$nulls":6},{"$f":"$I$33*H56%","v":0}]
["B","SESI ou SESC",{"$nulls":6},{"$f":"$I$33*H57%","v":0}]
["C","SENAI ou SENAC",{"$nulls":6},0]
["D","INCRA",{"$nulls":6},0]
["E","Salário Educação",{"$nulls":6},0]
["F","FGTS",{"$nulls":6},0]
["G","Seguro Acidente do trabalho (CCT 2016 cláusula 74)",{"$nulls":6},0]
["H","SEBRAE",{"$nulls":6},0]
["TOTAL",{"$nulls":7},{"$f":"SUM(I56:I63)","v":0}]
[]
["Submódulo 4.2 - 13º Salário e Adicional de Férias"]
["4.2","13º Salário e Adicional de Férias",{"$nulls":5},"% ","Valor (R$)"]
["A","13º Salário ",{"$nulls":6},{"$f":"$I$33*H68%","v":0}]
["B","Adicional de Férias",{"$nulls":6},{"$f":"$I$33*H69%","v":0}]
["Subtotal",{"$nulls":6},{"$f":"SUM(H68:H69)","v":0},0]
["C","Incidência do submódulo 4.1 sobre 13º Salário e Adicional de Férias",{"$nulls":6},0]
["TOTAL",{"$nulls":6},{"$f":"H70+H71","v":0},0]
[]
["Submódulo 4.3 - Afastamento Maternidade"]
["4.3","Afastamento Maternidade",{"$nulls":5},"%","VALOR (R$)"]
["A","Afastamento Maternidade",{"$nulls":6},{"$f":"$I$33*H76%","v":0}]
["B","Incidência do submódulo 4.1 sobre afastamento maternidade",{"$nulls":6},{"$f":"$I$33*H77%","v":0}]
["TOTAL",{"$nulls":6},{"$f":"SUM(H76:H77)","v":0},{"$f":"SUM(I76:I77)","v":0}]
["Submódulo 4.4 - Provisão para Rescisão"]
["4.4","Provisão para Rescisão",{"$nulls":5},"%","VALOR (R$)"]
["A","Aviso prévio indenizado",{"$nulls":6},{"$f":"$I$33*H81%","v":0}]
["B","Incidência do FGTS sobre o aviso prévio indenizado",{"$nulls":6},{"$f":"$I$33*H82%","v":0}]
["C","Multa do FGTS e Cont. Social sobre aviso prévio indenizado",{"$nulls":6},0]
["D","Aviso previo trabalhado",{"$nulls":5},0,0]
["E","Incidência do submódulo 4.1 sobre aviso prévio trabalhado",{"$nulls":6},0]
["F","Multa do FGTS do aviso prévio trabalhad0",{"$nulls":6},0]
["TOTAL",{"$nulls":6},{"$f":"SUM(H81:H86)","v":0},0]
[]
["Submódulo 4.5 - Custo de Reposição do Profissional Ausente"]
["4.5","Composição do Custo de Reposição do Profissional Ausente",{"$nulls":5},"%","VALOR (R$)"]
["A","Férias",{"$nulls":6},{"$f":"$I$33*H91%","v":0}]
["B","Ausência por doença",{"$nulls":6},{"$f":"$I$33*H92%","v":0}]
["C","Licença paternidade",{"$nulls":5},0,0]
["D","Ausências legais",{"$nulls":6},0]
["E","Ausência por acidente de trabalho",{"$nulls":6},0]
["Subtotal",{"$nulls":6},{"$f":"SUM(H91:H95)","v":0},0]
["F","Incidência do submódulo 4.1 sobre o Custo de Reposição",{"$nulls":6},0]
["TOTAL",{"$nulls":6},{"$f":"H96+H97","v":0},0]
[]
["Quadro - Resumo - Módulo 4 - Encargos Sociais e Trabalhistas"]
[4,"Módulo 4 - Encargos Sociais e Trabalhistas",{"$nulls":5},"%","VALOR (R$)"]
["4.1","Encargos previdenciários e FGTS",{"$nulls":6},{"$f":"$I$33*H102%","v":0}]
["4.2","13º salário + Adicional de férias",{"$nulls":5},{"$f":"H72","v":0},{"$f":"$I$33*H103%","v":0}]
["4.3","Afastamento maternidade",{"$nulls":5},{"$f":"H78","v":0},0]
["4.4","Custo de rescisão",{"$nulls":5},{"$f":"H87","v":0},0]
["4.5","Custo de reposição de profissional ausente",{"$nulls":5},{"$f":"H98","v":0},0]
["TOTAL",{"$nulls":6},{"$f":"SUM(H102:H106)","v":0},0]
[]
["MÓDULO 5 - CUSTOS INDIRETOS, TRIBUTOS E LUCRO"]
[5,"Custos indiretos, tributos e lucro",{"$nulls":5},"%","VALOR (R$)"]
["A","Custos indiretos",{"$nulls":6},{"$f":"(I33+I43+I51+I107)*H111%","v":0}]
["B","Tributos"]
[null,"B.1. Tributos Federais "]
[null,"PIS",{"$nulls":6},{"$f":"I131*H114%","v":0}]
[null,"COFINS",{"$nulls":6},{"$f":"I131*H115%","v":0}]
[null,"B.2. Tributos Estaduais "]
[null,"B.3. Tributos Municipais"]
[null,"ISS",{"$nulls":6},{"$f":"I131*H118%","v":0}]
[null,"B.4. Outros Tributos"]
["C","Lucro",{"$nulls":6},{"$f":"(I33+I43+I51+I107+I111)*6%","v":0}]
["TOTAL",{"$nulls":7},{"$f":"I111+I114+I115+I118+I120","v":0}]
[]
[" Quadro resumo do custo por empregado"]
["Mão-de-obra vinculada à execução contratual (valor por empregado)",{"$nulls":7},"Valor (R$)"]
["A","Módulo 1 - Composição da Remuneração",{"$nulls":6},{"$f":"I33","v":0}]
["B","Módulo 2 - Benefícios Mensais e Diários",{"$nulls":6},{"$f":"I43","v":0}]
["C","Módulo 3 - Insumos Diversos (uniformes, materiais, equipamentos, outros)",{"$nulls":6},{"$f":"I51","v":0}]
["D","Módulo 4 - Encargos Sociais e Trabalhistas",{"$nulls":6},{"$f":"I107","v":0}]
["Subtotal (A + B + C + D)",{"$nulls":7},{"$f":"I125+I126+I127+I128","v":0}]
["E","Módulo 5 - Custos Indiretos, Tributos e Lucro",{"$nulls":6},{"$f":"I131-I129","v":0}]
["PREÇO POSTO/MÊS",{"$nulls":7},{"$f":"(I129+I111+I120)/0.9135","v":0}]

{"sheet":"Recepcionista","index":3,"n_rows":131,"n_cols":9,"rows_kept":131,"cut":false,"hidden":false,"merged":[[130,0,130,7],[124,1,124,7],[125,1,125,7],[126,1,126,7],[127,1,127,7],[128,0,128,7],[129,1,129,7],[118,1,118,6],[119,1,119,6],[120,0,120,7],[121,0,121,8],[122,0,122,8],[123,0,123,7],[112,1,112,6],[113,1,113,6],[114,1,114,6],[115,1,115,6],[116,1,116,6],[117,1,117,6],[106,0,106,6],[107,0,107,8],[108,0,108,8],[109,1,109,6],[110,1,110,6],[111,1,111,6],[100,1,100,6],[101,1,101,6],[102,1,102,6],[103,1,103,6],[104,1,104,6],[105,1,105,6],[94,1,94,6],[95,0,95,6],[96,1,96,6],[97,0,97,6],[98,0,98,8],[99,0,99,8],[88,0,88,8],[89,1,89,6],[90,1,90,6],[91,1,91,6],[92,1,92,6],[93,1,93,6],[82,1,82,6],[83,1,83,6],[84,1,84,6],[85,1,85,6],[86,0,86,6],[87,0,87,8],[76,1,76,6],[77,0,77,6],[78,0,78,8],[79,1,79,6],[80,1,80,6],[81,1,81,6],[70,1,70,6],[71,0,71,6],[72,0,72,8],[73,0,73,8],[74,1,74,6],[75,1,75,6],[64,0,64,8],[65,0,65,8],[66,1,66,6],[67,1,67,6],[68,1,68,6],[69,0,69,6],[58,1,58,6],[59,1,59,6],[60,1,60,6],[61,1,61,6],[62,1,62,6],[63,0,63,6],[52,0,52,8],[53,0,53,8],[54,1,54,6],[55,1,55,6],[56,1,56,6],[57,1,57,6],[46,1,46,7],[47,1,47,7],[48,1,48,7],[49,1,49,7],[50,0,50,7],[51,0,51,8],[40,1,40,7],[41,1,41,7],[42,0,42,7],[43,0,43,8],[44,0,44,8],[45,1,45,8],[34,0,34,7],[35,1,35,8],[36,1,36,7],[37,1,37,7],[38,1,38,7],[39,1,39,7],[28,1,28,7],[29,1,29,7],[30,1,30,7],[31,1,31,7],[32,0,32,7],[33,0,33,8],[22,0,22,8],[23,0,23,8],[24,1,24,7],[25,1,25,7],[26,1,26,7],[27,1,27,7],[19,1,19,6],[19,7,19,8],[20,1,20,6],[20,7,20,8],[21,1,21,6],[21,7,21,8],[14,0,14,8],[15,0,15,8],[16,0,16,8],[17,0,17,8],[18,1,18,6],[18,7,18,8],[13,1,13,2],[13,3,13,6],[13,7,13,8],[6,0,6,8],[7,0,7,8],[8,0,8,8],[9,0,9,8],[10,0,10,8],[11,0,11,8],[1,0,1,8],[2,0,2,8],[3,0,3,8],[4,0,4,6],[4,7,4,8],[5,0,5,6],[5,7,5,8],[12,1,12,2],[12,3,12,6],[12,7,12,8]]}
[{"$nulls":4},"ANEXO D"]
["COMPANHIA DE DESENVOLVIMENTO DOS VALES DO SÃO FRANCISCO E DO PARANAÍBA"]
["PLANILHA DE CUSTOS E FORMAÇÃO DE PREÇOS"]
["Recepcionista"]
["Nº do Processo"]
["Licitação Nº",{"$nulls":6},"PE Nº "]
["EMPRESA: "]
["CNPJ:"]
["Regime Tributário: "]
["Sindicato Representativo da Categoria: SINDISERVIÇOS/DF"]
[]
["Identificação do Serviço"]
["Item","Tipo de Serviço",null,"Unidade de Medida",null,null,null,"Quantidade total a contratar (em função da unidade de medida) "]
["I","Recepcionista",null,"Posto",null,null,null,1]
[]
["MÃO-DE-0BRA"]
["MÃO-DE-0BRA VINCULADA À EXECUÇÃO CONTRATUAL"]
["Dados complementares para composição dos custos referentes à mão-de-obra"]
[1,"Tipo de serviço (mesmo serviço com características distintas)",{"$nulls":5},"Recepcionista"]
[2,"Salário Normativo da Categoria Profissional",{"$nulls":5},{"$f":"I26","v":0}]
[3,"Categoria Profissional (vinculada à execução contratual)",{"$nulls":5},"Recepcionista"]
[4,"Data base da categoria",{"$nulls":5},"2016-01-01"]
[]
["MÓDULO 1: COMPOSIÇÃO DA REMUNERAÇÃO"]
[1,"Composição da Remuneração",{"$nulls":6},"Valor (R$)"]
["A","Salário Base "]
["B","Adicional de periculosidade ",{"$nulls":6},0]
["C","Adicional de Insalubridade ",{"$nulls":6},0]
["D","Adicional noturno",{"$nulls":6},0]
["E","Hora noturna adicional",{"$nulls":6},0]
["F","Adicional de hora extra",{"$nulls":6},0]
["G","Intervalo intrajornada",{"$nulls":6},0]
["Total da remuneração",{"$nulls":7},{"$f":"SUM(I26:I32)","v":0}]
[]
["MÓDULO 2: BENEFÍCIOS MENSAIS E DIÁRIOS",{"$nulls":7},"Valor (R$)"]
[2,"Benefícios mensais e diários"]
["A"," Transporte (R$ 7*2)*22 dias - Cláusula 16ª da CCT/2016/2016"]
["B","Dedução legal (- 6% sobre a remuneração)",{"$nulls":6},{"$f":"I26*6%","v":0}]
["C","Auxílio-Alimentação (22 dias x R$ 27,50) - Cláusula 15ª - CCT 2016/2016"]
["D","Plano de Saúde - Cláusula 17ª CCT - 2016/2016"]
["E","Assistência Odontológica (Cláusula 19ª - CCT 2016/2016"]
["F","Seguro de vida e Auxílio funeral - Cláusula 18ª - CCT 2016/2016"]
["Total do Benefícios mensais e diários",{"$nulls":7},{"$f":"I37-I38+I39+I40+I41+I42","v":0}]
[]
["MÓDULO 3: INSUMOS DIVERSOS"]
[3,"Insumos Diversos"]
["A","Uniformes (Custo Total/Mês/Profissional)"]
["B","Materiais de Limpeza e Higiene Pessoal e EPI's",{"$nulls":6},0]
["C","Depreciação de Equipamentos",{"$nulls":6},0]
["D","Outros (especificar)",{"$nulls":6},0]
["Total de Insumos diversos",{"$nulls":7},{"$f":"SUM(I47:I50)","v":0}]
[]
["MÓDULO 4: ENCARGOS SOCIAIS E TRABALHISTAS"]
["Submódulo 4.1 - Encargos previdenciários e FGTS"]
["4.1","Encargos previdenciários e FGTS",{"$nulls":5},"%","Valor (R$)"]
["A","INSS",{"$nulls":6},{"$f":"$I$33*H56%","v":0}]
["B","SESI ou SESC",{"$nulls":6},{"$f":"$I$33*H57%","v":0}]
["C","SENAI ou SENAC",{"$nulls":6},0]
["D","INCRA",{"$nulls":6},0]
["E","Salário Educação",{"$nulls":6},0]
["F","FGTS",{"$nulls":6},0]
["G","Seguro Acidente do trabalho (CCT 2016 cláusula 74)",{"$nulls":6},0]
["H","SEBRAE",{"$nulls":6},0]
["TOTAL",{"$nulls":7},0]
[]
["Submódulo 4.2 - 13º Salário e Adicional de Férias"]
["4.2","13º Salário e Adicional de Férias",{"$nulls":5},"% ","Valor (R$)"]
["A","13º Salário ",{"$nulls":6},{"$f":"$I$33*H68%","v":0}]
["B","Adicional de Férias",{"$nulls":6},{"$f":"$I$33*H69%","v":0}]
["Subtotal",{"$nulls":6},{"$f":"SUM(H68:H69)","v":0},0]
["C","Incidência do submódulo 4.1 sobre 13º Salário e Adicional de Férias",{"$nulls":6},0]
["TOTAL",{"$nulls":6},{"$f":"H70+H71","v":0},0]
[]
["Submódulo 4.3 - Afastamento Maternidade"]
["4.3","Afastamento Maternidade",{"$nulls":5},"%","VALOR (R$)"]
["A","Afastamento Maternidade",{"$nulls":6},{"$f":"$I$33*H76%","v":0}]
["B","Incidência do submódulo 4.1 sobre afastamento maternidade",{"$nulls":6},{"$f":"$I$33*H77%","v":0}]
["TOTAL",{"$nulls":6},{"$f":"SUM(H76:H77)","v":0},{"$f":"SUM(I76:I77)","v":0}]
["Submódulo 4.4 - Provisão para Rescisão"]
["4.4","Provisão para Rescisão",{"$nulls":5},"%","VALOR (R$)"]
["A","Aviso prévio indenizado",{"$nulls":6},{"$f":"$I$33*H81%","v":0}]
["B","Incidência do FGTS sobre o aviso prévio indenizado",{"$nulls":6},{"$f":"$I$33*H82%","v":0}]
["C","Multa do FGTS e Cont. Social sobre aviso prévio indenizado",{"$nulls":6},0]
["D","Aviso previo trabalhado",{"$nulls":5},0,0]
["E","Incidência do submódulo 4.1 sobre aviso prévio trabalhado",{"$nulls":6},0]
["F","Multa do FGTS do aviso prévio trabalhad0",{"$nulls":6},0]
["TOTAL",{"$nulls":6},{"$f":"SUM(H81:H86)","v":0},0]
[]
["Submódulo 4.5 - Custo de Reposição do Profissional Ausente"]
["4.5","Composição do Custo de Reposição do Profissional Ausente",{"$nulls":5},"%","VALOR (R$)"]
["A","Férias",{"$nulls":6},{"$f":"$I$33*H91%","v":0}]
["B","Ausência por doença",{"$nulls":6},{"$f":"$I$33*H92%","v":0}]
["C","Licença paternidade",{"$nulls":5},0,0]
["D","Ausências legais",{"$nulls":6},0]
["E","Ausência por acidente de trabalho",{"$nulls":6},0]
["Subtotal",{"$nulls":6},{"$f":"SUM(H91:H95)","v":0},0]
["F","Incidência do submódulo 4.1 sobre o Custo de Reposição",{"$nulls":6},0]
["TOTAL",{"$nulls":6},{"$f":"H96+H97","v":0},0]
[]
["Quadro - Resumo - Módulo 4 - Encargos Sociais e Trabalhistas"]
[4,"Módulo 4 - Encargos Sociais e Trabalhistas",{"$nulls":5},"%","VALOR (R$)"]
["4.1","Encargos previdenciários e FGTS",{"$nulls":6},{"$f":"$I$33*H102%","v":0}]
["4.2","13º salário + Adicional de férias",{"$nulls":5},{"$f":"H72","v":0},{"$f":"$I$33*H103%","v":0}]
["4.3","Afastamento maternidade",{"$nulls":5},{"$f":"H78","v":0},0]
["4.4","Custo de rescisão",{"$nulls":5},{"$f":"H87","v":0},0]
["4.5","Custo de reposição de profissional ausente",{"$nulls":5},{"$f":"H98","v":0},0]
["TOTAL",{"$nulls":6},{"$f":"SUM(H102:H106)","v":0},0]
[]
["MÓDULO 5 - CUSTOS INDIRETOS, TRIBUTOS E LUCRO"]
[5,"Custos indiretos, tributos e lucro",{"$nulls":5},"%","VALOR (R$)"]
["A","Custos indiretos",{"$nulls":6},{"$f":"(I33+I43+I51+I107)*H111%","v":0}]
["B","Tributos"]
[null,"B.1. Tributos Federais "]
[null,"PIS",{"$nulls":6},{"$f":"I131*H114%","v":0}]
[null,"COFINS",{"$nulls":6},{"$f":"I131*H115%","v":0}]
[null,"B.2. Tributos Estaduais "]
[null,"B.3. Tributos Municipais"]
[null,"ISS",{"$nulls":6},{"$f":"I131*H118%","v":0}]
[null,"B.4. Outros Tributos"]
["C","Lucro",{"$nulls":6},{"$f":"(I33+I43+I51+I107+I111)*6%","v":0}]
["TOTAL",{"$nulls":7},{"$f":"I111+I114+I115+I118+I120","v":0}]
[]
[" Quadro resumo do custo por empregado"]
["Mão-de-obra vinculada à execução contratual (valor por empregado)",{"$nulls":7},"Valor (R$)"]
["A","Módulo 1 - Composição da Remuneração",{"$nulls":6},{"$f":"I33","v":0}]
["B","Módulo 2 - Benefícios Mensais e Diários",{"$nulls":6},{"$f":"I43","v":0}]
["C","Módulo 3 - Insumos Diversos (uniformes, materiais, equipamentos, outros)",{"$nulls":6},{"$f":"I51","v":0}]
["D","Módulo 4 - Encargos Sociais e Trabalhistas",{"$nulls":6},{"$f":"I107","v":0}]
["Subtotal (A + B + C + D)",{"$nulls":7},{"$f":"SUM(I125:I128)","v":0}]
["E","Módulo 5 - Custos Indiretos, Tributos e Lucro",{"$nulls":6},{"$f":"I131-I129","v":0}]
["PREÇO POSTO/MÊS",{"$nulls":7},{"$f":"(I129+I111+I120)/0.9135","v":0}]

{"sheet":"Garçom","index":4,"n_rows":131,"n_cols":9,"rows_kept":131,"cut":false,"hidden":false,"merged":[[130,0,130,7],[124,1,124,7],[125,1,125,7],[126,1,126,7],[127,1,127,7],[128,0,128,7],[129,1,129,7],[118,1,118,6],[119,1,119,6],[120,0,120,7],[121,0,121,8],[122,0,122,8],[123,0,123,7],[112,1,112,6],[113,1,113,6],[114,1,114,6],[115,1,115,6],[116,1,116,6],[117,1,117,6],[106,0,106,6],[107,0,107,8],[108,0,108,8],[109,1,109,6],[110,1,110,6],[111,1,111,6],[100,1,100,6],[101,1,101,6],[102,1,102,6],[103,1,103,6],[104,1,104,6],[105,1,105,6],[94,1,94,6],[95,0,95,6],[96,1,96,6],[97,0,97,6],[98,0,98,8],[99,0,99,8],[88,0,88,8],[89,1,89,6],[90,1,90,6],[91,1,91,6],[92,1,92,6],[93,1,93,6],[82,1,82,6],[83,1,83,6],[84,1,84,6],[85,1,85,6],[86,0,86,6],[87,0,87,8],[76,1,76,6],[77,0,77,6],[78,0,78,8],[79,1,79,6],[80,1,80,6],[81,1,81,6],[70,1,70,6],[71,0,71,6],[72,0,72,8],[73,0,73,8],[74,1,74,6],[75,1,75,6],[64,0,64,8],[65,0,65,8],[66,1,66,6],[67,1,67,6],[68,1,68,6],[69,0,69,6],[58,1,58,6],[59,1,59,6],[60,1,60,6],[61,1,61,6],[62,1,62,6],[63,0,63,6],[52,0,52,8],[53,0,53,8],[54,1,54,6],[55,1,55,6],[56,1,56,6],[57,1,57,6],[46,1,46,7],[47,1,47,7],[48,1,48,7],[49,1,49,7],[50,0,50,7],[51,0,51,8],[40,1,40,7],[41,1,41,7],[42,0,42,7],[43,0,43,8],[44,0,44,8],[45,1,45,8],[34,0,34,7],[35,1,35,8],[36,1,36,7],[37,1,37,7],[38,1,38,7],[39,1,39,7],[28,1,28,7],[29,1,29,7],[30,1,30,7],[31,1,31,7],[32,0,32,7],[33,0,33,8],[22,0,22,8],[23,0,23,8],[24,1,24,7],[25,1,25,7],[26,1,26,7],[27,1,27,7],[19,1,19,6],[19,7,19,8],[20,1,20,6],[20,7,20,8],[21,1,21,6],[21,7,21,8],[14,0,14,8],[15,0,15,8],[16,0,16,8],[17,0,17,8],[18,1,18,6],[18,7,18,8],[13,1,13,2],[13,3,13,6],[13,7,13,8],[6,0,6,8],[7,0,7,8],[8,0,8,8],[9,0,9,8],[10,0,10,8],[11,0,11,8],[1,0,1,8],[2,0,2,8],[3,0,3,8],[4,0,4,6],[4,7,4,8],[5,0,5,6],[5,7,5,8],[12,1,12,2],[12,3,12,6],[12,7,12,8]]}
[{"$nulls":4},"ANEXO E"]
["COMPANHIA DE DESENVOLVIMENTO DOS VALES DO SÃO FRANCISCO E DO PARANAÍBA"]
["PLANILHA DE CUSTOS E FORMAÇÃO DE PREÇOS"]
["GARÇOM"]
["Nº do Processo"]
["Licitação Nº",{"$nulls":6},"PE Nº  "]
["EMPRESA: "]
["CNPJ:"]
["Regime Tributário: "]
["Sindicato Representativo da Categoria: SINDISERVIÇOS/DF"]
[]
["Identificação do Serviço"]
["Item","Tipo de Serviço",null,"Unidade de Medida",null,null,null,"Quantidade total a contratar (em função da unidade de medida) "]
["I","GARÇOM",null,"Posto",null,null,null,1]
[]
["MÃO-DE-0BRA"]
["MÃO-DE-0BRA VINCULADA À EXECUÇÃO CONTRATUAL"]
["Dados complementares para composição dos custos referentes à mão-de-obra"]
[1,"Tipo de serviço (mesmo serviço com características distintas)",{"$nulls":5},"GARÇOM"]
[2,"Salário Normativo da Categoria Profissional"]
[3,"Categoria Profissional (vinculada à execução contratual)",{"$nulls":5},"GARÇOM"]
[4,"Data base da categoria",{"$nulls":5},"2016-01-01"]
[]
["MÓDULO 1: COMPOSIÇÃO DA REMUNERAÇÃO"]
[1,"Composição da Remuneração",{"$nulls":6},"Valor (R$)"]
["A","Salário Base "]
["B","Adicional de periculosidade ",{"$nulls":6},0]
["C","Adicional de Insalubridade ",{"$nulls":6},0]
["D","Adicional noturno",{"$nulls":6},0]
["E","Hora noturna adicional",{"$nulls":6},0]
["F","Adicional de hora extra",{"$nulls":6},0]
["G","Intervalo intrajornada",{"$nulls":6},0]
["Total da remuneração",{"$nulls":7},{"$f":"SUM(I26:I32)","v":0}]
[]
["MÓDULO 2: BENEFÍCIOS MENSAIS E DIÁRIOS",{"$nulls":7},"Valor (R$)"]
[2,"Benefícios mensais e diários"]
["A"," Transporte (R$ 7*2)*22 dias - Cláusula 16ª da CCT/2016/2016"]
["B","Dedução legal (- 6% sobre a remuneração)",{"$nulls":6},{"$f":"I26*6%","v":0}]
["C","Auxílio-Alimentação (22 dias x R$ 27,50) - Cláusula 15ª - CCT 2016/2016"]
["D","Plano de Saúde - Cláusula 17ª CCT - 2016/2016"]
["E","Assistência Odontológica (Cláusula 19ª - CCT 2016/2016"]
["F","Seguro de Vida e Auxílio funeral - Cláusula 18ª - CCT 2016/2016"]
["Total do Benefícios mensais e diários",{"$nulls":7},{"$f":"I37-I38+I39+I40+I41+I42","v":0}]
[]
["MÓDULO 3: INSUMOS DIVERSOS"]
[3,"Insumos Diversos"]
["A","Uniformes (Custo Total/Mês/Profissional)"]
["B","Materiais de Limpeza e Higiene Pessoal e EPI's"]
["C","Depreciação de Equipamentos",{"$nulls":6},0]
["D","Outros (especificar)",{"$nulls":6},0]
["Total de Insumos diversos",{"$nulls":7},{"$f":"SUM(I47:I50)","v":0}]
[]
["MÓDULO 4: ENCARGOS SOCIAIS E TRABALHISTAS"]
["Submódulo 4.1 - Encargos previdenciários e FGTS"]
["4.1","Encargos previdenciários e FGTS",{"$nulls":5},"%","Valor (R$)"]
["A","INSS",{"$nulls":6},{"$f":"$I$33*H56%","v":0}]
["B","SESI ou SESC",{"$nulls":6},{"$f":"$I$33*H57%","v":0}]
["C","SENAI ou SENAC",{"$nulls":6},0]
["D","INCRA",{"$nulls":6},0]
["E","Salário Educação",{"$nulls":6},0]
["F","FGTS",{"$nulls":6},0]
["G","Seguro Acidente do trabalho (FAP x RAT = 1,00 x 2,00)",{"$nulls":6},0]
["H","SEBRAE",{"$nulls":6},0]
["TOTAL",{"$nulls":7},0]
[]
["Submódulo 4.2 - 13º Salário e Adicional de Férias"]
["4.2","13º Salário e Adicional de Férias",{"$nulls":5},"% ","Valor (R$)"]
["A","13º Salário ",{"$nulls":6},{"$f":"$I$33*H68%","v":0}]
["B","Adicional de Férias",{"$nulls":6},{"$f":"$I$33*H69%","v":0}]
["Subtotal",{"$nulls":6},{"$f":"SUM(H68:H69)","v":0},0]
["C","Incidência do submódulo 4.1 sobre 13º Salário e Adicional de Férias",{"$nulls":6},0]
["TOTAL",{"$nulls":6},{"$f":"H70+H71","v":0},0]
[]
["Submódulo 4.3 - Afastamento Maternidade"]
["4.3","Afastamento Maternidade",{"$nulls":5},"%","VALOR (R$)"]
["A","Afastamento Maternidade",{"$nulls":5},0,{"$f":"$I$33*H76%","v":0}]
["B","Incidência do submódulo 4.1 sobre afastamento maternidade",{"$nulls":5},0,{"$f":"$I$33*H77%","v":0}]
["TOTAL",{"$nulls":6},{"$f":"SUM(H76:H77)","v":0},{"$f":"SUM(I76:I77)","v":0}]
["Submódulo 4.4 - Provisão para Rescisão"]
["4.4","Provisão para Rescisão",{"$nulls":5},"%","VALOR (R$)"]
["A","Aviso prévio indenizado",{"$nulls":6},{"$f":"$I$33*H81%","v":0}]
["B","Incidência do FGTS sobre o aviso prévio indenizado",{"$nulls":6},{"$f":"$I$33*H82%","v":0}]
["C","Multa do FGTS e Cont. Social sobre aviso prévio indenizado",{"$nulls":6},0]
["D","Aviso previo trabalhado",{"$nulls":5},0,0]
["E","Incidência do submódulo 4.1 sobre aviso prévio trabalhado",{"$nulls":6},0]
["F","Multa do FGTS do aviso prévio trabalhad0",{"$nulls":6},0]
["TOTAL",{"$nulls":6},{"$f":"SUM(H81:H86)","v":0},0]
[]
["Submódulo 4.5 - Custo de Reposição do Profissional Ausente"]
["4.5","Composição do Custo de Reposição do Profissional Ausente",{"$nulls":5},"%","VALOR (R$)"]
["A","Férias",{"$nulls":6},{"$f":"$I$33*H91%","v":0}]
["B","Ausência por doença",{"$nulls":6},{"$f":"$I$33*H92%","v":0}]
["C","Licença paternidade",{"$nulls":6},0]
["D","Ausências legais",{"$nulls":6},0]
["E","Ausência por acidente de trabalho",{"$nulls":6},0]
["Subtotal",{"$nulls":7},0]
["F","Incidência do submódulo 4.1 sobre o Custo de Reposição",{"$nulls":6},0]
["TOTAL",{"$nulls":6},{"$f":"H96+H97","v":0},0]
[]
["Quadro - Resumo - Módulo 4 - Encargos Sociais e Trabalhistas"]
[4,"Módulo 4 - Encargos Sociais e Trabalhistas",{"$nulls":5},"%","VALOR (R$)"]
["4.1","Encargos previdenciários e FGTS",{"$nulls":6},{"$f":"$I$33*H102%","v":0}]
["4.2","13º salário + Adicional de férias",{"$nulls":5},{"$f":"H72","v":0},{"$f":"$I$33*H103%","v":0}]
["4.3","Afastamento maternidade",{"$nulls":5},{"$f":"H78","v":0},0]
["4.4","Custo de rescisão",{"$nulls":5},{"$f":"H87","v":0},0]
["4.5","Custo de reposição de profissional ausente",{"$nulls":5},{"$f":"H98","v":0},0]
["TOTAL",{"$nulls":6},{"$f":"SUM(H102:H106)","v":0},0]
[]
["MÓDULO 5 - CUSTOS INDIRETOS, TRIBUTOS E LUCRO"]
[5,"Custos indiretos, tributos e lucro",{"$nulls":5},"%","VALOR (R$)"]
["A","Custos indiretos",{"$nulls":6},{"$f":"(I33+I43+I51+I107)*H111%","v":0}]
["B","Tributos"]
[null,"B.1. Tributos Federais "]
[null,"PIS",{"$nulls":6},{"$f":"I131*H114%","v":0}]
[null,"COFINS",{"$nulls":6},{"$f":"I131*H115%","v":0}]
[null,"B.2. Tributos Estaduais "]
[null,"B.3. Tributos Municipais"]
[null,"ISS",{"$nulls":6},{"$f":"I131*H118%","v":0}]
[null,"B.4. Outros Tributos"]
["C","Lucro",{"$nulls":6},{"$f":"(I33+I43+I51+I107+I111)*6%","v":0}]
["TOTAL",{"$nulls":7},{"$f":"I111+I114+I115+I118+I120","v":0}]
[]
[" Quadro resumo do custo por empregado"]
["Mão-de-obra vinculada à execução contratual (valor por empregado)",{"$nulls":7},"Valor (R$)"]
["A","Módulo 1 - Composição da Remuneração",{"$nulls":6},{"$f":"I33","v":0}]
["B","Módulo 2 - Benefícios Mensais e Diários",{"$nulls":6},{"$f":"I43","v":0}]
["C","Módulo 3 - Insumos Diversos (uniformes, materiais, equipamentos, outros)",{"$nulls":6},{"$f":"I51","v":0}]
["D","Módulo 4 - Encargos Sociais e Trabalhistas",{"$nulls":6},{"$f":"I107","v":0}]
["Subtotal (A + B + C + D)",{"$nulls":7},{"$f":"SUM(I125:I128)","v":0}]
["E","Módulo 5 - Custos Indiretos, Tributos e Lucro",{"$nulls":6},{"$f":"I131-I129","v":0}]
["PREÇO POSTO/MÊS",{"$nulls":7},{"$f":"(I129+I111+I120)/0.9135","v":0}]

{"sheet":"Bombeiro","index":5,"n_rows":131,"n_cols":9,"rows_kept":131,"cut":false,"hidden":false,"merged":[[129,1,129,7],[130,0,130,7],[123,0,123,7],[124,1,124,7],[125,1,125,7],[126,1,126,7],[127,1,127,7],[128,0,128,7],[117,1,117,6],[118,1,118,6],[119,1,119,6],[120,0,120,7],[121,0,121,8],[122,0,122,8],[111,1,111,6],[112,1,112,6],[113,1,113,6],[114,1,114,6],[115,1,115,6],[116,1,116,6],[105,1,105,6],[106,0,106,6],[107,0,107,8],[108,0,108,8],[109,1,109,6],[110,1,110,6],[99,0,99,8],[100,1,100,6],[101,1,101,6],[102,1,102,6],[103,1,103,6],[104,1,104,6],[93,1,93,6],[94,1,94,6],[95,0,95,6],[96,1,96,6],[97,0,97,6],[98,0,98,8],[87,0,87,8],[88,0,88,8],[89,1,89,6],[90,1,90,6],[91,1,91,6],[92,1,92,6],[81,1,81,6],[82,1,82,6],[83,1,83,6],[84,1,84,6],[85,1,85,6],[86,0,86,6],[75,1,75,6],[76,1,76,6],[77,0,77,6],[78,0,78,8],[79,1,79,6],[80,1,80,6],[69,0,69,6],[70,1,70,6],[71,0,71,6],[72,0,72,8],[73,0,73,8],[74,1,74,6],[63,0,63,6],[64,0,64,8],[65,0,65,8],[66,1,66,6],[67,1,67,6],[68,1,68,6],[57,1,57,6],[58,1,58,6],[59,1,59,6],[60,1,60,6],[61,1,61,6],[62,1,62,6],[51,0,51,8],[52,0,52,8],[53,0,53,8],[54,1,54,6],[55,1,55,6],[56,1,56,6],[45,1,45,8],[46,1,46,7],[47,1,47,7],[48,1,48,7],[49,1,49,7],[50,0,50,7],[40,1,40,7],[41,1,41,7],[42,0,42,7],[43,0,43,8],[44,0,44,8],[34,0,34,7],[35,1,35,8],[36,1,36,7],[37,1,37,7],[38,1,38,7],[39,1,39,7],[28,1,28,7],[29,1,29,7],[30,1,30,7],[31,1,31,7],[32,0,32,7],[33,0,33,8],[22,0,22,8],[23,0,23,8],[24,1,24,7],[25,1,25,7],[26,1,26,7],[27,1,27,7],[20,1,20,6],[20,7,20,8],[21,1,21,6],[21,7,21,8],[14,0,14,8],[15,0,15,8],[16,0,16,8],[17,0,17,8],[18,1,18,6],[18,7,18,8],[13,1,13,2],[13,3,13,6],[13,7,13,8],[6,0,6,8],[7,0,7,8],[8,0,8,8],[9,0,9,8],[10,0,10,8],[19,1,19,6],[19,7,19,8],[1,0,1,8],[2,0,2,8],[3,0,3,8],[4,0,4,6],[4,7,4,8],[5,0,5,6],[5,7,5,8],[11,0,11,8],[12,1,12,2],[12,3,12,6],[12,7,12,8]]}
[{"$nulls":4},"ANEXO F"]
["COMPANHIA DE DESENVOLVIMENTO DOS VALES DO SÃO FRANCISCO E DO PARANAÍBA"]
["PLANILHA DE CUSTOS E FORMAÇÃO DE PREÇOS"]
["BOMBEIRO HIDRÁULICO"]
["Nº do Processo"]
["Licitação Nº",{"$nulls":6},"PE Nº  "]
["EMPRESA: "]
["CNPJ:"]
["Regime Tributário: "]
["Sindicato Representativo da Categoria: SINDISERVIÇOS/DF"]
[]
["Identificação do Serviço"]
["Item","Tipo de Serviço",null,"Unidade de Medida",null,null,null,"Quantidade total a contratar (em função da unidade de medida) "]
["I","BOMBEIRO HIDRÁULICO",null,"Posto",null,null,null,1]
[]
["MÃO-DE-0BRA"]
["MÃO-DE-0BRA VINCULADA À EXECUÇÃO CONTRATUAL"]
["Dados complementares para composição dos custos referentes à mão-de-obra"]
[1,"Tipo de serviço (mesmo serviço com características distintas)",{"$nulls":5},"BOMBEIRO HIDRÁULICO"]
[2,"Salário Normativo da Categoria Profissional"]
[3,"Categoria Profissional (vinculada à execução contratual)",{"$nulls":5},"BOMBEIRO HIDRÁULICO"]
[4,"Data base da categoria",{"$nulls":5},"2016-01-01"]
[]
["MÓDULO 1: COMPOSIÇÃO DA REMUNERAÇÃO"]
[1,"Composição da Remuneração",{"$nulls":6},"Valor (R$)"]
["A","Salário Base "]
["B","Adicional de periculosidade ",{"$nulls":6},0]
["C","Adicional de Insalubridade ",{"$nulls":6},0]
["D","Adicional noturno",{"$nulls":6},0]
["E","Hora noturna adicional",{"$nulls":6},0]
["F","Adicional de hora extra",{"$nulls":6},0]
["G","Intervalo intrajornada",{"$nulls":6},0]
["Total da remuneração",{"$nulls":7},{"$f":"SUM(I26:I32)","v":0}]
[]
["MÓDULO 2: BENEFÍCIOS MENSAIS E DIÁRIOS",{"$nulls":7},"Valor (R$)"]
[2,"Benefícios mensais e diários"]
["A"," Transporte (R$ 7*2)*22 dias - Cláusula 16ª da CCT/2016/2016"]
["B","Dedução legal (- 6% sobre a remuneração)",{"$nulls":6},{"$f":"I26*6%","v":0}]
["C","Auxílio-Alimentação (22 dias x R$ 27,50) - Cláusula 15ª - CCT 2016/2016"]
["D","Plano de Saúde - Cláusula 17ª CCT - 2016/2016"]
["E","Assistência Odontológica (Cláusula 19ª - CCT 2016/2016"]
["F","Seguro de Vida e Auxílio funeral - Cláusula 18ª - CCT 2016/2016"]
["Total do Benefícios mensais e diários",{"$nulls":7},{"$f":"I37-I38+I39+I40+I41+I42","v":0}]
[]
["MÓDULO 3: INSUMOS DIVERSOS"]
[3,"Insumos Diversos"]
["A","Uniformes (Custo Total/Mês/Profissional)"]
["B","Materiais de Limpeza e Higiene Pessoal e EPI's",{"$nulls":6},0]
["C","Depreciação de Equipamentos",{"$nulls":6},0]
["D","Outros (especificar)",{"$nulls":6},0]
["Total de Insumos diversos",{"$nulls":7},{"$f":"SUM(I47:I50)","v":0}]
[]
["MÓDULO 4: ENCARGOS SOCIAIS E TRABALHISTAS"]
["Submódulo 4.1 - Encargos previdenciários e FGTS"]
["4.1","Encargos previdenciários e FGTS",{"$nulls":5},"%","Valor (R$)"]
["A","INSS",{"$nulls":6},{"$f":"$I$33*H56%","v":0}]
["B","SESI ou SESC",{"$nulls":6},{"$f":"$I$33*H57%","v":0}]
["C","SENAI ou SENAC",{"$nulls":6},0]
["D","INCRA",{"$nulls":6},0]
["E","Salário Educação",{"$nulls":6},0]
["F","FGTS",{"$nulls":6},0]
["G","Seguro Acidente do trabalho (FAP x RAT = 1,00 x 2,00)",{"$nulls":6},0]
["H","SEBRAE",{"$nulls":6},0]
["TOTAL",{"$nulls":7},0]
[]
["Submódulo 4.2 - 13º Salário e Adicional de Férias"]
["4.2","13º Salário e Adicional de Férias",{"$nulls":5},"% ","Valor (R$)"]
["A","13º Salário ",{"$nulls":6},{"$f":"$I$33*H68%","v":0}]
["B","Adicional de Férias",{"$nulls":6},{"$f":"$I$33*H69%","v":0}]
["Subtotal",{"$nulls":6},{"$f":"SUM(H68:H69)","v":0},0]
["C","Incidência do submódulo 4.1 sobre 13º Salário e Adicional de Férias",{"$nulls":6},0]
["TOTAL",{"$nulls":6},{"$f":"H70+H71","v":0},0]
[]
["Submódulo 4.3 - Afastamento Maternidade"]
["4.3","Afastamento Maternidade",{"$nulls":5},"%","VALOR (R$)"]
["A","Afastamento Maternidade",{"$nulls":5},0,{"$f":"$I$33*H76%","v":0}]
["B","Incidência do submódulo 4.1 sobre afastamento maternidade",{"$nulls":5},0,{"$f":"$I$33*H77%","v":0}]
["TOTAL",{"$nulls":6},{"$f":"SUM(H76:H77)","v":0},{"$f":"SUM(I76:I77)","v":0}]
["Submódulo 4.4 - Provisão para Rescisão"]
["4.4","Provisão para Rescisão",{"$nulls":5},"%","VALOR (R$)"]
["A","Aviso prévio indenizado",{"$nulls":6},{"$f":"$I$33*H81%","v":0}]
["B","Incidência do FGTS sobre o aviso prévio indenizado",{"$nulls":6},{"$f":"$I$33*H82%","v":0}]
["C","Multa do FGTS e Cont. Social sobre aviso prévio indenizado",{"$nulls":6},0]
["D","Aviso previo trabalhado",{"$nulls":5},0,0]
["E","Incidência do submódulo 4.1 sobre aviso prévio trabalhado",{"$nulls":6},0]
["F","Multa do FGTS do aviso prévio trabalhad0",{"$nulls":6},0]
["TOTAL",{"$nulls":6},{"$f":"SUM(H81:H86)","v":0},0]
[]
["Submódulo 4.5 - Custo de Reposição do Profissional Ausente"]
["4.5","Composição do Custo de Reposição do Profissional Ausente",{"$nulls":5},"%","VALOR (R$)"]
["A","Férias",{"$nulls":6},{"$f":"$I$33*H91%","v":0}]
["B","Ausência por doença",{"$nulls":6},{"$f":"$I$33*H92%","v":0}]
["C","Licença paternidade",{"$nulls":6},0]
["D","Ausências legais",{"$nulls":6},0]
["E","Ausência por acidente de trabalho",{"$nulls":6},0]
["Subtotal",{"$nulls":7},0]
["F","Incidência do submódulo 4.1 sobre o Custo de Reposição",{"$nulls":6},0]
["TOTAL",{"$nulls":6},{"$f":"H96+H97","v":0},0]
[]
["Quadro - Resumo - Módulo 4 - Encargos Sociais e Trabalhistas"]
[4,"Módulo 4 - Encargos Sociais e Trabalhistas",{"$nulls":5},"%","VALOR (R$)"]
["4.1","Encargos previdenciários e FGTS",{"$nulls":6},{"$f":"$I$33*H102%","v":0}]
["4.2","13º salário + Adicional de férias",{"$nulls":5},{"$f":"H72","v":0},{"$f":"$I$33*H103%","v":0}]
["4.3","Afastamento maternidade",{"$nulls":5},{"$f":"H78","v":0},0]
["4.4","Custo de rescisão",{"$nulls":5},{"$f":"H87","v":0},0]
["4.5","Custo de reposição de profissional ausente",{"$nulls":5},{"$f":"H98","v":0},0]
["TOTAL",{"$nulls":6},{"$f":"SUM(H102:H106)","v":0},0]
[]
["MÓDULO 5 - CUSTOS INDIRETOS, TRIBUTOS E LUCRO"]
[5,"Custos indiretos, tributos e lucro",{"$nulls":5},"%","VALOR (R$)"]
["A","Custos indiretos",{"$nulls":6},{"$f":"(I33+I43+I51+I107)*H111%","v":0}]
["B","Tributos"]
[null,"B.1. Tributos Federais "]
[null,"PIS",{"$nulls":6},{"$f":"I131*H114%","v":0}]
[null,"COFINS",{"$nulls":6},{"$f":"I131*H115%","v":0}]
[null,"B.2. Tributos Estaduais "]
[null,"B.3. Tributos Municipais"]
[null,"ISS",{"$nulls":6},{"$f":"I131*H118%","v":0}]
[null,"B.4. Outros Tributos"]
["C","Lucro",{"$nulls":6},{"$f":"(I33+I43+I51+I107+I111)*6%","v":0}]
["TOTAL",{"$nulls":7},{"$f":"I111+I114+I115+I118+I120","v":0}]
[]
[" Quadro resumo do custo por empregado"]
["Mão-de-obra vinculada à execução contratual (valor por empregado)",{"$nulls":7},"Valor (R$)"]
["A","Módulo 1 - Composição da Remuneração",{"$nulls":6},{"$f":"I33","v":0}]
["B","Módulo 2 - Benefícios Mensais e Diários",{"$nulls":6},{"$f":"I43","v":0}]
["C","Módulo 3 - Insumos Diversos (uniformes, materiais, equipamentos, outros)",{"$nulls":6},{"$f":"I51","v":0}]
["D","Módulo 4 - Encargos Sociais e Trabalhistas",{"$nulls":6},{"$f":"I107","v":0}]
["Subtotal (A + B + C + D)",{"$nulls":7},{"$f":"SUM(I125:I128)","v":0}]
["E","Módulo 5 - Custos Indiretos, Tributos e Lucro",{"$nulls":6},{"$f":"I131-I129","v":0}]
["PREÇO POSTO/MÊS",{"$nulls":7},{"$f":"(I129+I111+I120)/0.9135","v":0}]

{"sheet":"Marceneiro","index":6,"n_rows":131,"n_cols":9,"rows_kept":131,"cut":false,"hidden":false,"merged":[[129,1,129,7],[130,0,130,7],[123,0,123,7],[124,1,124,7],[125,1,125,7],[126,1,126,7],[127,1,127,7],[128,0,128,7],[117,1,117,6],[118,1,118,6],[119,1,119,6],[120,0,120,7],[121,0,121,8],[122,0,122,8],[111,1,111,6],[112,1,112,6],[113,1,113,6],[114,1,114,6],[115,1,115,6],[116,1,116,6],[105,1,105,6],[106,0,106,6],[107,0,107,8],[108,0,108,8],[109,1,109,6],[110,1,110,6],[99,0,99,8],[100,1,100,6],[101,1,101,6],[102,1,102,6],[103,1,103,6],[104,1,104,6],[93,1,93,6],[94,1,94,6],[95,0,95,6],[96,1,96,6],[97,0,97,6],[98,0,98,8],[87,0,87,8],[88,0,88,8],[89,1,89,6],[90,1,90,6],[91,1,91,6],[92,1,92,6],[81,1,81,6],[82,1,82,6],[83,1,83,6],[84,1,84,6],[85,1,85,6],[86,0,86,6],[75,1,75,6],[76,1,76,6],[77,0,77,6],[78,0,78,8],[79,1,79,6],[80,1,80,6],[69,0,69,6],[70,1,70,6],[71,0,71,6],[72,0,72,8],[73,0,73,8],[74,1,74,6],[63,0,63,6],[64,0,64,8],[65,0,65,8],[66,1,66,6],[67,1,67,6],[68,1,68,6],[57,1,57,6],[58,1,58,6],[59,1,59,6],[60,1,60,6],[61,1,61,6],[62,1,62,6],[51,0,51,8],[52,0,52,8],[53,0,53,8],[54,1,54,6],[55,1,55,6],[56,1,56,6],[45,1,45,8],[46,1,46,7],[47,1,47,7],[48,1,48,7],[49,1,49,7],[50,0,50,7],[40,1,40,7],[41,1,41,7],[42,0,42,7],[43,0,43,8],[44,0,44,8],[34,0,34,7],[35,1,35,8],[36,1,36,7],[37,1,37,7],[38,1,38,7],[39,1,39,7],[28,1,28,7],[29,1,29,7],[30,1,30,7],[31,1,31,7],[32,0,32,7],[33,0,33,8],[22,0,22,8],[23,0,23,8],[24,1,24,7],[25,1,25,7],[26,1,26,7],[27,1,27,7],[20,1,20,6],[20,7,20,8],[21,1,21,6],[21,7,21,8],[14,0,14,8],[15,0,15,8],[16,0,16,8],[17,0,17,8],[18,1,18,6],[18,7,18,8],[13,1,13,2],[13,3,13,6],[13,7,13,8],[6,0,6,8],[7,0,7,8],[8,0,8,8],[9,0,9,8],[10,0,10,8],[19,1,19,6],[19,7,19,8],[1,0,1,8],[2,0,2,8],[3,0,3,8],[4,0,4,6],[4,7,4,8],[5,0,5,6],[5,7,5,8],[11,0,11,8],[12,1,12,2],[12,3,12,6],[12,7,12,8]]}
[{"$nulls":4},"ANEXO G"]
["COMPANHIA DE DESENVOLVIMENTO DOS VALES DO SÃO FRANCISCO E DO PARANAÍBA"]
["PLANILHA DE CUSTOS E FORMAÇÃO DE PREÇOS"]
["MARCENEIRO"]
["Nº do Processo"]
["Licitação Nº",{"$nulls":6},"PE Nº  "]
["EMPRESA: "]
["CNPJ:"]
["Regime Tributário: "]
["Sindicato Representativo da Categoria: SINDISERVIÇOS/DF"]
[]
["Identificação do Serviço"]
["Item","Tipo de Serviço",null,"Unidade de Medida",null,null,null,"Quantidade total a contratar (em função da unidade de medida) "]
["I","MARCENEIRO",null,"Posto",null,null,null,1]
[]
["MÃO-DE-0BRA"]
["MÃO-DE-0BRA VINCULADA À EXECUÇÃO CONTRATUAL"]
["Dados complementares para composição dos custos referentes à mão-de-obra"]
[1,"Tipo de serviço (mesmo serviço com características distintas)",{"$nulls":5},"MARCENEIRO"]
[2,"Salário Normativo da Categoria Profissional",{"$nulls":5},{"$f":"I26","v":0}]
[3,"Categoria Profissional (vinculada à execução contratual)",{"$nulls":5},"MARCENEIRO"]
[4,"Data base da categoria",{"$nulls":5},"2016-01-01"]
[]
["MÓDULO 1: COMPOSIÇÃO DA REMUNERAÇÃO"]
[1,"Composição da Remuneração",{"$nulls":6},"Valor (R$)"]
["A","Salário Base "]
["B","Adicional de periculosidade ",{"$nulls":6},0]
["C","Adicional de Insalubridade ",{"$nulls":6},0]
["D","Adicional noturno",{"$nulls":6},0]
["E","Hora noturna adicional",{"$nulls":6},0]
["F","Adicional de hora extra",{"$nulls":6},0]
["G","Intervalo intrajornada",{"$nulls":6},0]
["Total da remuneração",{"$nulls":7},{"$f":"SUM(I26:I32)","v":0}]
[]
["MÓDULO 2: BENEFÍCIOS MENSAIS E DIÁRIOS",{"$nulls":7},"Valor (R$)"]
[2,"Benefícios mensais e diários"]
["A"," Transporte (R$ 7*2)*22 dias - Cláusula 16ª da CCT/2016/2016"]
["B","Dedução legal (- 6% sobre a remuneração)",{"$nulls":6},{"$f":"I26*6%","v":0}]
["C","Auxílio-Alimentação (22 dias x R$ 27,50) - Cláusula 15ª - CCT 2016/2016"]
["D","Plano de Saúde - Cláusula 17ª CCT - 2016/2016"]
["E","Assistência Odontológica (Cláusula 19ª - CCT 2016/2016"]
["F","Seguro de vida e Auxílio funeral - Cláusula 18ª - CCT 2016/2016"]
["Total do Benefícios mensais e diários",{"$nulls":7},{"$f":"I37-I38+I39+I40+I41+I42","v":0}]
[]
["MÓDULO 3: INSUMOS DIVERSOS"]
[3,"Insumos Diversos"]
["A","Uniformes (Custo Total/Mês/Profissional)"]
["B","Materiais de Limpeza e Higiene Pessoal e EPI's",{"$nulls":6},0]
["C","Depreciação de Equipamentos",{"$nulls":6},0]
["D","Outros (especificar)",{"$nulls":6},0]
["Total de Insumos diversos",{"$nulls":7},{"$f":"SUM(I47:I50)","v":0}]
[]
["MÓDULO 4: ENCARGOS SOCIAIS E TRABALHISTAS"]
["Submódulo 4.1 - Encargos previdenciários e FGTS"]
["4.1","Encargos previdenciários e FGTS",{"$nulls":5},"%","Valor (R$)"]
["A","INSS",{"$nulls":6},{"$f":"$I$33*H56%","v":0}]
["B","SESI ou SESC",{"$nulls":6},{"$f":"$I$33*H57%","v":0}]
["C","SENAI ou SENAC",{"$nulls":6},0]
["D","INCRA",{"$nulls":6},0]
["E","Salário Educação",{"$nulls":6},0]
["F","FGTS",{"$nulls":6},0]
["G","Seguro Acidente do trabalho (FAP x RAT = 1,00 x 2,00)",{"$nulls":6},0]
["H","SEBRAE",{"$nulls":6},0]
["TOTAL",{"$nulls":7},0]
[]
["Submódulo 4.2 - 13º Salário e Adicional de Férias"]
["4.2","13º Salário e Adicional de Férias",{"$nulls":5},"% ","Valor (R$)"]
["A","13º Salário ",{"$nulls":6},{"$f":"$I$33*H68%","v":0}]
["B","Adicional de Férias",{"$nulls":6},{"$f":"$I$33*H69%","v":0}]
["Subtotal",{"$nulls":6},{"$f":"SUM(H68:H69)","v":0},0]
["C","Incidência do submódulo 4.1 sobre 13º Salário e Adicional de Férias",{"$nulls":6},0]
["TOTAL",{"$nulls":6},{"$f":"H70+H71","v":0},0]
[]
["Submódulo 4.3 - Afastamento Maternidade"]
["4.3","Afastamento Maternidade",{"$nulls":5},"%","VALOR (R$)"]
["A","Afastamento Maternidade",{"$nulls":5},0,{"$f":"$I$33*H76%","v":0}]
["B","Incidência do submódulo 4.1 sobre afastamento maternidade",{"$nulls":5},0,{"$f":"$I$33*H77%","v":0}]
["TOTAL",{"$nulls":6},{"$f":"SUM(H76:H77)","v":0},{"$f":"SUM(I76:I77)","v":0}]
["Submódulo 4.4 - Provisão para Rescisão"]
["4.4","Provisão para Rescisão",{"$nulls":5},"%","VALOR (R$)"]
["A","Aviso prévio indenizado",{"$nulls":6},{"$f":"$I$33*H81%","v":0}]
["B","Incidência do FGTS sobre o aviso prévio indenizado",{"$nulls":6},{"$f":"$I$33*H82%","v":0}]
["C","Multa do FGTS e Cont. Social sobre aviso prévio indenizado",{"$nulls":6},0]
["D","Aviso previo trabalhado",{"$nulls":5},0,0]
["E","Incidência do submódulo 4.1 sobre aviso prévio trabalhado",{"$nulls":6},0]
["F","Multa do FGTS do aviso prévio trabalhad0",{"$nulls":6},0]
["TOTAL",{"$nulls":6},{"$f":"SUM(H81:H86)","v":0},0]
[]
["Submódulo 4.5 - Custo de Reposição do Profissional Ausente"]
["4.5","Composição do Custo de Reposição do Profissional Ausente",{"$nulls":5},"%","VALOR (R$)"]
["A","Férias",{"$nulls":6},{"$f":"$I$33*H91%","v":0}]
["B","Ausência por doença",{"$nulls":6},{"$f":"$I$33*H92%","v":0}]
["C","Licença paternidade",{"$nulls":6},0]
["D","Ausências legais",{"$nulls":6},0]
["E","Ausência por acidente de trabalho",{"$nulls":6},0]
["Subtotal",{"$nulls":7},0]
["F","Incidência do submódulo 4.1 sobre o Custo de Reposição",{"$nulls":6},0]
["TOTAL",{"$nulls":6},{"$f":"H96+H97","v":0},0]
[]
["Quadro - Resumo - Módulo 4 - Encargos Sociais e Trabalhistas"]
[4,"Módulo 4 - Encargos Sociais e Trabalhistas",{"$nulls":5},"%","VALOR (R$)"]
["4.1","Encargos previdenciários e FGTS",{"$nulls":6},{"$f":"$I$33*H102%","v":0}]
["4.2","13º salário + Adicional de férias",{"$nulls":5},{"$f":"H72","v":0},{"$f":"$I$33*H103%","v":0}]
["4.3","Afastamento maternidade",{"$nulls":5},{"$f":"H78","v":0},0]
["4.4","Custo de rescisão",{"$nulls":5},{"$f":"H87","v":0},0]
["4.5","Custo de reposição de profissional ausente",{"$nulls":5},{"$f":"H98","v":0},0]
["TOTAL",{"$nulls":6},{"$f":"SUM(H102:H106)","v":0},0]
[]
["MÓDULO 5 - CUSTOS INDIRETOS, TRIBUTOS E LUCRO"]
[5,"Custos indiretos, tributos e lucro",{"$nulls":5},"%","VALOR (R$)"]
["A","Custos indiretos",{"$nulls":6},{"$f":"(I33+I43+I51+I107)*H111%","v":0}]
["B","Tributos"]
[null,"B.1. Tributos Federais "]
[null,"PIS",{"$nulls":6},{"$f":"I131*H114%","v":0}]
[null,"COFINS",{"$nulls":6},{"$f":"I131*H115%","v":0}]
[null,"B.2. Tributos Estaduais "]
[null,"B.3. Tributos Municipais"]
[null,"ISS",{"$nulls":6},{"$f":"I131*H118%","v":0}]
[null,"B.4. Outros Tributos"]
["C","Lucro",{"$nulls":6},{"$f":"(I33+I43+I51+I107+I111)*6%","v":0}]
["TOTAL",{"$nulls":7},{"$f":"I111+I114+I115+I118+I120","v":0}]
[]
[" Quadro resumo do custo por empregado"]
["Mão-de-obra vinculada à execução contratual (valor por empregado)",{"$nulls":7},"Valor (R$)"]
["A","Módulo 1 - Composição da Remuneração",{"$nulls":6},{"$f":"I33","v":0}]
["B","Módulo 2 - Benefícios Mensais e Diários",{"$nulls":6},{"$f":"I43","v":0}]
["C","Módulo 3 - Insumos Diversos (uniformes, materiais, equipamentos, outros)",{"$nulls":6},{"$f":"I51","v":0}]
["D","Módulo 4 - Encargos Sociais e Trabalhistas",{"$nulls":6},{"$f":"I107","v":0}]
["Subtotal (A + B + C + D)",{"$nulls":7},{"$f":"SUM(I125:I128)","v":0}]
["E","Módulo 5 - Custos Indiretos, Tributos e Lucro",{"$nulls":6},{"$f":"I131-I129","v":0}]
["PREÇO POSTO/MÊS",{"$nulls":7},{"$f":"(I129+I111+I120)/0.9135","v":0}]

{"sheet":"Resumo","index":7,"n_rows":20,"n_cols":9,"rows_kept":20,"cut":false,"hidden":false,"merged":[[7,1,7,2],[8,1,8,2],[7,4,7,5],[8,4,8,5],[7,6,7,7],[8,6,8,7],[23,0,24,9],[20,0,20,9],[18,1,18,7],[19,1,19,7],[13,8,13,9],[14,8,14,9],[15,8,15,9],[16,8,16,9],[17,8,17,9],[18,8,18,9],[19,8,19,9],[17,1,17,7],[12,0,12,9],[13,1,13,7],[14,1,14,7],[15,1,15,7],[16,1,16,7],[10,8,10,9],[3,4,3,5],[4,4,4,5],[5,4,5,5],[6,4,6,5],[9,4,9,5],[3,6,3,7],[4,6,4,7],[5,6,5,7],[3,8,3,9],[4,8,4,9],[5,8,5,9],[6,8,6,9],[9,8,9,9],[7,8,7,9],[8,8,8,9],[10,0,10,2],[0,0,0,9],[1,0,1,9],[2,1,2,2],[2,4,2,5],[2,6,2,7],[2,8,2,9],[6,6,6,7],[9,6,9,7],[3,1,3,2],[4,1,4,2],[5,1,5,2],[6,1,6,2],[9,1,9,2],[10,4,10,5],[10,6,10,7]]}
["PLANILHA RESUMO DE VALORES 2016"]
["QUADRO-RESUMO DO ORÇAMENTO"]
["Item","Tipo de Serviço",null,"Qtde. de Postos","Valor Unitário do Posto",null,"Valot Total Mensal dos Postos",null,"Valor Total Anual"]
["I","Encarregado",null,1,{"$f":"Encarregado!I131","v":0},null,{"$f":"E4*D4","v":0},null,{"$f":"G4*12","v":0}]
["II","Servente",null,18,{"$f":"Servente!I131","v":0},null,{"$f":"E5*D5","v":0},null,0]
["III","Copeira",null,5,{"$f":"Copeira!I131","v":0},null,{"$f":"E6*D6","v":0},null,0]
["IV","Bombeiro Hidráulico",null,1,{"$f":"Bombeiro!I131","v":0},null,{"$f":"E7*D7","v":0},null,0]
["V","Recepcionista",null,1,{"$f":"Bombeiro!I132","v":0},null,{"$f":"E8*D8","v":0},null,{"$f":"G8*12","v":0}]
["VI","Garçom",null,1,{"$f":"Bombeiro!I133","v":0},null,0,null,{"$f":"G9*12","v":0}]
["VII","Marceneiro",null,1,{"$f":"Marceneiro!I131","v":0},null,{"$f":"E10*D10","v":0},null,0]
["VALOR MENSAL DOS SERVIÇOS",null,null,{"$f":"SUM(D4:D10)","v":28},null,null,{"$f":"SUM(G4:H10)","v":0},null,{"$f":"G11*12","v":0}]
[]
["VALOR GLOBAL DA PROPOSTA"]
["A","Valor por unidade de medida - encarregado",{"$nulls":6},{"$f":"E4","v":0}]
["B","Valor por unidade medida - servente",{"$nulls":6},{"$f":"E5","v":0}]
["C","Valor por unidade de medida - copeira",{"$nulls":6},{"$f":"E6","v":0}]
["D","Valor por unidade de medida - bombeiro hidráulico",{"$nulls":6},{"$f":"E7","v":0}]
["E","Valor por unidade de medida - marceneiro",{"$nulls":6},{"$f":"E10","v":0}]
["F","Valor Mensal dos Serviços",{"$nulls":6},{"$f":"G11","v":0}]
["G","Valor Global da Proposta (valor mensal do serviço x 12 meses)",{"$nulls":6},{"$f":"I11","v":0}]