{"text_format":"2","workbook":"xlsx","n_sheets":11,"sheets":["Resumo","FSUP","FSUP-I EQUIPE TÉCNICA","FSUP-II VIAGENS","FSUP-III Manutenção Operac","FSUP-IV Mobiliz Desmob","FSUP-VI Det. Desp Fiscais","FSUP-V Det. custos Adm.","FSUP-VII Det. Enc. Sociais","FSUP-VIII Cronograma Financeiro","Plan2"],"not_rendered":{"charts":0,"images":0,"macros":0,"external_links":1,"defined_names":29,"comments":0,"pivot_tables":0},"unopened":[],"bounds":{"document_bytes":16777216,"sheet_cells":100000,"run_cost":"one","rows_first":2000,"rows_last":500,"rows_between":2000,"halvings":0,"cell_chars":16384,"cell_head_chars":4096},"cells_cut":0,"cells_raw":0,"read":"whole","date_system":"1900"}

{"sheet":"Resumo","index":0,"n_rows":3,"n_cols":14,"rows_kept":3,"cut":false,"hidden":false,"merged":[[2,0,2,12],[2,13,2,14],[0,0,0,12],[0,13,0,14],[1,0,1,12],[1,13,1,14]]}
["TOTAL DOS CUSTOS DIRETOS",{"$nulls":12},{"$f":"FSUP!N31","v":0}]
["TOTAL DO CUSTOS INDIRETOS",{"$nulls":12},{"$f":"FSUP!N35","v":0}]
["TOTAL DA PROPOSTA",{"$nulls":12},{"$f":"FSUP!N36","v":0}]

{"sheet":"FSUP","index":1,"n_rows":41,"n_cols":14,"rows_kept":41,"cut":false,"hidden":false,"merged":[[0,0,1,12],[0,13,0,14],[1,13,1,14],[2,0,2,14],[3,0,3,14],[4,0,4,3],[4,4,4,12],[4,13,4,14],[5,0,5,3],[5,4,5,12],[5,13,5,14],[6,0,6,14],[7,0,7,14],[8,0,8,12],[8,13,8,14],[9,0,9,12],[9,13,9,14],[10,0,10,12],[10,13,10,14],[11,0,11,14],[12,0,12,12],[12,13,12,14],[22,0,22,14],[18,0,18,12],[18,13,18,14],[13,0,13,12],[13,13,13,14],[14,0,14,12],[14,13,14,14],[15,0,15,12],[15,13,15,14],[16,0,16,12],[16,13,16,14],[17,0,17,12],[17,13,17,14],[19,0,19,12],[19,13,19,14],[20,0,20,12],[20,13,20,14],[21,0,21,14],[36,9,36,14],[29,0,29,12],[29,13,29,14],[23,0,23,12],[23,13,23,14],[24,0,24,12],[24,13,24,14],[26,0,26,12],[26,13,26,14],[27,0,27,12],[27,13,27,14],[28,0,28,12],[28,13,28,14],[25,0,25,12],[25,13,25,14],[30,0,30,12],[30,13,30,14],[31,0,31,12],[31,13,31,14],[37,0,37,8],[37,9,37,14],[32,0,32,12],[32,13,32,14],[33,0,33,12],[33,13,33,14],[34,0,34,12],[34,13,34,14],[35,0,35,12],[35,13,35,14],[36,0,36,8],[43,0,43,14],[44,0,44,14],[38,0,38,12],[38,13,38,14],[39,0,39,12],[39,13,39,14],[40,0,40,14],[41,1,41,14],[42,0,42,14]]}
["PROPOSTA FINANCEIRA ENGENHARIA CONSULTIVA",{"$nulls":12},"CODIGO:"]
[{"$nulls":13},"FSUP"]
["NOME DA CONSULTORA:"]
[]
["PROJETO:",null,null,null,"OBJETO:",{"$nulls":8},"EDITAL:"]
[{"$nulls":4},"Inventário Florestal - Barragem I Projeto Jequitaí "]
["SERVIÇOS PAGOS A PREÇO UNITÁRIO"]
["MOBILIZAÇÃO/DESMOBILIZAÇÃO"]
[" A1 - MOBILIZAÇÃO (FSUP-IV)",{"$nulls":12},{"$f":"'FSUP-IV Mobiliz Desmob'!H26","v":0}]
[" A2 - DESMOBILIZAÇÃO (FSUP-IV)",{"$nulls":12},{"$f":"'FSUP-IV Mobiliz Desmob'!L26","v":0}]
[" A - TOTAL DOS CUSTOS COM MOBILIZAÇÃO E DESMOBILIZAÇÃO",{"$nulls":12},{"$f":"N9+N10","v":0}]
["MÃO-DE-OBRA"]
[" B1 - TOTAL DE SALÁRIO DA EQUIPE COM VÍNCULO (FSUP-I)",{"$nulls":12},{"$f":"'FSUP-I EQUIPE TÉCNICA'!L38","v":0}]
[" B2 - TOTAL DE SALÁRIO DO AUTÔNOMO (FSUP-I)",{"$nulls":12},{"$f":"'FSUP-I EQUIPE TÉCNICA'!M38","v":0}]
[" B - TOTAL DOS CUSTOS DE SALÁRIOS DA EQUIPE",{"$nulls":12},{"$f":"SUM(N13:N14)","v":0}]
[" C1 - ENCARGOS SOCIAiS DE B1 (64,80% DO B1)",{"$nulls":12},{"$f":"ROUND(N13*0.648,2)","v":0}]
[" C2 - ENCARGOS SOCIAIS DE B2 (20% DO B2)",{"$nulls":12},{"$f":"ROUND(N14*0.2,2)","v":0}]
[" C - TOTAL DOS CUSTOS COM ENCARGOS SOCIAIS",{"$nulls":12},{"$f":"SUM(N16:N17)","v":0}]
[" D1 - CUSTO TOTAL DAS PASSAGENS AÉREAS E TERRESTRES (FSUP-II)",{"$nulls":12},{"$f":"'FSUP-II VIAGENS'!H24","v":0}]
[" D2 - CUSTO TOTAL DAS DIÁRIAS (FSUP-II)",{"$nulls":12},{"$f":"'FSUP-II VIAGENS'!M24","v":0}]
[" D - TOTAL DO CUSTO COM VIAGENS",{"$nulls":12},{"$f":"SUM(N19:N20)","v":0}]
[]
["MANUTENÇÃO OPERACIONAL"]
[" 1 - CUSTO DOS VEÍCULOS (FSUP-III, ITEM 1)",{"$nulls":12},{"$f":"'FSUP-III Manutenção Operac'!I11","v":0}]
[" 2 - CUSTO DOS EQUIPAMENTOS TOPOGRÁFICOS (FSUP-III, ITEM 2)",{"$nulls":12},{"$f":"'FSUP-III Manutenção Operac'!I15","v":0}]
[" 3 - CUSTO DA MANUTENÇÃO E ADMINISTRAÇÃO DO ESCRITÓRIO DE CAMPO (FSUP-III, ITEM 3)",{"$nulls":12},{"$f":"'FSUP-III Manutenção Operac'!I25","v":0}]
[" 4 - CUSTO DOS EQUIPAMENTOS DE ESCRITÓRIO DE CAMPO E INSUMOS (FSUP-III, ITEM 4)",{"$nulls":12},{"$f":"'FSUP-III Manutenção Operac'!I35","v":0}]
[" 5 - CUSTO DOS SERVIÇOS GRÁFICOS/COMPUTAÇÃO (FSUP-III, ITEM 5)",{"$nulls":12},{"$f":"'FSUP-III Manutenção Operac'!I40","v":0}]
[" 6 - CUSTO DOS EQUIPAMENTOS DE INFORMÁTICA PARA FISCALIZAÇÃO  (FSUP-III, ITEM 6)",{"$nulls":12},{"$f":"'FSUP-III Manutenção Operac'!I45","v":0}]
["E - TOTAL DOS PREÇOS COM MANUTENÇÃO OPERACIONAL",{"$nulls":12},{"$f":"SUM(N24:N29)","v":0}]
["TOTAL DOS CUSTOS DIRETOS",{"$nulls":12},{"$f":"SUM(N11+N15+N18+N21+N30)","v":0}]
[" F - CUSTOS DE ADMINISTRAÇÃO = (20% DO B)",{"$nulls":12},{"$f":"ROUND(N15*0.2,2)","v":0}]
[" G - REMUNERAÇÃO DA EMPRESA (LUCRO) = (10% DE A + B + C + D + E + F)",{"$nulls":12},{"$f":"ROUND(0.1*(N11+N15+N18+N21+N30+N32),2)","v":0}]
[" H - DESPESAS FISCAIS = (13,96% DE A + B + C + D + E + F + G)",{"$nulls":12},{"$f":"ROUND(0.1396*(N11+N15+N18+N21+N30+N32+N33),2)","v":0}]
["TOTAL DO CUSTOS INDIRETOS",{"$nulls":12},{"$f":"SUM(N32:O34)","v":0}]
["TOTAL DA PROPOSTA",{"$nulls":12},{"$f":"N31+N35","v":0}]
["NOME DO INFORMANTE:",{"$nulls":8},"QUALIFICAÇÃO:"]
[]
["ASSINATURA:",{"$nulls":12},"DATA:"]
[]
["OBSERVAÇÃO:"]

{"sheet":"FSUP-I EQUIPE TÉCNICA","index":2,"n_rows":41,"n_cols":15,"rows_kept":41,"cut":false,"hidden":false,"merged":[[16,0,16,1],[17,0,17,1],[19,0,19,1],[20,0,20,1],[11,0,11,1],[12,0,12,1],[13,0,13,1],[10,0,10,1],[15,0,15,1],[0,11,0,12],[1,11,1,12],[2,0,2,12],[3,0,3,12],[4,0,4,1],[4,2,4,10],[0,0,1,10],[4,11,4,12],[5,11,5,12],[6,0,6,3],[6,4,6,10],[6,11,6,12],[9,0,9,1],[7,0,7,1],[5,2,5,10],[8,0,8,1],[33,0,33,1],[34,0,34,1],[30,0,30,1],[21,0,21,1],[22,0,22,1],[23,0,23,1],[31,0,31,1],[29,0,29,1],[32,0,32,1],[27,0,27,1],[28,0,28,1],[24,0,24,1],[25,0,25,1],[26,0,26,1],[39,7,39,12],[41,0,41,10],[41,11,41,12],[42,0,42,12],[35,0,35,1],[36,0,36,2],[36,4,36,10],[37,0,37,10],[38,0,38,6],[38,7,38,12],[40,0,40,10],[40,11,40,12],[39,0,39,6],[54,0,54,12],[55,0,55,12],[49,0,49,12],[50,0,50,12],[43,0,43,12],[44,0,44,12],[46,0,46,12],[47,0,47,12],[48,0,48,12],[51,0,51,12],[53,0,53,12]]}
["SALÁRIOS DA EQUIPE TÉCNICA",{"$nulls":10},"CODIGO:"]
[{"$nulls":11},"FSUP- I"]
["NOME DA CONSULTORA:"]
[]
["PROJETO:",null,"OBJETO:",{"$nulls":8},"EDITAL:"]
[null,null,"Inventário Florestal - Barragem I Projeto Jequitaí "]
["EQUIPE TÉCNICA",null,null,null,"COMPOSIÇÃO DOS SALÁRIOS POR PROFISSÃO/FUNÇÃO",{"$nulls":6},"CUSTOS "]
[{"$nulls":4},"SALÁRIO","ENC.","CUSTO ","R. EMP.","DESP.","SALÁRIO","HORA","SALÁRIO","SALÁRIO"]
["PROFISSÃO/FUNÇÃO",null,"S","QTD","CATEG.","SOCIAIS","ADM.","LUCRO","FISCAIS","MENSAL","TÉCNICA","B1","B2"]
[]
["NÍVEL SUPERIOR"]
[]
["Engº  Coordenador",null,"P1",6,null,{"$f":"ROUND(E13*0.7493,2)","v":0},{"$f":"ROUND(E13*0.2,2)","v":0},{"$f":"ROUND(0.1*(E13+F13+G13),2)","v":0},{"$f":"ROUND(0.1396*(E13+F13+G13+H13),2)","v":0},{"$f":"SUM(E13:I13)","v":0},{"$f":"ROUND(J13/176,2)","v":0},{"$f":"ROUND(D13*E13,2)","v":0}]
[]
[]
["Engº de Campo",null,"P2",18,null,{"$f":"ROUND(E16*0.7493,2)","v":0},{"$f":"ROUND(E16*0.2,2)","v":0},{"$f":"ROUND(0.1*(E16+F16+G16),2)","v":0},{"$f":"ROUND(0.1396*(E16+F16+G16+H16),2)","v":0},{"$f":"SUM(E16:I16)","v":0},{"$f":"ROUND(J16/176,2)","v":0},{"$f":"ROUND(D16*E16,2)","v":0}]
[]
[]
["NÍVEL TÉCNICO"]
["Técnico de Campo",null,"T2",12,null,{"$f":"ROUND(E20*0.7493,2)","v":0},{"$f":"ROUND(E20*0.2,2)","v":0},{"$f":"ROUND(0.1*(E20+F20+G20),2)","v":0},{"$f":"ROUND(0.1396*(E20+F20+G20+H20),2)","v":0},{"$f":"SUM(E20:I20)","v":0},{"$f":"ROUND(J20/176,2)","v":0},{"$f":"ROUND(D20*E20,2)","v":0},null,null,{"$f":"4*6","v":24}]
[]
[]
["Técnico Especialista em Geoprocessamento",null,"T1",4,null,{"$f":"ROUND(E23*0.7493,2)","v":0},{"$f":"ROUND(E23*0.2,2)","v":0},{"$f":"ROUND(0.1*(E23+F23+G23),2)","v":0},{"$f":"ROUND(0.1396*(E23+F23+G23+H23),2)","v":0},{"$f":"SUM(E23:I23)","v":0},{"$f":"ROUND(J23/176,2)","v":0},{"$f":"ROUND(D23*E23,2)","v":0}]
{"$rows_empty":7}
["NÍVEL AUXILIAR"]
[]
["Assistente Administrativo ",null,"A2",6,null,{"$f":"ROUND(E33*0.7493,2)","v":0},{"$f":"ROUND(E33*0.2,2)","v":0},{"$f":"ROUND(0.1*(E33+F33+G33),2)","v":0},{"$f":"ROUND(0.1396*(E33+F33+G33+H33),2)","v":0},{"$f":"SUM(E33:I33)","v":0},{"$f":"ROUND(J33/176,2)","v":0},{"$f":"ROUND(D33*E33,2)","v":0}]
["Auxiliar de Campo (servente)",null,"T4",24,null,{"$f":"ROUND(E34*0.7493,2)","v":0},{"$f":"ROUND(E34*0.2,2)","v":0},{"$f":"ROUND(0.1*(E34+F34+G34),2)","v":0},{"$f":"ROUND(0.1396*(E34+F34+G34+H34),2)","v":0},{"$f":"SUM(E34:I34)","v":0},{"$f":"ROUND(J34/176,2)","v":0},{"$f":"ROUND(D34*E34,2)","v":0}]
["APOIO"]
[]
[]
["TOTAIS DOS  SALÁRIOS DA EQUIPE",{"$nulls":10},{"$f":"ROUND(SUM(L11:L37),2)","v":0},{"$f":"SUM(M11:M37)","v":0}]
["NOME DO INFORMANTE:",{"$nulls":6},"QUALIFICAÇÃO:"]
[]
["ASSINATURA:",{"$nulls":10},"DATA:"]

{"sheet":"FSUP-II VIAGENS","index":3,"n_rows":28,"n_cols":15,"rows_kept":28,"cut":false,"hidden":false,"merged":[[4,0,4,1],[0,0,1,12],[0,13,0,14],[1,13,1,14],[2,0,2,14],[6,11,6,14],[7,4,8,4],[7,5,8,5],[7,6,7,7],[7,8,7,9],[7,10,8,10],[7,11,7,12],[7,13,7,14],[9,1,9,3],[10,1,10,3],[11,1,11,3],[12,1,12,3],[13,1,13,3],[5,2,5,10],[24,6,24,14],[20,1,20,3],[21,1,21,3],[22,1,22,3],[23,0,23,5],[24,0,24,5],[17,1,17,3],[18,1,18,3],[15,1,15,3],[16,1,16,3],[19,1,19,3],[14,1,14,3],[6,0,8,0],[6,1,8,3],[6,4,6,9],[25,0,25,5],[25,6,25,14],[26,0,26,11],[26,12,26,14],[27,0,27,11],[31,0,31,14],[32,0,32,14],[33,0,33,14],[35,0,35,14],[27,12,27,14],[28,0,28,14],[30,0,30,14]]}
["VIAGENS DA EQUIPE TÉCNICA",{"$nulls":12},"CODIGO:"]
[{"$nulls":13},"FSUP-II"]
["NOME DA CONSULTORA:"]
[]
["PROJETO:",null,"OBJETO:"]
[null,null,"Inventário Florestal - Barragem I Projeto Jequitaí "]
["SIMBOLO","ROTEIRO (ida e volta)",null,null,"PASSAGENS",{"$nulls":6},"DIÁRIAS"]
[{"$nulls":4},"A/T","QTD","CUSTO",null,"PREÇO",null,"QTD","CUSTO",null,"PREÇO"]
[{"$nulls":6},"UNITÁRIO","TOTAL","UNITÁRIO","TOTAL",null,"UNITÁRIO","TOTAL","UNITÁRIO","TOTAL"]
["P1",{"$nulls":9},20,null,{"$f":"ROUND(L10*K10,2)","v":0},{"$f":"ROUND((1+0.1)*(1+0.1396)*L10,2)","v":0},{"$f":"ROUND(K10*N10,2)","v":0}]
["P2",{"$nulls":9},264,null,{"$f":"ROUND(L11*K11,2)","v":0},{"$f":"ROUND((1+0.1)*(1+0.1396)*L11,2)","v":0},{"$f":"ROUND(K11*N11,2)","v":0}]
["T1",{"$nulls":9},264,null,{"$f":"ROUND(L12*K12,2)","v":0},{"$f":"ROUND((1+0.1)*(1+0.1396)*L12,2)","v":0},{"$f":"ROUND(K12*N12,2)","v":0}]
{"$rows_empty":11}
["TOTAIS DE CUSTOS E DE PREÇOS DE PASSAGENS E DIÁRIAS",{"$nulls":6},{"$f":"SUM(H10:H23)","v":0},null,{"$f":"SUM(J10:J23)","v":0},null,null,{"$f":"SUM(M10:M23)","v":0},null,{"$f":"SUM(O10:O23)","v":0}]
["NOME DO INFORMANTE:",{"$nulls":5},"QUALIFICAÇÃO:"]
[]
["ASSINATURA:",{"$nulls":11},"DATA:"]
[{"$nulls":12},{"$f":"FSUP!N40","v":"00:00:00"}]

{"sheet":"FSUP-III Manutenção Operac","index":4,"n_rows":48,"n_cols":11,"rows_kept":48,"cut":false,"hidden":false,"merged":[[6,9,6,10],[8,0,8,4],[5,0,5,1],[5,2,5,8],[6,0,7,4],[6,5,7,5],[6,6,7,6],[6,7,6,8],[4,0,4,1],[4,2,4,8],[0,0,1,8],[0,9,0,10],[1,9,1,10],[2,0,2,10],[9,0,9,4],[10,0,10,6],[11,0,11,10],[14,0,14,6],[48,8,48,10],[34,0,34,6],[47,0,47,6],[35,0,35,10],[39,0,39,6],[25,0,25,10],[15,0,15,10],[24,0,24,6],[40,0,40,10],[44,0,44,6]]}
[" MANUTENÇÃO OPERACIONAL",{"$nulls":8},"CODIGO:"]
[{"$nulls":9},"FSUP-III"]
["NOME DA CONSULTORA:"]
[]
["PROJETO:",null,"OBJETO:",{"$nulls":6},"EDITAL:"]
[null,null,"Inventário Florestal - Barragem I Projeto Jequitaí "]
["DISCRIMINAÇÃO",{"$nulls":4},"UND","QTD","CUSTOS 2",null,"PREÇOS 3"]
[{"$nulls":7},"UNT","TOTAL","UNT","TOTAL"]
["1    VEÍCULOS"]
["1.1 Aluguel de veículos utilitário",{"$nulls":4},"mês",18,null,{"$f":"ROUND(G10*H10,2)","v":0},{"$f":"ROUND((1+0.1)*(1+0.1396)*H10,2)","v":0},{"$f":"ROUND(G10*J10,2)","v":0}]
["Total dos custos e dos preços dos veículos",{"$nulls":7},{"$f":"SUM(I10:I10)","v":0},null,{"$f":"SUM(K10:K10)","v":0}]
["2    EQUIPAMENTOS TOPOGRÁFICOS"]
[]
[]
["Total dos custos e dos preços dos equipamentos topográficos",{"$nulls":7},{"$f":"SUM(I13:I14)","v":0},null,{"$f":"SUM(K13:K14)","v":0}]
["3     MANUTENÇÃO E ADMINISTRAÇÃO DO ESCRITÓRIO DE CAMPO"]
["3.1 Aluguel de escritório com mobiliário",{"$nulls":4},"mês",6,null,{"$f":"ROUND(G17*H17,2)","v":0},{"$f":"ROUND((1+0.1)*(1+0.1396)*H17,2)","v":0},{"$f":"ROUND(G17*J17,2)","v":0}]
["3.2 Telefone",{"$nulls":4},"mês",6,null,0,{"$f":"ROUND((1+0.1)*(1+0.1396)*H18,2)","v":0},0]
["3.3 Energia elétrica",{"$nulls":4},"mês",6,null,0,0,0]
["3.4 àgua  e esgoto",{"$nulls":4},"mês",6,null,0,0,0]
["3.5 Material de limpeza",{"$nulls":4},"mês",6,null,0,0,0]
["3.6 Internet",{"$nulls":4},"mês",6,null,0,0,0]
["3.7 Material de escritório",{"$nulls":4},"mês",6,null,0,0,0]
[]
["Total dos custos e dos preços da manut. e adm. do escrit.  de campo",{"$nulls":7},{"$f":"SUM(I17:I24)","v":0},null,{"$f":"SUM(K17:K24)","v":0}]
["4     EQUIPAMENTOS DO ESCRITÓRIO DE CAMPO E INSUMOS"]
["4.1 Computador (A2)",{"$nulls":4},"mês",6,null,{"$f":"ROUND(G27*H27,2)","v":0},{"$f":"ROUND((1+0.1)*(1+0.1396)*H27,2)","v":0},{"$f":"ROUND(G27*J27,2)","v":0}]
["4.2 Notebook (P2 e P3 )",{"$nulls":4},"mês",24,null,0,{"$f":"ROUND((1+0.1)*(1+0.1396)*H28,2)","v":0},0]
["4.3 Notebook (T1 Especialista em Geo )",{"$nulls":4},"mês",4,null,{"$f":"ROUND(G29*H29,2)","v":0},{"$f":"ROUND((1+0.1)*(1+0.1396)*H29,2)","v":0},{"$f":"ROUND(G29*J29,2)","v":0}]
["4.4 Impressora Multifuncional",{"$nulls":4},"mês",6,null,0,0,0]
["4.5 Máquina fotgráfica (P3)",{"$nulls":4},"mês",18,null,0,0,0]
["4.6 GPS (P3)",{"$nulls":4},"mês",18,null,0,0,0]
["4.11 Tinta esmalte sintética",{"$nulls":4},"Und",10,null,{"$f":"ROUND(G33*H33,2)","v":0},0,0]
["4.12 Piquetes de madeira (estacas)",{"$nulls":4},"Und",1200,null,0,0,0]
["Total dos custos e dos preços dos equip. do esc. e campo",{"$nulls":7},{"$f":"SUM(I27:I34)","v":0},null,{"$f":"SUM(K27:K34)","v":0}]
["5     SERVIÇOS GRÁFICOS/COMPUTAÇÃO"]
["5.1 Relatório parcial",{"$nulls":4},"mês",4,null,{"$f":"ROUND(G37*H37,2)","v":0},{"$f":"ROUND((1+0.1)*(1+0.1396)*H37,2)","v":0},{"$f":"ROUND(G37*J37,2)","v":0}]
["5.2 Minuta relatório final",{"$nulls":4},"mês",1,null,{"$f":"ROUND(G38*H38,2)","v":0},{"$f":"ROUND((1+0.1)*(1+0.1396)*H38,2)","v":0},{"$f":"ROUND(G38*J38,2)","v":0}]
["5.3 Relatório Final",{"$nulls":4},"mês",3,null,0,0,0]
["Total dos custos e dos preços dos serv. gráficos/computação",{"$nulls":7},{"$f":"SUM(I37:I39)","v":0},null,{"$f":"SUM(K37:K39)","v":0}]
["6     EQUIPAMENTOS DE INFORMÁTICA  PARA A FISCALIZAÇÃO (CODEVASF)"]
[]
[]
[]
["Total dos custos e dos preços  equip. de inf. para fisc. Codevasf ",{"$nulls":7},{"$f":"SUM(I43:I44)","v":0},null,{"$f":"SUM(K43:K44)","v":0}]
["NOME DO INFORMANTE:",{"$nulls":5},"QUALIFICAÇÃO:"]
[]
["ASSINATURA:",{"$nulls":6},"DATA:"]

{"sheet":"FSUP-IV Mobiliz Desmob","index":5,"n_rows":30,"n_cols":14,"rows_kept":30,"cut":false,"hidden":false,"merged":[[4,0,4,1],[4,2,4,11],[0,0,1,11],[0,12,0,13],[1,12,1,13],[2,0,2,13],[4,12,4,13],[5,12,5,13],[6,0,8,2],[6,3,8,3],[6,4,8,4],[6,5,8,5],[6,10,6,13],[7,12,7,13],[6,6,6,9],[7,6,7,7],[7,8,7,9],[7,10,7,11],[5,2,5,11],[29,0,29,10],[29,11,29,13],[27,0,27,5],[25,0,25,5],[26,0,26,5],[26,6,26,13],[27,6,27,13],[28,0,28,10],[28,11,28,13]]}
["MOBILIZAÇÃO E DESMOBILIZAÇÃO",{"$nulls":11},"CODIGO:"]
[{"$nulls":12},"FSUP-IV"]
["NOME DA CONSULTORA:"]
[{"$f":"FSUP!A4","v":0}]
["PROJETO:",null,"OBJETO:",{"$nulls":9},"EDITAL:"]
[null,null,"Inventário Florestal - Barragem I Projeto Jequitaí ",{"$nulls":9},{"$f":"FSUP!N6","v":"00:00:00"}]
["DISCRIMINAÇÃO",null,null,"SÍMB.","UNID","QTD.","MOBILIZAÇÃO",null,null,null,"DESMOBILIZAÇÃO"]
[{"$nulls":6},"CUSTO",null,"PREÇO",null,"CUSTO",null,"PREÇO"]
[{"$nulls":6},"UNITÁRIO","TOTAL","UNITÁRIO","TOTAL","UNITÁRIO","TOTAL","UNITÁRIO","TOTAL"]
["1.      DESLOCAMENTO DA EQUIPE"]
[]
["         a) Engº Coordenador",null,null,"P1","unid.",1,null,{"$f":"ROUND(F12*G12,2)","v":0},{"$f":"ROUND((1+0.1)*(1+0.1396)*G12,2)","v":0},{"$f":"ROUND(F12*I12,2)","v":0},{"$f":"G12","v":0},{"$f":"ROUND(K12*F12,2)","v":0},{"$f":"ROUND((1+0.1)*(1+0.1396)*K12,2)","v":0},{"$f":"ROUND(F12*M12,2)","v":0}]
["         b) Engº de campo",null,null,"P2","unid.",3,null,{"$f":"ROUND(F13*G13,2)","v":0},{"$f":"ROUND((1+0.1)*(1+0.1396)*G13,2)","v":0},{"$f":"ROUND(F13*I13,2)","v":0},{"$f":"G13","v":0},{"$f":"ROUND(K13*F13,2)","v":0},{"$f":"ROUND((1+0.1)*(1+0.1396)*K13,2)","v":0},{"$f":"ROUND(F13*M13,2)","v":0}]
["         c) Técnico de Campo",null,null,"T1","unid.",3,null,{"$f":"ROUND(F14*G14,2)","v":0},{"$f":"ROUND((1+0.1)*(1+0.1396)*G14,2)","v":0},{"$f":"ROUND(F14*I14,2)","v":0},{"$f":"G14","v":0},{"$f":"ROUND(K14*F14,2)","v":0},{"$f":"ROUND((1+0.1)*(1+0.1396)*K14,2)","v":0},{"$f":"ROUND(F14*M14,2)","v":0}]
[]
[]
[]
["1.2    Diárias"]
["         a) Engº Coordenador",null,null,"P1","unid.",1,null,{"$f":"ROUND(F19*G19,2)","v":0},{"$f":"ROUND((1+0.1)*(1+0.1396)*G19,2)","v":0},{"$f":"ROUND(F19*I19,2)","v":0}]
["         b) Engº de campo",null,null,"P2","unid.",3,null,{"$f":"ROUND(F20*G20,2)","v":0},{"$f":"ROUND((1+0.1)*(1+0.1396)*G20,2)","v":0},{"$f":"ROUND(F20*I20,2)","v":0}]
["         c) Técnico de Campo",null,null,"T1","unid.",3,null,{"$f":"ROUND(F21*G21,2)","v":0},{"$f":"ROUND((1+0.1)*(1+0.1396)*G21,2)","v":0},{"$f":"ROUND(F21*I21,2)","v":0}]
[]
[]
[]
[]
["TOTAIS DE CUSTOS E DE PREÇOS DE MOBILIZAÇÃO/DESMOBILIZAÇÃO",{"$nulls":6},{"$f":"SUM(H10:H25)","v":0},null,{"$f":"SUM(J10:J25)","v":0},null,{"$f":"SUM(L10:L25)","v":0},null,{"$f":"SUM(N10:N25)","v":0}]
["NOME DO INFORMANTE:",{"$nulls":5},"QUALIFICAÇÃO:"]
[{"$f":"FSUP!A38","v":0},{"$nulls":5},{"$f":"FSUP!J38","v":0}]
["ASSINATURA:",{"$nulls":10},"DATA:"]
[{"$nulls":11},{"$f":"FSUP!N40","v":"00:00:00"}]

{"sheet":"FSUP-VI Det. Desp Fiscais","index":6,"n_rows":23,"n_cols":8,"rows_kept":23,"cut":false,"hidden":false,"merged":[[0,0,1,6],[2,0,2,7],[3,0,3,7],[4,2,4,6],[6,0,7,4],[5,2,5,6],[17,0,17,4],[18,0,18,4],[19,0,19,4],[20,0,20,4],[6,5,6,7],[8,0,8,4],[9,0,9,4],[10,0,10,4],[11,0,11,4],[12,0,12,4],[15,0,15,4],[16,0,16,4],[20,5,20,7],[23,6,23,7],[23,0,23,5],[21,5,21,7],[22,0,22,5],[22,6,22,7],[21,0,21,4]]}
[" DETALHAMENTO DAS DESPESAS FISCAIS",{"$nulls":6},"CODIGO:"]
[{"$nulls":7},"FSUP-VI"]
["NOME DA CONSULTORA:"]
[]
["PROJETO:",null,"OBJETO:",{"$nulls":4},"EDITAL:"]
[null,null,"Inventário Florestal - Barragem I Projeto Jequitaí "]
["DISCRIMINAÇÃO 1",{"$nulls":4},"VALORES"]
[{"$nulls":5}," MG (%) 2","MG (%) 3","R$"]
[]
["1 - ISS (4)",{"$nulls":5},{"$f":"(1/(1-$F$20/100))*F10","v":0},{"$f":"ROUND(G10/G$20*FSUP!N$34,2)","v":{"$error":"#DIV/0!"}}]
["2 - PIS",{"$nulls":5},{"$f":"(1/(1-$F$20/100))*F11","v":0},{"$f":"ROUND(G11/G$20*FSUP!N$34,2)","v":{"$error":"#DIV/0!"}}]
["3 - COFINS",{"$nulls":5},{"$f":"(1/(1-$F$20/100))*F12","v":0},{"$f":"ROUND(G12/G$20*FSUP!N$34,2)","v":{"$error":"#DIV/0!"}}]
{"$rows_empty":7}
["TOTAIS DE DESPESAS FISCAIS ",{"$nulls":4},{"$f":"SUM(F10:F19)","v":0},{"$f":"SUM(G10:G19)","v":0},{"$f":"SUM(H10:H19)","v":{"$error":"#DIV/0!"}}]
["NOME DO INFORMANTE:",{"$nulls":4},"QUALIFICAÇÃO:"]
[]
["ASSINATURA:",{"$nulls":5},"DATA:"]

{"sheet":"FSUP-V Det. custos Adm.","index":7,"n_rows":25,"n_cols":7,"rows_kept":25,"cut":false,"hidden":false,"merged":[[10,1,10,4],[20,1,20,4],[8,1,8,4],[9,1,9,4],[0,0,1,5],[2,0,2,6],[4,2,4,5],[6,0,7,0],[6,1,7,4],[6,5,6,6],[5,2,5,5]]}
["DETALHAMENTO DOS CUSTOS DE ADMINISTRAÇÃO",{"$nulls":5},"CODIGO:"]
[{"$nulls":6},"FSUP-V"]
["NOME DA CONSULTORA:"]
[{"$f":"FSUP!A4","v":0}]
["PROJETO:",null,"OBJETO:",null,null,null,"EDITAL:"]
[null,null,"Inventário Florestal - Barragem I Projeto Jequitaí "]
["SEQ.","DISCRIMINAÇÃO",null,null,null,"VALORES"]
[{"$nulls":5},"%","R$"]
[1,"Custos da equipe da administração central da empresa consultora(diretoria, pessoal técnico de apoio e pessoal administrativo não diretamente vinculado à prestação dos serviços)",{"$nulls":4},{"$f":"ROUND(F9/$F$21*FSUP!N$32,2)","v":{"$error":"#DIV/0!"}}]
[2,"Outras despesas que afetam o custo de produção como treinamento, biblioteca, programa de qualidade, auditoria interna e externa",{"$nulls":4},{"$f":"ROUND(F10/$F$21*FSUP!N$32,2)","v":{"$error":"#DIV/0!"}}]
[3,"Despesas com aluguéis, comunicação, manutenção e transporte não diretamente relacionados com o custo direto dos serviços",{"$nulls":4},{"$f":"ROUND(F11/$F$21*FSUP!N$32,2)","v":{"$error":"#DIV/0!"}}]
{"$rows_empty":9}
[null,"TOTAIS DO CUSTO DE ADMINISTRAÇÃO",null,null,null,{"$f":"SUM(F9:F19)","v":0},{"$f":"SUM(G9:G20)","v":{"$error":"#DIV/0!"}}]
[]
["NOME DO INFORMANTE:",null,null,"QUALIFICAÇÃO:"]
[]
["ASSINATURA:",{"$nulls":4},"DATA:"]

{"sheet":"FSUP-VII Det. Enc. Sociais","index":8,"n_rows":47,"n_cols":7,"rows_kept":47,"cut":false,"hidden":false,"merged":[[8,1,8,4],[0,0,1,5],[2,0,2,6],[3,0,3,6],[4,0,4,1],[4,2,4,5],[6,0,7,4],[6,5,6,6],[5,2,5,5],[43,0,43,4],[30,1,30,4],[31,1,31,4],[34,1,34,4],[35,1,35,4],[36,0,36,4],[37,0,37,6],[38,1,38,4],[39,1,39,4],[40,1,40,4],[41,0,41,4],[18,0,18,4],[19,0,19,5],[20,1,20,4],[28,0,28,4],[29,1,29,6]]}
["DETALHAMENTO DOS ENCARGOS SOCIAIS",{"$nulls":5},"CODIGO:"]
[{"$nulls":6},"FSUP-VII"]
["NOME DA CONSULTORA:"]
[]
["PROJETO:",null,"OBJETO:",null,null,null,"EDITAL:"]
[null,null,"Inventário Florestal - Barragem I Projeto Jequitaí "]
["DISCRIMINAÇÃO",{"$nulls":4},"VALORES"]
[{"$nulls":5},"%","R$"]
["A","ENCARGOS SOCIAIS BÁSICOS"]
["A1","Seconci",null,null,null,1.2E-2,{"$f":"ROUND(F10*'FSUP-I EQUIPE TÉCNICA'!L$38,2)","v":0}]
["A2","INSS",null,null,null,0.2,{"$f":"ROUND(F11*'FSUP-I EQUIPE TÉCNICA'!L$38,2)","v":0}]
["A3","FGTS",null,null,null,0.08,{"$f":"ROUND(F12*'FSUP-I EQUIPE TÉCNICA'!L$38,2)","v":0}]
["A4","Incra",null,null,null,2E-3,{"$f":"ROUND(F13*'FSUP-I EQUIPE TÉCNICA'!L$38,2)","v":0}]
["A5","Salário Educação ",null,null,null,2.5000000000000001E-2,{"$f":"ROUND(F14*'FSUP-I EQUIPE TÉCNICA'!L$38,2)","v":0}]
["A6","Sebrae",null,null,null,6.0000000000000001E-3,{"$f":"ROUND(F15*'FSUP-I EQUIPE TÉCNICA'!L$38,2)","v":0}]
["A7","Seguro contra acidente",null,null,null,0.03,{"$f":"ROUND(F16*'FSUP-I EQUIPE TÉCNICA'!L$38,2)","v":0}]
["A8","Senai",null,null,null,0.01,{"$f":"ROUND(F17*'FSUP-I EQUIPE TÉCNICA'!L$38,2)","v":0}]
["A9","Sesi",null,null,null,1.4999999999999999E-2,{"$f":"ROUND(F18*'FSUP-I EQUIPE TÉCNICA'!L$38,2)","v":0}]
["SUBTOTAL DE \"A\"",{"$nulls":4},{"$f":"ROUND(SUM(F10:F18),4)","v":0.38},{"$f":"ROUND(SUM(G10:G18),2)","v":0}]
[]
["B"," ENCARGOS SOCIAIS QUE RECEBEM INCIDÊNCIA DE \"A\""]
["B1","13º Salário  ",null,null,null,8.3299999999999999E-2,{"$f":"ROUND(F22*'FSUP-I EQUIPE TÉCNICA'!L$38,2)","v":0}]
["B2","Auxilio - Enfermidade",null,null,null,7.1000000000000004E-3,{"$f":"ROUND(F23*'FSUP-I EQUIPE TÉCNICA'!L$38,2)","v":0}]
["B3","Licença Paternidade",null,null,null,5.9999999999999995E-4,{"$f":"ROUND(F24*'FSUP-I EQUIPE TÉCNICA'!L$38,2)","v":0}]
["B4","Faltas Justificadas",null,null,null,5.5999999999999999E-3,{"$f":"ROUND(F25*'FSUP-I EQUIPE TÉCNICA'!L$38,2)","v":0}]
["B5","Auxilio Acidente de Trabalho",null,null,null,8.9999999999999998E-4,{"$f":"ROUND(F26*'FSUP-I EQUIPE TÉCNICA'!L$38,2)","v":0}]
["B6","Férias Gozadas",null,null,null,8.5900000000000004E-2,{"$f":"ROUND(F27*'FSUP-I EQUIPE TÉCNICA'!L$38,2)","v":0}]
["B7","Salário Maternidade",null,null,null,2.0000000000000001E-4,{"$f":"ROUND(F28*'FSUP-I EQUIPE TÉCNICA'!L$38,2)","v":0}]
["SUBTOTAL DE  \"B\"",{"$nulls":4},{"$f":"ROUND(SUM(F22:F28),4)","v":0.18360000000000001},{"$f":"ROUND(SUM(G22:G28),2)","v":0}]
[]
["C"," ENCARGOS SOCIAIS QUE NÃO RECEBEM INCIDÊNCIA DE \"A\""]
["C1","Depósito Rescisão Sem Justa Causa",null,null,null,3.4799999999999998E-2,{"$f":"ROUND(F32*'FSUP-I EQUIPE TÉCNICA'!L$38,2)","v":0}]
["C2","Aviso Prévio Indenizado",null,null,null,4.9299999999999997E-2,{"$f":"ROUND(F33*'FSUP-I EQUIPE TÉCNICA'!L$38,2)","v":0}]
["C3","Aviso Prévio Trabalhado",null,null,null,1.1999999999999999E-3,{"$f":"ROUND(F34*'FSUP-I EQUIPE TÉCNICA'!L$38,2)","v":0}]
["C4","Férias Indenizadas",null,null,null,2.2100000000000002E-2,{"$f":"ROUND(F35*'FSUP-I EQUIPE TÉCNICA'!L$38,2)","v":0}]
["C5","Indenização Adicional",null,null,null,4.1000000000000003E-3,{"$f":"ROUND(F36*'FSUP-I EQUIPE TÉCNICA'!L$38,2)","v":0}]
["SUBTOTAL DE \"C\"",{"$nulls":4},{"$f":"ROUND(SUM(F32:F36),4)","v":0.1115},{"$f":"ROUND(SUM(G32:G36),2)","v":0}]
[]
["D"," REINCIDÊNCIAS"]
["D1","Reincidência de \"A\" sobre \"B\"",null,null,null,6.9800000000000001E-2,{"$f":"ROUND(F40*'FSUP-I EQUIPE TÉCNICA'!L$38,2)","v":0}]
["D2","Reincidência de \"A\" sobre aviso prévio",null,null,null,4.4000000000000003E-3,{"$f":"ROUND(F41*'FSUP-I EQUIPE TÉCNICA'!L$38,2)","v":0}]
["SUBTOTAL DE \"D\"",{"$nulls":4},{"$f":"SUM(F40:F41)","v":7.4200000000000002E-2},{"$f":"ROUND(SUM(G40:G41),2)","v":0}]
[]
["TOTAIS DE ENCARGOS SOCIAIS",{"$nulls":4},{"$f":"ROUND(F19+F29+F37+F42,4)","v":0.74929999999999997},{"$f":"ROUND(G19+G29+G37+G42,2)","v":0}]
["NOME DO INFORMANTE:",null,null,"QUALIFICAÇÃO:"]
[]
["ASSINATURA:",{"$nulls":4},"DATA:"]

{"sheet":"FSUP-VIII Cronograma Financeiro","index":9,"n_rows":46,"n_cols":8,"rows_kept":46,"cut":false,"hidden":false,"merged":[[4,2,4,6],[5,2,5,6],[0,0,1,6],[42,0,42,4],[42,5,42,7],[6,2,6,4],[2,0,2,7],[3,0,3,7],[4,0,4,1],[45,0,45,7],[35,2,35,4],[38,0,38,5],[39,3,39,7],[40,0,40,2],[40,3,40,7],[41,0,41,4],[41,5,41,7]]}
["CRONOGRAMA FINANCEIRO",{"$nulls":6},"CODIGO:"]
[{"$nulls":7},"FSUP-VIII"]
["NOME DA CONSULTORA:"]
["      "]
["PROJETO:",null,"OBJETO:",{"$nulls":4},"EDITAL:"]
[null,null,"Inventário Florestal - Barragem I Projeto Jequitaí"]
["Nº","TAREFA","RELATÓRIO/SERVIÇO DE CAMPO",null,null,"DIAS\nCORRIDOS","%","VALOR DA\nPARCELA (R$)"]
[1,"Relatório de Planejamento e Mobilização (Plano de Trabalho)","Plano de Trabalho",null,null,30,0.1,{"$f":"FSUP!N36*'FSUP-VIII Cronograma Financeiro'!G8","v":0}]
[2,"1º Relatório das Atividades de Campo","Relatório",null,null,60,0.1,{"$f":"FSUP!N36*'FSUP-VIII Cronograma Financeiro'!G9","v":0}]
[3,"2º Relatório das Atividades de Campo","Relatóro",null,null,90,0.1,{"$f":"FSUP!N36*'FSUP-VIII Cronograma Financeiro'!G10","v":0}]
[4,"3º Relatório das Atividades de Campo","Relatório",null,null,120,0.1,{"$f":"FSUP!N36*'FSUP-VIII Cronograma Financeiro'!G11","v":0}]
[5,"Inventário Florestal - versão preliminar e Mapas","Relatório e mapas",null,null,150,0.15,{"$f":"FSUP!N36*'FSUP-VIII Cronograma Financeiro'!G12","v":0}]
[6,"Inventário Florestal - Versão Definitiva","Relatório",null,null,180,0.45,{"$f":"FSUP!N36*'FSUP-VIII Cronograma Financeiro'!G13","v":0}]
["06",{"$nulls":5},{"$f":"SUM(G8:G13)","v":1},{"$f":"SUM(H8:H13)","v":0}]
["07"]
["08"]
["09"]
["10"]
["11"]
["12"]
["13"]
["14"]
["15"]
["16"]
["17"]
["18"]
["19"]
["20"]
["21"]
["22"]
[23]
[24]
[25]
[26]
[27]
[28]
[]
[]
["TOTAL DA FOLHA"]
["NOME DO INFORMANTE:",null,null,"QUALIFICAÇÃO:"]
[]
["ASSINATURA:",{"$nulls":4},"DATA:"]
[]
["OBSERVAÇÃO:"]
["1 - O CRONOGRAMA FINANCEIRO DEVERÁ ESTAR COMPATÍVEL COM O CRONOGRAMA FÍSICO TSUP-IV"]
["2 - SE NECESSÁRIO PREENCHER MAIS DE UMA FOLHA"]

{"sheet":"Plan2","index":10,"n_rows":0,"n_cols":0,"rows_kept":0,"cut":false,"hidden":false,"merged":[]}