{"text_format":"2","workbook":"xlsx","n_sheets":14,"sheets":["PLANILHA UNIFICADA","CRONO 18 MESES","TRANSPORTES","PREÇO UNITÁRIO","CPU","ENGECORPS","PL-ORÇ-DEF.A","PL-ORÇ-DEF.B","PL-ORÇ-DEF.C","COMPARATIVO CUSTO","ANÁLISE","BDI","CURVA ABC","TRAÇOS"],"not_rendered":{"charts":0,"images":5,"macros":0,"external_links":2,"defined_names":21,"comments":0,"pivot_tables":0},"unopened":[],"bounds":{"document_bytes":16777216,"sheet_cells":100000,"run_cost":"one","rows_first":2000,"rows_last":500,"rows_between":2000,"halvings":0,"cell_chars":16384,"cell_head_chars":4096},"cells_cut":0,"cells_raw":0,"read":"whole","date_system":"1900"}

{"sheet":"PLANILHA UNIFICADA","index":0,"n_rows":778,"n_cols":15,"rows_kept":778,"cut":false,"hidden":false,"merged":[[735,1,735,3],[461,14,468,14],[651,10,655,10],[726,10,730,10],[725,10,725,12],[461,10,468,10],[509,11,510,11],[22,10,31,10],[129,1,129,3],[141,1,141,3],[161,1,161,3],[166,1,166,3],[207,1,207,3],[246,1,246,3],[258,1,258,3],[278,1,278,3],[283,1,283,3],[320,1,320,3],[363,1,363,3],[375,1,375,3],[395,1,395,3],[400,1,400,3],[443,1,443,3],[503,11,507,11],[694,1,694,3],[695,1,695,3],[704,1,704,3],[544,1,544,3],[575,1,575,3],[587,1,587,3],[597,1,597,3],[705,1,705,3],[720,1,720,3],[9,0,9,9],[36,0,36,9],[54,0,54,9],[67,1,67,3],[65,0,65,9],[66,1,66,3],[85,1,85,3],[110,10,110,13],[128,1,128,9],[69,1,69,3],[71,1,71,3],[77,1,77,3],[79,1,79,3],[11,10,19,10],[81,1,81,3],[83,1,83,3],[23,11,25,12],[60,11,61,11],[0,0,0,9],[5,0,5,9],[6,0,7,0],[6,1,7,1],[6,2,7,2],[6,3,7,3],[6,4,7,4],[6,5,7,5],[6,6,6,7],[6,8,6,9],[3,9,4,9],[3,7,4,8],[771,0,771,9],[187,0,187,9],[189,1,189,3],[191,1,191,3],[197,1,197,3],[618,0,618,9],[619,1,619,3],[620,1,620,3],[629,1,629,3],[630,1,630,3],[645,1,645,3],[660,1,660,3],[661,1,661,3],[685,1,685,3],[314,1,314,3],[316,1,316,3],[437,1,437,3],[362,1,362,9],[421,0,421,9],[423,1,423,3],[672,1,672,3],[530,1,530,3],[439,1,439,3],[475,1,475,9],[756,10,759,10],[495,10,496,10],[425,1,425,3],[427,1,427,3],[435,1,435,3],[422,1,422,3],[429,1,429,3],[90,1,90,3],[650,10,650,12],[308,1,308,3],[310,1,310,3],[312,1,312,3],[306,1,306,3],[199,1,199,3],[201,1,201,3],[203,1,203,3],[245,1,245,9],[304,0,304,9],[188,1,188,3],[305,1,305,3],[423,10,440,10],[752,10,752,12],[736,1,736,3],[750,1,750,3],[523,1,523,3],[522,0,522,9],[524,1,524,3],[560,10,567,10],[641,10,643,10],[673,1,673,3],[684,1,684,3],[461,11,468,11],[560,11,567,11],[574,1,574,9],[575,10,576,10],[531,10,535,10],[477,1,477,3],[536,1,536,3],[538,1,538,3],[540,1,540,3],[526,1,526,3],[528,1,528,3],[489,1,489,3],[501,1,501,3],[481,10,482,10],[579,10,580,10],[477,10,478,10]]}
["PLANILHA DE CUSTOS – PONTES E GALERIAS – PROJETO JEQUITAÍ – OAE E PAVIMENTAÇÃO"]
["OBRA:",null,"OBRAS DE ARTE ESPECIAIS E PAVIMENTAÇÃO (PONTES E GALERIAS)",{"$nulls":5},"DATA:","SETEMBRO.2020 "]
["LOCAL:",null,"ÁREA DE INTERFERÊNCIA DIRETA DA BARRAGEM JEQUITAÍ I - MUNICÍPIO DE FRANCISCO DUMONT/MG",{"$nulls":4},"VALOR TOTAL C/BDI (R$):",null,{"$f":"SUM(J778)","v":30440349.109999999}]
["DATA BASE TABELAS:",null,"SINAPI JUL2020  /  DEER-MG ABR2020 / SICRO-MG JAN2020 / SIURB JAN2020 / DER-SP-JUN2020 / ORSE MAI2020",{"$nulls":4},"BDI (%):",null,{"$f":"BDI!$C$23","v":0.2467}]
["PRAZO EXECUÇÃO:",null,"18 (DEZOITO) MESES"]
[]
["Item","Código","Fonte","Especificação","Unidade","Quantidade","Preço Unitário (R$)",null,"Preço Total"]
[{"$nulls":6},"Sem BDI","Com BDI","Sem BDI","Com BDI"]
[]
["1 - MOBILIZAÇÃO E SERVIÇOS PRELIMINARES"]
["1.1","CANTEIRO DE OBRAS",{"$nulls":6},{"$f":"SUM(I12:I21)","v":2566672.4300000002},{"$f":"SUM(J12:J21)","v":3199870.51}]
["1.1.1","C1","CPU","ADMINISTRAÇÃO LOCAL E MANUTENÇÃO DO CANTEIRO DE OBRAS - PRAZO DE OBRA IGUAL A 18 MESES","gl",1,{"$f":"VLOOKUP(B12,'PREÇO UNITÁRIO'!$B$4:$F$124,5,0)","v":2476647.04},{"$f":"G12*(1+$J$4)","v":3087635.8647679999},{"$f":"ROUND(F12*G12,2)","v":2476647.04},{"$f":"ROUND(F12*H12,2)","v":3087635.86}]
["1.1.2","C2","CPU","MOBILIZAÇÃO DE PESSOAL E EQUIPAMENTOS","unid",1,{"$f":"VLOOKUP(B13,'PREÇO UNITÁRIO'!$B$4:$F$124,5,0)","v":13361.400000000001},16657.657380000001,13361.4,{"$f":"ROUND(F13*H13,2)","v":16657.66}]
["1.1.3","93207","SINAPI","EXECUÇÃO DE ESCRITÓRIO EM CANTEIRO DE OBRA EM CHAPA DE MADEIRA COMPENSADA, NÃO INCLUSO MOBILIÁRIO E EQUIPAMENTOS","m²",{"$f":"6.6*3.3","v":21.779999999999998},751.29,{"$f":"G14*(1+$J$4)","v":936.63324299999988},{"$f":"ROUND(F14*G14,2)","v":16363.1},{"$f":"ROUND(F14*H14,2)","v":20399.87}]
["1.1.4","93208","SINAPI","EXECUÇÃO DE ALMOXARIFADO EM CANTEIRO DE OBRA EM ALVENARIA, INCLUSO PRA TELEIRAS","m²",{"$f":"5.5*4.4","v":24.200000000000003},592.44000000000005,738.59494800000004,14337.05,17874]
["1.1.5","93210","SINAPI","EXECUÇÃO DE REFEITÓRIO EM CANTEIRO DE OBRA EM CHAPA DE MADEIRA COMPENSADA, NÃO INCLUSO MOBILIÁRIO E EQUIPAMENTOS","m²",{"$f":"4.4*6.6","v":29.04},383.42,478.00971399999997,11134.52,13881.4]
["1.1.6","93212","SINAPI","EXECUÇÃO DE SANITÁRIO E VESTIÁRIO EM CANTEIRO DE OBRA EM CHAPA DE MADEIRA COMPENSADA, NÃO INCLUSO MOBILIÁRIO","m²",{"$f":"5.5*3.3","v":18.149999999999999},672.06,837.85720199999992,12197.89,15207.11]
["1.1.7","93582","SINAPI","EXECUÇÃO DE CENTRAL DE ARMADURA EM CANTEIRO DE OBRA, NÃO INCLUSO MOBILIÁRIO E EQUIPAMENTOS","m²",20,184.24,229.69200799999999,3684.8,4593.84]
["1.1.8","93583","SINAPI","EXECUÇÃO DE CENTRAL DE FÔRMAS, PRODUÇÃO DE ARGAMASSA OU CONCRETO EM CANTEIRO DE OBRA, NÃO INCLUSO MOBILIÁRIO E EQUIPAMENTOS","m²",20,299.06,372.83810199999999,5981.2,7456.76]
["1.1.9","93243","SINAPI","EXECUÇÃO DE RESERVATÓRIO ELEVADO DE ÁGUA (2000 LITROS) EM CANTEIRO DE OBRA, APOIADO EM ESTRUTURA DE MADEIRA","unid.",1,7200.75,8977.1750249999986,7200.75,8977.18]
["1.1.10","74209/001","SINAPI","PLACA DE OBRA EM CHAPA DE ACO GALVANIZADO","m²",{"$f":"L21*(3*1.5)","v":18},{"$f":"VLOOKUP(B21,'PREÇO UNITÁRIO'!$B$4:$F$124,5,0)","v":320.26},399.26814199999995,5764.68,{"$f":"ROUND(F21*H21,2)","v":7186.83},"DEFINIR QUANT. PLACAS",4]
["1.2","SERVIÇOS PRELIMINARES (PONTES A/B/C)",{"$nulls":6},{"$f":"SUM(I23:I32)","v":2215484.2800000003},{"$f":"SUM(J23:J32)","v":2762044.2700000009}]
["1.2.1","RO-41291","DEER/MG","REMOÇÃO DE CERCAS","m",{"$f":"'PL-ORÇ-DEF.A'!F13+'PL-ORÇ-DEF.B'!F13+'PL-ORÇ-DEF.C'!F13","v":4400.84},{"$f":"VLOOKUP(B23,'PREÇO UNITÁRIO'!$B$4:$F$124,5,0)","v":6.64},{"$f":"G23*(1+$J$4)","v":8.2780879999999986},{"$f":"ROUND(F23*G23,2)","v":29221.58},{"$f":"ROUND(F23*H23,2)","v":36430.54},{"$nulls":4},"quantidade/hectare"]
["1.2.2","98529","SINAPI","CORTE RASO E RECORTE DE ÁRVORE COM DIÂMETRO DE TRONCO MAIOR OU IGUAL A 0,20 M E MENOR QUE 0,40","unid.",{"$f":"ROUND(((F27+F28+F57+F622+F632+F664+F676+F688+F698+F707+F738)*O24/10000),0)","v":30515},{"$f":"VLOOKUP(B24,'PREÇO UNITÁRIO'!$B$4:$F$124,5,0)","v":53.77},{"$f":"G24*(1+$J$4)","v":67.035059000000004},{"$f":"ROUND(F24*G24,2)","v":1640791.55},{"$f":"ROUND(F24*H24,2)","v":2045574.83},null,"colocar os quantitativos conforme informações do Samuel da UMA (multiplicando pela área de todas as limpezas mecanizadas/10000)",null,"até 40cm =",1648]
["1.2.3","98530","SINAPI","CORTE RASO E RECORTE DE ÁRVORE COM DIÂMETRO DE TRONCO MAIOR OU IGUAL A 0,40 M E MENOR QUE 0,60","unid.",{"$f":"ROUND(((F27+F28+F57+F622+F632+F664+F676+F688+F698+F707+F738)*O25/10000),0)","v":426},{"$f":"VLOOKUP(B25,'PREÇO UNITÁRIO'!$B$4:$F$124,5,0)","v":95.78},119.40892599999999,40802.28,50868.2,null,null,null,"entre 40-60cm =",23]
["1.2.4","98531","SINAPI","CORTE RASO E RECORTE DE ÁRVORE COM DIÂMETRO DE TRONCO MAIOR OU IGUAL A 0,60 M","unid.",{"$f":"ROUND(((F27+F28+F57+F622+F632+F664+F676+F688+F698+F707+F738)*O26/10000),0)","v":111},{"$f":"VLOOKUP(B26,'PREÇO UNITÁRIO'!$B$4:$F$124,5,0)","v":192.46},239.93988199999998,21363.06,26633.33,null,null,null,"mais de 60cm =",6]
["1.2.5",98525,"SINAPI","LIMPEZA MECANIZADA DE CAMADA VEGETAL, VEGETAÇÃO E PEQUENAS ÁRVORES (DIÂMETRO DE TRONCO MENOR QUE 0,20 M), COM TRATOR DE ESTEIRAS (JAZIDA)","m²",{"$f":"'PL-ORÇ-DEF.A'!F14+'PL-ORÇ-DEF.B'!F14+'PL-ORÇ-DEF.C'!F14","v":3000},{"$f":"VLOOKUP(B27,'PREÇO UNITÁRIO'!$B$4:$F$124,5,0)","v":0.27},{"$f":"G27*(1+$J$4)","v":0.33660899999999999},810,{"$f":"ROUND(F27*H27,2)","v":1009.83}]
["1.2.6",98525,"SINAPI","LIMPEZA MECANIZADA DE CAMADA VEGETAL, VEGETAÇÃO E PEQUENAS ÁRVORES (DIÂMETRO DE TRONCO MENOR QUE 0,20 M), COM TRATOR DE ESTEIRAS (ESTRADA NOVA)","m²",{"$f":"'PL-ORÇ-DEF.A'!F15+'PL-ORÇ-DEF.B'!F15+'PL-ORÇ-DEF.C'!F15","v":58181.72},{"$f":"VLOOKUP(B28,'PREÇO UNITÁRIO'!$B$4:$F$124,5,0)","v":0.27},0.33660899999999999,15709.06,{"$f":"ROUND(F28*H28,2)","v":19584.490000000002}]
["1.2.7","72898","SINAPI","CARGA E DESCARGA MECANIZADAS DE ENTULHO EM CAMINHAO BASCULANTE 6 M3 ","m³",{"$f":"'PL-ORÇ-DEF.A'!F16+'PL-ORÇ-DEF.B'!F16+'PL-ORÇ-DEF.C'!F16","v":12236.34},{"$f":"VLOOKUP(B29,'PREÇO UNITÁRIO'!$B$4:$F$124,5,0)","v":5.16},6.4329719999999995,63139.51,{"$f":"ROUND(F29*H29,2)","v":78716.03}]
["1.2.8","97916","SINAPI","TRANSPORTE COM CAMINHÃO BASCULANTE DE 6 M3, EM VIA URBANA EM LEITO NATURAL TXKM (UNIDADE: TXKM). AF_01/2018","txkm",{"$f":"'PL-ORÇ-DEF.A'!F17+'PL-ORÇ-DEF.B'!F17+'PL-ORÇ-DEF.C'!F17","v":296462},{"$f":"VLOOKUP(B30,'PREÇO UNITÁRIO'!$B$4:$F$124,5,0)","v":1.35},1.6830449999999999,400223.7,498958.89]
["1.2.9","RO-42263","DEER/MG","ESPALHAMENTO DE MATERIAL EM BOTA-FORA","m³",{"$f":"'PL-ORÇ-DEF.A'!F18+'PL-ORÇ-DEF.B'!F18+'PL-ORÇ-DEF.C'!F18","v":12236.34},{"$f":"VLOOKUP(B31,'PREÇO UNITÁRIO'!$B$4:$F$124,5,0)","v":0.18},0.22440599999999997,2202.54,{"$f":"ROUND(F31*H31,2)","v":2745.91}]
["1.2.10","99064","SINAPI","LOCAÇÃO DE PAVIMENTAÇÃO. AF_10/2018","m",{"$f":"'PL-ORÇ-DEF.A'!F19+'PL-ORÇ-DEF.B'!F19+'PL-ORÇ-DEF.C'!F19","v":2220},{"$f":"VLOOKUP(B32,'PREÇO UNITÁRIO'!$B$4:$F$124,5,0)","v":0.55000000000000004},0.68568499999999999,1221,{"$f":"ROUND(F32*H32,2)","v":1522.22}]
["1.3","TRANSPORTES DE EQUIPAMENTOS",{"$nulls":6},{"$f":"SUM(I34)","v":33146.81},{"$f":"SUM(J34)","v":41324.129999999997}]
["1.3.1","C10","CPU","MOBILIZAÇÃO/DESMOBILIZAÇÃO DE EQUIPAMENTOS ESPECIAIS (VIBROACABADORA, ESCAVADEIRA HIDRÁULICA, ROLO COMPACTADOR, MOTONIVELADORA, ETC.)","EQUIP.",12,{"$f":"VLOOKUP(B34,'PREÇO UNITÁRIO'!$B$4:$F$124,5,0)","v":2762.2342400000002},{"$f":"G34*(1+$J$4)","v":3443.677427008},{"$f":"ROUND(F34*G34,2)","v":33146.81},{"$f":"ROUND(F34*H34,2)","v":41324.129999999997}]
[{"$nulls":7},"TOTAL MOBILIZAÇÃO E SERVIÇOS PRELIMINARES",{"$f":"I22+I33+I11","v":4815303.5200000005},{"$f":"J22+J33+J11","v":6003238.9100000001}]
[]
["2 - CONTROLE TECNOLÓGICO (PONTES A/B/C)",{"$nulls":10},"SOMENTE PONTES A/B/C"]
["2.1","ENSAIO DE SOLO",{"$nulls":6},{"$f":"SUM(I39:I41)","v":17262.990000000002},{"$f":"SUM(J39:J41)","v":21521.760000000002}]
["2.1.1","ED-49564","DEER/MG","ENSAIO DE TEOR DE UMIDADE - PROCESSO SPEEDY - SOLOS E AGREGADOS MIUDOS","unid.",{"$f":"'PL-ORÇ-DEF.A'!F71+'PL-ORÇ-DEF.B'!F66+'PL-ORÇ-DEF.C'!F62","v":299},{"$f":"VLOOKUP(B39,'PREÇO UNITÁRIO'!$B$4:$F$124,5,0)","v":30.02},{"$f":"G39*(1+$J$4)","v":37.425933999999998},{"$f":"ROUND(F39*G39,2)","v":8975.98},{"$f":"ROUND(F39*H39,2)","v":11190.35}]
["2.1.2","ED-49555","DEER/MG","ENSAIO DE COMPACTAÇÃO - AMOSTRAS NÃO TRABALHADAS - ENERGIA NORMAL - SOLOS","unid.",{"$f":"'PL-ORÇ-DEF.A'!F72+'PL-ORÇ-DEF.B'!F67+'PL-ORÇ-DEF.C'!F63","v":61},{"$f":"VLOOKUP(B40,'PREÇO UNITÁRIO'!$B$4:$F$124,5,0)","v":95.08},118.53623599999999,5799.88,{"$f":"ROUND(F40*H40,2)","v":7230.71}]
["2.1.3","ED-49559","DEER/MG","ENSAIO  DE MASSA ESPECIFICA - IN SITU - METODO FRASCO DE AREIA - SOLOS","unid.",{"$f":"'PL-ORÇ-DEF.A'!F73+'PL-ORÇ-DEF.B'!F68+'PL-ORÇ-DEF.C'!F64","v":71},{"$f":"VLOOKUP(B41,'PREÇO UNITÁRIO'!$B$4:$F$124,5,0)","v":35.03},43.671900999999998,2487.13,{"$f":"ROUND(F41*H41,2)","v":3100.7}]
["2.2","ENSAIO DE PAVIMENTO",{"$nulls":6},{"$f":"SUM(I43:I46)","v":123661.2},{"$f":"SUM(J43:J46)","v":154168.41999999998}]
["2.2.1","02-06-15","SIURB","ENSAIOS DE LABORATÓRIO - VISCOSIDADE","unid.",{"$f":"'PL-ORÇ-DEF.A'!F75+'PL-ORÇ-DEF.B'!F70+'PL-ORÇ-DEF.C'!F66","v":195},{"$f":"VLOOKUP(B43,'PREÇO UNITÁRIO'!$B$4:$F$124,5,0)","v":164.14},{"$f":"G43*(1+$J$4)","v":204.63333799999998},{"$f":"ROUND(F43*G43,2)","v":32007.3},{"$f":"ROUND(F43*H43,2)","v":39903.5}]
["2.2.2","02-06-17","SIURB","ENSAIOS DE LABORATÓRIO - PONTO DE FULGOR","unid.",{"$f":"'PL-ORÇ-DEF.A'!F76+'PL-ORÇ-DEF.B'!F71+'PL-ORÇ-DEF.C'!F67","v":195},{"$f":"VLOOKUP(B44,'PREÇO UNITÁRIO'!$B$4:$F$124,5,0)","v":141.58000000000001},176.50778600000001,27608.1,{"$f":"ROUND(F44*H44,2)","v":34419.019999999997}]
["2.2.3","02-06-18","SIURB","ENSAIOS DE LABORATÓRIO - PENETRAÇÃO","unid.",{"$f":"'PL-ORÇ-DEF.A'!F77+'PL-ORÇ-DEF.B'!F72+'PL-ORÇ-DEF.C'!F68","v":195},{"$f":"VLOOKUP(B45,'PREÇO UNITÁRIO'!$B$4:$F$124,5,0)","v":204.85},255.38649499999997,39945.75,{"$f":"ROUND(F45*H45,2)","v":49800.37}]
["2.2.4","02-06-19","SIURB","ENSAIOS DE LABORATÓRIO - PONTO DE AMOLECIMENTO","unid.",{"$f":"'PL-ORÇ-DEF.A'!F78+'PL-ORÇ-DEF.B'!F73+'PL-ORÇ-DEF.C'!F69","v":195},{"$f":"VLOOKUP(B46,'PREÇO UNITÁRIO'!$B$4:$F$124,5,0)","v":123.59},154.07965300000001,24100.05,{"$f":"ROUND(F46*H46,2)","v":30045.53}]
["2.3","ENSAIO DE AGREGADOS",{"$nulls":6},{"$f":"SUM(I48:I50)","v":51035.880000000005},{"$f":"SUM(J48:J50)","v":63626.44}]
["2.3.1","02-06-11","SIURB","ENSAIOS DE LABORATÓRIO - LOS ANGELES","unid.",{"$f":"'PL-ORÇ-DEF.A'!F80+'PL-ORÇ-DEF.B'!F75+'PL-ORÇ-DEF.C'!F71","v":3},{"$f":"VLOOKUP(B48,'PREÇO UNITÁRIO'!$B$4:$F$124,5,0)","v":454.15},{"$f":"G48*(1+$J$4)","v":566.18880499999989},{"$f":"ROUND(F48*G48,2)","v":1362.45},{"$f":"ROUND(F48*H48,2)","v":1698.57}]
["2.3.2","02-06-13","SIURB","ENSAIOS DE LABORATÓRIO - DURABILIDADE","unid.",{"$f":"'PL-ORÇ-DEF.A'!F81+'PL-ORÇ-DEF.B'!F76+'PL-ORÇ-DEF.C'!F72","v":3},{"$f":"VLOOKUP(B49,'PREÇO UNITÁRIO'!$B$4:$F$124,5,0)","v":490.46},611.45648199999994,1471.38,{"$f":"ROUND(F49*H49,2)","v":1834.37}]
["2.3.3","02-06-14","SIURB","ENSAIOS DE LABORATÓRIO - ADESIVIDADE","unid.",{"$f":"'PL-ORÇ-DEF.A'!F82+'PL-ORÇ-DEF.B'!F77+'PL-ORÇ-DEF.C'!F73","v":195},{"$f":"VLOOKUP(B50,'PREÇO UNITÁRIO'!$B$4:$F$124,5,0)","v":247.19},308.17177299999997,48202.05,{"$f":"ROUND(F50*H50,2)","v":60093.5}]
["2.4","ENSAIO DE CONCRETO",{"$nulls":6},{"$f":"SUM(I52:I52)","v":3692.87},{"$f":"SUM(J52:J52)","v":4603.8999999999996}]
["2.4.1","ED-49546","DEER/MG","ENSAIO DE RESISTENCIA A COMPRESSÃO SIMPLES - CONCRETO","unid.",{"$f":"'PL-ORÇ-DEF.A'!F84+'PL-ORÇ-DEF.B'!F79+'PL-ORÇ-DEF.C'!F75","v":41},{"$f":"VLOOKUP(B52,'PREÇO UNITÁRIO'!$B$4:$F$124,5,0)","v":90.07},{"$f":"G52*(1+$J$4)","v":112.29026899999998},{"$f":"ROUND(F52*G52,2)","v":3692.87},{"$f":"ROUND(F52*H52,2)","v":4603.8999999999996}]
[{"$nulls":7},"TOTAL CONTROLE TECNOLÓGICO",{"$f":"I38+I42+I47+I51","v":195652.94},{"$f":"J38+J42+J47+J51","v":243920.52}]
[]
["3 - DESVIO DE TRÁFEGO - GERAL (PONTES A/B/C/N/R)"]
["3.1","DESVIO DE TRÁFEGO",{"$nulls":6},{"$f":"SUM(I57:I63)","v":241753.7},{"$f":"SUM(J57:J63)","v":301394.34000000003}]
["3.1.1",98525,"SINAPI","LIMPEZA MECANIZADA DE CAMADA VEGETAL, VEGETAÇÃO E PEQUENAS ÁRVORES (DIÂMETRO DE TRONCO MENOR QUE 0,20 M), COM TRATOR DE ESTEIRAS","m²",{"$f":"'PL-ORÇ-DEF.A'!F36+'PL-ORÇ-DEF.B'!F36+'PL-ORÇ-DEF.C'!F36+ENGECORPS!G128+ENGECORPS!G187","v":32740.02},{"$f":"VLOOKUP(B57,'PREÇO UNITÁRIO'!$B$4:$F$124,5,0)","v":0.27},{"$f":"G57*(1+$J$4)","v":0.33660899999999999},{"$f":"ROUND(F57*G57,2)","v":8839.81},{"$f":"ROUND(F57*H57,2)","v":11020.59}]
["3.1.2","72898","SINAPI","CARGA E DESCARGA MECANIZADAS DE ENTULHO EM CAMINHAO BASCULANTE 6 M3 ","m³",{"$f":"'PL-ORÇ-DEF.A'!F37+'PL-ORÇ-DEF.B'!F37+'PL-ORÇ-DEF.C'!F37+ENGECORPS!G188+ENGECORPS!G129","v":6547.9980000000005},{"$f":"VLOOKUP(B58,'PREÇO UNITÁRIO'!$B$4:$F$124,5,0)","v":5.16},6.4329719999999995,33787.67,{"$f":"ROUND(F58*H58,2)","v":42123.09}]
["3.1.3","97916","SINAPI","TRANSPORTE COM CAMINHÃO BASCULANTE DE 6 M3, EM VIA URBANA EM LEITO NATURAL TXKM (UNIDADE: TXKM). AF_01/2018","txkm",{"$f":"'PL-ORÇ-DEF.A'!F38+'PL-ORÇ-DEF.B'!F38+'PL-ORÇ-DEF.C'!F38","v":98746.880000000005},{"$f":"VLOOKUP(B59,'PREÇO UNITÁRIO'!$B$4:$F$124,5,0)","v":1.35},1.6830449999999999,133308.29,166195.44]
["3.1.4","RO-42263","DEER/MG","ESPALHAMENTO DE MATERIAL EM BOTA-FORA","m³",{"$f":"'PL-ORÇ-DEF.A'!F39+'PL-ORÇ-DEF.B'!F39+'PL-ORÇ-DEF.C'!F39+ENGECORPS!G129+ENGECORPS!G188","v":6547.99},{"$f":"VLOOKUP(B60,'PREÇO UNITÁRIO'!$B$4:$F$124,5,0)","v":0.18},0.22440599999999997,1178.6400000000001,{"$f":"ROUND(F60*H60,2)","v":1469.41}]
["3.1.5","RO-43112","DEER/MG","SUB-BASE, SEM MISTURA, COMPACTADA NA ENERGIA DO PROCTOR INTERMEDIÁRIO (EXECUÇÃO, INCLUINDO ESCAVAÇÃO, CARGA, DESCARGA, ESPALHAMENTO, UMIDECIMENTO E COMPACTAÇÃO DO MATERIAL; EXCLUI AQUISIÇÃO E TRANSPORTE DO MATERIAL)","m³",{"$f":"'PL-ORÇ-DEF.A'!F40+'PL-ORÇ-DEF.B'!F40+'PL-ORÇ-DEF.C'!F40","v":1299.83},{"$f":"VLOOKUP(B61,'PREÇO UNITÁRIO'!$B$4:$F$124,5,0)","v":14.05},17.516134999999998,18262.61,{"$f":"ROUND(F61*H61,2)","v":22768},null,"CONSIDERADO NAS PONTES NA MG208, PQ AS DEMAIS POSSUEM ALTERANTIVAS DE TRÁFEGO"]
["3.1.6","RO-43113","DEER/MG","BASE DE SOLO SEM MISTURA, COMPACTADA NA ENERGIA DO PROCTOR INTERMEDIÁRIO (EXECUÇÃO, INCLUINDO ESCAVAÇÃO, CARGA, DESCARGA, ESPALHAMENTO, UMIDECIMENTO E COMPACTAÇÃO DO MATERIAL; EXCLUI AQUISIÇÃO E TRANSPORTE DO MATERIAL)","m³",{"$f":"'PL-ORÇ-DEF.A'!F41+'PL-ORÇ-DEF.B'!F41+'PL-ORÇ-DEF.C'!F41","v":1299.83},{"$f":"VLOOKUP(B62,'PREÇO UNITÁRIO'!$B$4:$F$124,5,0)","v":14.05},17.516134999999998,18262.61,{"$f":"ROUND(F62*H62,2)","v":22768}]
["3.1.7","72884","SINAPI","TRANSPORTE COMERCIAL COM CAMINHAO CARROCERIA 9 T","m³xkm",{"$f":"'PL-ORÇ-DEF.A'!F42+'PL-ORÇ-DEF.B'!F42+'PL-ORÇ-DEF.C'!F42","v":38512.425999999999},{"$f":"VLOOKUP(B63,'PREÇO UNITÁRIO'!$B$4:$F$124,5,0)","v":0.73},0.91009099999999987,28114.07,{"$f":"ROUND(F63*H63,2)","v":35049.81}]
[{"$nulls":7},"TOTAL DESVIO DE TRÁFEGO",{"$f":"SUM(I56)","v":241753.7},{"$f":"SUM(J56)","v":301394.34000000003}]
[]
["4 - PONTE A"]
["4.1","OBRAS DE ARTE CORRENTE E DRENAGEM"]
["4.1.1","VALETA DE PROTEÇÃO DE ATERRO",{"$nulls":6},{"$f":"SUM(I69)","v":2013.71},{"$f":"SUM(J69)","v":2510.4899999999998}]
["4.1.1.1","RO-40514","DEER/MG","VALETA DE PROTEÇÃO DE ATERRO TIPO DR.VPA (EXECUÇÃO,INCLUINDO ESCAVAÇÃO)","m",79,{"$f":"VLOOKUP(B69,'PREÇO UNITÁRIO'!$B$4:$F$124,5,0)","v":25.49},{"$f":"G69*(1+$J$4)","v":31.778382999999994},{"$f":"ROUND(F69*G69,2)","v":2013.71},{"$f":"ROUND(F69*H69,2)","v":2510.4899999999998}]
["4.1.2","DISSIPADOR DE ENERGIA",{"$nulls":6},{"$f":"SUM(I71)","v":769.08},{"$f":"SUM(J71)","v":958.81}]
["4.1.2.1","2003441","DNIT/MG","DISSIPADOR DE ENERGIA DE 501 - AREIA E PEDRA DE MÃO COMERCIAIS","und",6,{"$f":"VLOOKUP(B71,'PREÇO UNITÁRIO'!$B$4:$F$124,5,0)","v":128.18},{"$f":"G71*(1+$J$4)","v":159.80200600000001},{"$f":"ROUND(F71*G71,2)","v":769.08},{"$f":"ROUND(F71*H71,2)","v":958.81}]
["4.1.3","CAIXA COLETORA EM ALVENARIA",{"$nulls":6},{"$f":"SUM(I73:I77)","v":1338.5},{"$f":"SUM(J73:J77)","v":1668.71}]
["4.1.3.1","RO-40160","DEER/MG","ESCAVAÇÃO, CARGA, DESCARGA, ESPALHAMENTO E TRANSPORTE DE MATERIAL DE 1ª CATEGORIA, COMCAMINHÃO. DISTÂNCIA MÉDIA DE TRANSPORTE DE 3.001 A 4.000 M","m³",8.98,{"$f":"VLOOKUP(B73,'PREÇO UNITÁRIO'!$B$4:$F$124,5,0)","v":7.44},{"$f":"G73*(1+$J$4)","v":9.275447999999999},{"$f":"ROUND(F73*G73,2)","v":66.81},{"$f":"ROUND(F73*H73,2)","v":83.29}]
["4.1.3.2","ED-48193","DEER/MG","ALVENARIA DE VEDAÇÃO COM BLOCO DE CONCRETO, ESP.19 CM, PARA REVESTIMENTO, INCLUSIVE ARGAMASSA PARA ASSENTAMENTO","m²",3.83,{"$f":"VLOOKUP(B74,'PREÇO UNITÁRIO'!$B$4:$F$124,5,0)","v":49.12},61.237903999999993,188.13,{"$f":"ROUND(F74*H74,2)","v":234.54}]
["4.1.3.3","ED-50732","DEER/MG","EMBOÇO COM ARGAMASSA, TRAÇO 1:6 (CIMENTO E AREIA), ESP. 20MM, APLICAÇÃO MANUAL, PREPARO MECÂNICO","m²",3.03,{"$f":"VLOOKUP(B75,'PREÇO UNITÁRIO'!$B$4:$F$124,5,0)","v":22.84},28.474627999999999,69.209999999999994,{"$f":"ROUND(F75*H75,2)","v":86.28}]
["4.1.3.4","RO-41624","DEER/MG","CONCRETO DE CIMENTO PORTLAND, FCK>=15,0MPA (EXECUÇÃO, INCLUINDO O FORNECIMENTO E TRANSPORTE DOS AGREGADOS)","m³",0.40200000000000002,{"$f":"VLOOKUP(B76,'PREÇO UNITÁRIO'!$B$4:$F$124,5,0)","v":365.06},455.12030199999998,146.75,{"$f":"ROUND(F76*H76,2)","v":182.96}]
["4.1.3.5","ED-48676","DEER/MG","FORNECIMENTO, ASSENTAMENTO E  REJUNTAMENTO DE TUBO DE CONCRETO SIMPLES PS1 D = 400 MM","m",10,{"$f":"VLOOKUP(B77,'PREÇO UNITÁRIO'!$B$4:$F$124,5,0)","v":86.76},108.163692,867.6,{"$f":"ROUND(F77*H77,2)","v":1081.6400000000001}]
["4.1.4","SARJETA DE CONCRETO ATERRO",{"$nulls":6},{"$f":"SUM(I79)","v":9053.7000000000007},{"$f":"SUM(J79)","v":11287.25}]
["4.1.4.1","RO-40613","DEER/MG","SARJETA DE CONCRETO EM ATERRO,TIPO DR.SCA- X/Y. LARGURA=60CM TIPO 30/10 (EXECUÇÃO, INCLUINDO ESCAVAÇÃO, FORNECIMENTO, TRANSPORTE E PLANTIO DA GRAMA)","m",309,{"$f":"VLOOKUP(B79,'PREÇO UNITÁRIO'!$B$4:$F$124,5,0)","v":29.3},{"$f":"G79*(1+$J$4)","v":36.528309999999998},{"$f":"ROUND(F79*G79,2)","v":9053.7000000000007},{"$f":"ROUND(F79*H79,2)","v":11287.25}]
["4.1.5","SARJETA DE CONCRETO CORTE",{"$nulls":6},{"$f":"SUM(I81)","v":7613.45},{"$f":"SUM(J81)","v":9491.69}]
["4.1.5.1","RO-40661","DEER/MG","SARJETA DE CONCRETO EM CORTE TIPO DR.SCC-X/Y. LARGURA=90CM TIPO 80/10 (EXECUÇÃO, INCLUINDO ESCAVAÇÃO, FORNECIMENTO E TRANSPORTE DE TODOS OS MATERIAIS)","m",169,{"$f":"VLOOKUP(B81,'PREÇO UNITÁRIO'!$B$4:$F$124,5,0)","v":45.05},{"$f":"G81*(1+$J$4)","v":56.163834999999992},{"$f":"ROUND(F81*G81,2)","v":7613.45},{"$f":"ROUND(F81*H81,2)","v":9491.69}]
["4.1.6","CANALETA",{"$nulls":6},{"$f":"SUM(I83)","v":2843.76},{"$f":"SUM(J83)","v":3545.32}]
["4.1.6.1","ED-14723","DEER/MG","CANALETA PARA DRENAGEM, EM CONCRETO COM FCK 15MPA, MOLDADA IN LOCO, SEÇÃO 60X60CM, FORMA EM CONTRA BARRANCO, EXCLUSIVE TAMPA, INCLUSIVE ESCAVAÇÃO, REATERRO COM TRANSPORTE E RETIRADA DO MATERIAL ESCAVADO (EM CAÇAMBA)","m",12,{"$f":"VLOOKUP(B83,'PREÇO UNITÁRIO'!$B$4:$F$124,5,0)","v":236.98},{"$f":"G83*(1+$J$4)","v":295.44296599999996},{"$f":"ROUND(F83*G83,2)","v":2843.76},{"$f":"ROUND(F83*H83,2)","v":3545.32}]
["4.1.7","DESCIDA D'ÁGUA",{"$nulls":6},{"$f":"SUM(I85)","v":8395.7900000000009},{"$f":"SUM(J85)","v":10467.030000000001}]
["4.1.7.1","ED-48598","DEER/MG","DESCIDA D´ÁGUA TIPO CALHA DN 500, EXCLUSIVE BOTA FORA","m",29,{"$f":"VLOOKUP(B85,'PREÇO UNITÁRIO'!$B$4:$F$124,5,0)","v":289.51},{"$f":"G85*(1+$J$4)","v":360.93211699999995},{"$f":"ROUND(F85*G85,2)","v":8395.7900000000009},{"$f":"ROUND(F85*H85,2)","v":10467.030000000001}]
["4.1.8","GABIÃO",{"$nulls":6},{"$f":"SUM(I87:I88)","v":268781.09999999998},{"$f":"SUM(J87:J88)","v":335089.39}]
["4.1.8.1","92757","SINAPI","PROTEÇÃO SUPERFICIAL DE CANAL EM GABIÃO TIPO COLCHÃO, ALTURA DE 30 CENTÍMETROS, ENCHIMENTO COM PEDRA DE MÃO TIPO RACHÃO - FORNECIMENTO E EXECUÇÃO","m²",1281.3499999999999,{"$f":"VLOOKUP(B87,'PREÇO UNITÁRIO'!$B$4:$F$124,5,0)","v":182.17},{"$f":"G87*(1+$J$4)","v":227.11133899999996},{"$f":"ROUND(F87*G87,2)","v":233423.53},{"$f":"ROUND(F87*H87,2)","v":291009.11}]
["4.1.8.2","RO-41352   OBR-VIA-370","DEER/MG","TRANSPORTE DE ROCHAS E MATERIAL DE 3A CATEGORIA, DISTÂNCIA MÉDIA DE TRANSPORTE > 50,10 KM","m³*km",{"$f":"F87*0.3*L88","v":48435.03},{"$f":"VLOOKUP(B88,'PREÇO UNITÁRIO'!$B$4:$F$124,5,0)","v":0.73},0.91009099999999987,35357.57,{"$f":"ROUND(F88*H88,2)","v":44080.28},"VER DMT. ADOTEI >>>>>>>",{"$f":"TRANSPORTES!E7+TRANSPORTES!G7","v":126}]
[{"$nulls":7},"TOTAL OBRAS DE ARTE CORRENTE E DRENAGEM",{"$f":"SUM(I68+I70+I72+I78+I80+I82+I84+I86)","v":300809.08999999997},{"$f":"SUM(J68+J70+J72+J78+J80+J82+J84+J86)","v":375018.69}]
[]
["4.2","OBRAS DE ARTE ESPECIAIS"]
["4.2.1","INFRA ESTRUTURA",{"$nulls":6},{"$f":"SUM(I93:I100)","v":30882.710000000003},{"$f":"SUM(J93:J100)","v":38501.46}]
["4.2.1.1","72917","SINAPI","ESCAVACAO MECANICA DE VALA EM MATERIAL 2A CATEGORIA COM UTILIZACAO DE ESCAVADEIRA HIDRAULICA","m³",726.54,{"$f":"VLOOKUP(B93,'PREÇO UNITÁRIO'!$B$4:$F$124,5,0)","v":10.35},{"$f":"G93*(1+$J$4)","v":12.903344999999998},{"$f":"ROUND(F93*G93,2)","v":7519.69},{"$f":"ROUND(F93*H93,2)","v":9374.7999999999993}]
["4.2.1.2","93382","SINAPI","REATERRO MANUAL DE VALAS COM COMPACTAÇÃO MECANIZADA. AF_04/2016","m³",699.08,{"$f":"VLOOKUP(B94,'PREÇO UNITÁRIO'!$B$4:$F$124,5,0)","v":24.07},30.008068999999999,16826.86,20978.04]
["4.2.1.3","83534","SINAPI","LASTRO DE CONCRETO, PREPARO MECÂNICO, INCLUSOS ADITIVO IMPERMEABILIZANTE, LANÇAMENTO E ADENSAMENTO","m³",1.94,{"$f":"VLOOKUP(B95,'PREÇO UNITÁRIO'!$B$4:$F$124,5,0)","v":427.75},533.27592499999992,829.84,1034.56]
["4.2.1.4","5914569","DNIT/MG","TRANSPORTE COM CAMINHÃO BETONEIRA - RODOVIA PAVIMENTADA (Entre Bocaiúva/MG e Francisco Dumont/MG - 69,00km)","txkm",{"$f":"SUM(F98*2.4)*L96","v":2227.3199999999997},{"$f":"VLOOKUP(B96,'PREÇO UNITÁRIO'!$B$4:$F$124,5,0)","v":0.36},0.44881199999999993,801.84,999.65,"VER DMT. ADOTEI >>>>>>>",{"$f":"TRANSPORTES!F15","v":69}]
["4.2.1.5","5914539","DNIT/MG","TRANSPORTE COM CAMINHÃO BETONEIRA - RODOVIA EM LEITO NATURAL (Entre Francisco Dumont/MG e Área A - 15,00km)","txkm",{"$f":"SUM(F98*2.4)*L97","v":484.19999999999993},{"$f":"VLOOKUP(B97,'PREÇO UNITÁRIO'!$B$4:$F$124,5,0)","v":0.55000000000000004},0.68568499999999999,266.31,332.01,"VER DMT. ADOTEI >>>>>>>",{"$f":"TRANSPORTES!H15","v":15}]
["4.2.1.6",1106280,"DNIT/MG","CONCRETO PARA BOMBEAMENTO FCK = 30 MPA - CONFECÇÃO EM CENTRAL DOSADORA DE 30 M³/H - AREIA E BRITA COMERCIAIS","m³",13.45,{"$f":"VLOOKUP(B98,'PREÇO UNITÁRIO'!$B$4:$F$124,5,0)","v":270.39999999999998},337.10767999999996,3636.88,4534.1000000000004]
["4.2.1.7",1107860,"DNIT/MG","LANÇAMENTO MECÂNICO DE CONCRETO COM BOMBA LANÇA SOBRE CHASSI COM CAPACIDADE DE 45 M³/H - CONFECÇÃO EM CENTRAL DOSADORA DE 40 M³/H","m³",{"$f":"F98","v":13.45},{"$f":"VLOOKUP(B99,'PREÇO UNITÁRIO'!$B$4:$F$124,5,0)","v":31.39},{"$f":"G99*(1+$J$4)","v":39.133913},{"$f":"ROUND(F99*G99,2)","v":422.2},{"$f":"ROUND(F99*H99,2)","v":526.35}]
["4.2.1.8","92270","SINAPI","FABRICAÇÃO DE FÔRMA PARA VIGAS, COM MADEIRA SERRADA, E = 25 MM. AF_12/2015","m²",7.32,{"$f":"VLOOKUP(B100,'PREÇO UNITÁRIO'!$B$4:$F$124,5,0)","v":79.11},98.626436999999996,579.09,721.95]
["4.2.2","MESO E SUPER ESTRUTURA",{"$nulls":6},{"$f":"SUM(I102:I127)","v":757059.96000000008},{"$f":"SUM(J102:J127)","v":943826.67999999993}]
["4.2.2.1",92263,"SINAPI","FABRICAÇÃO DE FÔRMA PARA PILARES E ESTRUTURAS SIMILARES, EM CHAPA DE MADEIRA COMPENSADA RESINADA, E = 17 MM. AF_12/2015","m²",{"$f":"1732.13821977567+87.32","v":1819.4582197756699},{"$f":"VLOOKUP(B102,'PREÇO UNITÁRIO'!$B$4:$F$124,5,0)","v":89.2},{"$f":"G102*(1+$J$4)","v":111.20564},{"$f":"ROUND(F102*G102,2)","v":162295.67000000001},{"$f":"ROUND(F102*H102,2)","v":202334.02}]
["4.2.2.2","83534","SINAPI","LASTRO DE CONCRETO, PREPARO MECÂNICO, INCLUSOS ADITIVO IMPERMEABILIZANTE, LANÇAMENTO E ADENSAMENTO","m³",5.3420750000000004,{"$f":"VLOOKUP(B103,'PREÇO UNITÁRIO'!$B$4:$F$124,5,0)","v":427.75},533.27592499999992,2285.0700000000002,2848.8]
["4.2.2.3","5914569","DNIT/MG","TRANSPORTE COM CAMINHÃO BETONEIRA - RODOVIA PAVIMENTADA (Entre Bocaiúva/MG e Francisco Dumont/MG - 69,00km)","txkm",{"$f":"SUM(($F$106+$F$107+$F$108)*2.4)*L104","v":47110.398876000007},{"$f":"VLOOKUP(B104,'PREÇO UNITÁRIO'!$B$4:$F$124,5,0)","v":0.36},0.44881199999999993,16959.740000000002,21143.71,"VER DMT. ADOTEI >>>>>>>",{"$f":"L96","v":69}]
["4.2.2.4","5914539","DNIT/MG","TRANSPORTE COM CAMINHÃO BETONEIRA - RODOVIA EM LEITO NATURAL (Entre Francisco Dumont/MG e Área A - 15,00km)","txkm",{"$f":"SUM(($F$106+$F$107+$F$108)*2.4)*L105","v":10241.391060000002},{"$f":"VLOOKUP(B105,'PREÇO UNITÁRIO'!$B$4:$F$124,5,0)","v":0.55000000000000004},0.68568499999999999,5632.77,7022.37,"VER DMT. ADOTEI >>>>>>>",{"$f":"L97","v":15}]
["4.2.2.5",1116263,"DNIT/MG","CONCRETO PARA BOMBEAMENTO FCK = 25 MPA - CONFECÇÃO EM CENTRAL DOSADORA DE 30 M³/H - AREIA E BRITA COMERCIAIS","m³",12.71998,{"$f":"VLOOKUP(B106,'PREÇO UNITÁRIO'!$B$4:$F$124,5,0)","v":231.5},288.61104999999998,2944.68,3671.13]
["4.2.2.6",1106280,"DNIT/MG","CONCRETO PARA BOMBEAMENTO FCK = 30 MPA - CONFECÇÃO EM CENTRAL DOSADORA DE 30 M³/H - AREIA E BRITA COMERCIAIS","m³",98.265905000000018,{"$f":"VLOOKUP(B107,'PREÇO UNITÁRIO'!$B$4:$F$124,5,0)","v":270.39999999999998},337.10767999999996,26571.1,33126.19]
["4.2.2.7",1106281,"DNIT/MG","CONCRETO PARA BOMBEAMENTO FCK = 35 MPA - CONFECÇÃO EM CENTRAL DOSADORA DE 30 M³/H - AREIA E BRITA COMERCIAIS","m³",173.49720000000002,{"$f":"VLOOKUP(B108,'PREÇO UNITÁRIO'!$B$4:$F$124,5,0)","v":285.42},355.83311400000002,49519.57,61736.05]
["4.2.2.8",1107860,"DNIT/MG","LANÇAMENTO MECÂNICO DE CONCRETO COM BOMBA LANÇA SOBRE CHASSI COM CAPACIDADE DE 45 M³/H - CONFECÇÃO EM CENTRAL DOSADORA DE 40 M³/H","m³",{"$f":"SUM(F106+F107+F108)","v":284.48308500000007},{"$f":"VLOOKUP(B109,'PREÇO UNITÁRIO'!$B$4:$F$124,5,0)","v":31.39},39.133913,8929.92,11132.94]
["4.2.2.9","ED-50430","DEER/MG","FORNECIMENTO E APLICAÇÃO DE GROUT PARA ANCORAGENS","m³",0.28800000000000003,{"$f":"VLOOKUP(B110,'PREÇO UNITÁRIO'!$B$4:$F$124,5,0)","v":272.01},339.11486699999995,78.34,97.67]
["4.2.2.10",92792,"SINAPI","CORTE E DOBRA DE AÇO CA-50, DIÂMETRO DE 6,3 MM, UTILIZADO EM ESTRUTURA S DIVERSAS","kg",1778,{"$f":"VLOOKUP(B111,'PREÇO UNITÁRIO'!$B$4:$F$124,5,0)","v":6.58},8.2032860000000003,11699.24,14585.44]
["4.2.2.11",92793,"SINAPI","CORTE E DOBRA DE AÇO CA-50, DIÂMETRO DE 8,0 MM, UTILIZADO EM ESTRUTURA S DIVERSAS","kg",2412,{"$f":"VLOOKUP(B112,'PREÇO UNITÁRIO'!$B$4:$F$124,5,0)","v":6.38},7.9539459999999993,15388.56,19184.919999999998]
["4.2.2.12",92794,"SINAPI","CORTE E DOBRA DE AÇO CA-50, DIÂMETRO DE 10,0 MM, UTILIZADO EM ESTRUTURAS DIVERSAS","kg",10991,{"$f":"VLOOKUP(B113,'PREÇO UNITÁRIO'!$B$4:$F$124,5,0)","v":5.82},7.2557939999999999,63967.62,79748.429999999993]
["4.2.2.13",92795,"SINAPI","CORTE E DOBRA DE AÇO CA-50, DIÂMETRO DE 12,5 MM, UTILIZADO EM ESTRUTURAS DIVERSAS","kg",6416,{"$f":"VLOOKUP(B114,'PREÇO UNITÁRIO'!$B$4:$F$124,5,0)","v":4.95},6.1711650000000002,31759.200000000001,39594.19]
["4.2.2.14",92796,"SINAPI","CORTE E DOBRA DE AÇO CA-50, DIÂMETRO DE 16,0 MM, UTILIZADO EM ESTRUTURAS DIVERSAS","kg",10454,{"$f":"VLOOKUP(B115,'PREÇO UNITÁRIO'!$B$4:$F$124,5,0)","v":4.87},6.0714289999999993,50910.98,63470.720000000001]
["4.2.2.15",92797,"SINAPI","CORTE E DOBRA DE AÇO CA-50, DIÂMETRO DE 20,0 MM, UTILIZADO EM ESTRUTURAS DIVERSAS","kg",6163,{"$f":"VLOOKUP(B116,'PREÇO UNITÁRIO'!$B$4:$F$124,5,0)","v":5.72},7.1311239999999989,35252.36,43949.120000000003]
["4.2.2.16",92798,"SINAPI","CORTE E DOBRA DE AÇO CA-50, DIÂMETRO DE 25,0 MM, UTILIZADO EM ESTRUTURAS DIVERSAS","kg",334,{"$f":"VLOOKUP(B117,'PREÇO UNITÁRIO'!$B$4:$F$124,5,0)","v":5.7},7.1061899999999998,1903.8,2373.4699999999998]
["4.2.2.17",92880,"SINAPI","CORTE E DOBRA DE AÇO CA-25, DIÂMETRO DE 20,0 MM. AF_12/2015","kg",372,{"$f":"VLOOKUP(B118,'PREÇO UNITÁRIO'!$B$4:$F$124,5,0)","v":6.16},7.6796720000000001,2291.52,2856.84]
["4.2.2.18",307736,"DNIT/MG","JUNTA DE DILATAÇÃO EM PERFIL EXTRUDADO DE BORRACHA VULCANIZADA DE 40 X 70 MM - FORNECIMENTO E INSTALAÇÃO","m",20.6,{"$f":"VLOOKUP(B119,'PREÇO UNITÁRIO'!$B$4:$F$124,5,0)","v":1014.24},1264.453008,20893.34,26047.73]
["4.2.2.19",91790,"SINAPI","(COMPOSIÇÃO REPRESENTATIVA) DO SERVIÇO DE INSTALAÇÃO DE TUBOS DE PVC, SÉRIE R, ÁGUA PLUVIAL, DN 100 MM (INSTALADO EM RAMAL DE ENCAMINHAMENTO , OU CONDUTORES VERTICAIS), INCLUSIVE  CONEXÕES, CORTES E FIXAÇÕES, PARA PRÉDIOS. AF_10/2015","m",{"$f":"2*F122","v":172.48},{"$f":"VLOOKUP(B120,'PREÇO UNITÁRIO'!$B$4:$F$124,5,0)","v":42.45},52.922415000000001,7321.78,9128.06]
["4.2.2.20",84154,"SINAPI","APARELHO APOIO NEOPRENE FRETADO ","dm³",45.12,{"$f":"VLOOKUP(B121,'PREÇO UNITÁRIO'!$B$4:$F$124,5,0)","v":109.31},136.27677699999998,4932.07,6148.81]
["4.2.2.21","73770/001","SINAPI","BARREIRA PRE-MOLDADA EXTERNA CONCRETO ARMADO 0,25X0,40X1,14M FCK=25MPA ACO CA-50 INCL VIGOTA HORIZONTAL MONTANTE A CADA 1,00M FERROS DE LIGACAO E MATERIAIS.","m",{"$f":"2*8.12+2*35","v":86.24},{"$f":"VLOOKUP(B122,'PREÇO UNITÁRIO'!$B$4:$F$124,5,0)","v":468.97},584.66489899999999,40443.97,50421.5]
["4.2.2.22","ED-50429","DEER/MG","LANÇAMENTO DE TABULEIRO PRÉ-MOLDADO","unid.",360,{"$f":"VLOOKUP(B123,'PREÇO UNITÁRIO'!$B$4:$F$124,5,0)","v":63.14},78.716637999999989,22730.400000000001,28337.99]
["4.2.2.23",4507956,"DNIT/MG","CORDOALHA CP 190 RB D = 12,7 MM - FORNECIMENTO, PREPARO E COLOCAÇÃO ","Kg",5425.2,{"$f":"VLOOKUP(B124,'PREÇO UNITÁRIO'!$B$4:$F$124,5,0)","v":9.19},11.457172999999999,49857.59,62157.45]
["4.2.2.24",4508176,"DNIT/MG","BAINHA METÁLICA DIÂMETRO 95 MM PARA 19 CORDOALHAS D = 15,2 MM, SEMI-RÍGIDA, REDONDA, COM MONTAGEM E INJEÇÃO DE NATA DE CIMENTO","m",554.4,{"$f":"VLOOKUP(B125,'PREÇO UNITÁRIO'!$B$4:$F$124,5,0)","v":68.38},85.249345999999989,37909.870000000003,47262.239999999998]
["4.2.2.25",4507755,"DNIT/MG","ANCORAGEM ATIVA PARA 12 CORDOALHAS D = 12,7 MM COM PLACA DE ANCORAGEM, BLOCO, CUNHAS TRIPARTIDAS, TROMBETA E PROTENSÃO","unid.",32,{"$f":"VLOOKUP(B126,'PREÇO UNITÁRIO'!$B$4:$F$124,5,0)","v":1458},1817.6886,46656,58166.04]
["4.2.2.26","26.13.01.99","DER/SP","LANCAMENTO VIGA P<=50T-GUINDASTE AUTO PROPULSADO      ","unid.",4,{"$f":"VLOOKUP(B127,'PREÇO UNITÁRIO'!$B$4:$F$124,5,0)","v":9481.2000000000007},11820.21204,37924.800000000003,47280.85]
[{"$nulls":7},"TOTAL OAE",{"$f":"SUM(I92+I101)","v":787942.67},{"$f":"SUM(J92+J101)","v":982328.1399999999}]
[]
["4.3","MATERIAIS E TRANSPORTE PARA PAVIMENTAÇÃO ASFÁLTICA (PARA USINA EM MONTES CLAROS)"]
["4.3.1","CAP - CIMENTO ASFÁLTICO",{"$nulls":6},{"$f":"SUM(I132:I133)","v":4558.3500000000004},{"$f":"SUM(J132:J133)","v":5682.89}]
["4.3.1.1","72849","SINAPI","CARGA, MANOBRAS E DESCARGA DE MISTURAS DE SOLOS E AGREGADOS (BASES ESTABILIZADAS EM USINA) COM CAMINHAO BASCULANTE 6 M3","t",22.1,{"$f":"VLOOKUP(B132,'PREÇO UNITÁRIO'!$B$4:$F$124,5,0)","v":1.81},{"$f":"G132*(1+$J$4)","v":2.2565269999999997},{"$f":"ROUND(F132*G132,2)","v":40},{"$f":"ROUND(F132*H132,2)","v":49.87}]
["4.3.1.2",93176,"SINAPI","TRANSPORTE DE MATERIAL ASFALTICO, COM CAMINHÃO COM CAPACIDADE DE 30000 L EM RODOVIA PAVIMENTADA. AF_02/2016 (P/ ITEM 6.1.9) (ORIUNDO DE BETIM/MG DISTANTE 435KM DE MONTES CLAROS/MG)","txkm",{"$f":"F132*L133","v":9613.5},{"$f":"VLOOKUP(B133,'PREÇO UNITÁRIO'!$B$4:$F$124,5,0)","v":0.47},0.58594899999999994,4518.3500000000004,{"$f":"ROUND(F133*H133,2)","v":5633.02},"VER DMT. ADOTEI >>>>>>>",{"$f":"TRANSPORTES!D11","v":435}]
["4.3.2","AREIA",{"$nulls":6},{"$f":"SUM(I135:I136)","v":10504.05},{"$f":"SUM(J135:J136)","v":13095.380000000001}]
["4.3.2.1","72888","SINAPI","CARGA, MANOBRAS E DESCARGA DE AREIA, BRITA, PEDRA DE MAO E SOLOS COM CAMINHAO BASCULANTE 6 M3 (DESCARGA LIVRE)","m³",98.5,{"$f":"VLOOKUP(B135,'PREÇO UNITÁRIO'!$B$4:$F$124,5,0)","v":0.79},{"$f":"G135*(1+$J$4)","v":0.98489300000000002},{"$f":"ROUND(F135*G135,2)","v":77.819999999999993},{"$f":"ROUND(F135*H135,2)","v":97.01}]
["4.3.2.2","72884","SINAPI","TRANSPORTE COMERCIAL COM CAMINHAO CARROCERIA 9 T (DA CIDADE DE BARRA DO GUAICUÍ/MG ATÉ MONTES CLAROS/MG = 145KM)","m³*km",{"$f":"F135*L136","v":14282.5},{"$f":"VLOOKUP(B136,'PREÇO UNITÁRIO'!$B$4:$F$124,5,0)","v":0.73},0.91009099999999987,10426.23,{"$f":"ROUND(F136*H136,2)","v":12998.37},"VER DMT. ADOTEI >>>>>>>",{"$f":"TRANSPORTES!D6","v":145}]
["4.3.3","BRITA",{"$nulls":6},{"$f":"SUM(I138:I139)","v":1073.54},{"$f":"SUM(J138:J139)","v":1338.39}]
["4.3.3.1","72888","SINAPI","CARGA, MANOBRAS E DESCARGA DE AREIA, BRITA, PEDRA DE MAO E SOLOS COM CAMINHAO BASCULANTE 6 M3 (DESCARGA LIVRE)","m³",132.69999999999999,{"$f":"VLOOKUP(B138,'PREÇO UNITÁRIO'!$B$4:$F$124,5,0)","v":0.79},{"$f":"G138*(1+$J$4)","v":0.98489300000000002},{"$f":"ROUND(F138*G138,2)","v":104.83},{"$f":"ROUND(F138*H138,2)","v":130.69999999999999}]
["4.3.3.2","72884","SINAPI","TRANSPORTE COMERCIAL COM CAMINHAO CARROCERIA 9 T (DE JAZIDA DISTANTE 10KM DE MONTES CLAROS/MG) ","m³*km",{"$f":"F138*L139","v":1327},{"$f":"VLOOKUP(B139,'PREÇO UNITÁRIO'!$B$4:$F$124,5,0)","v":0.73},0.91009099999999987,968.71,{"$f":"ROUND(F139*H139,2)","v":1207.69},"VER DMT. ADOTEI >>>>>>>",{"$f":"TRANSPORTES!D7","v":10}]
[{"$nulls":7},"TOTAL DE MATERIAIS DO CONCRETO",{"$f":"SUM(I131+I134+I137)","v":16135.939999999999},{"$f":"SUM(J131+J134+J137)","v":20116.66}]
[]
["4.4","PAVIMENTAÇÃO ASFÁLTICA"]
["4.4.1","PAVIMENTO FLEXIVEL - NOVO E RECUPERAÇÃO",{"$nulls":6},{"$f":"SUM(I144:I159)","v":285667.23000000004},{"$f":"SUM(J144:J159)","v":356141.34}]
["4.4.1.1","83338","SINAPI","ESCAVACAO MECANICA, A CEU ABERTO, EM MATERIAL DE 1A CATEGORIA, COM ESCAVADEIRA HIDRAULICA, CAPACIDADE DE 0,78 M3 - CORTE","m³",464.7,{"$f":"VLOOKUP(B144,'PREÇO UNITÁRIO'!$B$4:$F$124,5,0)","v":2.12},{"$f":"G144*(1+$J$4)","v":2.6430039999999999},{"$f":"ROUND(F144*G144,2)","v":985.16},{"$f":"ROUND(F144*H144,2)","v":1228.2}]
["4.4.1.2","83338","SINAPI","ESCAVACAO MECANICA, A CEU ABERTO, EM MATERIAL DE 1A CATEGORIA, COM ESCAVADEIRA HIDRAULICA, CAPACIDADE DE 0,78 M3 - CORTE JAZIDA","m³",7006.31,{"$f":"VLOOKUP(B145,'PREÇO UNITÁRIO'!$B$4:$F$124,5,0)","v":2.12},2.6430039999999999,14853.38,18517.71]
["4.4.1.3","RO-40251","DEER/MG","COMPACTAÇÃO DE ATERRO A 100% PROCTOR NORMAL","m³",7006.31,{"$f":"VLOOKUP(B146,'PREÇO UNITÁRIO'!$B$4:$F$124,5,0)","v":3.14},3.9146380000000001,21999.81,27427.17]
["4.4.1.4","RO-43112","DEER/MG","SUB-BASE, SEM MISTURA, COMPACTADA NA ENERGIA DO PROCTOR INTERMEDIÁRIO (EXECUÇÃO, INCLUINDO ESCAVAÇÃO, CARGA, DESCARGA, ESPALHAMENTO, UMIDECIMENTO E COMPACTAÇÃO DO MATERIAL; EXCLUI AQUISIÇÃO E TRANSPORTE DO MATERIAL)","m³",395.85,{"$f":"VLOOKUP(B147,'PREÇO UNITÁRIO'!$B$4:$F$124,5,0)","v":14.05},17.516134999999998,5561.69,6933.76]
["4.4.1.5","RO-43113","DEER/MG","BASE DE SOLO SEM MISTURA, COMPACTADA NA ENERGIA DO PROCTOR INTERMEDIÁRIO (EXECUÇÃO, INCLUINDO ESCAVAÇÃO, CARGA, DESCARGA, ESPALHAMENTO, UMIDECIMENTO E COMPACTAÇÃO DO MATERIAL; EXCLUI AQUISIÇÃO E TRANSPORTEDO MATERIAL)","m³",395.85,{"$f":"VLOOKUP(B148,'PREÇO UNITÁRIO'!$B$4:$F$124,5,0)","v":14.05},17.516134999999998,5561.69,6933.76]
["4.4.1.6","96401","SINAPI","EXECUÇÃO DE IMPRIMAÇÃO COM ASFALTO DILUÍDO CM-30. AF_09/2017","m²",2919.04,{"$f":"VLOOKUP(B149,'PREÇO UNITÁRIO'!$B$4:$F$124,5,0)","v":6.65},8.2905549999999995,19411.62,24200.46]
["4.4.1.7",93176,"SINAPI","TRANSPORTE DE MATERIAL ASFALTICO, COM CAMINHÃO COM CAPACIDADE DE 30000 L EM RODOVIA PAVIMENTADA. AF_02/2016 (P/ ITEM 6.1.9) (ORIUNDO DE BETIM/MG DISTANTE 377KM DIRETO FCO DUMONT)","txkm",{"$f":"SUM(F149*0.0012)*L150","v":1320.5736959999999},{"$f":"VLOOKUP(B150,'PREÇO UNITÁRIO'!$B$4:$F$124,5,0)","v":0.47},0.58594899999999994,620.66999999999996,773.79,"VER DMT. ADOTEI >>>>>>>",{"$f":"TRANSPORTES!F12","v":377}]
["4.4.1.8",93178,"SINAPI","TRANSPORTE DE MATERIAL ASFALTICO, COM CAMINHÃO COM CAPACIDADE DE 30000 TXKM L EM RODOVIA NÃO PAVIMENTADA PARA DISTÂNCIAS MÉDIAS DE TRANSPORTE SUPERIORES A 100 KM. AF_02/2016  (ORIUNDO DE FCO DUMONT DISTANTE 15KM DIRETO PARA OBRA A)","txkm",{"$f":"SUM(F149*0.0012)*L151","v":52.542719999999996},{"$f":"VLOOKUP(B151,'PREÇO UNITÁRIO'!$B$4:$F$124,5,0)","v":0.53},0.66075099999999998,27.85,34.72,"VER DMT. ADOTEI >>>>>>>",{"$f":"TRANSPORTES!H12","v":15}]
["4.4.1.9","72942","SINAPI","PINTURA DE LIGACAO COM EMULSAO RR-1C","m²",2919.04,{"$f":"VLOOKUP(B152,'PREÇO UNITÁRIO'!$B$4:$F$124,5,0)","v":1.6},1.99472,4670.46,5822.67]
["4.4.1.10",93176,"SINAPI","TRANSPORTE DE MATERIAL ASFALTICO, COM CAMINHÃO COM CAPACIDADE DE 30000 L EM RODOVIA PAVIMENTADA. AF_02/2016 (P/ ITEM 6.1.9) (ORIUNDO DE BETIM/MG DISTANTE 377KM DIRETO FCO DUMONT)","txkm",{"$f":"SUM(F152*0.0004)*L153","v":440.19123200000001},{"$f":"VLOOKUP(B153,'PREÇO UNITÁRIO'!$B$4:$F$124,5,0)","v":0.47},0.58594899999999994,206.89,257.93,"VER DMT. ADOTEI >>>>>>>",{"$f":"L150","v":377}]
["4.4.1.11",93178,"SINAPI","TRANSPORTE DE MATERIAL ASFALTICO, COM CAMINHÃO COM CAPACIDADE DE 30000 TXKM L EM RODOVIA NÃO PAVIMENTADA PARA DISTÂNCIAS MÉDIAS DE TRANSPORTE SUPERIORES A 100 KM. AF_02/2016  (ORIUNDO DE FCO DUMONT DISTANTE 15KM DIRETO PARA OBRA A)","txkm",{"$f":"SUM(F152*0.0004)*L154","v":17.514240000000001},{"$f":"VLOOKUP(B154,'PREÇO UNITÁRIO'!$B$4:$F$124,5,0)","v":0.53},0.66075099999999998,9.2799999999999994,11.57,"VER DMT. ADOTEI >>>>>>>",{"$f":"L151","v":15}]
["4.4.1.12",95995,"SINAPI","CONSTRUÇÃO DE PAVIMENTO COM APLICAÇÃO DE CONCRETO BETUMINOSO USINADO A QUENTE (CBUQ), CAMADA DE ROLAMENTO, COM ESPESSURA DE 5,0 CM - EXCLUSIVE TRANSPORTE. AF_03/2017 (PAVIMENTAÇÃO ESTRADA)","m³",131.94999999999999,{"$f":"VLOOKUP(B155,'PREÇO UNITÁRIO'!$B$4:$F$124,5,0)","v":997.69},1243.820123,131645.20000000001,164122.07]
["4.4.1.13",95995,"SINAPI","CONSTRUÇÃO DE PAVIMENTO COM APLICAÇÃO DE CONCRETO BETUMINOSO USINADO A QUENTE (CBUQ), CAMADA DE ROLAMENTO, COM ESPESSURA DE 5,0 CM - EXCLUSIVE TRANSPORTE. AF_03/2017 (PAVIMENTAÇÃO OAE)","m³",28,{"$f":"VLOOKUP(B156,'PREÇO UNITÁRIO'!$B$4:$F$124,5,0)","v":997.69},1243.820123,27935.32,34826.959999999999]
["4.4.1.14",93176,"SINAPI","TRANSPORTE DE MATERIAL ASFALTICO, COM CAMINHÃO COM CAPACIDADE DE 30000 L EM RODOVIA PAVIMENTADA. AF_02/2016 (P/ ITEM 2.1.12) (ORIUNDO D MONTES CLAROS/MG DIST. 111KM)","txkm",{"$f":"SUM((F154+F155)*2.4)*L157","v":39817.273535999993},{"$f":"VLOOKUP(B157,'PREÇO UNITÁRIO'!$B$4:$F$124,5,0)","v":0.47},0.58594899999999994,18714.12,23330.89,"VER DMT. ADOTEI >>>>>>>",{"$f":"TRANSPORTES!E10","v":111}]
["4.4.1.15",93178,"SINAPI","TRANSPORTE DE MATERIAL ASFALTICO, COM CAMINHÃO COM CAPACIDADE DE 30000 TXKM L EM RODOVIA NÃO PAVIMENTADA PARA DISTÂNCIAS MÉDIAS DE TRANSPORTE SUPERIORES A 100 KM. AF_02/2016 (JEQUITAÍ P/ ÁREA A - 15KM)","txkm",{"$f":"SUM((F155+F156)*2.4)*L158","v":5758.1999999999989},{"$f":"VLOOKUP(B158,'PREÇO UNITÁRIO'!$B$4:$F$124,5,0)","v":0.53},0.66075099999999998,3051.85,3804.74,"VER DMT. ADOTEI >>>>>>>",{"$f":"TRANSPORTES!G10","v":15}]
["4.4.1.16","RO-41344","DEER/MG","TRANSPORTE DE MATERIAL DE JAZIDA PARA CONSERVAÇÃO. DISTÂNCIA MÉDIA DE TRANSPORTE > 50,10 KM (ESCAVAÇÃO+BASE E SUB BASE) - 5,00KM","m³xkm",{"$f":"SUM(F145+F147+F148)*L159","v":38990.050000000003},{"$f":"VLOOKUP(B159,'PREÇO UNITÁRIO'!$B$4:$F$124,5,0)","v":0.78},0.97242600000000001,30412.240000000002,37914.94,"VER DMT. ADOTEI >>>>>>>",5,"BUSCAR JAZIDA PRÓXIMA"]
[{"$nulls":7},"TOTAL PAVIMENTAÇÃO ASFÁLTICA",{"$f":"SUM(I143)","v":285667.23000000004},{"$f":"SUM(J143)","v":356141.34}]
[]
["4.5","COMPLEMENTARES"]
["4.5.1","RECOMPOSIÇÃO DE DIVISAS",{"$nulls":6},{"$f":"SUM(I164)","v":12872.3},{"$f":"SUM(J164)","v":16047.9}]
["4.5.1.1","74039/001","SINAPI","CERCA COM MOUROES DE MADEIRA ROLICA, DIAMETRO 11CM, ESPACAMENTO DE 2M, ALTURA LIVRE DE 1M, CRAVADOS 0,5M, COM 5 FIOS DE ARAME FARPADO Nº 14 CLASSE 250","m",490,{"$f":"VLOOKUP(B164,'PREÇO UNITÁRIO'!$B$4:$F$124,5,0)","v":26.27},{"$f":"G164*(1+$J$4)","v":32.750808999999997},{"$f":"ROUND(F164*G164,2)","v":12872.3},{"$f":"ROUND(F164*H164,2)","v":16047.9}]
[{"$nulls":7},"TOTAL COMPLEMENTARES",{"$f":"SUM(I163)","v":12872.3},{"$f":"SUM(J163)","v":16047.9}]
[]
["4.6","SINALIZAÇÃO DE OBRA E DEFINITIVA"]
["4.6.1","SINALIZAÇÃO DE OBRA",{"$nulls":6},{"$f":"SUM(I169:I173)","v":24667.699999999997},{"$f":"SUM(J169:J173)","v":30753.200000000001}]
["4.6.1.1",97051,"SINAPI","SINALIZAÇÃO COM FITA FIXADA NA ESTRUTURA. AF_11/2017","m",3000,{"$f":"VLOOKUP(B169,'PREÇO UNITÁRIO'!$B$4:$F$124,5,0)","v":0.5},{"$f":"G169*(1+$J$4)","v":0.62334999999999996},{"$f":"ROUND(F169*G169,2)","v":1500},{"$f":"ROUND(F169*H169,2)","v":1870.05}]
["4.6.1.2","RO-41841","DEER/MG","PLACA DE AÇO CARBONO COM PELÍCULA REFLETIVA GRAU TÉCNICO TIPO I DA ABNT - PLACA CIRCULAR (EXECUÇÃO, INCLUINDO FORNECIMENTO E TRANSPORTE DE TODOS OS MATERIAIS, INCLUSIVE POSTE DE SUSTENTAÇÃO)","m²",0.78,{"$f":"VLOOKUP(B170,'PREÇO UNITÁRIO'!$B$4:$F$124,5,0)","v":341.61},425.88518699999997,266.45999999999998,{"$f":"ROUND(F170*H170,2)","v":332.19}]
["4.6.1.3","RO-41844","DEER/MG","PLACA DE AÇO CARBONO COM PELÍCULA REFLETIVA GRAU TÉCNICO TIPO I DA ABNT - PLACA QUADRADA (EXECUÇÃO, INCLUINDO FORNECIMENTO E TRANSPORTE DE TODOS OS MATERIAIS, INCLUSIVE POSTE DE SUSTENTAÇÃO)","m²",15.89,{"$f":"VLOOKUP(B171,'PREÇO UNITÁRIO'!$B$4:$F$124,5,0)","v":331.13},412.81977099999995,5261.66,{"$f":"ROUND(F171*H171,2)","v":6559.71}]
["4.6.1.4","RO-43226","DEER/MG","COLOCAÇÃO DE PLACAS","m²",16.670000000000002,{"$f":"VLOOKUP(B172,'PREÇO UNITÁRIO'!$B$4:$F$124,5,0)","v":65.77},81.995458999999997,1096.3900000000001,{"$f":"ROUND(F172*H172,2)","v":1366.86}]
["4.6.1.5","85424","SINAPI","ISOLAMENTO DE OBRA COM TELA PLASTICA COM MALHA DE 5MM E ESTRUTURA DE MADEIRA PONTALETEADA","m",794.2,{"$f":"VLOOKUP(B173,'PREÇO UNITÁRIO'!$B$4:$F$124,5,0)","v":20.83},25.968760999999997,16543.189999999999,{"$f":"ROUND(F173*H173,2)","v":20624.39}]
["4.6.2","SINALIZAÇÃO DEFINITIVA HORIZONTAL",{"$nulls":6},{"$f":"SUM(I175:I176)","v":311.38},{"$f":"SUM(J175:J176)","v":388.2}]
["4.6.2.1","RO-41237               OBR-VIA-245","DEER/MG","LINHAS DE RESINA ACRILICA 0,6MM DE ESPESSURA E LARGURA = 0,10M (EXECUÇÃO, INCLUSIVE PRÉ-MARCAÇÃO, FORNECIMENTO E TRANSPORTE DE TODOS OS MATERIAIS) - LINHAS BRANCAS","m²",59.99,{"$f":"VLOOKUP(B175,'PREÇO UNITÁRIO'!$B$4:$F$124,5,0)","v":1.73},{"$f":"G175*(1+$J$4)","v":2.1567909999999997},{"$f":"ROUND(F175*G175,2)","v":103.78},{"$f":"ROUND(F175*H175,2)","v":129.38999999999999}]
["4.6.2.2","RO-41237               OBR-VIA-245","DEER/MG","LINHAS DE RESINA ACRILICA 0,6MM DE ESPESSURA E LARGURA = 0,10M (EXECUÇÃO, INCLUSIVE PRÉ-MARCAÇÃO, FORNECIMENTO E TRANSPORTE DE TODOS OS MATERIAIS) - LINHAS AMARELAS","m²",120,{"$f":"VLOOKUP(B176,'PREÇO UNITÁRIO'!$B$4:$F$124,5,0)","v":1.73},2.1567909999999997,207.6,{"$f":"ROUND(F176*H176,2)","v":258.81}]
["4.6.3","SINALIZAÇÃO DEFINITIVA VERTICAL",{"$nulls":6},{"$f":"SUM(I178:I180)","v":555.78},{"$f":"SUM(J178:J180)","v":692.89}]
["4.6.3.1","RO-41841","DEER/MG","PLACA DE AÇO CARBONO COM PELÍCULA REFLETIVA GRAU TÉCNICO TIPO I DA ABNT - PLACA CIRCULAR (EXECUÇÃO, INCLUINDO FORNECIMENTO E TRANSPORTE DE TODOS OS MATERIAIS, INCLUSIVE POSTE DE SUSTENTAÇÃO)","m²",0.39,{"$f":"VLOOKUP(B178,'PREÇO UNITÁRIO'!$B$4:$F$124,5,0)","v":341.61},{"$f":"G178*(1+$J$4)","v":425.88518699999997},{"$f":"ROUND(F178*G178,2)","v":133.22999999999999},{"$f":"ROUND(F178*H178,2)","v":166.1}]
["4.6.3.2","RO-41844","DEER/MG","PLACA DE AÇO CARBONO COM PELÍCULA REFLETIVA GRAU TÉCNICO TIPO I DA ABNT - PLACA QUADRADA (EXECUÇÃO, INCLUINDO FORNECIMENTO E TRANSPORTE DE TODOS OS MATERIAIS, INCLUSIVE POSTE DE SUSTENTAÇÃO)","m²",1,{"$f":"VLOOKUP(B179,'PREÇO UNITÁRIO'!$B$4:$F$124,5,0)","v":331.13},412.81977099999995,331.13,{"$f":"ROUND(F179*H179,2)","v":412.82}]
["4.6.3.3","RO-43226","DEER/MG","COLOCAÇÃO DE PLACAS","m²",1.39,{"$f":"VLOOKUP(B180,'PREÇO UNITÁRIO'!$B$4:$F$124,5,0)","v":65.77},81.995458999999997,91.42,{"$f":"ROUND(F180*H180,2)","v":113.97}]
["4.6.4","DISPOSITIVOS DE SEGURANÇA",{"$nulls":6},{"$f":"SUM(I182:I183)","v":74119.16},{"$f":"SUM(J182:J183)","v":92404.35}]
["4.6.4.1","RO-41763","DEER/MG","DEFENSA SINGELA SEMI-MALEÁVEL SV-DSM-02 (EXECUÇÃO, INCLUINDO FORNECIMENTO, COLOCAÇÃO E TRANSPORTE DE TODOS OS MATERIAIS)","m",275,{"$f":"VLOOKUP(B182,'PREÇO UNITÁRIO'!$B$4:$F$124,5,0)","v":265.94},{"$f":"G182*(1+$J$4)","v":331.54739799999999},{"$f":"ROUND(F182*G182,2)","v":73133.5},{"$f":"ROUND(F182*H182,2)","v":91175.53}]
["4.6.4.2","28.10.01.99","DER/SP","FORN./INSTAL. BALIZ.(CATADIOPTRICO) P/DEF. MET. C/PELICULA GT+GT, CONF.OP-06-05","un.",34,{"$f":"VLOOKUP(B183,'PREÇO UNITÁRIO'!$B$4:$F$124,5,0)","v":28.99},36.141832999999998,985.66,{"$f":"ROUND(F183*H183,2)","v":1228.82}]
[{"$nulls":7},"TOTAL SINALIZAÇÃO DE OBRA E DEFINITIVA",{"$f":"SUM(I168+I174+I177+I181)","v":99654.02},{"$f":"SUM(J168+J174+J177+J181)","v":124238.64000000001}]
[]
[{"$nulls":7},"TOTAL - PONTE A",{"$f":"I184+I165+I160+I140+I128+I89","v":1503081.25},{"$f":"J184+J165+J160+J140+J128+J89","v":1873891.3699999999}]
[]
["5 - PONTE B"]
["5.1","OBRAS DE ARTE CORRENTE E DRENAGEM"]
["5.1.1","VALETA DE PROTEÇÃO DE ATERRO",{"$nulls":6},{"$f":"SUM(I191)","v":1886.26},{"$f":"SUM(J191)","v":2351.6}]
["5.1.1.1","RO-40514","DEER/MG","VALETA DE PROTEÇÃO DE ATERRO TIPO DR.VPA (EXECUÇÃO,INCLUINDO ESCAVAÇÃO)","m",74,{"$f":"VLOOKUP(B191,'PREÇO UNITÁRIO'!$B$4:$F$124,5,0)","v":25.49},{"$f":"G191*(1+$J$4)","v":31.778382999999994},{"$f":"ROUND(F191*G191,2)","v":1886.26},{"$f":"ROUND(F191*H191,2)","v":2351.6}]
["5.1.2","CAIXA COLETORA EM ALVENARIA",{"$nulls":6},{"$f":"SUM(I193:I197)","v":1806.96},{"$f":"SUM(J193:J197)","v":2252.75}]
["5.1.2.1","RO-40160","DEER/MG","ESCAVAÇÃO, CARGA, DESCARGA, ESPALHAMENTO E TRANSPORTE DE MATERIAL DE 1ª CATEGORIA, COMCAMINHÃO. DISTÂNCIA MÉDIA DE TRANSPORTE DE 3.001 A 4.000 M","m³",17.96,{"$f":"VLOOKUP(B193,'PREÇO UNITÁRIO'!$B$4:$F$124,5,0)","v":7.44},{"$f":"G193*(1+$J$4)","v":9.275447999999999},{"$f":"ROUND(F193*G193,2)","v":133.62},{"$f":"ROUND(F193*H193,2)","v":166.59}]
["5.1.2.2","ED-48193","DEER/MG","ALVENARIA DE VEDAÇÃO COM BLOCO DE CONCRETO, ESP.19 CM, PARA REVESTIMENTO, INCLUSIVE ARGAMASSA PARA ASSENTAMENTO","m²",7.64,{"$f":"VLOOKUP(B194,'PREÇO UNITÁRIO'!$B$4:$F$124,5,0)","v":49.12},61.237903999999993,375.28,{"$f":"ROUND(F194*H194,2)","v":467.86}]
["5.1.2.3","ED-50732","DEER/MG","EMBOÇO COM ARGAMASSA, TRAÇO 1:6 (CIMENTO E AREIA), ESP. 20MM, APLICAÇÃO MANUAL, PREPARO MECÂNICO","m²",6.06,{"$f":"VLOOKUP(B195,'PREÇO UNITÁRIO'!$B$4:$F$124,5,0)","v":22.84},28.474627999999999,138.41,{"$f":"ROUND(F195*H195,2)","v":172.56}]
["5.1.2.4","RO-41624","DEER/MG","CONCRETO DE CIMENTO PORTLAND, FCK>=15,0MPA (EXECUÇÃO, INCLUINDO OFORNECIMENTO E TRANSPORTE DOS AGREGADOS)","m³",0.8,{"$f":"VLOOKUP(B196,'PREÇO UNITÁRIO'!$B$4:$F$124,5,0)","v":365.06},455.12030199999998,292.05,{"$f":"ROUND(F196*H196,2)","v":364.1}]
["5.1.2.5","ED-48676","DEER/MG","FORNECIMENTO, ASSENTAMENTO E  REJUNTAMENTO DE TUBO DE CONCRETO SIMPLES PS1 D = 400 MM","m",10,{"$f":"VLOOKUP(B197,'PREÇO UNITÁRIO'!$B$4:$F$124,5,0)","v":86.76},108.163692,867.6,{"$f":"ROUND(F197*H197,2)","v":1081.6400000000001}]
["5.1.3","SARJETA DE CONCRETO ATERRO",{"$nulls":6},{"$f":"SUM(I199)","v":1875.2},{"$f":"SUM(J199)","v":2337.81}]
["5.1.3.1","RO-40613","DEER/MG","SARJETA DE CONCRETO EM ATERRO,TIPO DR.SCA- X/Y. LARGURA=60CM TIPO 30/10 (EXECUÇÃO, INCLUINDO ESCAVAÇÃO, FORNECIMENTO, TRANSPORTE E PLANTIO DA GRAMA)","m",64,{"$f":"VLOOKUP(B199,'PREÇO UNITÁRIO'!$B$4:$F$124,5,0)","v":29.3},{"$f":"G199*(1+$J$4)","v":36.528309999999998},{"$f":"ROUND(F199*G199,2)","v":1875.2},{"$f":"ROUND(F199*H199,2)","v":2337.81}]
["5.1.4","SARJETA DE CONCRETO CORTE",{"$nulls":6},{"$f":"SUM(I201)","v":10271.4},{"$f":"SUM(J201)","v":12805.35}]
["5.1.4.1","RO-40661","DEER/MG","SARJETA DE CONCRETO EM CORTE TIPO DR.SCC-X/Y. LARGURA=90CM TIPO80/10 (EXECUÇÃO, INCLUINDOESCAVAÇÃO, FORNECIMENTO E TRANSPORTE DE TODOS OS MATERIAIS)","m",228,{"$f":"VLOOKUP(B201,'PREÇO UNITÁRIO'!$B$4:$F$124,5,0)","v":45.05},{"$f":"G201*(1+$J$4)","v":56.163834999999992},{"$f":"ROUND(F201*G201,2)","v":10271.4},{"$f":"ROUND(F201*H201,2)","v":12805.35}]
["5.1.5","CANALETA",{"$nulls":6},{"$f":"SUM(I203)","v":233.48},{"$f":"SUM(J203)","v":291.08}]
["5.1.5.1","ED-48555","DEER/MG","CANALETA PARA DRENAGEM, PRÉ-MOLDADA, TIPO MEIA CANA, DIÂMETRO 60CM, EXCLUSIVE TAMPA, INCLUSIVE ASSENTAMENTO EM ARGAMASSA, TRAÇO 1:3 (CIMENTO E AREIA), ESCAVAÇÃO, TRANSPORTE E RETIRADA DO MATERIAL ESCAVADO (EM CAÇAMBA)","m",2,{"$f":"VLOOKUP(B203,'PREÇO UNITÁRIO'!$B$4:$F$124,5,0)","v":116.74},{"$f":"G203*(1+$J$4)","v":145.53975799999998},{"$f":"ROUND(F203*G203,2)","v":233.48},{"$f":"ROUND(F203*H203,2)","v":291.08}]
["5.1.6","DESCIDA D'ÁGUA",{"$nulls":6},{"$f":"SUM(I205)","v":2895.1},{"$f":"SUM(J205)","v":3609.32}]
["5.1.6.1","ED-48598","DEER/MG","DESCIDA D´ÁGUA TIPO CALHA DN 500, EXCLUSIVE BOTA FORA","m",10,{"$f":"VLOOKUP(B205,'PREÇO UNITÁRIO'!$B$4:$F$124,5,0)","v":289.51},{"$f":"G205*(1+$J$4)","v":360.93211699999995},{"$f":"ROUND(F205*G205,2)","v":2895.1},{"$f":"ROUND(F205*H205,2)","v":3609.32}]
[{"$nulls":7},"TOTAL OBRAS DE ARTE CORRENTE E DRENAGEM",{"$f":"SUM(I190+I192+I198+I200+I202+I204)","v":18968.399999999998},{"$f":"SUM(J190+J192+J198+J200+J202+J204)","v":23647.910000000003}]
[]
["5.2","OBRAS DE ARTE ESPECIAIS"]
["5.2.1","INFRA ESTRUTURA",{"$nulls":6},{"$f":"SUM(I210:I217)","v":42382.459999999992},{"$f":"SUM(J210:J217)","v":52838.200000000004}]
["5.2.1.1","72917","SINAPI","ESCAVACAO MECANICA DE VALA EM MATERIAL 2A CATEGORIA COM UTILIZACAO DE ESCAVADEIRA HIDRAULICA","m³",853.73,{"$f":"VLOOKUP(B210,'PREÇO UNITÁRIO'!$B$4:$F$124,5,0)","v":10.35},{"$f":"G210*(1+$J$4)","v":12.903344999999998},{"$f":"ROUND(F210*G210,2)","v":8836.11},{"$f":"ROUND(F210*H210,2)","v":11015.97}]
["5.2.1.2","93382","SINAPI","REATERRO MANUAL DE VALAS COM COMPACTAÇÃO MECANIZADA. AF_04/2016","m³",810.16,{"$f":"VLOOKUP(B211,'PREÇO UNITÁRIO'!$B$4:$F$124,5,0)","v":24.07},30.008068999999999,19500.55,24311.34]
["5.2.1.3","83534","SINAPI","LASTRO DE CONCRETO, PREPARO MECÂNICO, INCLUSOS ADITIVO IMPERMEABILIZANTE, LANÇAMENTO E ADENSAMENTO","m³",3.31,{"$f":"VLOOKUP(B212,'PREÇO UNITÁRIO'!$B$4:$F$124,5,0)","v":427.75},533.27592499999992,1415.85,1765.14]
["5.2.1.4","5914569","DNIT/MG","TRANSPORTE COM CAMINHÃO BETONEIRA - RODOVIA PAVIMENTADA (Entre Bocaiúva/MG e Francisco Dumont/MG - 69,00km)","txkm",{"$f":"SUM(F215*2.4)*L213","v":5266.08},{"$f":"VLOOKUP(B213,'PREÇO UNITÁRIO'!$B$4:$F$124,5,0)","v":0.36},0.44881199999999993,1895.79,2363.48,"VER DMT. ADOTEI >>>>>>>",{"$f":"TRANSPORTES!F15","v":69}]
["5.2.1.5","5914539","DNIT/MG","TRANSPORTE COM CAMINHÃO BETONEIRA - RODOVIA EM LEITO NATURAL (Entre Francisco Dumont/MG e Área B - 9,00km)","txkm",{"$f":"SUM(F215*2.4)*L214","v":686.87999999999988},{"$f":"VLOOKUP(B214,'PREÇO UNITÁRIO'!$B$4:$F$124,5,0)","v":0.55000000000000004},0.68568499999999999,377.78,470.98,"VER DMT. ADOTEI >>>>>>>",{"$f":"TRANSPORTES!J15","v":9}]
["5.2.1.6",1106280,"DNIT/MG","CONCRETO PARA BOMBEAMENTO FCK = 30 MPA - CONFECÇÃO EM CENTRAL DOSADORA DE 30 M³/H - AREIA E BRITA COMERCIAIS","m³",31.8,{"$f":"VLOOKUP(B215,'PREÇO UNITÁRIO'!$B$4:$F$124,5,0)","v":270.39999999999998},337.10767999999996,8598.7199999999993,10720.02]
["5.2.1.7",1107860,"DNIT/MG","LANÇAMENTO MECÂNICO DE CONCRETO COM BOMBA LANÇA SOBRE CHASSI COM CAPACIDADE DE 45 M³/H - CONFECÇÃO EM CENTRAL DOSADORA DE 40 M³/H","m³",{"$f":"F215","v":31.8},{"$f":"VLOOKUP(B216,'PREÇO UNITÁRIO'!$B$4:$F$124,5,0)","v":31.39},39.133913,998.2,1244.46]
["5.2.1.8","92270","SINAPI","FABRICAÇÃO DE FÔRMA PARA VIGAS, COM MADEIRA SERRADA, E = 25 MM. AF_12/2015","m²",9.6,{"$f":"VLOOKUP(B217,'PREÇO UNITÁRIO'!$B$4:$F$124,5,0)","v":79.11},98.626436999999996,759.46,946.81]
["5.2.2","MESO E SUPER ESTRUTURA",{"$nulls":6},{"$f":"SUM(I219:I244)","v":664941.13},{"$f":"SUM(J219:J244)","v":828982.15000000014}]
["5.2.2.1",92263,"SINAPI","FABRICAÇÃO DE FÔRMA PARA PILARES E ESTRUTURAS SIMILARES, EM CHAPA DE MADEIRA COMPENSADA RESINADA, E = 17 MM. AF_12/2015","m²",{"$f":"1484.97+87.324","v":1572.2940000000001},{"$f":"VLOOKUP(B219,'PREÇO UNITÁRIO'!$B$4:$F$124,5,0)","v":89.2},{"$f":"G219*(1+$J$4)","v":111.20564},{"$f":"ROUND(F219*G219,2)","v":140248.62},{"$f":"ROUND(F219*H219,2)","v":174847.96}]
["5.2.2.2","83534","SINAPI","LASTRO DE CONCRETO, PREPARO MECÂNICO, INCLUSOS ADITIVO IMPERMEABILIZANTE, LANÇAMENTO E ADENSAMENTO","m³",5.35,{"$f":"VLOOKUP(B220,'PREÇO UNITÁRIO'!$B$4:$F$124,5,0)","v":427.75},533.27592499999992,2288.46,{"$f":"ROUND(F220*H220,2)","v":2853.03}]
["5.2.2.3","5914569","DNIT/MG","TRANSPORTE COM CAMINHÃO BETONEIRA - RODOVIA PAVIMENTADA (Entre Bocaiúva/MG e Francisco Dumont/MG - 69,00km)","txkm",{"$f":"SUM(F223:F225)*2.4*L221","v":42029.279999999999},{"$f":"VLOOKUP(B221,'PREÇO UNITÁRIO'!$B$4:$F$124,5,0)","v":0.36},0.44881199999999993,15130.54,18863.25,"VER DMT. ADOTEI >>>>>>>",{"$f":"L213","v":69}]
["5.2.2.4","5914539","DNIT/MG","TRANSPORTE COM CAMINHÃO BETONEIRA - RODOVIA EM LEITO NATURAL (Entre Francisco Dumont/MG e Área B - 9,00km)","txkm",{"$f":"SUM(F226)*2.4*9","v":5482.08},{"$f":"VLOOKUP(B222,'PREÇO UNITÁRIO'!$B$4:$F$124,5,0)","v":0.55000000000000004},0.68568499999999999,3015.14,3758.98,"VER DMT. ADOTEI >>>>>>>",{"$f":"L214","v":9}]
["5.2.2.5",1116263,"DNIT/MG","CONCRETO PARA BOMBEAMENTO FCK = 25 MPA - CONFECÇÃO EM CENTRAL DOSADORA DE 30 M³/H - AREIA E BRITA COMERCIAIS","m³",11,{"$f":"VLOOKUP(B223,'PREÇO UNITÁRIO'!$B$4:$F$124,5,0)","v":231.5},288.61104999999998,2546.5,3174.72]
["5.2.2.6",1106280,"DNIT/MG","CONCRETO PARA BOMBEAMENTO FCK = 30 MPA - CONFECÇÃO EM CENTRAL DOSADORA DE 30 M³/H - AREIA E BRITA COMERCIAIS","m³",97.15,{"$f":"VLOOKUP(B224,'PREÇO UNITÁRIO'!$B$4:$F$124,5,0)","v":270.39999999999998},337.10767999999996,26269.360000000001,32750.01]
["5.2.2.7",1106281,"DNIT/MG","CONCRETO PARA BOMBEAMENTO FCK = 35 MPA - CONFECÇÃO EM CENTRAL DOSADORA DE 30 M³/H - AREIA E BRITA COMERCIAIS","m³",145.65,{"$f":"VLOOKUP(B225,'PREÇO UNITÁRIO'!$B$4:$F$124,5,0)","v":285.42},355.83311400000002,41571.42,51827.09]
["5.2.2.8",1107860,"DNIT/MG","LANÇAMENTO MECÂNICO DE CONCRETO COM BOMBA LANÇA SOBRE CHASSI COM CAPACIDADE DE 45 M³/H - CONFECÇÃO EM CENTRAL DOSADORA DE 40 M³/H","m³",{"$f":"SUM(F223+F224+F225)","v":253.8},{"$f":"VLOOKUP(B226,'PREÇO UNITÁRIO'!$B$4:$F$124,5,0)","v":31.39},39.133913,7966.78,9932.19]
["5.2.2.9","ED-50430","DEER/MG","FORNECIMENTO E APLICAÇÃO DE GROUT PARA ANCORAGENS","m³",0.28800000000000003,{"$f":"VLOOKUP(B227,'PREÇO UNITÁRIO'!$B$4:$F$124,5,0)","v":272.01},339.11486699999995,78.34,97.67]
["5.2.2.10",92792,"SINAPI","CORTE E DOBRA DE AÇO CA-50, DIÂMETRO DE 6,3 MM, UTILIZADO EM ESTRUTURA S DIVERSAS","kg",1562,{"$f":"VLOOKUP(B228,'PREÇO UNITÁRIO'!$B$4:$F$124,5,0)","v":6.58},8.2032860000000003,10277.959999999999,12813.53]
["5.2.2.11",92793,"SINAPI","CORTE E DOBRA DE AÇO CA-50, DIÂMETRO DE 8,0 MM, UTILIZADO EM ESTRUTURA S DIVERSAS","kg",2991,{"$f":"VLOOKUP(B229,'PREÇO UNITÁRIO'!$B$4:$F$124,5,0)","v":6.38},7.9539459999999993,19082.580000000002,23790.25]
["5.2.2.12",92794,"SINAPI","CORTE E DOBRA DE AÇO CA-50, DIÂMETRO DE 10,0 MM, UTILIZADO EM ESTRUTURAS DIVERSAS","kg",9471,{"$f":"VLOOKUP(B230,'PREÇO UNITÁRIO'!$B$4:$F$124,5,0)","v":5.82},7.2557939999999999,55121.22,68719.62]
["5.2.2.13",92795,"SINAPI","CORTE E DOBRA DE AÇO CA-50, DIÂMETRO DE 12,5 MM, UTILIZADO EM ESTRUTURAS DIVERSAS","kg",7154,{"$f":"VLOOKUP(B231,'PREÇO UNITÁRIO'!$B$4:$F$124,5,0)","v":4.95},6.1711650000000002,35412.300000000003,44148.51]
["5.2.2.14",92796,"SINAPI","CORTE E DOBRA DE AÇO CA-50, DIÂMETRO DE 16,0 MM, UTILIZADO EM ESTRUTURAS DIVERSAS","kg",7751,{"$f":"VLOOKUP(B232,'PREÇO UNITÁRIO'!$B$4:$F$124,5,0)","v":4.87},6.0714289999999993,37747.370000000003,47059.65]
["5.2.2.15",92797,"SINAPI","CORTE E DOBRA DE AÇO CA-50, DIÂMETRO DE 20,0 MM, UTILIZADO EM ESTRUTURAS DIVERSAS","kg",4017,{"$f":"VLOOKUP(B233,'PREÇO UNITÁRIO'!$B$4:$F$124,5,0)","v":5.72},7.1311239999999989,22977.24,28645.73]
["5.2.2.16",92798,"SINAPI","CORTE E DOBRA DE AÇO CA-50, DIÂMETRO DE 25,0 MM, UTILIZADO EM ESTRUTURAS DIVERSAS","kg",334,{"$f":"VLOOKUP(B234,'PREÇO UNITÁRIO'!$B$4:$F$124,5,0)","v":5.7},7.1061899999999998,1903.8,2373.4699999999998]
["5.2.2.17",92880,"SINAPI","CORTE E DOBRA DE AÇO CA-25, DIÂMETRO DE 20,0 MM. AF_12/2015","kg",448,{"$f":"VLOOKUP(B235,'PREÇO UNITÁRIO'!$B$4:$F$124,5,0)","v":6.16},7.6796720000000001,2759.68,3440.49]
["5.2.2.18",307736,"DNIT/MG","JUNTA DE DILATAÇÃO EM PERFIL EXTRUDADO DE BORRACHA VULCANIZADA DE 40 X 70 MM - FORNECIMENTO E INSTALAÇÃO","m",20.6,{"$f":"VLOOKUP(B236,'PREÇO UNITÁRIO'!$B$4:$F$124,5,0)","v":1014.24},1264.453008,20893.34,26047.73]
["5.2.2.19",91790,"SINAPI","(COMPOSIÇÃO REPRESENTATIVA) DO SERVIÇO DE INSTALAÇÃO DE TUBOS DE PVC, SÉRIE R, ÁGUA PLUVIAL, DN 100 MM (INSTALADO EM RAMAL DE ENCAMINHAMENTO , OU CONDUTORES VERTICAIS), INCLUSIVE  CONEXÕES, CORTES E FIXAÇÕES, PARA PRÉDIOS. AF_10/2015 ","m",152.46,{"$f":"VLOOKUP(B237,'PREÇO UNITÁRIO'!$B$4:$F$124,5,0)","v":42.45},52.922415000000001,6471.93,8068.55]
["5.2.2.20",84154,"SINAPI","APARELHO APOIO NEOPRENE FRETADO ","dm³",45.12,{"$f":"VLOOKUP(B238,'PREÇO UNITÁRIO'!$B$4:$F$124,5,0)","v":109.31},136.27677699999998,4932.07,6148.81]
["5.2.2.21","73770/001","SINAPI","BARREIRA PRE-MOLDADA EXTERNA CONCRETO ARMADO 0,25X0,40X1,14M FCK=25MPA ACO CA-50 INCL VIGOTA HORIZONTAL MONTANTE A CADA 1,00M FERROS DE LIGACAO E MATERIAIS.","m",76.23,{"$f":"VLOOKUP(B239,'PREÇO UNITÁRIO'!$B$4:$F$124,5,0)","v":468.97},584.66489899999999,35749.58,44569.01]
["5.2.2.22","ED-50429","DEER/MG","LANÇAMENTO DE TABULEIRO PRÉ-MOLDADO","unid.",310,{"$f":"VLOOKUP(B240,'PREÇO UNITÁRIO'!$B$4:$F$124,5,0)","v":63.14},78.716637999999989,19573.400000000001,24402.16]
["5.2.2.23",4507956,"DNIT/MG","CORDOALHA CP 190 RB D = 12,7 MM - FORNECIMENTO, PREPARO E COLOCAÇÃO ","Kg",3903.2,{"$f":"VLOOKUP(B241,'PREÇO UNITÁRIO'!$B$4:$F$124,5,0)","v":9.19},11.457172999999999,35870.410000000003,44719.64]
["5.2.2.24",4508176,"DNIT/MG","BAINHA METÁLICA DIÂMETRO 95 MM PARA 19 CORDOALHAS D = 15,2 MM, SEMI-RÍGIDA, REDONDA, COM MONTAGEM E INJEÇÃO DE NATA DE CIMENTO","m",474.88,{"$f":"VLOOKUP(B242,'PREÇO UNITÁRIO'!$B$4:$F$124,5,0)","v":68.38},85.249345999999989,32472.29,40483.21]
["5.2.2.25",4507755,"DNIT/MG","ANCORAGEM ATIVA PARA 12 CORDOALHAS D = 12,7 MM COM PLACA DE ANCORAGEM, BLOCO, CUNHAS TRIPARTIDAS, TROMBETA E PROTENSÃO","unid.",32,{"$f":"VLOOKUP(B243,'PREÇO UNITÁRIO'!$B$4:$F$124,5,0)","v":1458},1817.6886,46656,58166.04]
["5.2.2.26","26.13.01.99","DER/SP","LANCAMENTO VIGA P<=50T-GUINDASTE AUTO PROPULSADO      ","unid.",4,{"$f":"VLOOKUP(B244,'PREÇO UNITÁRIO'!$B$4:$F$124,5,0)","v":9481.2000000000007},11820.21204,37924.800000000003,47280.85]
[{"$nulls":7},"TOTAL OAE",{"$f":"SUM(I209+I218)","v":707323.59},{"$f":"SUM(J209+J218)","v":881820.35000000009}]
[]
["5.3","MATERIAIS E TRANSPORTE PARA PAVIMENTAÇÃO ASFÁLTICA (PARA USINA EM MONTES CLAROS)"]
["5.3.1","CAP - CIMENTO ASFÁLTICO",{"$nulls":6},{"$f":"SUM(I249:I250)","v":4790.3999999999996},{"$f":"SUM(J249:J250)","v":5972.1900000000005}]
["5.3.1.1","72849","SINAPI","CARGA, MANOBRAS E DESCARGA DE MISTURAS DE SOLOS E AGREGADOS (BASES ESTABILIZADAS EM USINA) COM CAMINHAO BASCULANTE 6 M3","t",15,{"$f":"VLOOKUP(B249,'PREÇO UNITÁRIO'!$B$4:$F$124,5,0)","v":1.81},{"$f":"G249*(1+$J$4)","v":2.2565269999999997},{"$f":"ROUND(F249*G249,2)","v":27.15},{"$f":"ROUND(F249*H249,2)","v":33.85}]
["5.3.1.2","72884","SINAPI","TRANSPORTE COMERCIAL COM CAMINHAO CARROCERIA 9 T (435KM)","m³*km",{"$f":"F249*L250","v":6525},{"$f":"VLOOKUP(B250,'PREÇO UNITÁRIO'!$B$4:$F$124,5,0)","v":0.73},0.91009099999999987,4763.25,{"$f":"ROUND(F250*H250,2)","v":5938.34},"VER DMT. ADOTEI >>>>>>>",{"$f":"TRANSPORTES!D11","v":435}]
["5.3.2","AREIA",{"$nulls":6},{"$f":"SUM(I252:I253)","v":7144.88},{"$f":"SUM(J252:J253)","v":8907.52}]
["5.3.2.1","72888","SINAPI","CARGA, MANOBRAS E DESCARGA DE AREIA, BRITA, PEDRA DE MAO E SOLOS COM CAMINHAO BASCULANTE 6 M3 (DESCARGA LIVRE)","m³",67,{"$f":"VLOOKUP(B252,'PREÇO UNITÁRIO'!$B$4:$F$124,5,0)","v":0.79},{"$f":"G252*(1+$J$4)","v":0.98489300000000002},{"$f":"ROUND(F252*G252,2)","v":52.93},{"$f":"ROUND(F252*H252,2)","v":65.989999999999995}]
["5.3.2.2","72884","SINAPI","TRANSPORTE COMERCIAL COM CAMINHAO CARROCERIA 9 T (145KM)","m³*km",{"$f":"F252*L253","v":9715},{"$f":"VLOOKUP(B253,'PREÇO UNITÁRIO'!$B$4:$F$124,5,0)","v":0.73},0.91009099999999987,7091.95,{"$f":"ROUND(F253*H253,2)","v":8841.5300000000007},"VER DMT. ADOTEI >>>>>>>",{"$f":"TRANSPORTES!D6","v":145}]
["5.3.3","BRITA",{"$nulls":6},{"$f":"SUM(I255:I256)","v":730.13},{"$f":"SUM(J255:J256)","v":910.25}]
["5.3.3.1","72888","SINAPI","CARGA, MANOBRAS E DESCARGA DE AREIA, BRITA, PEDRA DE MAO E SOLOS COM CAMINHAO BASCULANTE 6 M3 (DESCARGA LIVRE)","m³",90.25,{"$f":"VLOOKUP(B255,'PREÇO UNITÁRIO'!$B$4:$F$124,5,0)","v":0.79},{"$f":"G255*(1+$J$4)","v":0.98489300000000002},{"$f":"ROUND(F255*G255,2)","v":71.3},{"$f":"ROUND(F255*H255,2)","v":88.89}]
["5.3.3.2","72884","SINAPI","TRANSPORTE COMERCIAL COM CAMINHAO CARROCERIA 9 T (10KM)","m³*km",{"$f":"F255*L256","v":902.5},{"$f":"VLOOKUP(B256,'PREÇO UNITÁRIO'!$B$4:$F$124,5,0)","v":0.73},0.91009099999999987,658.83,{"$f":"ROUND(F256*H256,2)","v":821.36},"VER DMT. ADOTEI >>>>>>>",{"$f":"TRANSPORTES!D7","v":10}]
[{"$nulls":7},"TOTAL DE MATERIAIS DO CONCRETO",{"$f":"SUM(I248+I251+I254)","v":12665.409999999998},{"$f":"SUM(J248+J251+J254)","v":15789.960000000001}]
[]
["5.4","PAVIMENTAÇÃO ASFÁLTICA"]
["5.4.1","PAVIMENTO FLEXIVEL - NOVO E RECUPERAÇÃO",{"$nulls":6},{"$f":"SUM(I261:I276)","v":158019.63},{"$f":"SUM(J261:J276)","v":197003.10999999996}]
["5.4.1.1","83338","SINAPI","ESCAVACAO MECANICA, A CEU ABERTO, EM MATERIAL DE 1A CATEGORIA, COM ESCAVADEIRA HIDRAULICA, CAPACIDADE DE 0,78 M3 - CORTE","m³",202.8,{"$f":"VLOOKUP(B261,'PREÇO UNITÁRIO'!$B$4:$F$124,5,0)","v":2.12},{"$f":"G261*(1+$J$4)","v":2.6430039999999999},{"$f":"ROUND(F261*G261,2)","v":429.94},{"$f":"ROUND(F261*H261,2)","v":536}]
["5.4.1.2","83338","SINAPI","ESCAVACAO MECANICA, A CEU ABERTO, EM MATERIAL DE 1A CATEGORIA, COM ESCAVADEIRA HIDRAULICA, CAPACIDADE DE 0,78 M3 - CORTE JAZIDA","m³",807.09,{"$f":"VLOOKUP(B262,'PREÇO UNITÁRIO'!$B$4:$F$124,5,0)","v":2.12},2.6430039999999999,1711.03,2133.14]
["5.4.1.3","RO-40251","DEER/MG","COMPACTAÇÃO DE ATERRO A 100% PROCTOR NORMAL","m³",807.09,{"$f":"VLOOKUP(B263,'PREÇO UNITÁRIO'!$B$4:$F$124,5,0)","v":3.14},3.9146380000000001,2534.2600000000002,3159.47]
["5.4.1.4","RO-43112","DEER/MG","SUB-BASE, SEMMISTURA, COMPACTADA NA ENERGIA DO PROCTOR INTERMEDIÁRIO (EXECUÇÃO, INCLUINDO ESCAVAÇÃO, CARGA, DESCARGA, ESPALHAMENTO, UMIDECIMENTO E COMPACTAÇÃO DO MATERIAL; EXCLUI AQUISIÇÃO E TRANSPORTE DO MATERIAL)","m³",252.67,{"$f":"VLOOKUP(B264,'PREÇO UNITÁRIO'!$B$4:$F$124,5,0)","v":14.05},17.516134999999998,3550.01,4425.8]
["5.4.1.5","RO-43113","DEER/MG","BASE DE SOLO SEM MISTURA, COMPACTADA NA ENERGIA DO PROCTOR INTERMEDIÁRIO (EXECUÇÃO, INCLUINDO ESCAVAÇÃO, CARGA, DESCARGA, ESPALHAMENTO, UMIDECIMENTO E COMPACTAÇÃO DO MATERIAL; EXCLUI AQUISIÇÃO E TRANSPORTEDO MATERIAL)","m³",252.67,{"$f":"VLOOKUP(B265,'PREÇO UNITÁRIO'!$B$4:$F$124,5,0)","v":14.05},17.516134999999998,3550.01,4425.8]
["5.4.1.6","96401","SINAPI","EXECUÇÃO DE IMPRIMAÇÃO COM ASFALTO DILUÍDO CM-30. AF_09/2017","m²",1924.22,{"$f":"VLOOKUP(B266,'PREÇO UNITÁRIO'!$B$4:$F$124,5,0)","v":6.65},8.2905549999999995,12796.06,15952.85]
["5.4.1.7",93176,"SINAPI","TRANSPORTE DE MATERIAL ASFALTICO, COM CAMINHÃO COM CAPACIDADE DE 30000 L EM RODOVIA PAVIMENTADA. AF_02/2016 (P/ ITEM 6.1.6) (ORIUNDO DE BETIM/MG DISTANTE 377KM DIRETO PARA OBRA B)","txkm",{"$f":"SUM(F266*0.0012)*L267","v":870.51712799999996},{"$f":"VLOOKUP(B267,'PREÇO UNITÁRIO'!$B$4:$F$124,5,0)","v":0.47},0.58594899999999994,409.14,510.08,"VER DMT. ADOTEI >>>>>>>",{"$f":"TRANSPORTES!F12","v":377}]
["5.4.1.8",93178,"SINAPI","TRANSPORTE DE MATERIAL ASFALTICO, COM CAMINHÃO COM CAPACIDADE DE 30000 TXKM L EM RODOVIA NÃO PAVIMENTADA PARA DISTÂNCIAS MÉDIAS DE TRANSPORTE SUPERIORES A 100 KM. AF_02/2016  (9KM EM TERRA) B)","txkm",{"$f":"SUM(F266*0.0012)*L268","v":20.781575999999998},{"$f":"VLOOKUP(B268,'PREÇO UNITÁRIO'!$B$4:$F$124,5,0)","v":0.53},0.66075099999999998,11.01,13.73,"VER DMT. ADOTEI >>>>>>>",{"$f":"TRANSPORTES!J12","v":9}]
["5.4.1.9","72942","SINAPI","PINTURA DE LIGACAO COM EMULSAO RR-1C","m²",1924.22,{"$f":"VLOOKUP(B269,'PREÇO UNITÁRIO'!$B$4:$F$124,5,0)","v":1.6},1.99472,3078.75,3838.28]
["5.4.1.10",93176,"SINAPI","TRANSPORTE DE MATERIAL ASFALTICO, COM CAMINHÃO COM CAPACIDADE DE 30000 L EM RODOVIA PAVIMENTADA. AF_02/2016 (P/ ITEM 6.1.9) (ORIUNDO DE BETIM/MG DISTANTE 377KM DIRETO PARA OBRA B)","txkm",{"$f":"SUM(F269*0.0012)*L270","v":870.51712799999996},{"$f":"VLOOKUP(B270,'PREÇO UNITÁRIO'!$B$4:$F$124,5,0)","v":0.47},0.58594899999999994,409.14,510.08,"VER DMT. ADOTEI >>>>>>>",{"$f":"TRANSPORTES!F13","v":377}]
["5.4.1.11",93178,"SINAPI","TRANSPORTE DE MATERIAL ASFALTICO, COM CAMINHÃO COM CAPACIDADE DE 30000 TXKM L EM RODOVIA NÃO PAVIMENTADA PARA DISTÂNCIAS MÉDIAS DE TRANSPORTE SUPERIORES A 100 KM. AF_02/2016 (9KM EM TERRA) B)","txkm",{"$f":"SUM(F269*0.0012)*L271","v":20.781575999999998},{"$f":"VLOOKUP(B271,'PREÇO UNITÁRIO'!$B$4:$F$124,5,0)","v":0.53},0.66075099999999998,11.01,13.73,"VER DMT. ADOTEI >>>>>>>",{"$f":"TRANSPORTES!J13","v":9}]
["5.4.1.12",95995,"SINAPI","CONSTRUÇÃO DE PAVIMENTO COM APLICAÇÃO DE CONCRETO BETUMINOSO USINADO A QUENTE (CBUQ), CAMADA DE ROLAMENTO, COM ESPESSURA DE 5,0 CM - EXCLUSIVE TRANSPORTE. AF_03/2017 (PAVIMENTAÇÃO ESTRADA)","m³",84.22,{"$f":"VLOOKUP(B272,'PREÇO UNITÁRIO'!$B$4:$F$124,5,0)","v":997.69},1243.820123,84025.45,104754.53]
["5.4.1.13",95995,"SINAPI","CONSTRUÇÃO DE PAVIMENTO COM APLICAÇÃO DE CONCRETO BETUMINOSO USINADO A QUENTE (CBUQ), CAMADA DE ROLAMENTO, COM ESPESSURA DE 5,0 CM - EXCLUSIVE TRANSPORTE. AF_03/2017 (PAVIMENTAÇÃO OAE)","m³",24,{"$f":"VLOOKUP(B273,'PREÇO UNITÁRIO'!$B$4:$F$124,5,0)","v":997.69},1243.820123,23944.560000000001,29851.68]
["5.4.1.14",93176,"SINAPI","TRANSPORTE DE MATERIAL ASFALTICO, COM CAMINHÃO COM CAPACIDADE DE 30000 L EM RODOVIA PAVIMENTADA. AF_02/2016 (P/ ITEM 2.1.12) (DE MONTES CLAROS/MG ATÉ JEQUITAÍ/MG - DIST. 111KM)","txkm",{"$f":"(F272+F273)*2.4*L274","v":28829.808000000001},{"$f":"VLOOKUP(B274,'PREÇO UNITÁRIO'!$B$4:$F$124,5,0)","v":0.47},0.58594899999999994,13550.01,16892.8,"VER DMT. ADOTEI >>>>>>>",{"$f":"TRANSPORTES!E10","v":111}]
["5.4.1.15",93178,"SINAPI","TRANSPORTE DE MATERIAL ASFALTICO, COM CAMINHÃO COM CAPACIDADE DE 30000 TXKM L EM RODOVIA NÃO PAVIMENTADA PARA DISTÂNCIAS MÉDIAS DE TRANSPORTE SUPERIORES A 100 KM. AF_02/2016 (DE JEQUITAÍ ATÉ ÁREA B - 21KM)","txkm",{"$f":"(F272+F273)*2.4*L275","v":5454.2880000000005},{"$f":"VLOOKUP(B275,'PREÇO UNITÁRIO'!$B$4:$F$124,5,0)","v":0.53},0.66075099999999998,2890.77,3603.93,"VER DMT. ADOTEI >>>>>>>",{"$f":"TRANSPORTES!I10","v":21}]
["5.4.1.16","RO-41344","DEER/MG","TRANSPORTE DE MATERIAL DE JAZIDA PARA CONSERVAÇÃO. DISTÂNCIA MÉDIA DE TRANSPORTE > 50,10 KM (ESCAVAÇÃO+BASE E SUB BASE) - 5,0KM.","m³xkm",{"$f":"SUM(F262+F264+F265)*L276","v":6562.1500000000005},{"$f":"VLOOKUP(B276,'PREÇO UNITÁRIO'!$B$4:$F$124,5,0)","v":0.78},0.97242600000000001,5118.4799999999996,6381.21,"VER DMT. ADOTEI >>>>>>>",5,"BUSCAR JAZIDA PRÓXIMA"]
[{"$nulls":7},"TOTAL PAVIMENTAÇÃO ASFÁLTICA",{"$f":"SUM(I260)","v":158019.63},{"$f":"SUM(J260)","v":197003.10999999996}]
[]
["5.5"," COMPLEMENTARES"]
["5.5.1","RECOMPOSIÇÃO DE DIVISAS",{"$nulls":6},{"$f":"SUM(I281)","v":4984.7299999999996},{"$f":"SUM(J281)","v":6214.47}]
["5.5.1.1","74039/001","SINAPI","CERCA COM MOUROES DE MADEIRA ROLICA, DIAMETRO 11CM, ESPACAMENTO DE 2M, ALTURA LIVRE DE 1M, CRAVADOS 0,5M, COM 5 FIOS DE ARAME FARPADO Nº 14 CLASSE 250","m",189.75,{"$f":"VLOOKUP(B281,'PREÇO UNITÁRIO'!$B$4:$F$124,5,0)","v":26.27},{"$f":"G281*(1+$J$4)","v":32.750808999999997},{"$f":"ROUND(F281*G281,2)","v":4984.7299999999996},{"$f":"ROUND(F281*H281,2)","v":6214.47}]
[{"$nulls":7},"TOTAL COMPLEMENTARES",{"$f":"SUM(I280)","v":4984.7299999999996},{"$f":"SUM(J280)","v":6214.47}]
[]
["5.6","SINALIZAÇÃO DE OBRA E DEFINITIVA"]
["5.6.1","SINALIZAÇÃO DE OBRA",{"$nulls":6},{"$f":"SUM(I286:I290)","v":20289.23},{"$f":"SUM(J286:J290)","v":25294.57}]
["5.6.1.1",97051,"SINAPI","SINALIZAÇÃO COM FITA FIXADA NA ESTRUTURA. AF_11/2017","m",3000,{"$f":"VLOOKUP(B286,'PREÇO UNITÁRIO'!$B$4:$F$124,5,0)","v":0.5},{"$f":"G286*(1+$J$4)","v":0.62334999999999996},{"$f":"ROUND(F286*G286,2)","v":1500},{"$f":"ROUND(F286*H286,2)","v":1870.05}]
["5.6.1.2","RO-41841","DEER/MG","PLACA DE AÇO CARBONO COM PELÍCULA REFLETIVA GRAU TÉCNICO TIPO I DA ABNT - PLACA CIRCULAR (EXECUÇÃO, INCLUINDO FORNECIMENTO E TRANSPORTE DE TODOS OS MATERIAIS, INCLUSIVE POSTE DE SUSTENTAÇÃO)","m²",0.78,{"$f":"VLOOKUP(B287,'PREÇO UNITÁRIO'!$B$4:$F$124,5,0)","v":341.61},425.88518699999997,266.45999999999998,{"$f":"ROUND(F287*H287,2)","v":332.19}]
["5.6.1.3","RO-41844","DEER/MG","PLACA DE AÇO CARBONO COM PELÍCULA REFLETIVA GRAU TÉCNICO TIPO I DA ABNT - PLACA QUADRADA (EXECUÇÃO, INCLUINDO FORNECIMENTO E TRANSPORTE DE TODOS OS MATERIAIS, INCLUSIVE POSTE DE SUSTENTAÇÃO)","m²",15.89,{"$f":"VLOOKUP(B288,'PREÇO UNITÁRIO'!$B$4:$F$124,5,0)","v":331.13},412.81977099999995,5261.66,{"$f":"ROUND(F288*H288,2)","v":6559.71}]
["5.6.1.4","RO-43226","DEER/MG","COLOCAÇÃO DE PLACAS","m²",16.670000000000002,{"$f":"VLOOKUP(B289,'PREÇO UNITÁRIO'!$B$4:$F$124,5,0)","v":65.77},81.995458999999997,1096.3900000000001,{"$f":"ROUND(F289*H289,2)","v":1366.86}]
["5.6.1.5","85424","SINAPI","ISOLAMENTO DE OBRA COM TELA PLASTICA COM MALHA DE 5MM E ESTRUTURA DE MADEIRA PONTALETEADA","m",584,{"$f":"VLOOKUP(B290,'PREÇO UNITÁRIO'!$B$4:$F$124,5,0)","v":20.83},25.968760999999997,12164.72,{"$f":"ROUND(F290*H290,2)","v":15165.76}]
["5.6.2","SINALIZAÇÃO DEFINITIVA HORIZONTAL",{"$nulls":6},{"$f":"SUM(I292:I293)","v":207.60000000000002},{"$f":"SUM(J292:J293)","v":258.81}]
["5.6.2.1","RO-41237               OBR-VIA-245","DEER/MG","LINHAS DE RESINA ACRILICA 0,6MM DE ESPESSURA E LARGURA = 0,10M (EXECUÇÃO, INCLUSIVE PRÉ-MARCAÇÃO, FORNECIMENTO E TRANSPORTE DE TODOS OS MATERIAIS) - LINHAS BRANCAS","m²",40,{"$f":"VLOOKUP(B292,'PREÇO UNITÁRIO'!$B$4:$F$124,5,0)","v":1.73},{"$f":"G292*(1+$J$4)","v":2.1567909999999997},{"$f":"ROUND(F292*G292,2)","v":69.2},{"$f":"ROUND(F292*H292,2)","v":86.27}]
["5.6.2.2","RO-41237               OBR-VIA-245","DEER/MG","LINHAS DE RESINA ACRILICA 0,6MM DE ESPESSURA E LARGURA = 0,10M (EXECUÇÃO, INCLUSIVE PRÉ-MARCAÇÃO, FORNECIMENTO E TRANSPORTE DE TODOS OS MATERIAIS) - LINHAS AMARELAS","m²",80,{"$f":"VLOOKUP(B293,'PREÇO UNITÁRIO'!$B$4:$F$124,5,0)","v":1.73},2.1567909999999997,138.4,{"$f":"ROUND(F293*H293,2)","v":172.54}]
["5.6.3","SINALIZAÇÃO DEFINITIVA VERTICAL",{"$nulls":6},{"$f":"SUM(I295:I297)","v":555.78},{"$f":"SUM(J295:J297)","v":692.89}]
["5.6.3.1","RO-41841","DEER/MG","PLACA DE AÇO CARBONO COM PELÍCULA REFLETIVA GRAU TÉCNICO TIPO I DA ABNT - PLACA CIRCULAR (EXECUÇÃO, INCLUINDO FORNECIMENTO E TRANSPORTE DE TODOS OS MATERIAIS, INCLUSIVE POSTE DE SUSTENTAÇÃO)","m²",0.39,{"$f":"VLOOKUP(B295,'PREÇO UNITÁRIO'!$B$4:$F$124,5,0)","v":341.61},{"$f":"G295*(1+$J$4)","v":425.88518699999997},{"$f":"ROUND(F295*G295,2)","v":133.22999999999999},{"$f":"ROUND(F295*H295,2)","v":166.1}]
["5.6.3.2","RO-41844","DEER/MG","PLACA DE AÇO CARBONO COM PELÍCULA REFLETIVA GRAU TÉCNICO TIPO I DA ABNT - PLACA QUADRADA (EXECUÇÃO, INCLUINDO FORNECIMENTO E TRANSPORTE DE TODOS OS MATERIAIS, INCLUSIVE POSTE DE SUSTENTAÇÃO)","m²",1,{"$f":"VLOOKUP(B296,'PREÇO UNITÁRIO'!$B$4:$F$124,5,0)","v":331.13},412.81977099999995,331.13,{"$f":"ROUND(F296*H296,2)","v":412.82}]
["5.6.3.3","RO-43226","DEER/MG","COLOCAÇÃO DE PLACAS","m²",1.39,{"$f":"VLOOKUP(B297,'PREÇO UNITÁRIO'!$B$4:$F$124,5,0)","v":65.77},81.995458999999997,91.42,{"$f":"ROUND(F297*H297,2)","v":113.97}]
["5.6.4","DISPOSITIVOS DE SEGURANÇA",{"$nulls":6},{"$f":"SUM(I299:I300)","v":5110.8399999999992},{"$f":"SUM(J299:J300)","v":6371.6799999999994}]
["5.6.4.1","RO-41763","DEER/MG","DEFENSA SINGELA SEMI-MALEÁVEL SV-DSM-02 (EXECUÇÃO, INCLUINDO FORNECIMENTO, COLOCAÇÃO E TRANSPORTE DE TODOS OS MATERIAIS)","m",19,{"$f":"VLOOKUP(B299,'PREÇO UNITÁRIO'!$B$4:$F$124,5,0)","v":265.94},{"$f":"G299*(1+$J$4)","v":331.54739799999999},{"$f":"ROUND(F299*G299,2)","v":5052.8599999999997},{"$f":"ROUND(F299*H299,2)","v":6299.4}]
["5.6.4.2","28.10.01.99","DER/SP","FORN./INSTAL. BALIZ.(CATADIOPTRICO) P/DEF. MET. C/PELICULA GT+GT, CONF.OP-06-05","un.",2,{"$f":"VLOOKUP(B300,'PREÇO UNITÁRIO'!$B$4:$F$124,5,0)","v":28.99},36.141832999999998,57.98,{"$f":"ROUND(F300*H300,2)","v":72.28}]
[{"$nulls":7},"TOTAL SINALIZAÇÃO DE OBRA E DEFINITIVA",{"$f":"SUM(I285+I291+I294+I298)","v":26163.449999999997},{"$f":"SUM(J285+J291+J294+J298)","v":32617.95}]
[]
[{"$nulls":7},"TOTAL - PONTE B",{"$f":"I301+I282+I277+I257+I245+I206","v":928125.21},{"$f":"J301+J282+J277+J257+J245+J206","v":1157093.75}]
[]
["6 - PONTE C"]
["6.1","OBRAS DE ARTE CORRENTE E DRENAGEM"]
["6.1.1","VALETA DE PROTEÇÃO DE ATERRO",{"$nulls":6},{"$f":"SUM(I308)","v":41497.72},{"$f":"SUM(J308)","v":51735.21}]
["6.1.1.1","RO-40514","DEER/MG","VALETA DE PROTEÇÃO DE ATERRO TIPO DR.VPA (EXECUÇÃO,INCLUINDO ESCAVAÇÃO)","m",1628,{"$f":"VLOOKUP(B308,'PREÇO UNITÁRIO'!$B$4:$F$124,5,0)","v":25.49},{"$f":"G308*(1+$J$4)","v":31.778382999999994},{"$f":"ROUND(F308*G308,2)","v":41497.72},{"$f":"ROUND(F308*H308,2)","v":51735.21}]
["6.1.2","DISSIPADOR DE ENERGIA",{"$nulls":6},{"$f":"SUM(I310)","v":1025.44},{"$f":"SUM(J310)","v":1278.42}]
["6.1.2.1","2003441","DNIT/MG","DISSIPADOR DE ENERGIA DE 501 - AREIA E PEDRA DE MÃO COMERCIAIS","und",8,{"$f":"VLOOKUP(B310,'PREÇO UNITÁRIO'!$B$4:$F$124,5,0)","v":128.18},{"$f":"G310*(1+$J$4)","v":159.80200600000001},{"$f":"ROUND(F310*G310,2)","v":1025.44},{"$f":"ROUND(F310*H310,2)","v":1278.42}]
["6.1.3","SARJETA DE CONCRETO ATERRO",{"$nulls":6},{"$f":"SUM(I312)","v":79842.5},{"$f":"SUM(J312)","v":99539.64}]
["6.1.3.1","RO-40613","DEER/MG","SARJETA DE CONCRETO EM ATERRO,TIPO DR.SCA- X/Y. LARGURA=60CM TIPO 30/10 (EXECUÇÃO, INCLUINDO ESCAVAÇÃO, FORNECIMENTO, TRANSPORTE E PLANTIO DA GRAMA)","m",2725,{"$f":"VLOOKUP(B312,'PREÇO UNITÁRIO'!$B$4:$F$124,5,0)","v":29.3},{"$f":"G312*(1+$J$4)","v":36.528309999999998},{"$f":"ROUND(F312*G312,2)","v":79842.5},{"$f":"ROUND(F312*H312,2)","v":99539.64}]
["6.1.4","SARJETA DE CONCRETO CORTE",{"$nulls":6},{"$f":"SUM(I314)","v":17839.8},{"$f":"SUM(J314)","v":22240.880000000001}]
["6.1.4.1","RO-40661","DEER/MG","SARJETA DE CONCRETO EM CORTE TIPO DR.SCC-X/Y. LARGURA=90CM TIPO80/10 (EXECUÇÃO, INCLUINDOESCAVAÇÃO, FORNECIMENTO E TRANSPORTE DE TODOS OS MATERIAIS)","m",396,{"$f":"VLOOKUP(B314,'PREÇO UNITÁRIO'!$B$4:$F$124,5,0)","v":45.05},{"$f":"G314*(1+$J$4)","v":56.163834999999992},{"$f":"ROUND(F314*G314,2)","v":17839.8},{"$f":"ROUND(F314*H314,2)","v":22240.880000000001}]
["6.1.5","CANALETA",{"$nulls":6},{"$f":"SUM(I316)","v":947.92},{"$f":"SUM(J316)","v":1181.77}]
["6.1.5.1","ED-14723","DEER/MG","CANALETA PARA DRENAGEM, EM CONCRETO COM FCK 15MPA, MOLDADA IN LOCO, SEÇÃO 60X60CM, FORMA EM CONTRA BARRANCO, EXCLUSIVE TAMPA, INCLUSIVE ESCAVAÇÃO, REATERRO COM TRANSPORTE E RETIRADA DO MATERIAL ESCAVADO (EM CAÇAMBA)","m",4,{"$f":"VLOOKUP(B316,'PREÇO UNITÁRIO'!$B$4:$F$124,5,0)","v":236.98},{"$f":"G316*(1+$J$4)","v":295.44296599999996},{"$f":"ROUND(F316*G316,2)","v":947.92},{"$f":"ROUND(F316*H316,2)","v":1181.77}]
["6.1.6","DESCIDA D'ÁGUA",{"$nulls":6},{"$f":"SUM(I318)","v":22292.27},{"$f":"SUM(J318)","v":27791.77}]
["6.1.6.1","ED-48598","DEER/MG","DESCIDA D´ÁGUA TIPO CALHA DN 500, EXCLUSIVE BOTA FORA","m",77,{"$f":"VLOOKUP(B318,'PREÇO UNITÁRIO'!$B$4:$F$124,5,0)","v":289.51},{"$f":"G318*(1+$J$4)","v":360.93211699999995},{"$f":"ROUND(F318*G318,2)","v":22292.27},{"$f":"ROUND(F318*H318,2)","v":27791.77}]
[{"$nulls":7},"TOTAL OBRAS DE ARTE CORRENTE E DRENAGEM",{"$f":"SUM(I307+I309+I311+I313+I315+I317)","v":163445.65},{"$f":"SUM(J307+J309+J311+J313+J315+J317)","v":203767.68999999997}]
[]
["6.2","OBRAS DE ARTE ESPECIAIS"]
["6.2.1","INFRA ESTRUTURA",{"$nulls":6},{"$f":"SUM(I323:I334)","v":2073172.43},{"$f":"SUM(J323:J334)","v":2584624.08}]
["6.2.1.1","72917","SINAPI","ESCAVACAO MECANICA DE VALA EM MATERIAL 2A CATEGORIA COM UTILIZACAO DE ESCAVADEIRA HIDRAULICA","m³",1127.51,{"$f":"VLOOKUP(B323,'PREÇO UNITÁRIO'!$B$4:$F$124,5,0)","v":10.35},{"$f":"G323*(1+$J$4)","v":12.903344999999998},{"$f":"ROUND(F323*G323,2)","v":11669.73},{"$f":"ROUND(F323*H323,2)","v":14548.65}]
["6.2.1.2","93382","SINAPI","REATERRO MANUAL DE VALAS COM COMPACTAÇÃO MECANIZADA. AF_04/2016","m³",1084.03,{"$f":"VLOOKUP(B324,'PREÇO UNITÁRIO'!$B$4:$F$124,5,0)","v":24.07},30.008068999999999,26092.6,32529.65]
["6.2.1.3","83534","SINAPI","LASTRO DE CONCRETO, PREPARO MECÂNICO, INCLUSOS ADITIVO IMPERMEABILIZANTE, LANÇAMENTO E ADENSAMENTO","m³",5.22,{"$f":"VLOOKUP(B325,'PREÇO UNITÁRIO'!$B$4:$F$124,5,0)","v":427.75},533.27592499999992,2232.86,2783.7]
["6.2.1.4","5914569","DNIT/MG","TRANSPORTE COM CAMINHÃO BETONEIRA - RODOVIA PAVIMENTADA (Entre Bocaiúva/MG e Francisco Dumont/MG - 69,00km)","txkm",{"$f":"SUM(F328*2.4)*L326","v":5945.04},{"$f":"VLOOKUP(B326,'PREÇO UNITÁRIO'!$B$4:$F$124,5,0)","v":0.36},0.44881199999999993,2140.21,2668.21,"VER DMT. ADOTEI >>>>>>>",{"$f":"TRANSPORTES!F15","v":69}]
["6.2.1.5","5914539","DNIT/MG","TRANSPORTE COM CAMINHÃO BETONEIRA - RODOVIA EM LEITO NATURAL (Entre Francisco Dumont/MG e Área C - 6,00km)","txkm",{"$f":"SUM(F328*2.4)*L327","v":516.96},{"$f":"VLOOKUP(B327,'PREÇO UNITÁRIO'!$B$4:$F$124,5,0)","v":0.55000000000000004},0.68568499999999999,284.33,354.47,"VER DMT. ADOTEI >>>>>>>",{"$f":"TRANSPORTES!L15","v":6}]
["6.2.1.6",1106280,"DNIT/MG","CONCRETO PARA BOMBEAMENTO FCK = 30 MPA - CONFECÇÃO EM CENTRAL DOSADORA DE 30 M³/H - AREIA E BRITA COMERCIAIS","m³",35.9,{"$f":"VLOOKUP(B328,'PREÇO UNITÁRIO'!$B$4:$F$124,5,0)","v":270.39999999999998},{"$f":"G328*(1+$J$4)","v":337.10767999999996},9707.36,12102.17]
["5.2.1.7",1107860,"DNIT/MG","LANÇAMENTO MECÂNICO DE CONCRETO COM BOMBA LANÇA SOBRE CHASSI COM CAPACIDADE DE 45 M³/H - CONFECÇÃO EM CENTRAL DOSADORA DE 40 M³/H","m³",{"$f":"F328","v":35.9},{"$f":"VLOOKUP(B329,'PREÇO UNITÁRIO'!$B$4:$F$124,5,0)","v":31.39},{"$f":"G329*(1+$J$4)","v":39.133913},1126.9000000000001,1404.91]
["6.2.1.7","92270","SINAPI","FABRICAÇÃO DE FÔRMA PARA VIGAS, COM MADEIRA SERRADA, E = 25 MM. AF_12/2015","m²",18.899999999999999,{"$f":"VLOOKUP(B330,'PREÇO UNITÁRIO'!$B$4:$F$124,5,0)","v":79.11},98.626436999999996,1495.18,1864.04]
["6.2.1.8",5406023,"(DNIT/MG)","MURO DE ESCAMA DE CONCRETO ARMADO EM SOLO REFORÇADO COM FITA METÁLICA COM ALTURA ATÉ 4 M - TIPO 1 - AREIA E BRITA COMERCIAIS","m²",3915.7,{"$f":"VLOOKUP(B331,'PREÇO UNITÁRIO'!$B$4:$F$124,5,0)","v":340.3},424.25200999999998,1332512.71,1661243.6]
["6.2.1.9",5406025,"(DNIT/MG)","MURO DE ESCAMA DE CONCRETO ARMADO EM SOLO REFORÇADO COM FITA METÁLICA COM ALTURA DE 4 A 6M - TIPO 1 - AREIA E BRITA COMERCIAIS","m²",1313.24,{"$f":"VLOOKUP(B332,'PREÇO UNITÁRIO'!$B$4:$F$124,5,0)","v":310.44},387.02554799999996,407682.23,508257.43]
["6.2.1.10",5406027,"(DNIT/MG)","MURO DE ESCAMA DE CONCRETO ARMADO EM SOLO REFORÇADO COM FITA METÁLICA COM ALTURA DE 6 A 8M - TIPO 1 - AREIA E BRITA COMERCIAIS","m²",716.59,{"$f":"VLOOKUP(B333,'PREÇO UNITÁRIO'!$B$4:$F$124,5,0)","v":304.75},379.931825,218380.79999999999,272255.34999999998]
["6.2.1.11",5406029,"(DNIT/MG)","MURO DE ESCAMA DE CONCRETO ARMADO EM SOLO REFORÇADO COM FITA METÁLICA COM ALTURA DE 8 A 10M - TIPO 1 - AREIA E BRITA COMERCIAIS","m²",198.44,{"$f":"VLOOKUP(B334,'PREÇO UNITÁRIO'!$B$4:$F$124,5,0)","v":301.58999999999997},375.99225299999995,59847.519999999997,74611.899999999994]
["6.2.2","MESO E SUPER ESTRUTURA",{"$nulls":6},{"$f":"SUM(I336:I361)","v":2327605.0799999996},{"$f":"SUM(J336:J361)","v":2901825.26}]
["6.2.2.1",92263,"SINAPI","FABRICAÇÃO DE FÔRMA PARA PILARES E ESTRUTURAS SIMILARES, EM CHAPA DE MADEIRA COMPENSADA RESINADA, E = 17 MM. AF_12/2015","m²",5975.81,{"$f":"VLOOKUP(B336,'PREÇO UNITÁRIO'!$B$4:$F$124,5,0)","v":89.2},{"$f":"G336*(1+$J$4)","v":111.20564},{"$f":"ROUND(F336*G336,2)","v":533042.25},{"$f":"ROUND(F336*H336,2)","v":664543.78}]
["6.2.2.2","83534","SINAPI","LASTRO DE CONCRETO, PREPARO MECÂNICO, INCLUSOS ADITIVO IMPERMEABILIZANTE, LANÇAMENTO E ADENSAMENTO","m³",5.3420750000000004,{"$f":"VLOOKUP(B337,'PREÇO UNITÁRIO'!$B$4:$F$124,5,0)","v":427.75},533.27592499999992,2285.0700000000002,2848.8]
["6.2.2.3","5914569","DNIT/MG","TRANSPORTE COM CAMINHÃO BETONEIRA - RODOVIA PAVIMENTADA (Entre Bocaiúva/MG e Francisco Dumont/MG - 69,00km)","txkm",{"$f":"SUM(F340:F342)*2.4*L338","v":149609.66399999999},{"$f":"VLOOKUP(B338,'PREÇO UNITÁRIO'!$B$4:$F$124,5,0)","v":0.36},0.44881199999999993,53859.48,67146.61,"VER DMT. ADOTEI >>>>>>>",{"$f":"L326","v":69}]
["6.2.2.4","5914539","DNIT/MG","TRANSPORTE COM CAMINHÃO BETONEIRA - RODOVIA EM LEITO NATURAL (Entre Francisco Dumont/MG e Área C - 6,00km)","txkm",{"$f":"SUM((F343)*2.4)*L339","v":13009.536},{"$f":"VLOOKUP(B339,'PREÇO UNITÁRIO'!$B$4:$F$124,5,0)","v":0.55000000000000004},0.68568499999999999,7155.24,8920.44,"VER DMT. ADOTEI >>>>>>>",{"$f":"L327","v":6}]
["6.2.2.5",1116263,"DNIT/MG","CONCRETO PARA BOMBEAMENTO FCK = 25 MPA - CONFECÇÃO EM CENTRAL DOSADORA DE 30 M³/H - AREIA E BRITA COMERCIAIS","m³",41.52,{"$f":"VLOOKUP(B340,'PREÇO UNITÁRIO'!$B$4:$F$124,5,0)","v":231.5},288.61104999999998,9611.8799999999992,11983.13]
["6.2.2.6",1106280,"DNIT/MG","CONCRETO PARA BOMBEAMENTO FCK = 30 MPA - CONFECÇÃO EM CENTRAL DOSADORA DE 30 M³/H - AREIA E BRITA COMERCIAIS","m³",254.24,{"$f":"VLOOKUP(B341,'PREÇO UNITÁRIO'!$B$4:$F$124,5,0)","v":270.39999999999998},337.10767999999996,68746.5,85706.26]
["6.2.2.7",1106281,"DNIT/MG","CONCRETO PARA BOMBEAMENTO FCK = 35 MPA - CONFECÇÃO EM CENTRAL DOSADORA DE 30 M³/H - AREIA E BRITA COMERCIAIS","m³",607.67999999999995,{"$f":"VLOOKUP(B342,'PREÇO UNITÁRIO'!$B$4:$F$124,5,0)","v":285.42},355.83311400000002,173444.03,216232.67]
["6.2.2.8",1107860,"DNIT/MG","LANÇAMENTO MECÂNICO DE CONCRETO COM BOMBA LANÇA SOBRE CHASSI COM CAPACIDADE DE 45 M³/H - CONFECÇÃO EM CENTRAL DOSADORA DE 40 M³/H","m³",{"$f":"SUM(F340+F341+F342)","v":903.43999999999994},{"$f":"VLOOKUP(B343,'PREÇO UNITÁRIO'!$B$4:$F$124,5,0)","v":31.39},39.133913,28358.98,35355.14]
["6.2.2.9","ED-50430","DEER/MG","FORNECIMENTO E APLICAÇÃO DE GROUT PARA ANCORAGENS","m³",0.28800000000000003,{"$f":"VLOOKUP(B344,'PREÇO UNITÁRIO'!$B$4:$F$124,5,0)","v":272.01},339.11486699999995,78.34,97.67]
["6.2.2.10",92792,"SINAPI","CORTE E DOBRA DE AÇO CA-50, DIÂMETRO DE 6,3 MM, UTILIZADO EM ESTRUTURA S DIVERSAS","kg",5728,{"$f":"VLOOKUP(B345,'PREÇO UNITÁRIO'!$B$4:$F$124,5,0)","v":6.58},8.2032860000000003,37690.239999999998,46988.42]
["6.2.2.11",92793,"SINAPI","CORTE E DOBRA DE AÇO CA-50, DIÂMETRO DE 8,0 MM, UTILIZADO EM ESTRUTURA S DIVERSAS","kg",7062,{"$f":"VLOOKUP(B346,'PREÇO UNITÁRIO'!$B$4:$F$124,5,0)","v":6.38},7.9539459999999993,45055.56,56170.77]
["6.2.2.12",92794,"SINAPI","CORTE E DOBRA DE AÇO CA-50, DIÂMETRO DE 10,0 MM, UTILIZADO EM ESTRUTURAS DIVERSAS","kg",21632,{"$f":"VLOOKUP(B347,'PREÇO UNITÁRIO'!$B$4:$F$124,5,0)","v":5.82},7.2557939999999999,125898.24000000001,156957.34]
["6.2.2.13",92795,"SINAPI","CORTE E DOBRA DE AÇO CA-50, DIÂMETRO DE 12,5 MM, UTILIZADO EM ESTRUTURAS DIVERSAS","kg",17666,{"$f":"VLOOKUP(B348,'PREÇO UNITÁRIO'!$B$4:$F$124,5,0)","v":4.95},6.1711650000000002,87446.7,109019.8]
["6.2.2.14",92796,"SINAPI","CORTE E DOBRA DE AÇO CA-50, DIÂMETRO DE 16,0 MM, UTILIZADO EM ESTRUTURAS DIVERSAS","kg",43652,{"$f":"VLOOKUP(B349,'PREÇO UNITÁRIO'!$B$4:$F$124,5,0)","v":4.87},6.0714289999999993,212585.24,265030.02]
["6.2.2.15",92797,"SINAPI","CORTE E DOBRA DE AÇO CA-50, DIÂMETRO DE 20,0 MM, UTILIZADO EM ESTRUTURAS DIVERSAS","kg",2791,{"$f":"VLOOKUP(B350,'PREÇO UNITÁRIO'!$B$4:$F$124,5,0)","v":5.72},7.1311239999999989,15964.52,19902.97]
["6.2.2.16",92798,"SINAPI","CORTE E DOBRA DE AÇO CA-50, DIÂMETRO DE 25,0 MM, UTILIZADO EM ESTRUTURAS DIVERSAS","kg",334,{"$f":"VLOOKUP(B351,'PREÇO UNITÁRIO'!$B$4:$F$124,5,0)","v":5.7},7.1061899999999998,1903.8,2373.4699999999998]
["6.2.2.17",92880,"SINAPI","CORTE E DOBRA DE AÇO CA-25, DIÂMETRO DE 20,0 MM. AF_12/2015","kg",1105,{"$f":"VLOOKUP(B352,'PREÇO UNITÁRIO'!$B$4:$F$124,5,0)","v":6.16},7.6796720000000001,6806.8,8486.0400000000009]
["6.2.2.18",307736,"DNIT/MG","JUNTA DE DILATAÇÃO EM PERFIL EXTRUDADO DE BORRACHA VULCANIZADA DE 40 X 70 MM - FORNECIMENTO E INSTALAÇÃO","m",20.6,{"$f":"VLOOKUP(B353,'PREÇO UNITÁRIO'!$B$4:$F$124,5,0)","v":1014.24},1264.453008,20893.34,26047.73]
["6.2.2.19",91790,"SINAPI","(COMPOSIÇÃO REPRESENTATIVA) DO SERVIÇO DE INSTALAÇÃO DE TUBOS DE PVC, SÉRIE R, ÁGUA PLUVIAL, DN 100 MM (INSTALADO EM RAMAL DE ENCAMINHAMENTO , OU CONDUTORES VERTICAIS), INCLUSIVE  CONEXÕES, CORTES E FIXAÇÕES, PARA PRÉDIOS. AF_10/2015 ","m",{"$f":"2*F356","v":512.48},{"$f":"VLOOKUP(B354,'PREÇO UNITÁRIO'!$B$4:$F$124,5,0)","v":42.45},52.922415000000001,21754.78,27121.68]
["6.2.2.20",84154,"SINAPI","APARELHO APOIO NEOPRENE FRETADO ","dm³",135.56,{"$f":"VLOOKUP(B355,'PREÇO UNITÁRIO'!$B$4:$F$124,5,0)","v":109.31},136.27677699999998,14818.06,18473.68]
["6.2.2.21","73770/001","SINAPI","BARREIRA PRE-MOLDADA EXTERNA CONCRETO ARMADO 0,25X0,40X1,14M FCK=25MPA ACO CA-50 INCL VIGOTA HORIZONTAL MONTANTE A CADA 1,00M FERROS DE LIGACAO E MATERIAIS.","m",{"$f":"2*8.12+2*120","v":256.24},{"$f":"VLOOKUP(B356,'PREÇO UNITÁRIO'!$B$4:$F$124,5,0)","v":468.97},584.66489899999999,120168.87,149814.53]
["6.2.2.22","ED-50429","DEER/MG","LANÇAMENTO DE TABULEIRO PRÉ-MOLDADO","unid.",1198,{"$f":"VLOOKUP(B357,'PREÇO UNITÁRIO'!$B$4:$F$124,5,0)","v":63.14},78.716637999999989,75641.72,94302.53]
["6.2.2.23",4507956,"DNIT/MG","CORDOALHA CP 190 RB D = 12,7 MM - FORNECIMENTO, PREPARO E COLOCAÇÃO ","Kg",23155.200000000001,{"$f":"VLOOKUP(B358,'PREÇO UNITÁRIO'!$B$4:$F$124,5,0)","v":9.19},11.457172999999999,212796.29,265293.13]
["6.2.2.24",4508176,"DNIT/MG","BAINHA METÁLICA DIÂMETRO 95 MM PARA 19 CORDOALHAS D = 15,2 MM, SEMI-RÍGIDA, REDONDA, COM MONTAGEM E INJEÇÃO DE NATA DE CIMENTO","m",2381.7600000000002,{"$f":"VLOOKUP(B359,'PREÇO UNITÁRIO'!$B$4:$F$124,5,0)","v":68.38},85.249345999999989,162864.75,203043.48]
["6.2.2.25",4507755,"DNIT/MG","ANCORAGEM ATIVA PARA 12 CORDOALHAS D = 12,7 MM COM PLACA DE ANCORAGEM, BLOCO, CUNHAS TRIPARTIDAS, TROMBETA E PROTENSÃO","unid.",120,{"$f":"VLOOKUP(B360,'PREÇO UNITÁRIO'!$B$4:$F$124,5,0)","v":1458},1817.6886,174960,218122.63]
["6.2.2.26","26.13.01.99","DER/SP","LANCAMENTO VIGA P<=50T-GUINDASTE AUTO PROPULSADO      ","unid.",12,{"$f":"VLOOKUP(B361,'PREÇO UNITÁRIO'!$B$4:$F$124,5,0)","v":9481.2000000000007},11820.21204,113774.39999999999,141842.54]
[{"$nulls":7},"TOTAL OAE",{"$f":"SUM(I322+I335)","v":4400777.51},{"$f":"SUM(J322+J335)","v":5486449.3399999999}]
[]
["6.3","MATERIAIS E TRANSPORTE PARA PAVIMENTAÇÃO ASFÁLTICA (PARA USINA EM MONTES CLAROS)"]
["6.3.1","CAP - CIMENTO ASFÁLTICO",{"$nulls":6},{"$f":"SUM(I366:I367)","v":39450.539999999994},{"$f":"SUM(J366:J367)","v":49182.99}]
["6.3.1.1","72849","SINAPI","CARGA, MANOBRAS E DESCARGA DE MISTURAS DE SOLOS E AGREGADOS (BASES ESTABILIZADAS EM USINA) COM CAMINHAO BASCULANTE 6 M3","t",123.53,{"$f":"VLOOKUP(B366,'PREÇO UNITÁRIO'!$B$4:$F$124,5,0)","v":1.81},{"$f":"G366*(1+$J$4)","v":2.2565269999999997},{"$f":"ROUND(F366*G366,2)","v":223.59},{"$f":"ROUND(F366*H366,2)","v":278.75}]
["6.3.1.2","72884","SINAPI","TRANSPORTE COMERCIAL COM CAMINHAO CARROCERIA 9 T (435KM)","m³*km",{"$f":"F366*L367","v":53735.55},{"$f":"VLOOKUP(B367,'PREÇO UNITÁRIO'!$B$4:$F$124,5,0)","v":0.73},0.91009099999999987,39226.949999999997,{"$f":"ROUND(F367*H367,2)","v":48904.24},"VER DMT. ADOTEI >>>>>>>",{"$f":"TRANSPORTES!D11","v":435}]
["6.3.2","AREIA",{"$nulls":6},{"$f":"SUM(I369:I370)","v":58769.310000000005},{"$f":"SUM(J369:J370)","v":73267.69}]
["6.3.2.1","72888","SINAPI","CARGA, MANOBRAS E DESCARGA DE AREIA, BRITA, PEDRA DE MAO E SOLOS COM CAMINHAO BASCULANTE 6 M3 (DESCARGA LIVRE)","m³",551.1,{"$f":"VLOOKUP(B369,'PREÇO UNITÁRIO'!$B$4:$F$124,5,0)","v":0.79},{"$f":"G369*(1+$J$4)","v":0.98489300000000002},{"$f":"ROUND(F369*G369,2)","v":435.37},{"$f":"ROUND(F369*H369,2)","v":542.77}]
["6.3.2.2","72884","SINAPI","TRANSPORTE COMERCIAL COM CAMINHAO CARROCERIA 9 T (145KM)","m³*km",{"$f":"F369*L370","v":79909.5},{"$f":"VLOOKUP(B370,'PREÇO UNITÁRIO'!$B$4:$F$124,5,0)","v":0.73},0.91009099999999987,58333.94,{"$f":"ROUND(F370*H370,2)","v":72724.92},"VER DMT. ADOTEI >>>>>>>",{"$f":"TRANSPORTES!D6","v":145}]
["6.3.3","BRITA",{"$nulls":6},{"$f":"SUM(I372:I373)","v":6008.6900000000005},{"$f":"SUM(J372:J373)","v":7491.0300000000007}]
["6.3.3.1","72888","SINAPI","CARGA, MANOBRAS E DESCARGA DE AREIA, BRITA, PEDRA DE MAO E SOLOS COM CAMINHAO BASCULANTE 6 M3 (DESCARGA LIVRE)","m³",742.73,{"$f":"VLOOKUP(B372,'PREÇO UNITÁRIO'!$B$4:$F$124,5,0)","v":0.79},{"$f":"G372*(1+$J$4)","v":0.98489300000000002},{"$f":"ROUND(F372*G372,2)","v":586.76},{"$f":"ROUND(F372*H372,2)","v":731.51}]
["6.3.3.2","72884","SINAPI","TRANSPORTE COMERCIAL COM CAMINHAO CARROCERIA 9 T (10KM)","m³*km",{"$f":"F372*L373","v":7427.3},{"$f":"VLOOKUP(B373,'PREÇO UNITÁRIO'!$B$4:$F$124,5,0)","v":0.73},0.91009099999999987,5421.93,{"$f":"ROUND(F373*H373,2)","v":6759.52},"VER DMT. ADOTEI >>>>>>>",{"$f":"TRANSPORTES!D7","v":10}]
[{"$nulls":7},"TOTAL DE MATERIAIS DO CONCRETO",{"$f":"SUM(I365+I368+I371)","v":104228.54000000001},{"$f":"SUM(J365+J368+J371)","v":129941.70999999999}]
[]
["6.4","PAVIMENTAÇÃO ASFÁLTICA"]
["6.4.1","PAVIMENTO FLEXIVEL - NOVO E RECUPERAÇÃO",{"$nulls":6},{"$f":"SUM(I378:I393)","v":3571280.04},{"$f":"SUM(J378:J393)","v":4452314.82}]
["6.4.1.1","83338","SINAPI","ESCAVACAO MECANICA, A CEU ABERTO, EM MATERIAL DE 1A CATEGORIA, COM ESCAVADEIRA HIDRAULICA, CAPACIDADE DE 0,78 M3 - CORTE","m³",365.65,{"$f":"VLOOKUP(B378,'PREÇO UNITÁRIO'!$B$4:$F$124,5,0)","v":2.12},{"$f":"G378*(1+$J$4)","v":2.6430039999999999},{"$f":"ROUND(F378*G378,2)","v":775.18},{"$f":"ROUND(F378*H378,2)","v":966.41}]
["6.4.1.2","83338","SINAPI","ESCAVACAO MECANICA, A CEU ABERTO, EM MATERIAL DE 1A CATEGORIA, COM ESCAVADEIRA HIDRAULICA, CAPACIDADE DE 0,78 M3 - CORTE JAZIDA","m³",251888.76,{"$f":"VLOOKUP(B379,'PREÇO UNITÁRIO'!$B$4:$F$124,5,0)","v":2.12},2.6430039999999999,534004.17000000004,665743]
["6.4.1.3","RO-40251","DEER/MG","COMPACTAÇÃO DE ATERRO A 100% PROCTOR NORMAL","m³",251888.76,{"$f":"VLOOKUP(B380,'PREÇO UNITÁRIO'!$B$4:$F$124,5,0)","v":3.14},3.9146380000000001,790930.71,986053.31]
["6.4.1.4","RO-43112","DEER/MG","SUB-BASE, SEM MISTURA, COMPACTADA NA ENERGIA DO PROCTOR INTERMEDIÁRIO (EXECUÇÃO, INCLUINDO ESCAVAÇÃO, CARGA, DESCARGA, ESPALHAMENTO, UMIDECIMENTO E COMPACTAÇÃO DO MATERIAL; EXCLUI AQUISIÇÃO E TRANSPORTE DO MATERIAL)","m³",{"$f":"15980.46*0.15","v":2397.069},{"$f":"VLOOKUP(B381,'PREÇO UNITÁRIO'!$B$4:$F$124,5,0)","v":14.05},17.516134999999998,33678.82,41987.38]
["6.4.1.5","RO-43113","DEER/MG","BASE DE SOLO SEM MISTURA, COMPACTADA NA ENERGIA DO PROCTOR INTERMEDIÁRIO (EXECUÇÃO, INCLUINDO ESCAVAÇÃO, CARGA, DESCARGA, ESPALHAMENTO, UMIDECIMENTO E COMPACTAÇÃO DO MATERIAL; EXCLUI AQUISIÇÃO E TRANSPORTEDO MATERIAL)","m³",{"$f":"F381","v":2397.069},{"$f":"VLOOKUP(B382,'PREÇO UNITÁRIO'!$B$4:$F$124,5,0)","v":14.05},17.516134999999998,33678.82,41987.38]
["6.4.1.6","96401","SINAPI","EXECUÇÃO DE IMPRIMAÇÃO COM ASFALTO DILUÍDO CM-30. AF_09/2017","m²",{"$f":"(15980.46+961.28)","v":16941.739999999998},{"$f":"VLOOKUP(B383,'PREÇO UNITÁRIO'!$B$4:$F$124,5,0)","v":6.65},8.2905549999999995,112662.57,140456.43]
["6.4.1.7",93176,"SINAPI","TRANSPORTE DE MATERIAL ASFALTICO, COM CAMINHÃO COM CAPACIDADE DE 30000 L EM RODOVIA PAVIMENTADA. AF_02/2016 (P/ ITEM 6.1.6) (ORIUNDO DE BETIM/MG DISTANTE 377KM DIRETO PARA OBRA C)","txkm",{"$f":"F383*0.0012*L384","v":7664.4431759999989},{"$f":"VLOOKUP(B384,'PREÇO UNITÁRIO'!$B$4:$F$124,5,0)","v":0.47},0.58594899999999994,3602.29,4490.97,"VER DMT. ADOTEI >>>>>>>",{"$f":"TRANSPORTES!F12","v":377}]
["6.4.1.8",93178,"SINAPI","TRANSPORTE DE MATERIAL ASFALTICO, COM CAMINHÃO COM CAPACIDADE DE 30000 TXKM L EM RODOVIA NÃO PAVIMENTADA PARA DISTÂNCIAS MÉDIAS DE TRANSPORTE SUPERIORES A 100 KM. AF_02/2016  (ORIUNDO DE FRANCISCO DUMONT/MG DISTANTE 6KM DIRETO PARA OBRA C)","txkm",{"$f":"F383*0.0012*L385","v":121.98052799999998},{"$f":"VLOOKUP(B385,'PREÇO UNITÁRIO'!$B$4:$F$124,5,0)","v":0.53},0.66075099999999998,64.650000000000006,80.599999999999994,"VER DMT. ADOTEI >>>>>>>",{"$f":"TRANSPORTES!L12","v":6}]
["6.4.1.9","72942","SINAPI","PINTURA DE LIGACAO COM EMULSAO RR-1C","m²",{"$f":"F383","v":16941.739999999998},{"$f":"VLOOKUP(B386,'PREÇO UNITÁRIO'!$B$4:$F$124,5,0)","v":1.6},1.99472,27106.78,33794.03]
["6.4.1.10",93176,"SINAPI","TRANSPORTE DE MATERIAL ASFALTICO, COM CAMINHÃO COM CAPACIDADE DE 30000 L EM RODOVIA PAVIMENTADA. AF_02/2016 (P/ ITEM 6.1.6) (ORIUNDO DE BETIM/MG DISTANTE 377KM DIRETO PARA OBRA C)","txkm",{"$f":"F386*0.0004*L387","v":2554.8143919999998},{"$f":"VLOOKUP(B387,'PREÇO UNITÁRIO'!$B$4:$F$124,5,0)","v":0.47},0.58594899999999994,1200.76,1496.99,"VER DMT. ADOTEI >>>>>>>",{"$f":"TRANSPORTES!F13","v":377}]
["6.4.1.11",93178,"SINAPI","TRANSPORTE DE MATERIAL ASFALTICO, COM CAMINHÃO COM CAPACIDADE DE 30000 TXKM L EM RODOVIA NÃO PAVIMENTADA PARA DISTÂNCIAS MÉDIAS DE TRANSPORTE SUPERIORES A 100 KM. AF_02/2016  (ORIUNDO DE FRANCISCO DUMONT/MG DISTANTE 6KM DIRETO PARA OBRA C)","txkm",{"$f":"F386*0.0004*L388","v":40.660175999999993},{"$f":"VLOOKUP(B388,'PREÇO UNITÁRIO'!$B$4:$F$124,5,0)","v":0.53},0.66075099999999998,21.55,26.87,"VER DMT. ADOTEI >>>>>>>",{"$f":"TRANSPORTES!L13","v":6}]
["6.4.1.12",95995,"SINAPI","CONSTRUÇÃO DE PAVIMENTO COM APLICAÇÃO DE CONCRETO BETUMINOSO USINADO A QUENTE (CBUQ), CAMADA DE ROLAMENTO, COM ESPESSURA DE 5,0 CM - EXCLUSIVE TRANSPORTE. AF_03/2017 (PAVIMENTAÇÃO ESTRADA)","m³",{"$f":"15980.46*0.05","v":799.02300000000002},{"$f":"VLOOKUP(B389,'PREÇO UNITÁRIO'!$B$4:$F$124,5,0)","v":997.69},1243.820123,797177.26,993840.89]
["6.4.1.13",95995,"SINAPI","CONSTRUÇÃO DE PAVIMENTO COM APLICAÇÃO DE CONCRETO BETUMINOSO USINADO A QUENTE (CBUQ), CAMADA DE ROLAMENTO, COM ESPESSURA DE 5,0 CM - EXCLUSIVE TRANSPORTE. AF_03/2017 (PAVIMENTAÇÃO OAE)","m³",{"$f":"961.28*0.1","v":96.128},{"$f":"VLOOKUP(B390,'PREÇO UNITÁRIO'!$B$4:$F$124,5,0)","v":997.69},1243.820123,95905.94,119565.94]
["6.4.1.14",93176,"SINAPI","TRANSPORTE DE MATERIAL ASFALTICO, COM CAMINHÃO COM CAPACIDADE DE 30000 L EM RODOVIA PAVIMENTADA. AF_02/2016 (P/ ITEM 2.1.12) (ORIUNDO D MONTES CLAROS/MG DIST. 111KM)","txkm",{"$f":"SUM((F389+F390)*2.4)*L391","v":238468.22639999999},{"$f":"VLOOKUP(B391,'PREÇO UNITÁRIO'!$B$4:$F$124,5,0)","v":0.47},0.58594899999999994,112080.07,139730.22,"VER DMT. ADOTEI >>>>>>>",{"$f":"TRANSPORTES!E10","v":111}]
["6.4.1.15",93178,"SINAPI","TRANSPORTE DE MATERIAL ASFALTICO, COM CAMINHÃO COM CAPACIDADE DE 30000 TXKM L EM RODOVIA NÃO PAVIMENTADA PARA DISTÂNCIAS MÉDIAS DE TRANSPORTE SUPERIORES A 100 KM. AF_02/2016 (JEQUITAÍ P/ ÁREA C - 24KM)","txkm",{"$f":"SUM((F389+F390)*2.4)*L392","v":51560.6976},{"$f":"VLOOKUP(B392,'PREÇO UNITÁRIO'!$B$4:$F$124,5,0)","v":0.53},0.66075099999999998,27327.17,34068.78,"VER DMT. ADOTEI >>>>>>>",{"$f":"TRANSPORTES!K10","v":24}]
["6.4.1.16","RO-41344","DEER/MG","TRANSPORTE DE MATERIAL DE JAZIDA PARA CONSERVAÇÃO. DISTÂNCIA MÉDIA DE TRANSPORTE > 50,10 KM (ESCAVAÇÃO+BASE E SUB BASE) - 17,10KM","m³xkm",{"$f":"SUM(F379+F381+F382)*L393","v":1283414.49},{"$f":"VLOOKUP(B393,'PREÇO UNITÁRIO'!$B$4:$F$124,5,0)","v":0.78},0.97242600000000001,1001063.3,1248025.6200000001,"VER DMT. ADOTEI >>>>>>>",5,"BUSCAR JAZIDA PRÓXIMA"]
[{"$nulls":7},"TOTAL PAVIMENTAÇÃO ASFÁLTICA",{"$f":"SUM(I377)","v":3571280.04},{"$f":"SUM(J377)","v":4452314.82}]
[]
["6.5","COMPLEMENTARES"]
["6.5.1","RECOMPOSIÇÃO DE DIVISAS",{"$nulls":6},{"$f":"SUM(I398)","v":95681.38},{"$f":"SUM(J398)","v":119285.98}]
["6.5.1.1","74039/001","SINAPI","CERCA COM MOUROES DE MADEIRA ROLICA, DIAMETRO 11CM, ESPACAMENTO DE 2M, ALTURA LIVRE DE 1M, CRAVADOS 0,5M, COM 5 FIOS DE ARAME FARPADO Nº 14 CLASSE 250","m",3642.23,{"$f":"VLOOKUP(B398,'PREÇO UNITÁRIO'!$B$4:$F$124,5,0)","v":26.27},{"$f":"G398*(1+$J$4)","v":32.750808999999997},{"$f":"ROUND(F398*G398,2)","v":95681.38},{"$f":"ROUND(F398*H398,2)","v":119285.98}]
[{"$nulls":7},"TOTAL COMPLEMENTARES",{"$f":"SUM(I397)","v":95681.38},{"$f":"SUM(J397)","v":119285.98}]
[]
["6.6","SINALIZAÇÃO DE OBRA E DEFINITIVA"]
["6.6.1","SINALIZAÇÃO DE OBRA",{"$nulls":6},{"$f":"SUM(I403:I407)","v":74895.23},{"$f":"SUM(J403:J407)","v":93371.89}]
["6.6.1.1",97051,"SINAPI","SINALIZAÇÃO COM FITA FIXADA NA ESTRUTURA. AF_11/2017","m",6000,{"$f":"VLOOKUP(B403,'PREÇO UNITÁRIO'!$B$4:$F$124,5,0)","v":0.5},{"$f":"G403*(1+$J$4)","v":0.62334999999999996},{"$f":"ROUND(F403*G403,2)","v":3000},{"$f":"ROUND(F403*H403,2)","v":3740.1}]
["6.6.1.2","RO-41841","DEER/MG","PLACA DE AÇO CARBONO COM PELÍCULA REFLETIVA GRAU TÉCNICO TIPO I DA ABNT - PLACA CIRCULAR (EXECUÇÃO, INCLUINDO FORNECIMENTO E TRANSPORTE DE TODOS OS MATERIAIS, INCLUSIVE POSTE DE SUSTENTAÇÃO)","m²",1.57,{"$f":"VLOOKUP(B404,'PREÇO UNITÁRIO'!$B$4:$F$124,5,0)","v":341.61},425.88518699999997,536.33000000000004,{"$f":"ROUND(F404*H404,2)","v":668.64}]
["6.6.1.3","RO-41844","DEER/MG","PLACA DE AÇO CARBONO COM PELÍCULA REFLETIVA GRAU TÉCNICO TIPO I DA ABNT - PLACA QUADRADA (EXECUÇÃO, INCLUINDO FORNECIMENTO E TRANSPORTE DE TODOS OS MATERIAIS, INCLUSIVE POSTE DE SUSTENTAÇÃO)","m²",26.88,{"$f":"VLOOKUP(B405,'PREÇO UNITÁRIO'!$B$4:$F$124,5,0)","v":331.13},412.81977099999995,8900.77,{"$f":"ROUND(F405*H405,2)","v":11096.6}]
["6.6.1.4","RO-43226","DEER/MG","COLOCAÇÃO DE PLACAS","m²",{"$f":"F404+F405","v":28.45},{"$f":"VLOOKUP(B406,'PREÇO UNITÁRIO'!$B$4:$F$124,5,0)","v":65.77},81.995458999999997,1871.16,{"$f":"ROUND(F406*H406,2)","v":2332.77}]
["6.6.1.5","85424","SINAPI","ISOLAMENTO DE OBRA COM TELA PLASTICA COM MALHA DE 5MM E ESTRUTURA DE MADEIRA PONTALETEADA","m",2908.64,{"$f":"VLOOKUP(B407,'PREÇO UNITÁRIO'!$B$4:$F$124,5,0)","v":20.83},25.968760999999997,60586.97,{"$f":"ROUND(F407*H407,2)","v":75533.78}]
["6.6.2","SINALIZAÇÃO DEFINITIVA HORIZONTAL",{"$nulls":6},{"$f":"SUM(I409:I410)","v":836.46},{"$f":"SUM(J409:J410)","v":1042.81}]
["6.6.2.1","RO-41237               OBR-VIA-245","DEER/MG","LINHAS DE RESINA ACRILICA 0,6MM DE ESPESSURA E LARGURA = 0,10M (EXECUÇÃO, INCLUSIVE PRÉ-MARCAÇÃO, FORNECIMENTO E TRANSPORTE DE TODOS OS MATERIAIS) - LINHAS BRANCAS","m²",344,{"$f":"VLOOKUP(B409,'PREÇO UNITÁRIO'!$B$4:$F$124,5,0)","v":1.73},{"$f":"G409*(1+$J$4)","v":2.1567909999999997},{"$f":"ROUND(F409*G409,2)","v":595.12},{"$f":"ROUND(F409*H409,2)","v":741.94}]
["6.6.2.2","RO-41237               OBR-VIA-245","DEER/MG","LINHAS DE RESINA ACRILICA 0,6MM DE ESPESSURA E LARGURA = 0,10M (EXECUÇÃO, INCLUSIVE PRÉ-MARCAÇÃO, FORNECIMENTO E TRANSPORTE DE TODOS OS MATERIAIS) - LINHAS AMARELAS","m²",139.5,{"$f":"VLOOKUP(B410,'PREÇO UNITÁRIO'!$B$4:$F$124,5,0)","v":1.73},2.1567909999999997,241.34,{"$f":"ROUND(F410*H410,2)","v":300.87}]
["6.6.3","SINALIZAÇÃO DEFINITIVA VERTICAL",{"$nulls":6},{"$f":"SUM(I412:I414)","v":877.61},{"$f":"SUM(J412:J414)","v":1094.1100000000001}]
["6.6.3.1","RO-41841","DEER/MG","PLACA DE AÇO CARBONO COM PELÍCULA REFLETIVA GRAU TÉCNICO TIPO I DA ABNT - PLACA CIRCULAR (EXECUÇÃO, INCLUINDO FORNECIMENTO E TRANSPORTE DE TODOS OS MATERIAIS, INCLUSIVE POSTE DE SUSTENTAÇÃO)","m²",1.18,{"$f":"VLOOKUP(B412,'PREÇO UNITÁRIO'!$B$4:$F$124,5,0)","v":341.61},{"$f":"G412*(1+$J$4)","v":425.88518699999997},{"$f":"ROUND(F412*G412,2)","v":403.1},{"$f":"ROUND(F412*H412,2)","v":502.54}]
["6.6.3.2","RO-41844","DEER/MG","PLACA DE AÇO CARBONO COM PELÍCULA REFLETIVA GRAU TÉCNICO TIPO I DA ABNT - PLACA QUADRADA (EXECUÇÃO, INCLUINDO FORNECIMENTO E TRANSPORTE DE TODOS OS MATERIAIS, INCLUSIVE POSTE DE SUSTENTAÇÃO)","m²",1,{"$f":"VLOOKUP(B413,'PREÇO UNITÁRIO'!$B$4:$F$124,5,0)","v":331.13},412.81977099999995,331.13,{"$f":"ROUND(F413*H413,2)","v":412.82}]
["6.6.3.3","RO-43226","DEER/MG","COLOCAÇÃO DE PLACAS","m²",{"$f":"F412+F413","v":2.1799999999999997},{"$f":"VLOOKUP(B414,'PREÇO UNITÁRIO'!$B$4:$F$124,5,0)","v":65.77},81.995458999999997,143.38,{"$f":"ROUND(F414*H414,2)","v":178.75}]
["6.6.4","DISPOSITIVOS DE SEGURANÇA",{"$nulls":6},{"$f":"SUM(I416:I417)","v":664736.96000000008},{"$f":"SUM(J416:J417)","v":828727.56}]
["6.6.4.1","RO-41763","DEER/MG","DEFENSA SINGELA SEMI-MALEÁVEL SV-DSM-02 (EXECUÇÃO, INCLUINDO FORNECIMENTO, COLOCAÇÃO E TRANSPORTE DE TODOS OS MATERIAIS)","m",2466,{"$f":"VLOOKUP(B416,'PREÇO UNITÁRIO'!$B$4:$F$124,5,0)","v":265.94},{"$f":"G416*(1+$J$4)","v":331.54739799999999},{"$f":"ROUND(F416*G416,2)","v":655808.04},{"$f":"ROUND(F416*H416,2)","v":817595.88}]
["6.6.4.2","28.10.01.99","DER/SP","FORN./INSTAL. BALIZ.(CATADIOPTRICO) P/DEF. MET. C/PELICULA GT+GT, CONF.OP-06-05","un.",308,{"$f":"VLOOKUP(B417,'PREÇO UNITÁRIO'!$B$4:$F$124,5,0)","v":28.99},36.141832999999998,8928.92,{"$f":"ROUND(F417*H417,2)","v":11131.68}]
[{"$nulls":7},"TOTAL SINALIZAÇÃO DE OBRA E DEFINITIVA",{"$f":"SUM(I402+I408+I411+I415)","v":741346.26000000013},{"$f":"SUM(J402+J408+J411+J415)","v":924236.37000000011}]
[]
[{"$nulls":7},"TOTAL - PONTE C",{"$f":"I418+I399+I394+I374+I362+I319","v":9076759.3800000008},{"$f":"J418+J399+J394+J374+J362+J319","v":11315995.909999998}]
[]
["7 - PONTE LOCAL N"]
["7.1","OBRAS DE ARTE CORRENTE E DRENAGEM"]
["7.1.1","VALETA DE PROTEÇÃO DE ATERRO",{"$nulls":6},{"$f":"SUM(I425)","v":12235.2},{"$f":"SUM(J425)","v":15253.62},"NÃO PREVISTO. ESTIMADO COM BASE NO PROJETO E148"]
["7.1.1.1","RO-40514","DEER/MG","VALETA DE PROTEÇÃO DE ATERRO TIPO DR.VPA (EXECUÇÃO,INCLUINDO ESCAVAÇÃO)","m",{"$f":"280+200","v":480},{"$f":"VLOOKUP(B425,'PREÇO UNITÁRIO'!$B$4:$F$124,5,0)","v":25.49},{"$f":"G425*(1+$J$4)","v":31.778382999999994},{"$f":"ROUND(F425*G425,2)","v":12235.2},{"$f":"ROUND(F425*H425,2)","v":15253.62}]
["7.1.2","DISSIPADOR DE ENERGIA",{"$nulls":6},{"$f":"SUM(I427)","v":1025.44},{"$f":"SUM(J427)","v":1278.42}]
["7.1.2.1","2003441","DNIT/MG","DISSIPADOR DE ENERGIA DE 501 - AREIA E PEDRA DE MÃO COMERCIAIS","und",8,{"$f":"VLOOKUP(B427,'PREÇO UNITÁRIO'!$B$4:$F$124,5,0)","v":128.18},{"$f":"G427*(1+$J$4)","v":159.80200600000001},{"$f":"ROUND(F427*G427,2)","v":1025.44},{"$f":"ROUND(F427*H427,2)","v":1278.42}]
["7.1.3","SARJETA DE CONCRETO ATERRO",{"$nulls":6},{"$f":"SUM(I429)","v":16408},{"$f":"SUM(J429)","v":20455.849999999999}]
["7.1.3.1","RO-40613","DEER/MG","SARJETA DE CONCRETO EM ATERRO,TIPO DR.SCA- X/Y. LARGURA=60CM TIPO 30/10 (EXECUÇÃO, INCLUINDO ESCAVAÇÃO, FORNECIMENTO, TRANSPORTE E PLANTIO DA GRAMA)","m",{"$f":"160*2+120*2","v":560},{"$f":"VLOOKUP(B429,'PREÇO UNITÁRIO'!$B$4:$F$124,5,0)","v":29.3},{"$f":"G429*(1+$J$4)","v":36.528309999999998},{"$f":"ROUND(F429*G429,2)","v":16408},{"$f":"ROUND(F429*H429,2)","v":20455.849999999999}]
["7.1.4","CAIXA COLETORA EM ALVENARIA",{"$nulls":6},{"$f":"SUM(I431:I435)","v":6971.1100000000006},{"$f":"SUM(J431:J435)","v":8690.89}]
["7.1.4.1","RO-40160","DEER/MG","ESCAVAÇÃO, CARGA, DESCARGA, ESPALHAMENTO E TRANSPORTE DE MATERIAL DE 1ª CATEGORIA, COMCAMINHÃO. DISTÂNCIA MÉDIA DE TRANSPORTE DE 3.001 A 4.000 M","m³",{"$f":"1.5*1.5*1*8","v":18},{"$f":"VLOOKUP(B431,'PREÇO UNITÁRIO'!$B$4:$F$124,5,0)","v":7.44},{"$f":"G431*(1+$J$4)","v":9.275447999999999},{"$f":"ROUND(F431*G431,2)","v":133.91999999999999},{"$f":"ROUND(F431*H431,2)","v":166.96}]
["7.1.4.2","ED-48193","DEER/MG","ALVENARIA DE VEDAÇÃO COM BLOCO DE CONCRETO, ESP.19 CM, PARA REVESTIMENTO, INCLUSIVE ARGAMASSA PARA ASSENTAMENTO","m²",{"$f":"1.2*4*1*8","v":38.4},{"$f":"VLOOKUP(B432,'PREÇO UNITÁRIO'!$B$4:$F$124,5,0)","v":49.12},61.237903999999993,1886.21,{"$f":"ROUND(F432*H432,2)","v":2351.54}]
["7.1.4.3","ED-50732","DEER/MG","EMBOÇO COM ARGAMASSA, TRAÇO 1:6 (CIMENTO E AREIA), ESP. 20MM, APLICAÇÃO MANUAL, PREPARO MECÂNICO","m²",{"$f":"F432*2","v":76.8},{"$f":"VLOOKUP(B433,'PREÇO UNITÁRIO'!$B$4:$F$124,5,0)","v":22.84},28.474627999999999,1754.11,{"$f":"ROUND(F433*H433,2)","v":2186.85}]
["7.1.4.4","RO-41624","DEER/MG","CONCRETO DE CIMENTO PORTLAND, FCK>=15,0MPA (EXECUÇÃO, INCLUINDO O FORNECIMENTO E TRANSPORTE DOS AGREGADOS)","m³",{"$f":"1.2*1.2*0.1*8","v":1.1519999999999999},{"$f":"VLOOKUP(B434,'PREÇO UNITÁRIO'!$B$4:$F$124,5,0)","v":365.06},455.12030199999998,420.55,{"$f":"ROUND(F434*H434,2)","v":524.29999999999995}]
["7.1.4.5","ED-48676","DEER/MG","FORNECIMENTO, ASSENTAMENTO E  REJUNTAMENTO DE TUBO DE CONCRETO SIMPLES PS1 D = 400 MM","m",{"$f":"4*8","v":32},{"$f":"VLOOKUP(B435,'PREÇO UNITÁRIO'!$B$4:$F$124,5,0)","v":86.76},108.163692,2776.32,{"$f":"ROUND(F435*H435,2)","v":3461.24}]
["7.1.5","SARJETA DE CONCRETO CORTE",{"$nulls":6},{"$f":"SUM(I437)","v":1802},{"$f":"SUM(J437)","v":2246.5500000000002}]
["7.1.5.1","RO-40661","DEER/MG","SARJETA DE CONCRETO EM CORTE TIPO DR.SCC-X/Y. LARGURA=90CM TIPO80/10 (EXECUÇÃO, INCLUINDOESCAVAÇÃO, FORNECIMENTO E TRANSPORTE DE TODOS OS MATERIAIS)","m",{"$f":"10*4","v":40},{"$f":"VLOOKUP(B437,'PREÇO UNITÁRIO'!$B$4:$F$124,5,0)","v":45.05},{"$f":"G437*(1+$J$4)","v":56.163834999999992},{"$f":"ROUND(F437*G437,2)","v":1802},{"$f":"ROUND(F437*H437,2)","v":2246.5500000000002}]
["7.1.6","CANALETA",{"$nulls":6},{"$f":"SUM(I439)","v":104271.2},{"$f":"SUM(J439)","v":129994.91}]
["7.1.6.1","ED-14723","DEER/MG","CANALETA PARA DRENAGEM, EM CONCRETO COM FCK 15MPA, MOLDADA IN LOCO, SEÇÃO 60X60CM, FORMA EM CONTRA BARRANCO, EXCLUSIVE TAMPA, INCLUSIVE ESCAVAÇÃO, REATERRO COM TRANSPORTE E RETIRADA DO MATERIAL ESCAVADO (EM CAÇAMBA)","m",{"$f":"140*2+80*2","v":440},{"$f":"VLOOKUP(B439,'PREÇO UNITÁRIO'!$B$4:$F$124,5,0)","v":236.98},{"$f":"G439*(1+$J$4)","v":295.44296599999996},{"$f":"ROUND(F439*G439,2)","v":104271.2},{"$f":"ROUND(F439*H439,2)","v":129994.91}]
["7.1.7","DESCIDA D'ÁGUA",{"$nulls":6},{"$f":"SUM(I441)","v":11580.4},{"$f":"SUM(J441)","v":14437.28}]
["7.1.7.1","ED-48598","DEER/MG","DESCIDA D´ÁGUA TIPO CALHA DN 500, EXCLUSIVE BOTA FORA","m",{"$f":"10*4","v":40},{"$f":"VLOOKUP(B441,'PREÇO UNITÁRIO'!$B$4:$F$124,5,0)","v":289.51},{"$f":"G441*(1+$J$4)","v":360.93211699999995},{"$f":"ROUND(F441*G441,2)","v":11580.4},{"$f":"ROUND(F441*H441,2)","v":14437.28}]
[{"$nulls":7},"TOTAL OBRAS DE ARTE CORRENTE E DRENAGEM",{"$f":"SUM(I424+I426+I428+I436+I438+I440)+I430","v":154293.34999999998},{"$f":"SUM(J424+J426+J428+J436+J438+J440)+J430","v":192357.52000000002}]
[]
["7.2","OBRAS DE ARTE ESPECIAIS"]
["7.2.1","INFRA ESTRUTURA",{"$nulls":6},{"$f":"SUM(I446:I455)","v":107568.63},{"$f":"SUM(J446:J455)","v":134105.83000000002}]
["7.2.1.1","72917","SINAPI","ESCAVACAO MECANICA DE VALA EM MATERIAL 2A CATEGORIA COM UTILIZACAO DE ESCAVADEIRA HIDRAULICA","m³",{"$f":"ENGECORPS!G142","v":51.2},{"$f":"VLOOKUP(B446,'PREÇO UNITÁRIO'!$B$4:$F$124,5,0)","v":10.35},{"$f":"G446*(1+$J$4)","v":12.903344999999998},{"$f":"ROUND(F446*G446,2)","v":529.91999999999996},{"$f":"ROUND(F446*H446,2)","v":660.65}]
["7.2.1.2","93382","SINAPI","REATERRO MANUAL DE VALAS COM COMPACTAÇÃO MECANIZADA. AF_04/2016","m³",{"$f":"ENGECORPS!G143","v":17.600000000000001},{"$f":"VLOOKUP(B447,'PREÇO UNITÁRIO'!$B$4:$F$124,5,0)","v":24.07},30.008068999999999,423.63,528.14]
["7.2.1.3","83534","SINAPI","LASTRO DE CONCRETO, PREPARO MECÂNICO, INCLUSOS ADITIVO IMPERMEABILIZANTE, LANÇAMENTO E ADENSAMENTO","m³",{"$f":"ENGECORPS!G145","v":1.1200000000000001},{"$f":"VLOOKUP(B448,'PREÇO UNITÁRIO'!$B$4:$F$124,5,0)","v":427.75},{"$f":"G448*(1+$J$4)","v":533.27592499999992},479.08,{"$f":"ROUND(F448*H448,2)","v":597.27}]
["7.2.1.4","5914569","DNIT/MG","TRANSPORTE COM CAMINHÃO BETONEIRA - RODOVIA PAVIMENTADA (Entre Bocaiúva/MG e Francisco Dumont/MG - 69,00km)","txkm",{"$f":"F451*2.4*L449","v":5749.6319999999996},{"$f":"VLOOKUP(B449,'PREÇO UNITÁRIO'!$B$4:$F$124,5,0)","v":0.36},0.44881199999999993,2069.87,2580.5,"VER DMT. ADOTEI >>>>>>>",{"$f":"TRANSPORTES!F15","v":69}]
["7.2.1.5","5914539","DNIT/MG","TRANSPORTE COM CAMINHÃO BETONEIRA - RODOVIA EM LEITO NATURAL (Entre Francisco Dumont/MG e Área N - 10,00km)","txkm",{"$f":"F451*2.4*L450","v":833.27999999999986},{"$f":"VLOOKUP(B450,'PREÇO UNITÁRIO'!$B$4:$F$124,5,0)","v":0.55000000000000004},0.68568499999999999,458.3,571.37,"VER DMT. ADOTEI >>>>>>>",{"$f":"TRANSPORTES!N15","v":10}]
["7.2.1.6",1116263,"DNIT/MG","CONCRETO PARA BOMBEAMENTO FCK = 25 MPA - CONFECÇÃO EM CENTRAL DOSADORA DE 30 M³/H - AREIA E BRITA COMERCIAIS","m³",{"$f":"F446-F447+F448","v":34.72},{"$f":"VLOOKUP(B451,'PREÇO UNITÁRIO'!$B$4:$F$124,5,0)","v":231.5},{"$f":"G451*(1+$J$4)","v":288.61104999999998},8037.68,10020.58,"MEMÓRIA ANEXO",{"$f":"4*2.7*2*1.4","v":30.24},{"$f":"23.23+33.26","v":56.489999999999995}]
["7.2.1.7",1107860,"DNIT/MG","LANÇAMENTO MECÂNICO DE CONCRETO COM BOMBA LANÇA SOBRE CHASSI COM CAPACIDADE DE 45 M³/H - CONFECÇÃO EM CENTRAL DOSADORA DE 40 M³/H","m³",{"$f":"F451","v":34.72},{"$f":"VLOOKUP(B452,'PREÇO UNITÁRIO'!$B$4:$F$124,5,0)","v":31.39},{"$f":"G452*(1+$J$4)","v":39.133913},1089.8599999999999,1358.73]
["7.2.1.8","92270","SINAPI","FABRICAÇÃO DE FÔRMA PARA VIGAS, COM MADEIRA SERRADA, E = 25 MM. AF_12/2015","m²",54.88,{"$f":"VLOOKUP(B453,'PREÇO UNITÁRIO'!$B$4:$F$124,5,0)","v":79.11},{"$f":"G453*(1+$J$4)","v":98.626436999999996},4341.5600000000004,5412.62,"MEMÓRIA ANEXO"]
["7.2.1.9",2003864,"DNIT/MG","ESGOTAMENTO DE ÁGUA COM BOMBA SUBMERSA","h",{"$f":"447.07/1.5","v":298.04666666666668},{"$f":"VLOOKUP(B454,'PREÇO UNITÁRIO'!$B$4:$F$124,5,0)","v":11.84},14.760927999999998,3528.87,4399.45,"ALTEROU UNIDADE (MEXI NO QUANTITATIVO)","VAZÃO MÍNIMA BOMBA 3,5CV = 1,5M³/H"]
["7.2.1.10",96162,"SINAPI","ESTACA RAIZ Ø 41 cm EM SOLO","m",115.28,{"$f":"VLOOKUP(B455,'PREÇO UNITÁRIO'!$B$4:$F$124,5,0)","v":751.3},936.64570999999989,86609.86,107976.52]
["7.2.2","MESO E SUPER ESTRUTURA",{"$nulls":6},{"$f":"SUM(I457:I474)","v":826123.01},{"$f":"SUM(J457:J474)","v":1029927.55}]
["7.2.2.1",92263,"SINAPI","FABRICAÇÃO DE FÔRMA PARA PILARES E ESTRUTURAS SIMILARES, EM CHAPA DE MADEIRA COMPENSADA RESINADA, E = 17 MM. AF_12/2015","m²",{"$f":"1587.41+178.08","v":1765.49},{"$f":"VLOOKUP(B457,'PREÇO UNITÁRIO'!$B$4:$F$124,5,0)","v":89.2},{"$f":"G457*(1+$J$4)","v":111.20564},{"$f":"ROUND(F457*G457,2)","v":157481.71},{"$f":"ROUND(F457*H457,2)","v":196332.45},"MEMÓRIA ANEXO"]
["7.2.2.3","5914569","DNIT/MG","TRANSPORTE COM CAMINHÃO BETONEIRA - RODOVIA PAVIMENTADA (Entre Bocaiúva/MG e Francisco Dumont/MG - 69,00km)","txkm",{"$f":"F460*2.4*L458","v":57479.759999999987},{"$f":"VLOOKUP(B458,'PREÇO UNITÁRIO'!$B$4:$F$124,5,0)","v":0.36},0.44881199999999993,20692.71,25797.61,"VER DMT. ADOTEI >>>>>>>",{"$f":"L449","v":69}]
["7.2.2.4","5914539","DNIT/MG","TRANSPORTE COM CAMINHÃO BETONEIRA - RODOVIA EM LEITO NATURAL (Entre Francisco Dumont/MG e Área N - 10,00km)","txkm",{"$f":"F460*2.4*L459","v":8330.3999999999978},{"$f":"VLOOKUP(B459,'PREÇO UNITÁRIO'!$B$4:$F$124,5,0)","v":0.55000000000000004},0.68568499999999999,4581.72,5712.03,"VER DMT. ADOTEI >>>>>>>",{"$f":"L450","v":10}]
["7.2.2.5",1116263,"DNIT/MG","CONCRETO PARA BOMBEAMENTO FCK = 25 MPA - CONFECÇÃO EM CENTRAL DOSADORA DE 30 M³/H - AREIA E BRITA COMERCIAIS","m³",{"$f":"301.58+45.52","v":347.09999999999997},{"$f":"VLOOKUP(B460,'PREÇO UNITÁRIO'!$B$4:$F$124,5,0)","v":231.5},288.61104999999998,80353.649999999994,100176.9,"MEMÓRIA ANEXO"]
["7.2.2.8",1107860,"DNIT/MG","LANÇAMENTO MECÂNICO DE CONCRETO COM BOMBA LANÇA SOBRE CHASSI COM CAPACIDADE DE 45 M³/H - CONFECÇÃO EM CENTRAL DOSADORA DE 40 M³/H","m³",{"$f":"F460","v":347.09999999999997},{"$f":"VLOOKUP(B461,'PREÇO UNITÁRIO'!$B$4:$F$124,5,0)","v":31.39},39.133913,10895.47,13583.38]
["7.2.2.10",92792,"SINAPI","CORTE E DOBRA DE AÇO CA-50, DIÂMETRO DE 6,3 MM, UTILIZADO EM ESTRUTURA S DIVERSAS","kg",335,{"$f":"VLOOKUP(B462,'PREÇO UNITÁRIO'!$B$4:$F$124,5,0)","v":6.58},8.2032860000000003,2204.3000000000002,2748.1,"CONFORME PROJETO, INCLUSO INFRA ESTRUTURA!",{"$f":"82.89*1000","v":82890},4.568345323741007E-2,{"$f":"$L$462*M462","v":3786.7014388489206}]
["7.2.2.11",92793,"SINAPI","CORTE E DOBRA DE AÇO CA-50, DIÂMETRO DE 8,0 MM, UTILIZADO EM ESTRUTURA S DIVERSAS","kg",1235,{"$f":"VLOOKUP(B463,'PREÇO UNITÁRIO'!$B$4:$F$124,5,0)","v":6.38},7.9539459999999993,7879.3,9823.1200000000008,null,null,6.1973278520041107E-2,{"$f":"$L$462*M463","v":5136.9650565262073}]
["7.2.2.12",92794,"SINAPI","CORTE E DOBRA DE AÇO CA-50, DIÂMETRO DE 10,0 MM, UTILIZADO EM ESTRUTURAS DIVERSAS","kg",8696,{"$f":"VLOOKUP(B464,'PREÇO UNITÁRIO'!$B$4:$F$124,5,0)","v":5.82},7.2557939999999999,50610.720000000001,63096.38,null,null,0.28239979445015417,23408.11896197328]
["7.2.2.13",92795,"SINAPI","CORTE E DOBRA DE AÇO CA-50, DIÂMETRO DE 12,5 MM, UTILIZADO EM ESTRUTURAS DIVERSAS","kg",18964,{"$f":"VLOOKUP(B465,'PREÇO UNITÁRIO'!$B$4:$F$124,5,0)","v":4.95},6.1711650000000002,93871.8,117029.97,null,null,0.16485097636176774,13664.497430626927]
["7.2.2.14",92796,"SINAPI","CORTE E DOBRA DE AÇO CA-50, DIÂMETRO DE 16,0 MM, UTILIZADO EM ESTRUTURAS DIVERSAS","kg",6448,{"$f":"VLOOKUP(B466,'PREÇO UNITÁRIO'!$B$4:$F$124,5,0)","v":4.87},6.0714289999999993,31401.759999999998,39148.57,null,null,0.2686022610483042,22264.441418293936]
["7.2.2.15",92797,"SINAPI","CORTE E DOBRA DE AÇO CA-50, DIÂMETRO DE 20,0 MM, UTILIZADO EM ESTRUTURAS DIVERSAS","kg",4533,{"$f":"VLOOKUP(B467,'PREÇO UNITÁRIO'!$B$4:$F$124,5,0)","v":5.72},7.1311239999999989,25928.76,32325.39,null,null,0.15835046248715312,13125.669835560122]
["7.2.2.16",92798,"SINAPI","CORTE E DOBRA DE AÇO CA-50, DIÂMETRO DE 25,0 MM, UTILIZADO EM ESTRUTURAS DIVERSAS","kg",34516,{"$f":"VLOOKUP(B468,'PREÇO UNITÁRIO'!$B$4:$F$124,5,0)","v":5.7},7.1061899999999998,196741.2,245277.25,null,null,8.5817060637204522E-3,711.33761562178825]
["7.2.2.17",92881,"SINAPI","CORTE E DOBRA DE AÇO CA-25, DIÂMETRO DE 25,0 MM. AF_12/2015","kg",640,{"$f":"VLOOKUP(B469,'PREÇO UNITÁRIO'!$B$4:$F$124,5,0)","v":6.14},7.6547379999999992,3929.6,4899.03,null,null,9.5580678314491265E-3,792.26824254881808]
["7.2.2.18",307736,"DNIT/MG","JUNTA DE DILATAÇÃO EM PERFIL EXTRUDADO DE BORRACHA VULCANIZADA DE 40 X 70 MM - FORNECIMENTO E INSTALAÇÃO (JEENE JJ3550 OU SIMILAR)","m",{"$f":"ENGECORPS!G152","v":30.8},{"$f":"VLOOKUP(B470,'PREÇO UNITÁRIO'!$B$4:$F$124,5,0)","v":1014.24},1264.453008,31238.59,38945.15]
["7.2.2.19",91790,"SINAPI","(COMPOSIÇÃO REPRESENTATIVA) DO SERVIÇO DE INSTALAÇÃO DE TUBOS DE PVC, SÉRIE R, ÁGUA PLUVIAL, DN 100 MM (INSTALADO EM RAMAL DE ENCAMINHAMENTO , OU CONDUTORES VERTICAIS), INCLUSIVE  CONEXÕES, CORTES E FIXAÇÕES, PARA PRÉDIOS. AF_10/2015 ","m",{"$f":"2*F473","v":240},{"$f":"VLOOKUP(B471,'PREÇO UNITÁRIO'!$B$4:$F$124,5,0)","v":42.45},52.922415000000001,10188,12701.38]
["7.2.2.20",84154,"SINAPI","APARELHO APOIO NEOPRENE FRETADO ","dm³",{"$f":"ENGECORPS!G151*(2.5*3*0.7)","v":126},{"$f":"VLOOKUP(B472,'PREÇO UNITÁRIO'!$B$4:$F$124,5,0)","v":109.31},136.27677699999998,13773.06,17170.87]
["7.2.2.21","73770/001","SINAPI","BARREIRA PRE-MOLDADA EXTERNA CONCRETO ARMADO 0,25X0,40X1,14M FCK=25MPA ACO CA-50 INCL VIGOTA HORIZONTAL MONTANTE A CADA 1,00M FERROS DE LIGACAO E MATERIAIS.","m",{"$f":"2*60","v":120},{"$f":"VLOOKUP(B473,'PREÇO UNITÁRIO'!$B$4:$F$124,5,0)","v":468.97},584.66489899999999,56276.4,70159.789999999994]
["7.2.2.22","C3","CPU","MONTAGEM DAS ESTRUTURAS PRÉ-MOLDADAS (LAJES E LONGARINAS)","m³",{"$f":"ENGECORPS!G154","v":138.68},{"$f":"VLOOKUP(B474,'PREÇO UNITÁRIO'!$B$4:$F$124,5,0)","v":202.43912800000004},252.38086087760004,28074.26,35000.18]
[{"$nulls":7},"TOTAL OAE",{"$f":"SUM(I445+I456)","v":933691.64},{"$f":"SUM(J445+J456)","v":1164033.3800000001}]
[]
[]
["7.3","PAVIMENTAÇÃO"]
["7.3.1","REVESTIMENTO E PAVIMENTO RÍGIDO",{"$nulls":6},{"$f":"SUM(I480:I487)","v":507565.52},{"$f":"SUM(J480:J487)","v":632781.93999999994}]
["7.3.1.1","83338","SINAPI","ESCAVACAO MECANICA, A CEU ABERTO, EM MATERIAL DE 1A CATEGORIA, COM ESCAVADEIRA HIDRAULICA, CAPACIDADE DE 0,78 M3 - CORTE JAZIDA","m³",{"$f":"ENGECORPS!G131","v":54918.06},{"$f":"VLOOKUP(B480,'PREÇO UNITÁRIO'!$B$4:$F$124,5,0)","v":2.12},{"$f":"G480*(1+$J$4)","v":2.6430039999999999},{"$f":"ROUND(F480*G480,2)","v":116426.29},{"$f":"ROUND(F480*H480,2)","v":145148.65}]
["7.3.1.2","RO-40251","DEER/MG","COMPACTAÇÃO DE ATERRO A 100% PROCTOR NORMAL","m³",{"$f":"ENGECORPS!G130","v":43934.45},{"$f":"VLOOKUP(B481,'PREÇO UNITÁRIO'!$B$4:$F$124,5,0)","v":3.14},3.9146380000000001,137954.17000000001,171987.47]
["7.3.1.3","RO-43112","DEER/MG","SUB-BASE, SEM MISTURA, COMPACTADA NA ENERGIA DO PROCTOR INTERMEDIÁRIO (EXECUÇÃO, INCLUINDO ESCAVAÇÃO, CARGA, DESCARGA, ESPALHAMENTO, UMIDECIMENTO E COMPACTAÇÃO DO MATERIAL; EXCLUI AQUISIÇÃO E TRANSPORTE DO MATERIAL)","m³",{"$f":"(210+120)*8*0.15","v":396},{"$f":"VLOOKUP(B482,'PREÇO UNITÁRIO'!$B$4:$F$124,5,0)","v":14.05},17.516134999999998,5563.8,6936.39,"CONSIDERANDO EXTENSÃO DO ATERRO ESQ/DIR X 8M X 0,15M"]
["7.3.1.4","RO-43113","DEER/MG","BASE DE SOLO SEM MISTURA, COMPACTADA NA ENERGIA DO PROCTOR INTERMEDIÁRIO (EXECUÇÃO, INCLUINDO ESCAVAÇÃO, CARGA, DESCARGA, ESPALHAMENTO, UMIDECIMENTO E COMPACTAÇÃO DO MATERIAL; EXCLUI AQUISIÇÃO E TRANSPORTEDO MATERIAL)","m³",{"$f":"F482","v":396},{"$f":"VLOOKUP(B483,'PREÇO UNITÁRIO'!$B$4:$F$124,5,0)","v":14.05},17.516134999999998,5563.8,6936.39]
["7.3.1.5","5914569","DNIT/MG","TRANSPORTE COM CAMINHÃO BETONEIRA - RODOVIA PAVIMENTADA (Entre Bocaiúva/MG e Francisco Dumont/MG - 69,00km)","txkm",{"$f":"(F486*0.12)*2.4*L484","v":6294.7871999999998},{"$f":"VLOOKUP(B484,'PREÇO UNITÁRIO'!$B$4:$F$124,5,0)","v":0.36},0.44881199999999993,2266.12,2825.18,"VER DMT. ADOTEI >>>>>>>",{"$f":"TRANSPORTES!F15","v":69}]
["7.3.1.6","5914539","DNIT/MG","TRANSPORTE COM CAMINHÃO BETONEIRA - RODOVIA EM LEITO NATURAL (Entre Francisco Dumont/MG e Área N - 10,00km)","txkm",{"$f":"F486*2.4*L485","v":7602.4000000000015},{"$f":"VLOOKUP(B485,'PREÇO UNITÁRIO'!$B$4:$F$124,5,0)","v":0.55000000000000004},0.68568499999999999,4181.32,5212.8500000000004,"VER DMT. ADOTEI >>>>>>>",{"$f":"TRANSPORTES!N15","v":10}]
["7.3.1.7",4011520,"DNIT/MG","PAVIMENTO RÍGIDO DE CONCRETO, ESPESSURA DE 12CM, COM AGENTE DE CURA E TELA SOLDADA","m²",{"$f":"ENGECORPS!G155/0.12","v":316.76666666666671},{"$f":"VLOOKUP(B486,'PREÇO UNITÁRIO'!$B$4:$F$124,5,0)","v":57.9},72.183929999999989,18340.79,22865.46]
["7.3.1.8","RO-41344","DEER/MG","TRANSPORTE DE MATERIAL DE JAZIDA PARA CONSERVAÇÃO. DISTÂNCIA MÉDIA DE TRANSPORTE > 50,10 KM (ESCAVAÇÃO+BASE E SUB BASE) - 5,0KM","m³xkm",{"$f":"(F480+F482+F483)*L487","v":278550.3},{"$f":"VLOOKUP(B487,'PREÇO UNITÁRIO'!$B$4:$F$124,5,0)","v":0.78},0.97242600000000001,217269.23,270869.55,"VER DMT. ADOTEI >>>>>>>",5,"BUSCAR JAZIDA PRÓXIMA"]
[{"$nulls":7},"TOTAL PAVIMENTAÇÃO ASFÁLTICA",{"$f":"SUM(I479)","v":507565.52},{"$f":"SUM(J479)","v":632781.93999999994}]
[]
["7.4","COMPLEMENTARES"]
["7.4.1","SERVIÇOS COMPLEMENTARES - PROTEÇÃO DE TALUDES",{"$nulls":6},{"$f":"SUM(I492:I499)","v":739157.62},{"$f":"SUM(J492:J499)","v":921507.81}]
["7.4.1.1","73698","SINAPI","ENROCAMENTO MANUAL, COM ARRUMACAO DO MATERIAL","m³",{"$f":"ENGECORPS!G132","v":3169.8},{"$f":"VLOOKUP(B492,'PREÇO UNITÁRIO'!$B$4:$F$124,5,0)","v":89.82},{"$f":"G492*(1+$J$4)","v":111.97859399999999},{"$f":"ROUND(F492*G492,2)","v":284711.44},{"$f":"ROUND(F492*H492,2)","v":354949.75}]
["7.4.1.2","RO-40182","DEER/MG","ESCAVAÇÃO, CARGA, DESCARGA, ESPALHAMENTO E TRANSPORTE DE MATERIAL DE 3ª CATEGORIA. DISTÂNCIA MÉDIA DE TRANSPORTE ATÉ 200 M","m³",{"$f":"ENGECORPS!G133","v":2440.75},{"$f":"VLOOKUP(B493,'PREÇO UNITÁRIO'!$B$4:$F$124,5,0)","v":26.31},{"$f":"G493*(1+$J$4)","v":32.800676999999993},64216.13,{"$f":"ROUND(F493*H493,2)","v":80058.25}]
["7.4.1.4","RO-41352   OBR-VIA-370","DEER/MG","TRANSPORTE DE ROCHAS E MATERIAL DE 3A CATEGORIA, DISTÂNCIA MÉDIA DE TRANSPORTE > 50,10 KM","m³xkm",{"$f":"ENGECORPS!G135+(F495*0.17+F496)*L494","v":58136.040000000008},{"$f":"VLOOKUP(B494,'PREÇO UNITÁRIO'!$B$4:$F$124,5,0)","v":0.73},0.91009099999999987,42439.31,52909.09,"VER DMT. ADOTEI >>>>>>>",{"$f":"TRANSPORTES!F7+TRANSPORTES!N7","v":133}]
["7.4.1.5","92755","SINAPI","PROTEÇÃO SUPERFICIAL DE CANAL EM GABIÃO TIPO COLCHÃO, ALTURA DE 17 CENTÍMETROS, ENCHIMENTO COM PEDRA DE MÃO TIPO RACHÃO - FORNECIMENTO E EXECUÇÃO","m²",{"$f":"ENGECORPS!G136","v":1584},{"$f":"VLOOKUP(B495,'PREÇO UNITÁRIO'!$B$4:$F$124,5,0)","v":136.43},170.08728099999999,216105.12,269418.25]
["7.4.1.6","92743","SINAPI","MURO DE GABIÃO, ENCHIMENTO COM PEDRA DE MÃO TIPO RACHÃO, DE GRAVIDADE, COM GAIOLAS DE COMPRIMENTO MENOR OU IGUAL A 2 M","m³",{"$f":"ENGECORPS!G137","v":144},{"$f":"VLOOKUP(B496,'PREÇO UNITÁRIO'!$B$4:$F$124,5,0)","v":401.37},500.38797899999997,57797.279999999999,72055.87,"CPU SINAPI ADOTADA INCLUI MANTA E PEDRA"]
["7.4.1.7","73881/001","SINAPI","EXECUCAO DE DRENO COM MANTA GEOTEXTIL 200 G/M2","m²",{"$f":"ENGECORPS!G138","v":2016},{"$f":"VLOOKUP(B497,'PREÇO UNITÁRIO'!$B$4:$F$124,5,0)","v":5.22},6.5077739999999995,10523.52,13119.67]
["7.4.1.8","96391","SINAPI","SOLO CIMENTO PARA ANCORAGEM, (6% DE CIMENTO NA MISTURA EM PESO, RESISTÊNCIA A COMPRESSÃO SIMPLES 20kgf/cm²)","m³",{"$f":"ENGECORPS!G139","v":33.599999999999994},{"$f":"VLOOKUP(B498,'PREÇO UNITÁRIO'!$B$4:$F$124,5,0)","v":64.14},79.963337999999993,2155.1,2686.77]
["7.4.1.9","C4","CPU","PROTEÇÃO DE TALUDE REVESTIMENTO VEGETAL","m²",{"$f":"ENGECORPS!G140","v":3360},{"$f":"VLOOKUP(B499,'PREÇO UNITÁRIO'!$B$4:$F$124,5,0)","v":18.217180000000003},22.711358306000001,61209.72,76310.16]
[{"$nulls":7},"TOTAL COMPLEMENTARES",{"$f":"SUM(I491)","v":739157.62},{"$f":"SUM(J491)","v":921507.81}]
[]
["7.5","SINALIZAÇÃO DE OBRA E DEFINITIVA"]
["7.5.1","SINALIZAÇÃO DE OBRA",{"$nulls":6},{"$f":"SUM(I504:I508)","v":25621.71},{"$f":"SUM(J504:J508)","v":31942.57}]
["7.5.1.1",97051,"SINAPI","SINALIZAÇÃO COM FITA FIXADA NA ESTRUTURA. AF_11/2017","m",3000,{"$f":"VLOOKUP(B504,'PREÇO UNITÁRIO'!$B$4:$F$124,5,0)","v":0.5},{"$f":"G504*(1+$J$4)","v":0.62334999999999996},{"$f":"ROUND(F504*G504,2)","v":1500},{"$f":"ROUND(F504*H504,2)","v":1870.05},"ESTIMATIVA PARA OBRA","NÃO PREVISTO NA PLANILHA DA ENGECORPS. ESTIMADO COM BASE NOS QUANTITATIVOS DAS PLANILHAS NOVAS"]
["7.5.1.2","RO-41841","DEER/MG","PLACA DE AÇO CARBONO COM PELÍCULA REFLETIVA GRAU TÉCNICO TIPO I DA ABNT - PLACA CIRCULAR (EXECUÇÃO, INCLUINDO FORNECIMENTO E TRANSPORTE DE TODOS OS MATERIAIS, INCLUSIVE POSTE DE SUSTENTAÇÃO)","m²",0.78,{"$f":"VLOOKUP(B505,'PREÇO UNITÁRIO'!$B$4:$F$124,5,0)","v":341.61},425.88518699999997,266.45999999999998,{"$f":"ROUND(F505*H505,2)","v":332.19},"ESTIMATIVA PARA OBRA"]
["7.5.1.3","RO-41844","DEER/MG","PLACA DE AÇO CARBONO COM PELÍCULA REFLETIVA GRAU TÉCNICO TIPO I DA ABNT - PLACA QUADRADA (EXECUÇÃO, INCLUINDO FORNECIMENTO E TRANSPORTE DE TODOS OS MATERIAIS, INCLUSIVE POSTE DE SUSTENTAÇÃO)","m²",15.89,{"$f":"VLOOKUP(B506,'PREÇO UNITÁRIO'!$B$4:$F$124,5,0)","v":331.13},412.81977099999995,5261.66,{"$f":"ROUND(F506*H506,2)","v":6559.71},"ESTIMATIVA PARA OBRA"]
["7.5.1.4","RO-43226","DEER/MG","COLOCAÇÃO DE PLACAS","m²",{"$f":"F505+F506","v":16.670000000000002},{"$f":"VLOOKUP(B507,'PREÇO UNITÁRIO'!$B$4:$F$124,5,0)","v":65.77},81.995458999999997,1096.3900000000001,{"$f":"ROUND(F507*H507,2)","v":1366.86},"ESTIMATIVA PARA OBRA"]
["7.5.1.5","85424","SINAPI","ISOLAMENTO DE OBRA COM TELA PLASTICA COM MALHA DE 5MM E ESTRUTURA DE MADEIRA PONTALETEADA","m",840,{"$f":"VLOOKUP(B508,'PREÇO UNITÁRIO'!$B$4:$F$124,5,0)","v":20.83},25.968760999999997,17497.2,{"$f":"ROUND(F508*H508,2)","v":21813.759999999998},"ESTIMATIVA PARA OBRA"]
["7.5.2","SINALIZAÇÃO DEFINITIVA HORIZONTAL",{"$nulls":6},{"$f":"SUM(I510:I511)","v":276.8},{"$f":"SUM(J510:J511)","v":345.08}]
["7.5.2.1","RO-41237               OBR-VIA-245","DEER/MG","LINHAS DE RESINA ACRILICA 0,6MM DE ESPESSURA E LARGURA = 0,10M (EXECUÇÃO, INCLUSIVE PRÉ-MARCAÇÃO, FORNECIMENTO E TRANSPORTE DE TODOS OS MATERIAIS) - LINHAS BRANCAS","m²",{"$f":"400*0.1*2","v":80},{"$f":"VLOOKUP(B510,'PREÇO UNITÁRIO'!$B$4:$F$124,5,0)","v":1.73},{"$f":"G510*(1+$J$4)","v":2.1567909999999997},{"$f":"ROUND(F510*G510,2)","v":138.4},{"$f":"ROUND(F510*H510,2)","v":172.54},null,"IDEM ACIMA"]
["7.5.2.2","RO-41237               OBR-VIA-245","DEER/MG","LINHAS DE RESINA ACRILICA 0,6MM DE ESPESSURA E LARGURA = 0,10M (EXECUÇÃO, INCLUSIVE PRÉ-MARCAÇÃO, FORNECIMENTO E TRANSPORTE DE TODOS OS MATERIAIS) - LINHAS AMARELAS","m²",{"$f":"400*2*0.1","v":80},{"$f":"VLOOKUP(B511,'PREÇO UNITÁRIO'!$B$4:$F$124,5,0)","v":1.73},2.1567909999999997,138.4,{"$f":"ROUND(F511*H511,2)","v":172.54}]
["7.5.3","SINALIZAÇÃO DEFINITIVA VERTICAL",{"$nulls":6},{"$f":"SUM(I513:I515)","v":2091.13},{"$f":"SUM(J513:J515)","v":2607.0100000000002}]
["7.5.3.1","RO-41841","DEER/MG","PLACA DE AÇO CARBONO COM PELÍCULA REFLETIVA GRAU TÉCNICO TIPO I DA ABNT - PLACA CIRCULAR (EXECUÇÃO, INCLUINDO FORNECIMENTO E TRANSPORTE DE TODOS OS MATERIAIS, INCLUSIVE POSTE DE SUSTENTAÇÃO)","m²",{"$f":"ENGECORPS!G153/2","v":2.6},{"$f":"VLOOKUP(B513,'PREÇO UNITÁRIO'!$B$4:$F$124,5,0)","v":341.61},{"$f":"G513*(1+$J$4)","v":425.88518699999997},{"$f":"ROUND(F513*G513,2)","v":888.19},{"$f":"ROUND(F513*H513,2)","v":1107.3}]
["7.5.3.2","RO-41844","DEER/MG","PLACA DE AÇO CARBONO COM PELÍCULA REFLETIVA GRAU TÉCNICO TIPO I DA ABNT - PLACA QUADRADA (EXECUÇÃO, INCLUINDO FORNECIMENTO E TRANSPORTE DE TODOS OS MATERIAIS, INCLUSIVE POSTE DE SUSTENTAÇÃO)","m²",{"$f":"ENGECORPS!G153/2","v":2.6},{"$f":"VLOOKUP(B514,'PREÇO UNITÁRIO'!$B$4:$F$124,5,0)","v":331.13},412.81977099999995,860.94,{"$f":"ROUND(F514*H514,2)","v":1073.33}]
["7.5.3.3","RO-43226","DEER/MG","COLOCAÇÃO DE PLACAS","m²",{"$f":"F513+F514","v":5.2},{"$f":"VLOOKUP(B515,'PREÇO UNITÁRIO'!$B$4:$F$124,5,0)","v":65.77},81.995458999999997,342,{"$f":"ROUND(F515*H515,2)","v":426.38}]
["7.5.4","DISPOSITIVOS DE SEGURANÇA",{"$nulls":6},{"$f":"SUM(I517:I518)","v":155014.29999999999},{"$f":"SUM(J517:J518)","v":193256.32000000001}]
["7.5.4.1","RO-41763","DEER/MG","DEFENSA SINGELA SEMI-MALEÁVEL SV-DSM-02 (EXECUÇÃO, INCLUINDO FORNECIMENTO, COLOCAÇÃO E TRANSPORTE DE TODOS OS MATERIAIS)","m",{"$f":"14*20*2","v":560},{"$f":"VLOOKUP(B517,'PREÇO UNITÁRIO'!$B$4:$F$124,5,0)","v":265.94},{"$f":"G517*(1+$J$4)","v":331.54739799999999},{"$f":"ROUND(F517*G517,2)","v":148926.39999999999},{"$f":"ROUND(F517*H517,2)","v":185666.54},"AO LONGO DE TODO O ATERRO, DOS 2 LADOS (14 ESTACAS)","ESTIMATIVA"]
["7.5.4.2","28.10.01.99","DER/SP","FORN./INSTAL. BALIZ.(CATADIOPTRICO) P/DEF. MET. C/PELICULA GT+GT, CONF.OP-06-05","un.",{"$f":"14*20*3/4","v":210},{"$f":"VLOOKUP(B518,'PREÇO UNITÁRIO'!$B$4:$F$124,5,0)","v":28.99},36.141832999999998,6087.9,{"$f":"ROUND(F518*H518,2)","v":7589.78},"1 A CADA 4M X 3 (ANTECEDE OAE)","ESTIMATIVA"]
[{"$nulls":7},"TOTAL SINALIZAÇÃO DE OBRA E DEFINITIVA",{"$f":"SUM(I503+I509+I512+I516)","v":183003.94},{"$f":"SUM(J503+J509+J512+J516)","v":228150.98}]
[]
[{"$nulls":7},"TOTAL - PONTE N",{"$f":"I519+I500+I488+I475+I442","v":2517712.0700000003},{"$f":"J519+J500+J488+J475+J442","v":3138831.6300000004}]
[]
["8 - PONTE LOCAL R"]
["8.1","OBRAS DE ARTE CORRENTE E DRENAGEM"]
["8.1.1","VALETA DE PROTEÇÃO DE ATERRO",{"$nulls":6},{"$f":"SUM(I526)","v":14274.4},{"$f":"SUM(J526)","v":17795.89}]
["8.1.1.1","RO-40514","DEER/MG","VALETA DE PROTEÇÃO DE ATERRO TIPO DR.VPA (EXECUÇÃO,INCLUINDO ESCAVAÇÃO)","m",{"$f":"200*2+80*2","v":560},{"$f":"VLOOKUP(B526,'PREÇO UNITÁRIO'!$B$4:$F$124,5,0)","v":25.49},{"$f":"G526*(1+$J$4)","v":31.778382999999994},{"$f":"ROUND(F526*G526,2)","v":14274.4},{"$f":"ROUND(F526*H526,2)","v":17795.89},"NÃO PREVISTO. ESTIMADO COM BASE NO PROJETO E168"]
["8.1.2","DISSIPADOR DE ENERGIA",{"$nulls":6},{"$f":"SUM(I528)","v":512.72},{"$f":"SUM(J528)","v":639.21}]
["8.1.2.1","2003441","DNIT/MG","DISSIPADOR DE ENERGIA DE 501 - AREIA E PEDRA DE MÃO COMERCIAIS","und",4,{"$f":"VLOOKUP(B528,'PREÇO UNITÁRIO'!$B$4:$F$124,5,0)","v":128.18},{"$f":"G528*(1+$J$4)","v":159.80200600000001},{"$f":"ROUND(F528*G528,2)","v":512.72},{"$f":"ROUND(F528*H528,2)","v":639.21},"NÃO PREVISTO. ESTIMADO COM BASE NO PROJETO E168"]
["8.1.3","SARJETA DE CONCRETO ATERRO",{"$nulls":6},{"$f":"SUM(I530)","v":18752},{"$f":"SUM(J530)","v":23378.12}]
["8.1.3.1","RO-40613","DEER/MG","SARJETA DE CONCRETO EM ATERRO,TIPO DR.SCA- X/Y. LARGURA=60CM TIPO 30/10 (EXECUÇÃO, INCLUINDO ESCAVAÇÃO, FORNECIMENTO, TRANSPORTE E PLANTIO DA GRAMA)","m",{"$f":"240*2+80*2","v":640},{"$f":"VLOOKUP(B530,'PREÇO UNITÁRIO'!$B$4:$F$124,5,0)","v":29.3},{"$f":"G530*(1+$J$4)","v":36.528309999999998},{"$f":"ROUND(F530*G530,2)","v":18752},{"$f":"ROUND(F530*H530,2)","v":23378.12},"NÃO PREVISTO. ESTIMADO COM BASE NO PROJETO E168"]
["8.1.4","CAIXA COLETORA EM ALVENARIA",{"$nulls":6},{"$f":"SUM(I532:I536)","v":6971.1100000000006},{"$f":"SUM(J532:J536)","v":8690.89}]
["8.1.4.1","RO-40160","DEER/MG","ESCAVAÇÃO, CARGA, DESCARGA, ESPALHAMENTO E TRANSPORTE DE MATERIAL DE 1ª CATEGORIA, COMCAMINHÃO. DISTÂNCIA MÉDIA DE TRANSPORTE DE 3.001 A 4.000 M","m³",{"$f":"1.5*1.5*1*8","v":18},{"$f":"VLOOKUP(B532,'PREÇO UNITÁRIO'!$B$4:$F$124,5,0)","v":7.44},{"$f":"G532*(1+$J$4)","v":9.275447999999999},{"$f":"ROUND(F532*G532,2)","v":133.91999999999999},{"$f":"ROUND(F532*H532,2)","v":166.96},"NÃO PREVISTO. ESTIMADO COM BASE NO PROJETO E168"]
["8.1.4.2","ED-48193","DEER/MG","ALVENARIA DE VEDAÇÃO COM BLOCO DE CONCRETO, ESP.19 CM, PARA REVESTIMENTO, INCLUSIVE ARGAMASSA PARA ASSENTAMENTO","m²",{"$f":"1.2*4*1*8","v":38.4},{"$f":"VLOOKUP(B533,'PREÇO UNITÁRIO'!$B$4:$F$124,5,0)","v":49.12},61.237903999999993,1886.21,{"$f":"ROUND(F533*H533,2)","v":2351.54}]
["8.1.4.3","ED-50732","DEER/MG","EMBOÇO COM ARGAMASSA, TRAÇO 1:6 (CIMENTO E AREIA), ESP. 20MM, APLICAÇÃO MANUAL, PREPARO MECÂNICO","m²",{"$f":"F533*2","v":76.8},{"$f":"VLOOKUP(B534,'PREÇO UNITÁRIO'!$B$4:$F$124,5,0)","v":22.84},28.474627999999999,1754.11,{"$f":"ROUND(F534*H534,2)","v":2186.85}]
["8.1.4.4","RO-41624","DEER/MG","CONCRETO DE CIMENTO PORTLAND, FCK>=15,0MPA (EXECUÇÃO, INCLUINDO OFORNECIMENTO E TRANSPORTE DOS AGREGADOS)","m³",{"$f":"1.2*1.2*0.1*8","v":1.1519999999999999},{"$f":"VLOOKUP(B535,'PREÇO UNITÁRIO'!$B$4:$F$124,5,0)","v":365.06},455.12030199999998,420.55,{"$f":"ROUND(F535*H535,2)","v":524.29999999999995}]
["8.1.4.5","ED-48676","DEER/MG","FORNECIMENTO, ASSENTAMENTO E  REJUNTAMENTO DE TUBO DE CONCRETO SIMPLES PS1 D = 400 MM","m",{"$f":"4*8","v":32},{"$f":"VLOOKUP(B536,'PREÇO UNITÁRIO'!$B$4:$F$124,5,0)","v":86.76},108.163692,2776.32,{"$f":"ROUND(F536*H536,2)","v":3461.24}]
["8.1.5","SARJETA DE CONCRETO CORTE",{"$nulls":6},{"$f":"SUM(I538)","v":1802},{"$f":"SUM(J538)","v":2246.5500000000002}]
["8.1.5.1","RO-40661","DEER/MG","SARJETA DE CONCRETO EM CORTE TIPO DR.SCC-X/Y. LARGURA=90CM TIPO80/10 (EXECUÇÃO, INCLUINDOESCAVAÇÃO, FORNECIMENTO E TRANSPORTE DE TODOS OS MATERIAIS)","m",{"$f":"10*4","v":40},{"$f":"VLOOKUP(B538,'PREÇO UNITÁRIO'!$B$4:$F$124,5,0)","v":45.05},{"$f":"G538*(1+$J$4)","v":56.163834999999992},{"$f":"ROUND(F538*G538,2)","v":1802},{"$f":"ROUND(F538*H538,2)","v":2246.5500000000002},"NÃO PREVISTO. ESTIMADO COM BASE NO PROJETO E168"]
["8.1.6","CANALETA",{"$nulls":6},{"$f":"SUM(I540)","v":0},{"$f":"SUM(J540)","v":0}]
["8.1.6.1","ED-14723","DEER/MG","CANALETA PARA DRENAGEM, EM CONCRETO COM FCK 15MPA, MOLDADA IN LOCO, SEÇÃO 60X60CM, FORMA EM CONTRA BARRANCO, EXCLUSIVE TAMPA, INCLUSIVE ESCAVAÇÃO, REATERRO COM TRANSPORTE E RETIRADA DO MATERIAL ESCAVADO (EM CAÇAMBA)","m",null,{"$f":"VLOOKUP(B540,'PREÇO UNITÁRIO'!$B$4:$F$124,5,0)","v":236.98},{"$f":"G540*(1+$J$4)","v":295.44296599999996},{"$f":"ROUND(F540*G540,2)","v":0},{"$f":"ROUND(F540*H540,2)","v":0},"NÃO PREVISTO. ESTIMADO COM BASE NO PROJETO E168"]
["8.1.7","DESCIDA D'ÁGUA",{"$nulls":6},{"$f":"SUM(I542)","v":8685.2999999999993},{"$f":"SUM(J542)","v":10827.96}]
["8.1.7.1","ED-48598","DEER/MG","DESCIDA D´ÁGUA TIPO CALHA DN 500, EXCLUSIVE BOTA FORA","m",30,{"$f":"VLOOKUP(B542,'PREÇO UNITÁRIO'!$B$4:$F$124,5,0)","v":289.51},{"$f":"G542*(1+$J$4)","v":360.93211699999995},{"$f":"ROUND(F542*G542,2)","v":8685.2999999999993},{"$f":"ROUND(F542*H542,2)","v":10827.96},"NÃO PREVISTO. ESTIMADO COM BASE NO PROJETO E168"]
[{"$nulls":7},"TOTAL OBRAS DE ARTE CORRENTE E DRENAGEM",{"$f":"SUM(I525+I527+I529+I537+I539+I541)+I531","v":50997.53},{"$f":"SUM(J525+J527+J529+J537+J539+J541)+J531","v":63578.62}]
[]
["8.2","OBRAS DE ARTE ESPECIAIS"]
["8.2.1","INFRA ESTRUTURA",{"$nulls":6},{"$f":"SUM(I547:I554)","v":18156.560000000001},{"$f":"SUM(J547:J554)","v":22635.8}]
["8.2.1.1","72917","SINAPI","ESCAVACAO MECANICA DE VALA EM MATERIAL 2A CATEGORIA COM UTILIZACAO DE ESCAVADEIRA HIDRAULICA","m³",{"$f":"3.9*3.6*2*4","v":112.32},{"$f":"VLOOKUP(B547,'PREÇO UNITÁRIO'!$B$4:$F$124,5,0)","v":10.35},{"$f":"G547*(1+$J$4)","v":12.903344999999998},{"$f":"ROUND(F547*G547,2)","v":1162.51},{"$f":"ROUND(F547*H547,2)","v":1449.3}]
["8.2.1.2","93382","SINAPI","REATERRO MANUAL DE VALAS COM COMPACTAÇÃO MECANIZADA. AF_04/2016","m³",{"$f":"F547-(3.9*3.6*1.1*4)","v":50.54399999999999},{"$f":"VLOOKUP(B548,'PREÇO UNITÁRIO'!$B$4:$F$124,5,0)","v":24.07},30.008068999999999,1216.5899999999999,1516.73]
["8.2.1.3","83534","SINAPI","LASTRO DE CONCRETO, PREPARO MECÂNICO, INCLUSOS ADITIVO IMPERMEABILIZANTE, LANÇAMENTO E ADENSAMENTO","m³",{"$f":"3.9*3.6*0.05*4","v":2.8079999999999998},{"$f":"VLOOKUP(B549,'PREÇO UNITÁRIO'!$B$4:$F$124,5,0)","v":427.75},533.27592499999992,1201.1199999999999,1497.44]
["8.2.1.4","5914569","DNIT/MG","TRANSPORTE COM CAMINHÃO BETONEIRA - RODOVIA PAVIMENTADA (Entre Bocaiúva/MG e Francisco Dumont/MG - 69,00km)","txkm",{"$f":"F552*2.4*L550","v":4484.4479999999994},{"$f":"VLOOKUP(B550,'PREÇO UNITÁRIO'!$B$4:$F$124,5,0)","v":0.36},0.44881199999999993,1614.4,2012.67,"VER DMT. ADOTEI >>>>>>>",{"$f":"TRANSPORTES!F15","v":69}]
["8.2.1.5","5914539","DNIT/MG","TRANSPORTE COM CAMINHÃO BETONEIRA - RODOVIA EM LEITO NATURAL (Entre Francisco Dumont/MG e Área R - 15,00km)","txkm",{"$f":"F552*2.4*L551","v":974.87999999999988},{"$f":"VLOOKUP(B551,'PREÇO UNITÁRIO'!$B$4:$F$124,5,0)","v":0.55000000000000004},0.68568499999999999,536.17999999999995,668.46,"VER DMT. ADOTEI >>>>>>>",{"$f":"TRANSPORTES!P15","v":15}]
["8.2.1.6",1116263,"DNIT/MG","CONCRETO PARA BOMBEAMENTO FCK = 25 MPA - CONFECÇÃO EM CENTRAL DOSADORA DE 30 M³/H - AREIA E BRITA COMERCIAIS","m³",27.08,{"$f":"VLOOKUP(B552,'PREÇO UNITÁRIO'!$B$4:$F$124,5,0)","v":231.5},{"$f":"G552*(1+$J$4)","v":288.61104999999998},6269.02,7815.59,"MEMÓRIA ANEXO"]
["8.2.1.7",1107860,"DNIT/MG","LANÇAMENTO MECÂNICO DE CONCRETO COM BOMBA LANÇA SOBRE CHASSI COM CAPACIDADE DE 45 M³/H - CONFECÇÃO EM CENTRAL DOSADORA DE 40 M³/H","m³",{"$f":"F552","v":27.08},{"$f":"VLOOKUP(B553,'PREÇO UNITÁRIO'!$B$4:$F$124,5,0)","v":31.39},{"$f":"G553*(1+$J$4)","v":39.133913},{"$f":"ROUND(F553*G553,2)","v":850.04},{"$f":"ROUND(F553*H553,2)","v":1059.75},"INCLUI O LANÇAMENTO"]
["8.2.1.8","92270","SINAPI","FABRICAÇÃO DE FÔRMA PARA VIGAS, COM MADEIRA SERRADA, E = 25 MM. AF_12/2015","m²",67.08,{"$f":"VLOOKUP(B554,'PREÇO UNITÁRIO'!$B$4:$F$124,5,0)","v":79.11},{"$f":"G554*(1+$J$4)","v":98.626436999999996},5306.7,6615.86,"MEMÓRIA ANEXO"]
["8.2.2","MESO E SUPER ESTRUTURA",{"$nulls":6},{"$f":"SUM(I556:I573)","v":352606.98000000004},{"$f":"SUM(J556:J573)","v":439595.14999999997}]
["8.2.2.1",92263,"SINAPI","FABRICAÇÃO DE FÔRMA PARA PILARES E ESTRUTURAS SIMILARES, EM CHAPA DE MADEIRA COMPENSADA RESINADA, E = 17 MM. AF_12/2015","m²",{"$f":"178.08+54.88","v":232.96},{"$f":"VLOOKUP(B556,'PREÇO UNITÁRIO'!$B$4:$F$124,5,0)","v":89.2},{"$f":"G556*(1+$J$4)","v":111.20564},{"$f":"ROUND(F556*G556,2)","v":20780.03},{"$f":"ROUND(F556*H556,2)","v":25906.47},"CALCULAR PELO PROJETO"]
["8.2.2.2","5914569","DNIT/MG","TRANSPORTE COM CAMINHÃO BETONEIRA - RODOVIA PAVIMENTADA (Entre Bocaiúva/MG e Francisco Dumont/MG - 69,00km)","txkm",{"$f":"F559*2.4*L557","v":12883.680000000002},{"$f":"VLOOKUP(B557,'PREÇO UNITÁRIO'!$B$4:$F$124,5,0)","v":0.36},0.44881199999999993,4638.12,5782.35,"VER DMT. ADOTEI >>>>>>>",{"$f":"L550","v":69}]
["8.2.2.3","5914539","DNIT/MG","TRANSPORTE COM CAMINHÃO BETONEIRA - RODOVIA EM LEITO NATURAL (Entre Francisco Dumont/MG e Área R - 15,00km)","txkm",{"$f":"F559*2.4*L558","v":2800.8},{"$f":"VLOOKUP(B558,'PREÇO UNITÁRIO'!$B$4:$F$124,5,0)","v":0.55000000000000004},0.68568499999999999,1540.44,1920.47,"VER DMT. ADOTEI >>>>>>>",{"$f":"L551","v":15}]
["8.2.2.4",1116263,"DNIT/MG","CONCRETO PARA BOMBEAMENTO FCK = 25 MPA - CONFECÇÃO EM CENTRAL DOSADORA DE 30 M³/H - AREIA E BRITA COMERCIAIS","m³",{"$f":"44.52+33.28","v":77.800000000000011},{"$f":"VLOOKUP(B559,'PREÇO UNITÁRIO'!$B$4:$F$124,5,0)","v":231.5},288.61104999999998,18010.7,22453.94,"MEMÓRIA ANEXO"]
["8.2.2.5",1107860,"DNIT/MG","LANÇAMENTO MECÂNICO DE CONCRETO COM BOMBA LANÇA SOBRE CHASSI COM CAPACIDADE DE 45 M³/H - CONFECÇÃO EM CENTRAL DOSADORA DE 40 M³/H","m³",{"$f":"F559","v":77.800000000000011},{"$f":"VLOOKUP(B560,'PREÇO UNITÁRIO'!$B$4:$F$124,5,0)","v":31.39},39.133913,2442.14,3044.62]
["8.2.2.6",92792,"SINAPI","CORTE E DOBRA DE AÇO CA-50, DIÂMETRO DE 6,3 MM, UTILIZADO EM ESTRUTURA S DIVERSAS","kg",247,{"$f":"VLOOKUP(B561,'PREÇO UNITÁRIO'!$B$4:$F$124,5,0)","v":6.58},8.2032860000000003,1625.26,2026.21,"CONFORME PROJETO!",43480,4.568345323741007E-2]
["8.2.2.7",92793,"SINAPI","CORTE E DOBRA DE AÇO CA-50, DIÂMETRO DE 8,0 MM, UTILIZADO EM ESTRUTURA S DIVERSAS","kg",1029,{"$f":"VLOOKUP(B562,'PREÇO UNITÁRIO'!$B$4:$F$124,5,0)","v":6.38},7.9539459999999993,6565.02,8184.61,null,null,6.1973278520041107E-2]
["8.2.2.8",92794,"SINAPI","CORTE E DOBRA DE AÇO CA-50, DIÂMETRO DE 10,0 MM, UTILIZADO EM ESTRUTURAS DIVERSAS","kg",4573,{"$f":"VLOOKUP(B563,'PREÇO UNITÁRIO'!$B$4:$F$124,5,0)","v":5.82},7.2557939999999999,26614.86,33180.75,null,null,0.28239979445015417]
["8.2.2.9",92795,"SINAPI","CORTE E DOBRA DE AÇO CA-50, DIÂMETRO DE 12,5 MM, UTILIZADO EM ESTRUTURAS DIVERSAS","kg",10630,{"$f":"VLOOKUP(B564,'PREÇO UNITÁRIO'!$B$4:$F$124,5,0)","v":4.95},6.1711650000000002,52618.5,65599.48,null,null,0.16485097636176774]
["8.2.2.10",92796,"SINAPI","CORTE E DOBRA DE AÇO CA-50, DIÂMETRO DE 16,0 MM, UTILIZADO EM ESTRUTURAS DIVERSAS","kg",6493,{"$f":"VLOOKUP(B565,'PREÇO UNITÁRIO'!$B$4:$F$124,5,0)","v":4.87},6.0714289999999993,31620.91,39421.79,null,null,0.2686022610483042]
["8.2.2.11",92797,"SINAPI","CORTE E DOBRA DE AÇO CA-50, DIÂMETRO DE 20,0 MM, UTILIZADO EM ESTRUTURAS DIVERSAS","kg",818,{"$f":"VLOOKUP(B566,'PREÇO UNITÁRIO'!$B$4:$F$124,5,0)","v":5.72},7.1311239999999989,4678.96,5833.26,null,null,0.15835046248715312]
["8.2.2.12",92798,"SINAPI","CORTE E DOBRA DE AÇO CA-50, DIÂMETRO DE 25,0 MM, UTILIZADO EM ESTRUTURAS DIVERSAS","kg",15268,{"$f":"VLOOKUP(B567,'PREÇO UNITÁRIO'!$B$4:$F$124,5,0)","v":5.7},7.1061899999999998,87027.6,108497.31,null,null,8.5817060637204522E-3]
["8.2.2.13",92881,"SINAPI","CORTE E DOBRA DE AÇO CA-25, DIÂMETRO DE 25,0 MM. AF_12/2015","kg",476,{"$f":"VLOOKUP(B568,'PREÇO UNITÁRIO'!$B$4:$F$124,5,0)","v":6.14},7.6547379999999992,2922.64,3643.66,null,null,9.5580678314491265E-3]
["8.2.2.14",307736,"DNIT/MG","JUNTA DE DILATAÇÃO EM PERFIL EXTRUDADO DE BORRACHA VULCANIZADA DE 40 X 70 MM - FORNECIMENTO E INSTALAÇÃO","m",{"$f":"ENGECORPS!G204","v":22.8},{"$f":"VLOOKUP(B569,'PREÇO UNITÁRIO'!$B$4:$F$124,5,0)","v":1014.24},1264.453008,23124.67,28829.53]
["8.2.2.15",91790,"SINAPI","(COMPOSIÇÃO REPRESENTATIVA) DO SERVIÇO DE INSTALAÇÃO DE TUBOS DE PVC, SÉRIE R, ÁGUA PLUVIAL, DN 100 MM (INSTALADO EM RAMAL DE ENCAMINHAMENTO , OU CONDUTORES VERTICAIS), INCLUSIVE  CONEXÕES, CORTES E FIXAÇÕES, PARA PRÉDIOS. AF_10/2015 ","m",{"$f":"2*F572","v":160},{"$f":"VLOOKUP(B570,'PREÇO UNITÁRIO'!$B$4:$F$124,5,0)","v":42.45},52.922415000000001,6792,8467.59]
["8.2.2.16",84154,"SINAPI","APARELHO APOIO NEOPRENE FRETADO ","dm³",{"$f":"ENGECORPS!G202*(2*2.5*0.7)+ENGECORPS!G203*(2.5*3*0.7)","v":98},{"$f":"VLOOKUP(B571,'PREÇO UNITÁRIO'!$B$4:$F$124,5,0)","v":109.31},136.27677699999998,10712.38,13355.12]
["8.2.2.17","73770/001","SINAPI","BARREIRA PRE-MOLDADA EXTERNA CONCRETO ARMADO 0,25X0,40X1,14M FCK=25MPA ACO CA-50 INCL VIGOTA HORIZONTAL MONTANTE A CADA 1,00M FERROS DE LIGACAO E MATERIAIS.","m",{"$f":"2*40","v":80},{"$f":"VLOOKUP(B572,'PREÇO UNITÁRIO'!$B$4:$F$124,5,0)","v":468.97},584.66489899999999,37517.599999999999,46773.19]
["8.2.2.18","C3",null,"MONTAGEM DAS ESTRUTURAS PRÉ-MOLDADAS (LAJES E LONGARINAS)","m³",{"$f":"ENGECORPS!G206","v":66.069999999999993},{"$f":"VLOOKUP(B573,'PREÇO UNITÁRIO'!$B$4:$F$124,5,0)","v":202.43912800000004},252.38086087760004,13375.15,16674.8,"MEMÓRIA ANEXA - NÃO INCLUSO TRANSVERSINAS"]
[{"$nulls":7},"TOTAL OAE",{"$f":"SUM(I546+I555)","v":370763.54000000004},{"$f":"SUM(J546+J555)","v":462230.94999999995}]
[]
["8.3","PAVIMENTAÇÃO",{"$nulls":8},"PAVIMENTO EM CONCRETO RÍGIDO NO PROJETO"]
["8.3.1","REVESTIMENTO E PAVIMENTO RÍGIDO",{"$nulls":6},{"$f":"SUM(I578:I585)","v":205598.04},{"$f":"SUM(J578:J585)","v":256319.08999999997}]
["8.3.1.1","83338","SINAPI","ESCAVACAO MECANICA, A CEU ABERTO, EM MATERIAL DE 1A CATEGORIA, COM ESCAVADEIRA HIDRAULICA, CAPACIDADE DE 0,78 M3 - CORTE JAZIDA","m³",{"$f":"ENGECORPS!G190","v":20894.36},{"$f":"VLOOKUP(B578,'PREÇO UNITÁRIO'!$B$4:$F$124,5,0)","v":2.12},{"$f":"G578*(1+$J$4)","v":2.6430039999999999},{"$f":"ROUND(F578*G578,2)","v":44296.04},{"$f":"ROUND(F578*H578,2)","v":55223.88}]
["8.3.1.2","RO-40251","DEER/MG","COMPACTAÇÃO DE ATERRO A 100% PROCTOR NORMAL","m³",{"$f":"ENGECORPS!G189","v":16715.490000000002},{"$f":"VLOOKUP(B579,'PREÇO UNITÁRIO'!$B$4:$F$124,5,0)","v":3.14},3.9146380000000001,52486.64,65435.09]
["8.3.1.3","RO-43112","DEER/MG","SUB-BASE, SEM MISTURA, COMPACTADA NA ENERGIA DO PROCTOR INTERMEDIÁRIO (EXECUÇÃO, INCLUINDO ESCAVAÇÃO, CARGA, DESCARGA, ESPALHAMENTO, UMIDECIMENTO E COMPACTAÇÃO DO MATERIAL; EXCLUI AQUISIÇÃO E TRANSPORTE DO MATERIAL)","m³",{"$f":"(190+90)*8*0.15","v":336},{"$f":"VLOOKUP(B580,'PREÇO UNITÁRIO'!$B$4:$F$124,5,0)","v":14.05},17.516134999999998,4720.8,5885.42,"CONSIDERANDO EXTENSÃO DO ATERRO ESQ/DIR X 8M X 0,15M"]
["8.3.1.4","RO-43113","DEER/MG","BASE DE SOLO SEM MISTURA, COMPACTADA NA ENERGIA DO PROCTOR INTERMEDIÁRIO (EXECUÇÃO, INCLUINDO ESCAVAÇÃO, CARGA, DESCARGA, ESPALHAMENTO, UMIDECIMENTO E COMPACTAÇÃO DO MATERIAL; EXCLUI AQUISIÇÃO E TRANSPORTEDO MATERIAL)","m³",{"$f":"F580","v":336},{"$f":"VLOOKUP(B581,'PREÇO UNITÁRIO'!$B$4:$F$124,5,0)","v":14.05},17.516134999999998,4720.8,5885.42]
["8.3.1.5","5914569","DNIT/MG","TRANSPORTE COM CAMINHÃO BETONEIRA - RODOVIA PAVIMENTADA (Entre Bocaiúva/MG e Francisco Dumont/MG - 69,00km)","txkm",{"$f":"F584*2.4*L582","v":18409.2},{"$f":"VLOOKUP(B582,'PREÇO UNITÁRIO'!$B$4:$F$124,5,0)","v":0.36},0.44881199999999993,6627.31,8262.27,"VER DMT. ADOTEI >>>>>>>",{"$f":"TRANSPORTES!F15","v":69}]
["8.3.1.6","5914539","DNIT/MG","TRANSPORTE COM CAMINHÃO BETONEIRA - RODOVIA EM LEITO NATURAL (Entre Francisco Dumont/MG e Área R - 15,00km)","txkm",{"$f":"F584*2.4*L583","v":4002},{"$f":"VLOOKUP(B583,'PREÇO UNITÁRIO'!$B$4:$F$124,5,0)","v":0.55000000000000004},0.68568499999999999,2201.1,2744.11,"VER DMT. ADOTEI >>>>>>>",{"$f":"TRANSPORTES!P15","v":15}]
["8.3.1.7",4011520,"DNIT/MG","PAVIMENTO RÍGIDO DE CONCRETO, ESPESSURA DE 12CM, COM AGENTE DE CURA E TELA SOLDADA","m²",{"$f":"13.34/0.12","v":111.16666666666667},{"$f":"VLOOKUP(B584,'PREÇO UNITÁRIO'!$B$4:$F$124,5,0)","v":57.9},72.183929999999989,6436.55,8024.45]
["8.3.1.8","RO-41344","DEER/MG","TRANSPORTE DE MATERIAL DE JAZIDA PARA CONSERVAÇÃO. DISTÂNCIA MÉDIA DE TRANSPORTE > 50,10 KM (ESCAVAÇÃO+BASE E SUB BASE)","m³xkm",{"$f":"(F578+F580+F581)*L585","v":107831.8},{"$f":"VLOOKUP(B585,'PREÇO UNITÁRIO'!$B$4:$F$124,5,0)","v":0.78},0.97242600000000001,84108.800000000003,104858.45,"VER DMT. ADOTEI >>>>>>>",5,"BUSCAR JAZIDA PRÓXIMA"]
[{"$nulls":7},"TOTAL PAVIMENTAÇÃO ASFÁLTICA",{"$f":"SUM(I577)","v":205598.04},{"$f":"SUM(J577)","v":256319.08999999997}]
[]
["8.4","COMPLEMENTARES"]
["8.4.1","SERVIÇOS COMPLEMENTARES - PROTEÇÃO DE TALUDES",{"$nulls":6},{"$f":"SUM(I590:I595)","v":341523.20999999996},{"$f":"SUM(J590:J595)","v":425777.00000000006}]
["8.4.1.1","RO-41352   OBR-VIA-370","DEER/MG","TRANSPORTE DE ROCHAS E MATERIAL DE 3A CATEGORIA, DISTÂNCIA MÉDIA DE TRANSPORTE > 50,10 KM","m³xkm",{"$f":"SUM(F591:F592)*L590","v":154560},{"$f":"VLOOKUP(B590,'PREÇO UNITÁRIO'!$B$4:$F$124,5,0)","v":0.73},{"$f":"G590*(1+$J$4)","v":0.91009099999999987},{"$f":"ROUND(F590*G590,2)","v":112828.8},{"$f":"ROUND(F590*H590,2)","v":140663.66},"VER DMT. ADOTEI >>>>>>>",{"$f":"TRANSPORTES!F7+TRANSPORTES!P7","v":140},"BUSCAR JAZIDA PRÓXIMA"]
["8.4.1.2","92755","SINAPI","PROTEÇÃO SUPERFICIAL DE CANAL EM GABIÃO TIPO COLCHÃO, ALTURA DE 17 CENTÍMETROS, ENCHIMENTO COM PEDRA DE MÃO TIPO RACHÃO - FORNECIMENTO E EXECUÇÃO","m²",{"$f":"ENGECORPS!G191","v":1008},{"$f":"VLOOKUP(B591,'PREÇO UNITÁRIO'!$B$4:$F$124,5,0)","v":136.43},170.08728099999999,137521.44,171447.98]
["8.4.1.3","92743","SINAPI","MURO DE GABIÃO, ENCHIMENTO COM PEDRA DE MÃO TIPO RACHÃO, DE GRAVIDADE, COM GAIOLAS DE COMPRIMENTO MENOR OU IGUAL A 2 M","m³",{"$f":"ENGECORPS!G192","v":96},{"$f":"VLOOKUP(B592,'PREÇO UNITÁRIO'!$B$4:$F$124,5,0)","v":401.37},500.38797899999997,38531.519999999997,48037.25]
["8.4.1.4","73881/001","SINAPI","EXECUCAO DE DRENO COM MANTA GEOTEXTIL 200 G/M2","m²",{"$f":"ENGECORPS!G193","v":1296},{"$f":"VLOOKUP(B593,'PREÇO UNITÁRIO'!$B$4:$F$124,5,0)","v":5.22},6.5077739999999995,6765.12,8434.08]
["8.4.1.5","96391","SINAPI","SOLO CIMENTO PARA ANCORAGEM, (6% DE CIMENTO NA MISTURA EM PESO, RESISTÊNCIA A COMPRESSÃO SIMPLES 20kgf/cm²)","m³",{"$f":"ENGECORPS!G196","v":33.599999999999994},{"$f":"VLOOKUP(B594,'PREÇO UNITÁRIO'!$B$4:$F$124,5,0)","v":64.14},79.963337999999993,2155.1,2686.77]
["8.4.1.6","C4","CPU","PROTEÇÃO DE TALUDE REVESTIMENTO VEGETAL","m²",{"$f":"ENGECORPS!G194","v":2400},{"$f":"VLOOKUP(B595,'PREÇO UNITÁRIO'!$B$4:$F$124,5,0)","v":18.217180000000003},22.711358306000001,43721.23,54507.26]
[{"$nulls":7},"TOTAL COMPLEMENTARES",{"$f":"SUM(I589)","v":341523.20999999996},{"$f":"SUM(J589)","v":425777.00000000006}]
[]
["8.5","SINALIZAÇÃO DE OBRA E DEFINITIVA"]
["8.5.1","SINALIZAÇÃO DE OBRA",{"$nulls":6},{"$f":"SUM(I600:I604)","v":24788.510000000002},{"$f":"SUM(J600:J604)","v":30903.82}]
["8.5.1.1",97051,"SINAPI","SINALIZAÇÃO COM FITA FIXADA NA ESTRUTURA. AF_11/2017","m",3000,{"$f":"VLOOKUP(B600,'PREÇO UNITÁRIO'!$B$4:$F$124,5,0)","v":0.5},{"$f":"G600*(1+$J$4)","v":0.62334999999999996},{"$f":"ROUND(F600*G600,2)","v":1500},{"$f":"ROUND(F600*H600,2)","v":1870.05},"ESTIMATIVA PARA OBRA"]
["8.5.1.2","RO-41841","DEER/MG","PLACA DE AÇO CARBONO COM PELÍCULA REFLETIVA GRAU TÉCNICO TIPO I DA ABNT - PLACA CIRCULAR (EXECUÇÃO, INCLUINDO FORNECIMENTO E TRANSPORTE DE TODOS OS MATERIAIS, INCLUSIVE POSTE DE SUSTENTAÇÃO)","m²",0.78,{"$f":"VLOOKUP(B601,'PREÇO UNITÁRIO'!$B$4:$F$124,5,0)","v":341.61},425.88518699999997,266.45999999999998,{"$f":"ROUND(F601*H601,2)","v":332.19},"ESTIMATIVA PARA OBRA"]
["8.5.1.3","RO-41844","DEER/MG","PLACA DE AÇO CARBONO COM PELÍCULA REFLETIVA GRAU TÉCNICO TIPO I DA ABNT - PLACA QUADRADA (EXECUÇÃO, INCLUINDO FORNECIMENTO E TRANSPORTE DE TODOS OS MATERIAIS, INCLUSIVE POSTE DE SUSTENTAÇÃO)","m²",15.89,{"$f":"VLOOKUP(B602,'PREÇO UNITÁRIO'!$B$4:$F$124,5,0)","v":331.13},412.81977099999995,5261.66,{"$f":"ROUND(F602*H602,2)","v":6559.71},"ESTIMATIVA PARA OBRA"]
["8.5.1.4","RO-43226","DEER/MG","COLOCAÇÃO DE PLACAS","m²",{"$f":"F601+F602","v":16.670000000000002},{"$f":"VLOOKUP(B603,'PREÇO UNITÁRIO'!$B$4:$F$124,5,0)","v":65.77},81.995458999999997,1096.3900000000001,{"$f":"ROUND(F603*H603,2)","v":1366.86},"ESTIMATIVA PARA OBRA"]
["8.5.1.5","85424","SINAPI","ISOLAMENTO DE OBRA COM TELA PLASTICA COM MALHA DE 5MM E ESTRUTURA DE MADEIRA PONTALETEADA","m",800,{"$f":"VLOOKUP(B604,'PREÇO UNITÁRIO'!$B$4:$F$124,5,0)","v":20.83},25.968760999999997,16664,{"$f":"ROUND(F604*H604,2)","v":20775.009999999998},"ESTIMATIVA PARA OBRA"]
["8.5.2","SINALIZAÇÃO DEFINITIVA HORIZONTAL",{"$nulls":6},{"$f":"SUM(I606:I607)","v":276.8},{"$f":"SUM(J606:J607)","v":345.08}]
["8.5.2.1","RO-41237               OBR-VIA-245","DEER/MG","LINHAS DE RESINA ACRILICA 0,6MM DE ESPESSURA E LARGURA = 0,10M (EXECUÇÃO, INCLUSIVE PRÉ-MARCAÇÃO, FORNECIMENTO E TRANSPORTE DE TODOS OS MATERIAIS) - LINHAS BRANCAS","m²",{"$f":"400*0.1*2","v":80},{"$f":"VLOOKUP(B606,'PREÇO UNITÁRIO'!$B$4:$F$124,5,0)","v":1.73},{"$f":"G606*(1+$J$4)","v":2.1567909999999997},{"$f":"ROUND(F606*G606,2)","v":138.4},{"$f":"ROUND(F606*H606,2)","v":172.54},"ESTIMATIVA PARA OBRA"]
["8.5.2.2","RO-41237               OBR-VIA-245","DEER/MG","LINHAS DE RESINA ACRILICA 0,6MM DE ESPESSURA E LARGURA = 0,10M (EXECUÇÃO, INCLUSIVE PRÉ-MARCAÇÃO, FORNECIMENTO E TRANSPORTE DE TODOS OS MATERIAIS) - LINHAS AMARELAS","m²",{"$f":"400*2*0.1","v":80},{"$f":"VLOOKUP(B607,'PREÇO UNITÁRIO'!$B$4:$F$124,5,0)","v":1.73},2.1567909999999997,138.4,{"$f":"ROUND(F607*H607,2)","v":172.54},"ESTIMATIVA PARA OBRA"]
["8.5.3","SINALIZAÇÃO DEFINITIVA VERTICAL",{"$nulls":6},{"$f":"SUM(I609:I611)","v":2091.13},{"$f":"SUM(J609:J611)","v":2607.0100000000002}]
["8.5.3.1","RO-41841","DEER/MG","PLACA DE AÇO CARBONO COM PELÍCULA REFLETIVA GRAU TÉCNICO TIPO I DA ABNT - PLACA CIRCULAR (EXECUÇÃO, INCLUINDO FORNECIMENTO E TRANSPORTE DE TODOS OS MATERIAIS, INCLUSIVE POSTE DE SUSTENTAÇÃO)","m²",{"$f":"ENGECORPS!G205/2","v":2.6},{"$f":"VLOOKUP(B609,'PREÇO UNITÁRIO'!$B$4:$F$124,5,0)","v":341.61},{"$f":"G609*(1+$J$4)","v":425.88518699999997},{"$f":"ROUND(F609*G609,2)","v":888.19},{"$f":"ROUND(F609*H609,2)","v":1107.3}]
["8.5.3.2","RO-41844","DEER/MG","PLACA DE AÇO CARBONO COM PELÍCULA REFLETIVA GRAU TÉCNICO TIPO I DA ABNT - PLACA QUADRADA (EXECUÇÃO, INCLUINDO FORNECIMENTO E TRANSPORTE DE TODOS OS MATERIAIS, INCLUSIVE POSTE DE SUSTENTAÇÃO)","m²",{"$f":"ENGECORPS!G205/2","v":2.6},{"$f":"VLOOKUP(B610,'PREÇO UNITÁRIO'!$B$4:$F$124,5,0)","v":331.13},412.81977099999995,860.94,{"$f":"ROUND(F610*H610,2)","v":1073.33}]
["8.5.3.3","RO-43226","DEER/MG","COLOCAÇÃO DE PLACAS","m²",{"$f":"F609+F610","v":5.2},{"$f":"VLOOKUP(B611,'PREÇO UNITÁRIO'!$B$4:$F$124,5,0)","v":65.77},81.995458999999997,342,{"$f":"ROUND(F611*H611,2)","v":426.38}]
["8.5.4","DISPOSITIVOS DE SEGURANÇA",{"$nulls":6},{"$f":"SUM(I613:I614)","v":155014.29999999999},{"$f":"SUM(J613:J614)","v":193256.32000000001}]
["8.5.4.1","RO-41763","DEER/MG","DEFENSA SINGELA SEMI-MALEÁVEL SV-DSM-02 (EXECUÇÃO, INCLUINDO FORNECIMENTO, COLOCAÇÃO E TRANSPORTE DE TODOS OS MATERIAIS)","m",{"$f":"14*20*2","v":560},{"$f":"VLOOKUP(B613,'PREÇO UNITÁRIO'!$B$4:$F$124,5,0)","v":265.94},{"$f":"G613*(1+$J$4)","v":331.54739799999999},{"$f":"ROUND(F613*G613,2)","v":148926.39999999999},{"$f":"ROUND(F613*H613,2)","v":185666.54},"ESTIMATIVA PARA OBRA"]
["8.5.4.2","28.10.01.99","DER/SP","FORN./INSTAL. BALIZ.(CATADIOPTRICO) P/DEF. MET. C/PELICULA GT+GT, CONF.OP-06-05","un.",{"$f":"14*20*3/4","v":210},{"$f":"VLOOKUP(B614,'PREÇO UNITÁRIO'!$B$4:$F$124,5,0)","v":28.99},36.141832999999998,6087.9,{"$f":"ROUND(F614*H614,2)","v":7589.78},"ESTIMATIVA PARA OBRA"]
[{"$nulls":7},"TOTAL SINALIZAÇÃO DE OBRA E DEFINITIVA",{"$f":"SUM(I599+I605+I608+I612)","v":182170.74},{"$f":"SUM(J599+J605+J608+J612)","v":227112.23}]
[]
[{"$nulls":7},"TOTAL - PONTE R",{"$f":"I615+I596+I586+I574+I543","v":1151053.06},{"$f":"J615+J596+J586+J574+J543","v":1435017.8900000001}]
[]
["9 - GALERIAS"]
["9.1","GALERIA D"]
["9.1.1","TERRAPLANAGEM",{"$nulls":6},{"$f":"SUM(I622:I627)","v":21190.22},{"$f":"SUM(J622:J627)","v":26417.84}]
["9.1.1.1",98525,"SINAPI","LIMPEZA MECANIZADA DE CAMADA VEGETAL, VEGETAÇÃO E PEQUENAS ÁRVORES (DIÂMETRO DE TRONCO MENOR QUE 0,20 M), COM TRATOR DE ESTEIRAS","m²",{"$f":"ENGECORPS!G28*10000","v":5600.0000000000009},{"$f":"VLOOKUP(B622,'PREÇO UNITÁRIO'!$B$4:$F$124,5,0)","v":0.27},{"$f":"G622*(1+$J$4)","v":0.33660899999999999},{"$f":"ROUND(F622*G622,2)","v":1512},{"$f":"ROUND(F622*H622,2)","v":1885.01},"TRANSFORMEI DE HECTARE P/ M2"]
["9.1.1.2",96622,"SINAPI","LASTRO COM MATERIAL GRANULAR (AREIA)","m³",{"$f":"ENGECORPS!G29","v":7},{"$f":"VLOOKUP(B623,'PREÇO UNITÁRIO'!$B$4:$F$124,5,0)","v":111.85},{"$f":"G623*(1+$J$4)","v":139.44339499999998},782.95,976.1]
["9.1.1.3","RO-40251","DEER/MG","COMPACTAÇÃO DE ATERRO A 100% PROCTOR NORMAL","m³",{"$f":"ENGECORPS!G30","v":175.8},{"$f":"VLOOKUP(B624,'PREÇO UNITÁRIO'!$B$4:$F$124,5,0)","v":3.14},3.9146380000000001,552.01,688.19]
["9.1.1.4","RO-41344","DEER/MG","TRANSPORTE DE MATERIAL DE JAZIDA PARA CONSERVAÇÃO. DISTÂNCIA MÉDIA DE TRANSPORTE > 50,10 KM (ESCAVAÇÃO+BASE E SUB BASE) - 5,0KM","m³xkm",{"$f":"F624*L625","v":879},{"$f":"VLOOKUP(B625,'PREÇO UNITÁRIO'!$B$4:$F$124,5,0)","v":0.78},{"$f":"G625*(1+$J$4)","v":0.97242600000000001},{"$f":"ROUND(F625*G625,2)","v":685.62},{"$f":"ROUND(F625*H625,2)","v":854.76},"VER DMT. ADOTEI >>>>>>>",5,"BUSCAR JAZIDA PRÓXIMA"]
["9.1.1.5","C5b","CPU","REMOÇÃO E CONSTRUÇÃO DE NOVA CERCA DE ARAME LISO (4 FIOS), MOURÃO DE MADEIRA TRATADA","m",{"$f":"ENGECORPS!G31","v":180},{"$f":"VLOOKUP(B626,'PREÇO UNITÁRIO'!$B$4:$F$124,5,0)","v":26.922033603999999},33.563699294106797,4845.97,6041.47]
["9.1.1.6","C6","CPU","TRANSIÇÃO COMPACTADA, INCLUSIVE CARGA, TRANSP. E FORNEC. DE MATERIAL (DMT = 1,00 km)","m³",{"$f":"ENGECORPS!G32*6","v":2584.8000000000002},{"$f":"VLOOKUP(B627,'PREÇO UNITÁRIO'!$B$4:$F$124,5,0)","v":4.9565426753843438},6.1793217534016609,12811.67,15972.31,"CONVERTI (X6) - CPU ERA EM M3"]
[{"$nulls":7},"TOTAL GALERIA D",{"$f":"I621","v":21190.22},{"$f":"J621","v":26417.84}]
[]
["9.2","GALERIA E"]
["9.2.1","TERRAPLANAGEM",{"$nulls":6},{"$f":"SUM(I632:I645)","v":169841.88},{"$f":"SUM(J632:J645)","v":211741.89}]
["9.2.1.1",98525,"SINAPI","LIMPEZA MECANIZADA DE CAMADA VEGETAL, VEGETAÇÃO E PEQUENAS ÁRVORES (DIÂMETRO DE TRONCO MENOR QUE 0,20 M), COM TRATOR DE ESTEIRAS","m²",{"$f":"ENGECORPS!G39","v":3640},{"$f":"VLOOKUP(B632,'PREÇO UNITÁRIO'!$B$4:$F$124,5,0)","v":0.27},{"$f":"G632*(1+$J$4)","v":0.33660899999999999},{"$f":"ROUND(F632*G632,2)","v":982.8},1225.26]
["9.2.1.2","72898","SINAPI","CARGA E DESCARGA MECANIZADAS DE ENTULHO EM CAMINHAO BASCULANTE 6 M3 ","m³",{"$f":"ENGECORPS!G40","v":728},{"$f":"VLOOKUP(B633,'PREÇO UNITÁRIO'!$B$4:$F$124,5,0)","v":5.16},6.4329719999999995,3756.48,4683.2]
["9.2.1.3","97916","SINAPI","TRANSPORTE COM CAMINHÃO BASCULANTE DE 6 M3, EM VIA URBANA EM LEITO NATURAL TXKM (UNIDADE: TXKM). AF_01/2018","m³xkm",{"$f":"F633*L634","v":3640},{"$f":"VLOOKUP(B634,'PREÇO UNITÁRIO'!$B$4:$F$124,5,0)","v":1.35},{"$f":"G634*(1+$J$4)","v":1.6830449999999999},{"$f":"ROUND(F634*G634,2)","v":4914},{"$f":"ROUND(F634*H634,2)","v":6126.28},"VER DMT. ADOTEI >>>>>>>",5,"BUSCAR JAZIDA PRÓXIMA"]
["9.2.1.4","RO-42263","DEER/MG","ESPALHAMENTO DE MATERIAL EM BOTA-FORA","m³",{"$f":"F633","v":728},{"$f":"VLOOKUP(B635,'PREÇO UNITÁRIO'!$B$4:$F$124,5,0)","v":0.18},0.22440599999999997,131.04,163.37]
["9.2.1.5","83338","SINAPI","ESCAVACAO MECANICA, A CEU ABERTO, EM MATERIAL DE 1A CATEGORIA, COM ESCAVADEIRA HIDRAULICA, CAPACIDADE DE 0,78 M3 - CORTE JAZIDA","m³",{"$f":"ENGECORPS!G41","v":6230.94},{"$f":"VLOOKUP(B636,'PREÇO UNITÁRIO'!$B$4:$F$124,5,0)","v":2.12},2.6430039999999999,13209.59,16468.400000000001]
["9.2.1.6","RO-40251","DEER/MG","COMPACTAÇÃO DE ATERRO A 100% PROCTOR NORMAL","m³",{"$f":"ENGECORPS!G42","v":4980.5600000000004},{"$f":"VLOOKUP(B637,'PREÇO UNITÁRIO'!$B$4:$F$124,5,0)","v":3.14},3.9146380000000001,15638.96,19497.09]
["9.2.1.7","73698","SINAPI","ENROCAMENTO MANUAL, COM ARRUMACAO DO MATERIAL","m³",{"$f":"ENGECORPS!G43","v":431.7},{"$f":"VLOOKUP(B638,'PREÇO UNITÁRIO'!$B$4:$F$124,5,0)","v":89.82},111.97859399999999,38775.29,48341.16]
["9.2.1.8","RO-40182","DEER/MG","ESCAVAÇÃO, CARGA, DESCARGA, ESPALHAMENTO E TRANSPORTE DE MATERIAL DE 3ª CATEGORIA. DISTÂNCIA MÉDIA DE TRANSPORTE ATÉ 200 M","m³",{"$f":"ENGECORPS!G44","v":332.41},{"$f":"VLOOKUP(B639,'PREÇO UNITÁRIO'!$B$4:$F$124,5,0)","v":26.31},32.800676999999993,8745.7099999999991,10903.27]
["9.2.1.9","RO-41344","DEER/MG","TRANSPORTE DE MATERIAL DE JAZIDA PARA CONSERVAÇÃO. DISTÂNCIA MÉDIA DE TRANSPORTE > 50,10 KM (ESCAVAÇÃO+BASE E SUB BASE)","m³xkm",{"$f":"ENGECORPS!G45","v":4361.66},{"$f":"VLOOKUP(B640,'PREÇO UNITÁRIO'!$B$4:$F$124,5,0)","v":0.78},0.97242600000000001,3402.09,4241.3900000000003,"VER DMT. ADOTEI >>>>>>>",5,"BUSCAR JAZIDA PRÓXIMA"]
["9.2.1.10","RO-41352   OBR-VIA-370","DEER/MG","TRANSPORTE DE ROCHAS E MATERIAL DE 3A CATEGORIA, DISTÂNCIA MÉDIA DE TRANSPORTE > 50,10 KM","m³xkm",{"$f":"F639*L641","v":45207.76},{"$f":"VLOOKUP(B641,'PREÇO UNITÁRIO'!$B$4:$F$124,5,0)","v":0.73},0.91009099999999987,33001.660000000003,41143.18,"VER DMT. ADOTEI >>>>>>>",{"$f":"TRANSPORTES!F7+TRANSPORTES!T7","v":136},"BUSCAR JAZIDA PRÓXIMA"]
["9.2.1.11","25.03.04.01","DER/SP","ENSECADEIRA COM SACOS DE AREIA","m³",{"$f":"ENGECORPS!G47","v":14.57},{"$f":"VLOOKUP(B642,'PREÇO UNITÁRIO'!$B$4:$F$124,5,0)","v":490.84},611.93022799999994,7151.54,8915.82]
["9.2.1.12",96624,"SINAPI","LASTRO COM MATERIAL GRANULAR (PEDRA BRITADA)","m³",{"$f":"ENGECORPS!G48","v":10.23},{"$f":"VLOOKUP(B643,'PREÇO UNITÁRIO'!$B$4:$F$124,5,0)","v":107.21},133.65870699999999,1096.76,1367.33]
["9.2.1.13",96622,"SINAPI","LASTRO COM MATERIAL GRANULAR (AREIA)","m³",{"$f":"ENGECORPS!G49","v":10.23},{"$f":"VLOOKUP(B644,'PREÇO UNITÁRIO'!$B$4:$F$124,5,0)","v":111.85},139.44339499999998,1144.23,1426.51]
["9.2.1.14","C4","CPU","PROTEÇÃO DE TALUDE REVESTIMENTO VEGETAL","m²",{"$f":"ENGECORPS!G50","v":2080},{"$f":"VLOOKUP(B645,'PREÇO UNITÁRIO'!$B$4:$F$124,5,0)","v":18.217180000000003},22.711358306000001,37891.730000000003,47239.63]
["9.2.2","ESTRUTURA",null,"ESTRUTURAS",{"$nulls":4},{"$f":"SUM(I647:I658)","v":157627.49},{"$f":"SUM(J647:J658)","v":196514.19}]
["9.2.2.1","83534","SINAPI","LASTRO DE CONCRETO, PREPARO MECÂNICO, INCLUSOS ADITIVO IMPERMEABILIZANTE, LANÇAMENTO E ADENSAMENTO","m³",{"$f":"ENGECORPS!G52","v":9.31},{"$f":"VLOOKUP(B647,'PREÇO UNITÁRIO'!$B$4:$F$124,5,0)","v":427.75},533.27592499999992,{"$f":"ROUND(F647*G647,2)","v":3982.35},4964.8]
["9.2.2.2",1116263,"DNIT/MG","CONCRETO PARA BOMBEAMENTO FCK = 25 MPA - CONFECÇÃO EM CENTRAL DOSADORA DE 30 M³/H - AREIA E BRITA COMERCIAIS","m³",{"$f":"ENGECORPS!G53","v":110.28},{"$f":"VLOOKUP(B648,'PREÇO UNITÁRIO'!$B$4:$F$124,5,0)","v":231.5},288.61104999999998,25529.82,31828.03]
["9.2.2.3","5914569","DNIT/MG","TRANSPORTE COM CAMINHÃO BETONEIRA - RODOVIA PAVIMENTADA (Entre Bocaiúva/MG e Francisco Dumont/MG - 69,00km)","txkm",{"$f":"F648*2.4*L649","v":18262.367999999999},{"$f":"VLOOKUP(B649,'PREÇO UNITÁRIO'!$B$4:$F$124,5,0)","v":0.36},{"$f":"G649*(1+$J$4)","v":0.44881199999999993},6574.45,{"$f":"ROUND(F649*H649,2)","v":8196.3700000000008},"VER DMT. ADOTEI >>>>>>>",{"$f":"TRANSPORTES!F15","v":69},"BUSCAR JAZIDA PRÓXIMA"]
["9.2.2.4","5914539","DNIT/MG","TRANSPORTE COM CAMINHÃO BETONEIRA - RODOVIA EM LEITO NATURAL (Entre Francisco Dumont/MG e Área E - 0,00km)","txkm",{"$f":"F648*2.4*L650","v":2382.0479999999998},{"$f":"VLOOKUP(B650,'PREÇO UNITÁRIO'!$B$4:$F$124,5,0)","v":0.55000000000000004},0.68568499999999999,1310.1300000000001,1633.33,"VER DMT. ADOTEI >>>>>>>",{"$f":"TRANSPORTES!T15","v":9},"BUSCAR JAZIDA PRÓXIMA"]
["9.2.2.5",1107860,"DNIT/MG","LANÇAMENTO MECÂNICO DE CONCRETO COM BOMBA LANÇA SOBRE CHASSI COM CAPACIDADE DE 45 M³/H - CONFECÇÃO EM CENTRAL DOSADORA DE 40 M³/H","m³",{"$f":"F648","v":110.28},{"$f":"VLOOKUP(B651,'PREÇO UNITÁRIO'!$B$4:$F$124,5,0)","v":31.39},39.133913,3461.69,4315.6899999999996]
["9.2.2.6",92792,"SINAPI","CORTE E DOBRA DE AÇO CA-50, DIÂMETRO DE 6,3 MM, UTILIZADO EM ESTRUTURA S DIVERSAS","KG",{"$f":"7799.4*0.25","v":1949.85},{"$f":"VLOOKUP(B652,'PREÇO UNITÁRIO'!$B$4:$F$124,5,0)","v":6.58},8.2032860000000003,12830.01,15995.18,"CONFORME PROJETO"]
["9.2.2.7",92793,"SINAPI","CORTE E DOBRA DE AÇO CA-50, DIÂMETRO DE 8,0 MM, UTILIZADO EM ESTRUTURA S DIVERSAS","KG",{"$f":"11130.88*0.4","v":4452.3519999999999},{"$f":"VLOOKUP(B653,'PREÇO UNITÁRIO'!$B$4:$F$124,5,0)","v":6.38},7.9539459999999993,28406.01,35413.769999999997]
["9.2.2.8",92794,"SINAPI","CORTE E DOBRA DE AÇO CA-50, DIÂMETRO DE 10,0 MM, UTILIZADO EM ESTRUTURAS DIVERSAS","KG",{"$f":"3504*0.63","v":2207.52},{"$f":"VLOOKUP(B654,'PREÇO UNITÁRIO'!$B$4:$F$124,5,0)","v":5.82},7.2557939999999999,12847.77,16017.31]
["9.2.2.9",92795,"SINAPI","CORTE E DOBRA DE AÇO CA-50, DIÂMETRO DE 12,5 MM, UTILIZADO EM ESTRUTURAS DIVERSAS","KG",{"$f":"57.28*1","v":57.28},{"$f":"VLOOKUP(B655,'PREÇO UNITÁRIO'!$B$4:$F$124,5,0)","v":4.95},6.1711650000000002,283.54000000000002,353.48]
["9.2.2.10",92796,"SINAPI","CORTE E DOBRA DE AÇO CA-50, DIÂMETRO DE 16,0 MM, UTILIZADO EM ESTRUTURAS DIVERSAS","KG",{"$f":"760.72*1.6","v":1217.152},{"$f":"VLOOKUP(B656,'PREÇO UNITÁRIO'!$B$4:$F$124,5,0)","v":4.87},6.0714289999999993,{"$f":"ROUND(F656*G656,2)","v":5927.53},{"$f":"ROUND(F656*H656,2)","v":7389.85}]
["9.2.2.11",92263,"SINAPI","FABRICAÇÃO DE FÔRMA PARA PILARES E ESTRUTURAS SIMILARES, EM CHAPA DE MADEIRA COMPENSADA RESINADA, E = 17 MM. AF_12/2015","m²",{"$f":"ENGECORPS!G55","v":604.02},{"$f":"VLOOKUP(B657,'PREÇO UNITÁRIO'!$B$4:$F$124,5,0)","v":89.2},111.20564,53878.58,67170.429999999993]
["9.2.2.12","C7","CPU","BACIA DE DISSIPAÇÃO (PEDRA ARGAMASSADA e=25cm)","m³",{"$f":"ENGECORPS!G56","v":12.26},{"$f":"VLOOKUP(B658,'PREÇO UNITÁRIO'!$B$4:$F$124,5,0)","v":211.714},263.94384379999997,2595.61,3235.95]
[{"$nulls":7},"TOTAL GALERIA E",{"$f":"I646+I631","v":327469.37},{"$f":"J646+J631","v":408256.08}]
[]
["9.3","GALERIA F"]
["9.3.1","TERRAPLANAGEM",{"$nulls":6},{"$f":"SUM(I663:I670)","v":46842.63},{"$f":"SUM(J663:J670)","v":58398.689999999995}]
["9.3.1.1","RO-41352   OBR-VIA-370","DEER/MG","TRANSPORTE DE ROCHAS E MATERIAL DE 3A CATEGORIA, DISTÂNCIA MÉDIA DE TRANSPORTE > 50,10 KM","m³xkm",{"$f":"ENGECORPS!G59","v":13016.88},{"$f":"VLOOKUP(B663,'PREÇO UNITÁRIO'!$B$4:$F$124,5,0)","v":0.73},0.91009099999999987,{"$f":"ROUND(F663*G663,2)","v":9502.32},11846.55]
["9.3.1.2",98525,"SINAPI","LIMPEZA MECANIZADA DE CAMADA VEGETAL, VEGETAÇÃO E PEQUENAS ÁRVORES (DIÂMETRO DE TRONCO MENOR QUE 0,20 M), COM TRATOR DE ESTEIRAS","m²",{"$f":"ENGECORPS!G60*10000","v":3600},{"$f":"VLOOKUP(B664,'PREÇO UNITÁRIO'!$B$4:$F$124,5,0)","v":0.27},0.33660899999999999,972,1211.79,"TRANSFORMEI DE HECTARE P/ M2"]
["9.3.1.3",96622,"SINAPI","LASTRO COM MATERIAL GRANULAR (AREIA)","m³",{"$f":"ENGECORPS!G61","v":7.25},{"$f":"VLOOKUP(B665,'PREÇO UNITÁRIO'!$B$4:$F$124,5,0)","v":111.85},{"$f":"G665*(1+$J$4)","v":139.44339499999998},{"$f":"ROUND(F665*G665,2)","v":810.91},{"$f":"ROUND(F665*H665,2)","v":1010.96}]
["9.3.1.4","RO-40251","DEER/MG","COMPACTAÇÃO DE ATERRO A 100% PROCTOR NORMAL","m³",{"$f":"ENGECORPS!G62","v":144.24},{"$f":"VLOOKUP(B666,'PREÇO UNITÁRIO'!$B$4:$F$124,5,0)","v":3.14},3.9146380000000001,452.91,564.65]
["9.3.1.5","RO-41344","DEER/MG","TRANSPORTE DE MATERIAL DE JAZIDA PARA CONSERVAÇÃO. DISTÂNCIA MÉDIA DE TRANSPORTE > 50,10 KM (ESCAVAÇÃO+BASE E SUB BASE)","m³xkm",{"$f":"F666*L667","v":721.2},{"$f":"VLOOKUP(B667,'PREÇO UNITÁRIO'!$B$4:$F$124,5,0)","v":0.78},{"$f":"G667*(1+$J$4)","v":0.97242600000000001},{"$f":"ROUND(F667*G667,2)","v":562.54},{"$f":"ROUND(F667*H667,2)","v":701.31},"VER DMT. ADOTEI >>>>>>>",5,"BUSCAR JAZIDA PRÓXIMA"]
["9.3.1.6","C5b","CPU","REMOÇÃO E CONSTRUÇÃO DE NOVA CERCA DE ARAME LISO (4 FIOS), MOURÃO DE MADEIRA TRATADA","m",{"$f":"ENGECORPS!G63","v":520},{"$f":"VLOOKUP(B668,'PREÇO UNITÁRIO'!$B$4:$F$124,5,0)","v":26.922033603999999},33.563699294106797,13999.46,17453.12]
["9.3.1.7","C8","CPU","RECOMPOSIÇÃO DE ÁREA EXPLORADA DE JAZIDA / EMPRESTIMO","m²",{"$f":"ENGECORPS!G64","v":6530.77},{"$f":"VLOOKUP(B669,'PREÇO UNITÁRIO'!$B$4:$F$124,5,0)","v":2.4832000000000001},3.0958054399999999,16217.21,20217.990000000002]
["9.3.1.8","C6","CPU","TRANSIÇÃO COMPACTADA, INCLUSIVE CARGA, TRANSP. E FORNEC. DE MATERIAL (DMT = 1,00 km)","m³",{"$f":"ENGECORPS!G65*6","v":872.64},{"$f":"VLOOKUP(B670,'PREÇO UNITÁRIO'!$B$4:$F$124,5,0)","v":4.9565426753843438},6.1793217534016609,4325.28,5392.32,"CONVERTI (X6) - CPU ERA EM M3"]
[{"$nulls":7},"TOTAL GALERIA F",{"$f":"I662","v":46842.63},{"$f":"J662","v":58398.689999999995}]
[]
["9.4","GALERIA G1"]
["9.4.1","TERRAPLANAGEM",{"$nulls":6},{"$f":"SUM(I675:I682)","v":32223.039999999997},{"$f":"SUM(J675:J682)","v":40172.47}]
["9.4.1.1","RO-41352   OBR-VIA-370","DEER/MG","TRANSPORTE DE ROCHAS E MATERIAL DE 3A CATEGORIA, DISTÂNCIA MÉDIA DE TRANSPORTE > 50,10 KM","m³xkm",{"$f":"ENGECORPS!G72","v":3000.22},{"$f":"VLOOKUP(B675,'PREÇO UNITÁRIO'!$B$4:$F$124,5,0)","v":0.73},{"$f":"G675*(1+$J$4)","v":0.91009099999999987},{"$f":"ROUND(F675*G675,2)","v":2190.16},{"$f":"ROUND(F675*H675,2)","v":2730.47}]
["9.4.1.2",98525,"SINAPI","LIMPEZA MECANIZADA DE CAMADA VEGETAL, VEGETAÇÃO E PEQUENAS ÁRVORES (DIÂMETRO DE TRONCO MENOR QUE 0,20 M), COM TRATOR DE ESTEIRAS","m²",{"$f":"ENGECORPS!G73*10000","v":3900},{"$f":"VLOOKUP(B676,'PREÇO UNITÁRIO'!$B$4:$F$124,5,0)","v":0.27},0.33660899999999999,1053,1312.78,"TRANSFORMEI DE HECTARE P/ M2"]
["9.4.1.3",96622,"SINAPI","LASTRO COM MATERIAL GRANULAR (AREIA)","m³",{"$f":"ENGECORPS!G74","v":7.72},{"$f":"VLOOKUP(B677,'PREÇO UNITÁRIO'!$B$4:$F$124,5,0)","v":111.85},139.44339499999998,863.48,1076.5]
["9.4.1.4","RO-40251","DEER/MG","COMPACTAÇÃO DE ATERRO A 100% PROCTOR NORMAL","m³",{"$f":"ENGECORPS!G75","v":125.36},{"$f":"VLOOKUP(B678,'PREÇO UNITÁRIO'!$B$4:$F$124,5,0)","v":3.14},3.9146380000000001,393.63,490.74]
["9.4.1.5","RO-41344","DEER/MG","TRANSPORTE DE MATERIAL DE JAZIDA PARA CONSERVAÇÃO. DISTÂNCIA MÉDIA DE TRANSPORTE > 50,10 KM (ESCAVAÇÃO+BASE E SUB BASE) ","m³xkm",{"$f":"F678*L679","v":626.79999999999995},{"$f":"VLOOKUP(B679,'PREÇO UNITÁRIO'!$B$4:$F$124,5,0)","v":0.78},0.97242600000000001,488.9,609.52,"VER DMT. ADOTEI >>>>>>>",5,"BUSCAR JAZIDA PRÓXIMA"]
["9.4.1.6","C5a","CPU","REMOÇÃO E RELOCAÇÃO DE CERCA DE ARAME FARPADO (4 FIOS), MOURÃO DE MADEIRA TRATADA","m",{"$f":"ENGECORPS!G76","v":560},{"$f":"VLOOKUP(B680,'PREÇO UNITÁRIO'!$B$4:$F$124,5,0)","v":23.861197950000001},29.747755484264999,13362.27,16658.740000000002]
["9.4.1.7","C8","CPU","RECOMPOSIÇÃO DE ÁREA EXPLORADA DE JAZIDA / EMPRESTIMO","m²",{"$f":"ENGECORPS!G77","v":5147.97},{"$f":"VLOOKUP(B681,'PREÇO UNITÁRIO'!$B$4:$F$124,5,0)","v":2.4832000000000001},3.0958054399999999,12783.44,15937.11]
["9.4.1.8","C6","CPU","TRANSIÇÃO COMPACTADA, INCLUSIVE CARGA, TRANSP. E FORNEC. DE MATERIAL (DMT = 1,00 km)","m³",{"$f":"ENGECORPS!G78*6","v":219.54000000000002},{"$f":"VLOOKUP(B682,'PREÇO UNITÁRIO'!$B$4:$F$124,5,0)","v":4.9565426753843438},6.1793217534016609,1088.1600000000001,1356.61]
[{"$nulls":7},"TOTAL GALERIA G1",{"$f":"I674","v":32223.039999999997},{"$f":"J674","v":40172.47}]
[]
["9.5","GALERIA G2"]
["9.5.1","TERRAPLANAGEM",{"$nulls":6},{"$f":"SUM(I687:I692)","v":3519.0499999999997},{"$f":"SUM(J687:J692)","v":4387.22}]
["9.5.1.1","RO-41352   OBR-VIA-370","DEER/MG","TRANSPORTE DE ROCHAS E MATERIAL DE 3A CATEGORIA, DISTÂNCIA MÉDIA DE TRANSPORTE > 50,10 KM","m³xkm",{"$f":"ENGECORPS!G85","v":961.21},{"$f":"VLOOKUP(B687,'PREÇO UNITÁRIO'!$B$4:$F$124,5,0)","v":0.73},{"$f":"G687*(1+$J$4)","v":0.91009099999999987},{"$f":"ROUND(F687*G687,2)","v":701.68},{"$f":"ROUND(F687*H687,2)","v":874.79}]
["9.5.1.2",98525,"SINAPI","LIMPEZA MECANIZADA DE CAMADA VEGETAL, VEGETAÇÃO E PEQUENAS ÁRVORES (DIÂMETRO DE TRONCO MENOR QUE 0,20 M), COM TRATOR DE ESTEIRAS","m²",{"$f":"ENGECORPS!G86*10000","v":3400.0000000000005},{"$f":"VLOOKUP(B688,'PREÇO UNITÁRIO'!$B$4:$F$124,5,0)","v":0.27},{"$f":"G688*(1+$J$4)","v":0.33660899999999999},{"$f":"ROUND(F688*G688,2)","v":918},{"$f":"ROUND(F688*H688,2)","v":1144.47},"TRANSFORMEI DE HECTARE P/ M2"]
["9.5.1.3",96622,"SINAPI","LASTRO COM MATERIAL GRANULAR (AREIA)","m³",{"$f":"ENGECORPS!G87","v":5.74},{"$f":"VLOOKUP(B689,'PREÇO UNITÁRIO'!$B$4:$F$124,5,0)","v":111.85},139.44339499999998,642.02,800.41]
["9.5.1.4","RO-40251","DEER/MG","COMPACTAÇÃO DE ATERRO A 100% PROCTOR NORMAL","m³",{"$f":"ENGECORPS!G88","v":122.08},{"$f":"VLOOKUP(B690,'PREÇO UNITÁRIO'!$B$4:$F$124,5,0)","v":3.14},3.9146380000000001,383.33,477.9]
["9.5.1.5","RO-41344","DEER/MG","TRANSPORTE DE MATERIAL DE JAZIDA PARA CONSERVAÇÃO. DISTÂNCIA MÉDIA DE TRANSPORTE > 50,10 KM (ESCAVAÇÃO+BASE E SUB BASE) ","m³xkm",{"$f":"F690*L691","v":610.4},{"$f":"VLOOKUP(B691,'PREÇO UNITÁRIO'!$B$4:$F$124,5,0)","v":0.78},0.97242600000000001,476.11,593.57000000000005,"VER DMT. ADOTEI >>>>>>>",5,"BUSCAR JAZIDA PRÓXIMA"]
["9.5.1.6","C6","CPU","TRANSIÇÃO COMPACTADA, INCLUSIVE CARGA, TRANSP. E FORNEC. DE MATERIAL (DMT = 1,00 km)","m³",{"$f":"ENGECORPS!G89*6","v":80.28},{"$f":"VLOOKUP(B692,'PREÇO UNITÁRIO'!$B$4:$F$124,5,0)","v":4.9565426753843438},6.1793217534016609,397.91,496.08]
[{"$nulls":7},"TOTAL GALERIA G2",{"$f":"I686","v":3519.0499999999997},{"$f":"J686","v":4387.22}]
[]
["9.6","GALERIA H"]
["9.6.1","TERRAPLANAGEM",{"$nulls":6},{"$f":"SUM(I697:I702)","v":56724.180000000008},{"$f":"SUM(J697:J702)","v":70718.040000000008}]
["9.6.1.1","RO-41352   OBR-VIA-370","DEER/MG","TRANSPORTE DE ROCHAS E MATERIAL DE 3A CATEGORIA, DISTÂNCIA MÉDIA DE TRANSPORTE > 50,10 KM","m³xkm",{"$f":"ENGECORPS!G96","v":30080.68},{"$f":"VLOOKUP(B697,'PREÇO UNITÁRIO'!$B$4:$F$124,5,0)","v":0.73},{"$f":"G697*(1+$J$4)","v":0.91009099999999987},{"$f":"ROUND(F697*G697,2)","v":21958.9},{"$f":"ROUND(F697*H697,2)","v":27376.16}]
["9.6.1.2",98525,"SINAPI","LIMPEZA MECANIZADA DE CAMADA VEGETAL, VEGETAÇÃO E PEQUENAS ÁRVORES (DIÂMETRO DE TRONCO MENOR QUE 0,20 M), COM TRATOR DE ESTEIRAS","m²",{"$f":"ENGECORPS!G97*10000","v":5300},{"$f":"VLOOKUP(B698,'PREÇO UNITÁRIO'!$B$4:$F$124,5,0)","v":0.27},{"$f":"G698*(1+$J$4)","v":0.33660899999999999},{"$f":"ROUND(F698*G698,2)","v":1431},{"$f":"ROUND(F698*H698,2)","v":1784.03},"TRANSFORMEI DE HECTARE P/ M2"]
["9.6.1.3",96622,"SINAPI","LASTRO COM MATERIAL GRANULAR (AREIA)","m³",{"$f":"ENGECORPS!G98","v":12.46},{"$f":"VLOOKUP(B699,'PREÇO UNITÁRIO'!$B$4:$F$124,5,0)","v":111.85},139.44339499999998,1393.65,1737.46]
["9.6.1.4","RO-40251","DEER/MG","COMPACTAÇÃO DE ATERRO A 100% PROCTOR NORMAL","m³",{"$f":"ENGECORPS!G99","v":244.74},{"$f":"VLOOKUP(B700,'PREÇO UNITÁRIO'!$B$4:$F$124,5,0)","v":3.14},3.9146380000000001,768.48,958.07]
["9.4.1.5","RO-41344","DEER/MG","TRANSPORTE DE MATERIAL DE JAZIDA PARA CONSERVAÇÃO. DISTÂNCIA MÉDIA DE TRANSPORTE > 50,10 KM (ESCAVAÇÃO+BASE E SUB BASE) ","m³xkm",{"$f":"F700*L701","v":1223.7},{"$f":"VLOOKUP(B701,'PREÇO UNITÁRIO'!$B$4:$F$124,5,0)","v":0.78},0.97242600000000001,954.49,1189.96,"VER DMT. ADOTEI >>>>>>>",5,"BUSCAR JAZIDA PRÓXIMA"]
["9.6.1.6","C8","CPU","RECOMPOSIÇÃO DE ÁREA EXPLORADA DE JAZIDA / EMPRESTIMO","m²",{"$f":"ENGECORPS!G101","v":12168.84},{"$f":"VLOOKUP(B702,'PREÇO UNITÁRIO'!$B$4:$F$124,5,0)","v":2.4832000000000001},3.0958054399999999,30217.66,37672.36]
[{"$nulls":7},"TOTAL GALERIA H",{"$f":"I696","v":56724.180000000008},{"$f":"J696","v":70718.040000000008}]
[]
["9.7","GALERIA M"]
["9.7.1","TERRAPLANAGEM",{"$nulls":6},{"$f":"SUM(I707:I720)","v":1829837.6199999999},{"$f":"SUM(J707:J720)","v":2281258.5300000003}]
["9.7.1.1",98525,"SINAPI","LIMPEZA MECANIZADA DE CAMADA VEGETAL, VEGETAÇÃO E PEQUENAS ÁRVORES (DIÂMETRO DE TRONCO MENOR QUE 0,20 M), COM TRATOR DE ESTEIRAS","m²",{"$f":"ENGECORPS!G108","v":28000},{"$f":"VLOOKUP(B707,'PREÇO UNITÁRIO'!$B$4:$F$124,5,0)","v":0.27},{"$f":"G707*(1+$J$4)","v":0.33660899999999999},{"$f":"ROUND(F707*G707,2)","v":7560},{"$f":"ROUND(F707*H707,2)","v":9425.0499999999993}]
["9.7.1.2","72898","SINAPI","CARGA E DESCARGA MECANIZADAS DE ENTULHO EM CAMINHAO BASCULANTE 6 M3 ","m³",{"$f":"ENGECORPS!G109","v":5600},{"$f":"VLOOKUP(B708,'PREÇO UNITÁRIO'!$B$4:$F$124,5,0)","v":5.16},{"$f":"G708*(1+$J$4)","v":6.4329719999999995},{"$f":"ROUND(F708*G708,2)","v":28896},{"$f":"ROUND(F708*H708,2)","v":36024.639999999999}]
["9.7.1.3","97916","SINAPI","TRANSPORTE COM CAMINHÃO BASCULANTE DE 6 M3, EM VIA URBANA EM LEITO NATURAL TXKM (UNIDADE: TXKM). AF_01/2018","m³xkm",{"$f":"F708*L709","v":28000},{"$f":"VLOOKUP(B709,'PREÇO UNITÁRIO'!$B$4:$F$124,5,0)","v":1.35},1.6830449999999999,37800,47125.26,"VER DMT. ADOTEI >>>>>>>",5,"BUSCAR JAZIDA PRÓXIMA"]
["9.7.1.4","RO-42263","DEER/MG","ESPALHAMENTO DE MATERIAL EM BOTA-FORA","m³",{"$f":"F708","v":5600},{"$f":"VLOOKUP(B710,'PREÇO UNITÁRIO'!$B$4:$F$124,5,0)","v":0.18},0.22440599999999997,1008,1256.67]
["9.7.1.5","RO-40251","DEER/MG","COMPACTAÇÃO DE ATERRO A 100% PROCTOR NORMAL","m³",{"$f":"ENGECORPS!G110","v":60167.53},{"$f":"VLOOKUP(B711,'PREÇO UNITÁRIO'!$B$4:$F$124,5,0)","v":3.14},3.9146380000000001,188926.04,235534.1]
["9.7.1.6","83338","SINAPI","ESCAVACAO MECANICA, A CEU ABERTO, EM MATERIAL DE 1A CATEGORIA, COM ESCAVADEIRA HIDRAULICA, CAPACIDADE DE 0,78 M3 - CORTE JAZIDA","m³",{"$f":"ENGECORPS!G111","v":75209.41},{"$f":"VLOOKUP(B712,'PREÇO UNITÁRIO'!$B$4:$F$124,5,0)","v":2.12},2.6430039999999999,159443.95000000001,198778.77]
["9.7.1.7","73698","SINAPI","ENROCAMENTO MANUAL, COM ARRUMACAO DO MATERIAL","m³",{"$f":"ENGECORPS!G112","v":4812.3599999999997},{"$f":"VLOOKUP(B713,'PREÇO UNITÁRIO'!$B$4:$F$124,5,0)","v":89.82},111.97859399999999,432246.18,538881.31000000006]
["9.7.1.8","RO-40182","DEER/MG","ESCAVAÇÃO, CARGA, DESCARGA, ESPALHAMENTO E TRANSPORTE DE MATERIAL DE 3ª CATEGORIA. DISTÂNCIA MÉDIA DE TRANSPORTE ATÉ 200 M","m³",{"$f":"ENGECORPS!G113","v":3705.52},{"$f":"VLOOKUP(B714,'PREÇO UNITÁRIO'!$B$4:$F$124,5,0)","v":26.31},32.800676999999993,97492.23,121543.56]
["9.7.1.9","RO-41344","DEER/MG","TRANSPORTE DE MATERIAL DE JAZIDA PARA CONSERVAÇÃO. DISTÂNCIA MÉDIA DE TRANSPORTE > 50,10 KM (ESCAVAÇÃO+BASE E SUB BASE) - 5,00KM","m³xkm",{"$f":"F712*L715","v":376047.05000000005},{"$f":"VLOOKUP(B715,'PREÇO UNITÁRIO'!$B$4:$F$124,5,0)","v":0.78},0.97242600000000001,293316.7,365677.93,"VER DMT. ADOTEI >>>>>>>",5,"BUSCAR JAZIDA PRÓXIMA"]
["9.7.1.10","RO-41352   OBR-VIA-370","DEER/MG","TRANSPORTE DE ROCHAS E MATERIAL DE 3A CATEGORIA, DISTÂNCIA MÉDIA DE TRANSPORTE > 50,10 KM","m³xkm",{"$f":"F714*L716","v":496539.68},{"$f":"VLOOKUP(B716,'PREÇO UNITÁRIO'!$B$4:$F$124,5,0)","v":0.73},0.91009099999999987,362473.97,451896.29,"VER DMT. ADOTEI >>>>>>>",{"$f":"TRANSPORTES!F7+TRANSPORTES!AD7","v":134},"BUSCAR JAZIDA PRÓXIMA"]
["9.7.1.11","25.03.04.01","DER/SP","ENSECADEIRA COM SACOS DE AREIA","m³",{"$f":"ENGECORPS!G116","v":25.64},{"$f":"VLOOKUP(B717,'PREÇO UNITÁRIO'!$B$4:$F$124,5,0)","v":490.84},611.93022799999994,12585.14,15689.89]
["9.7.1.12",96624,"SINAPI","LASTRO COM MATERIAL GRANULAR (PEDRA BRITADA)","m³",{"$f":"ENGECORPS!G117","v":18.52},{"$f":"VLOOKUP(B718,'PREÇO UNITÁRIO'!$B$4:$F$124,5,0)","v":107.21},133.65870699999999,1985.53,2475.36]
["9.7.1.13",96622,"SINAPI","LASTRO COM MATERIAL GRANULAR (AREIA)","m³",{"$f":"ENGECORPS!G118","v":18.52},{"$f":"VLOOKUP(B719,'PREÇO UNITÁRIO'!$B$4:$F$124,5,0)","v":111.85},139.44339499999998,2071.46,2582.4899999999998]
["9.7.1.14","C4","CPU","PROTEÇÃO DE TALUDE REVESTIMENTO VEGETAL","m²",{"$f":"ENGECORPS!G119","v":11200},{"$f":"VLOOKUP(B720,'PREÇO UNITÁRIO'!$B$4:$F$124,5,0)","v":18.217180000000003},22.711358306000001,204032.42,254367.21]
["9.7.2","ESTRUTURA",null,"ESTRUTURAS",{"$nulls":4},{"$f":"SUM(I722:I733)","v":311662.99},{"$f":"SUM(J722:J733)","v":388550.22}]
["9.7.2.1","83534","SINAPI","LASTRO DE CONCRETO, PREPARO MECÂNICO, INCLUSOS ADITIVO IMPERMEABILIZANTE, LANÇAMENTO E ADENSAMENTO","m³",{"$f":"ENGECORPS!G121","v":16.14},{"$f":"VLOOKUP(B722,'PREÇO UNITÁRIO'!$B$4:$F$124,5,0)","v":427.75},{"$f":"G722*(1+$J$4)","v":533.27592499999992},{"$f":"ROUND(F722*G722,2)","v":6903.89},{"$f":"ROUND(F722*H722,2)","v":8607.07}]
["9.7.2.2",1116263,"DNIT/MG","CONCRETO PARA BOMBEAMENTO FCK = 25 MPA - CONFECÇÃO EM CENTRAL DOSADORA DE 30 M³/H - AREIA E BRITA COMERCIAIS","m³",{"$f":"ENGECORPS!G122","v":170.74},{"$f":"VLOOKUP(B723,'PREÇO UNITÁRIO'!$B$4:$F$124,5,0)","v":231.5},288.61104999999998,39526.31,49277.45]
["9.7.2.3","5914569","DNIT/MG","TRANSPORTE COM CAMINHÃO BETONEIRA - RODOVIA PAVIMENTADA (Entre Bocaiúva/MG e Francisco Dumont/MG - 69,00km)","txkm",{"$f":"F723*2.4*L724","v":28274.544000000002},{"$f":"VLOOKUP(B724,'PREÇO UNITÁRIO'!$B$4:$F$124,5,0)","v":0.36},0.44881199999999993,10178.84,12689.95,"VER DMT. ADOTEI >>>>>>>",{"$f":"TRANSPORTES!F15","v":69},"BUSCAR JAZIDA PRÓXIMA"]
["9.7.2.4","5914539","DNIT/MG","TRANSPORTE COM CAMINHÃO BETONEIRA - RODOVIA EM LEITO NATURAL (Entre Francisco Dumont/MG e Área M - 10,00km)","txkm",{"$f":"F723*2.4*L725","v":4097.76},{"$f":"VLOOKUP(B725,'PREÇO UNITÁRIO'!$B$4:$F$124,5,0)","v":0.55000000000000004},0.68568499999999999,2253.77,2809.77,"VER DMT. ADOTEI >>>>>>>",{"$f":"TRANSPORTES!AD15","v":10},"BUSCAR JAZIDA PRÓXIMA"]
["9.7.2.5",1107860,"DNIT/MG","LANÇAMENTO MECÂNICO DE CONCRETO COM BOMBA LANÇA SOBRE CHASSI COM CAPACIDADE DE 45 M³/H - CONFECÇÃO EM CENTRAL DOSADORA DE 40 M³/H","m³",{"$f":"F723","v":170.74},{"$f":"VLOOKUP(B726,'PREÇO UNITÁRIO'!$B$4:$F$124,5,0)","v":31.39},{"$f":"G726*(1+$J$4)","v":39.133913},{"$f":"ROUND(F726*G726,2)","v":5359.53},{"$f":"ROUND(F726*H726,2)","v":6681.72}]
["9.7.2.6",92792,"SINAPI","CORTE E DOBRA DE AÇO CA-50, DIÂMETRO DE 6,3 MM, UTILIZADO EM ESTRUTURA S DIVERSAS","KG",{"$f":"5418*0.25","v":1354.5},{"$f":"VLOOKUP(B727,'PREÇO UNITÁRIO'!$B$4:$F$124,5,0)","v":6.58},8.2032860000000003,8912.61,11111.35,"CONFORME PROJETO!"]
["9.7.2.7",92793,"SINAPI","CORTE E DOBRA DE AÇO CA-50, DIÂMETRO DE 8,0 MM, UTILIZADO EM ESTRUTURA S DIVERSAS","KG",{"$f":"20071.7*0.4","v":8028.68},{"$f":"VLOOKUP(B728,'PREÇO UNITÁRIO'!$B$4:$F$124,5,0)","v":6.38},7.9539459999999993,51222.98,63859.69]
["9.7.2.8",92794,"SINAPI","CORTE E DOBRA DE AÇO CA-50, DIÂMETRO DE 10,0 MM, UTILIZADO EM ESTRUTURAS DIVERSAS","KG",{"$f":"10957.5*0.63","v":6903.2250000000004},{"$f":"VLOOKUP(B729,'PREÇO UNITÁRIO'!$B$4:$F$124,5,0)","v":5.82},7.2557939999999999,40176.769999999997,50088.38]
["9.7.2.9",92795,"SINAPI","CORTE E DOBRA DE AÇO CA-50, DIÂMETRO DE 12,5 MM, UTILIZADO EM ESTRUTURAS DIVERSAS","KG",{"$f":"5599.2*1","v":5599.2},{"$f":"VLOOKUP(B730,'PREÇO UNITÁRIO'!$B$4:$F$124,5,0)","v":4.95},6.1711650000000002,27716.04,34553.589999999997]
["9.7.2.10",92796,"SINAPI","CORTE E DOBRA DE AÇO CA-50, DIÂMETRO DE 16,0 MM, UTILIZADO EM ESTRUTURAS DIVERSAS","KG",{"$f":"1386.72*1.6","v":2218.752},{"$f":"VLOOKUP(B731,'PREÇO UNITÁRIO'!$B$4:$F$124,5,0)","v":4.87},6.0714289999999993,10805.32,13471]
["9.7.2.11",92263,"SINAPI","FABRICAÇÃO DE FÔRMA PARA PILARES E ESTRUTURAS SIMILARES, EM CHAPA DE MADEIRA COMPENSADA RESINADA, E = 17 MM. AF_12/2015","m²",{"$f":"ENGECORPS!G124","v":1190.58},{"$f":"VLOOKUP(B732,'PREÇO UNITÁRIO'!$B$4:$F$124,5,0)","v":89.2},111.20564,106199.74,132399.21]
["9.7.2.12","C7","CPU","BACIA DE DISSIPAÇÃO (PEDRA ARGAMASSADA e=25cm)","m³",{"$f":"ENGECORPS!G125","v":11.37},{"$f":"VLOOKUP(B733,'PREÇO UNITÁRIO'!$B$4:$F$124,5,0)","v":211.714},263.94384379999997,2407.19,3001.04]
[{"$nulls":7},"TOTAL GALERIA M",{"$f":"I706+I721","v":2141500.61},{"$f":"J706+J721","v":2669808.75}]
[]
["9.8","GALERIA O"]
["9.8.1","TERRAPLANAGEM",{"$nulls":6},{"$f":"SUM(I738:I750)","v":1174056.1399999999},{"$f":"SUM(J738:J750)","v":1463695.8000000003}]
["9.8.1.1",98525,"SINAPI","LIMPEZA MECANIZADA DE CAMADA VEGETAL, VEGETAÇÃO E PEQUENAS ÁRVORES (DIÂMETRO DE TRONCO MENOR QUE 0,20 M), COM TRATOR DE ESTEIRAS","m²",{"$f":"ENGECORPS!G161","v":37800},{"$f":"VLOOKUP(B738,'PREÇO UNITÁRIO'!$B$4:$F$124,5,0)","v":0.27},{"$f":"G738*(1+$J$4)","v":0.33660899999999999},{"$f":"ROUND(F738*G738,2)","v":10206},{"$f":"ROUND(F738*H738,2)","v":12723.82}]
["9.8.1.2","72898","SINAPI","CARGA E DESCARGA MECANIZADAS DE ENTULHO EM CAMINHAO BASCULANTE 6 M3 ","m³",{"$f":"ENGECORPS!G162","v":7560},{"$f":"VLOOKUP(B739,'PREÇO UNITÁRIO'!$B$4:$F$124,5,0)","v":5.16},{"$f":"G739*(1+$J$4)","v":6.4329719999999995},{"$f":"ROUND(F739*G739,2)","v":39009.599999999999},{"$f":"ROUND(F739*H739,2)","v":48633.27}]
["9.8.1.3","97916","SINAPI","TRANSPORTE COM CAMINHÃO BASCULANTE DE 6 M3, EM VIA URBANA EM LEITO NATURAL TXKM (UNIDADE: TXKM). AF_01/2018","m³xkm",{"$f":"F739*L740","v":37800},{"$f":"VLOOKUP(B740,'PREÇO UNITÁRIO'!$B$4:$F$124,5,0)","v":1.35},1.6830449999999999,51030,63619.1,"VER DMT. ADOTEI >>>>>>>",5,"BUSCAR JAZIDA PRÓXIMA"]
["9.8.1.4","RO-42263","DEER/MG","ESPALHAMENTO DE MATERIAL EM BOTA-FORA","m³",{"$f":"F739","v":7560},{"$f":"VLOOKUP(B741,'PREÇO UNITÁRIO'!$B$4:$F$124,5,0)","v":0.18},0.22440599999999997,1360.8,1696.51]
["9.8.1.5","83338","SINAPI","ESCAVACAO MECANICA, A CEU ABERTO, EM MATERIAL DE 1A CATEGORIA, COM ESCAVADEIRA HIDRAULICA, CAPACIDADE DE 0,78 M3 - CORTE JAZIDA","m³",{"$f":"ENGECORPS!G163","v":44483.519999999997},{"$f":"VLOOKUP(B742,'PREÇO UNITÁRIO'!$B$4:$F$124,5,0)","v":2.12},2.6430039999999999,94305.06,117570.12]
["9.8.1.6","RO-40251","DEER/MG","COMPACTAÇÃO DE ATERRO A 100% PROCTOR NORMAL","m³",{"$f":"ENGECORPS!G164","v":28426.67},{"$f":"VLOOKUP(B743,'PREÇO UNITÁRIO'!$B$4:$F$124,5,0)","v":3.14},3.9146380000000001,89259.74,111280.12]
["9.8.1.7","73698","SINAPI","ENROCAMENTO MANUAL, COM ARRUMACAO DO MATERIAL","m³",{"$f":"ENGECORPS!G165","v":1659.66},{"$f":"VLOOKUP(B744,'PREÇO UNITÁRIO'!$B$4:$F$124,5,0)","v":89.82},111.97859399999999,149070.66,185846.39]
["9.8.1.8","RO-41344","DEER/MG","TRANSPORTE DE MATERIAL DE JAZIDA PARA CONSERVAÇÃO. DISTÂNCIA MÉDIA DE TRANSPORTE > 50,10 KM (ESCAVAÇÃO+BASE E SUB BASE) - 5,0KM","m³",{"$f":"F742*L745","v":222417.59999999998},{"$f":"VLOOKUP(B745,'PREÇO UNITÁRIO'!$B$4:$F$124,5,0)","v":0.78},0.97242600000000001,173485.73,216284.66,"VER DMT. ADOTEI >>>>>>>",5,"BUSCAR JAZIDA PRÓXIMA"]
["9.8.1.9","RO-41352   OBR-VIA-370","DEER/MG","TRANSPORTE DE ROCHAS E MATERIAL DE 3A CATEGORIA, DISTÂNCIA MÉDIA DE TRANSPORTE > 50,10 KM - 138KM","m³xkm",{"$f":"F744*L746","v":224054.1},{"$f":"VLOOKUP(B746,'PREÇO UNITÁRIO'!$B$4:$F$124,5,0)","v":0.73},0.91009099999999987,163559.49,203909.62,"VER DMT. ADOTEI >>>>>>>",{"$f":"TRANSPORTES!F7+TRANSPORTES!AF7","v":135},"BUSCAR JAZIDA PRÓXIMA"]
["9.8.1.10","25.03.04.01","DER/SP","ENSECADEIRA COM SACOS DE AREIA","m³",{"$f":"ENGECORPS!G169","v":16.22},{"$f":"VLOOKUP(B747,'PREÇO UNITÁRIO'!$B$4:$F$124,5,0)","v":490.84},611.93022799999994,7961.42,9925.51]
["9.8.1.11",96624,"SINAPI","LASTRO COM MATERIAL GRANULAR (PEDRA BRITADA)","m³",{"$f":"ENGECORPS!G170","v":6.01},{"$f":"VLOOKUP(B748,'PREÇO UNITÁRIO'!$B$4:$F$124,5,0)","v":107.21},133.65870699999999,644.33000000000004,803.29]
["9.8.1.12",96622,"SINAPI","LASTRO COM MATERIAL GRANULAR (AREIA)","m³",{"$f":"ENGECORPS!G171","v":6.01},{"$f":"VLOOKUP(B749,'PREÇO UNITÁRIO'!$B$4:$F$124,5,0)","v":111.85},139.44339499999998,672.22,838.05]
["9.8.1.13","C4","CPU","PROTEÇÃO DE TALUDE REVESTIMENTO VEGETAL","m²",{"$f":"ENGECORPS!G172","v":21600},{"$f":"VLOOKUP(B750,'PREÇO UNITÁRIO'!$B$4:$F$124,5,0)","v":18.217180000000003},22.711358306000001,393491.09,490565.34]
["9.8.2","ESTRUTURA",null,"ESTRUTURAS",{"$nulls":4},{"$f":"SUM(I752:I767)","v":136047.59000000003},{"$f":"SUM(J752:J767)","v":169610.55}]
["9.8.2.1","83534","SINAPI","LASTRO DE CONCRETO, PREPARO MECÂNICO, INCLUSOS ADITIVO IMPERMEABILIZANTE, LANÇAMENTO E ADENSAMENTO","m³",{"$f":"ENGECORPS!G174+ENGECORPS!G179","v":10.129999999999999},{"$f":"VLOOKUP(B752,'PREÇO UNITÁRIO'!$B$4:$F$124,5,0)","v":427.75},{"$f":"G752*(1+$J$4)","v":533.27592499999992},{"$f":"ROUND(F752*G752,2)","v":4333.1099999999997},{"$f":"ROUND(F752*H752,2)","v":5402.09}]
["9.8.2.2",1116263,"DNIT/MG","CONCRETO PARA BOMBEAMENTO FCK = 25 MPA - CONFECÇÃO EM CENTRAL DOSADORA DE 30 M³/H - AREIA E BRITA COMERCIAIS","m³",{"$f":"ENGECORPS!G175","v":83.03},{"$f":"VLOOKUP(B753,'PREÇO UNITÁRIO'!$B$4:$F$124,5,0)","v":231.5},288.61104999999998,19221.45,23963.38]
["9.8.2.3","5914569","DNIT/MG","TRANSPORTE COM CAMINHÃO BETONEIRA - RODOVIA PAVIMENTADA (Entre Bocaiúva/MG e Francisco Dumont/MG - 69,00km)","txkm",{"$f":"F753*2.4*L754","v":13749.768},{"$f":"VLOOKUP(B754,'PREÇO UNITÁRIO'!$B$4:$F$124,5,0)","v":0.36},0.44881199999999993,4949.92,6171.06,"VER DMT. ADOTEI >>>>>>>",{"$f":"TRANSPORTES!F15","v":69},"BUSCAR JAZIDA PRÓXIMA"]
["9.8.2.4","5914539","DNIT/MG","TRANSPORTE COM CAMINHÃO BETONEIRA - RODOVIA EM LEITO NATURAL (Entre Francisco Dumont/MG e Área O - 10,00km)","txkm",{"$f":"F753*2.4*L755","v":1992.7199999999998},{"$f":"VLOOKUP(B755,'PREÇO UNITÁRIO'!$B$4:$F$124,5,0)","v":0.55000000000000004},0.68568499999999999,1096,1366.38,"VER DMT. ADOTEI >>>>>>>",{"$f":"TRANSPORTES!AF15","v":10},"BUSCAR JAZIDA PRÓXIMA"]
["9.8.2.5",1107860,"DNIT/MG","LANÇAMENTO MECÂNICO DE CONCRETO COM BOMBA LANÇA SOBRE CHASSI COM CAPACIDADE DE 45 M³/H - CONFECÇÃO EM CENTRAL DOSADORA DE 40 M³/H","m³",{"$f":"F753","v":83.03},{"$f":"VLOOKUP(B756,'PREÇO UNITÁRIO'!$B$4:$F$124,5,0)","v":31.39},{"$f":"G756*(1+$J$4)","v":39.133913},{"$f":"ROUND(F756*G756,2)","v":2606.31},{"$f":"ROUND(F756*H756,2)","v":3249.29}]
["9.8.2.6",92792,"SINAPI","CORTE E DOBRA DE AÇO CA-50, DIÂMETRO DE 6,3 MM, UTILIZADO EM ESTRUTURA S DIVERSAS","KG",{"$f":"3243.08*0.25","v":810.77},{"$f":"VLOOKUP(B757,'PREÇO UNITÁRIO'!$B$4:$F$124,5,0)","v":6.58},8.2032860000000003,5334.87,6650.98,"CONFORME PROJETO!"]
["9.8.2.7",92793,"SINAPI","CORTE E DOBRA DE AÇO CA-50, DIÂMETRO DE 8,0 MM, UTILIZADO EM ESTRUTURA S DIVERSAS","KG",{"$f":"79.24*0.4","v":31.695999999999998},{"$f":"VLOOKUP(B758,'PREÇO UNITÁRIO'!$B$4:$F$124,5,0)","v":6.38},7.9539459999999993,202.22,252.11]
["9.8.2.8",92794,"SINAPI","CORTE E DOBRA DE AÇO CA-50, DIÂMETRO DE 10,0 MM, UTILIZADO EM ESTRUTURAS DIVERSAS","KG",{"$f":"1895.82*0.63","v":1194.3666000000001},{"$f":"VLOOKUP(B759,'PREÇO UNITÁRIO'!$B$4:$F$124,5,0)","v":5.82},7.2557939999999999,6951.21,8666.08]
["9.8.2.9",92795,"SINAPI","CORTE E DOBRA DE AÇO CA-50, DIÂMETRO DE 12,5 MM, UTILIZADO EM ESTRUTURAS DIVERSAS","KG",{"$f":"1785.04*1","v":1785.04},{"$f":"VLOOKUP(B760,'PREÇO UNITÁRIO'!$B$4:$F$124,5,0)","v":4.95},6.1711650000000002,8835.9500000000007,11015.78]
["9.8.2.10",92263,"SINAPI","FABRICAÇÃO DE FÔRMA PARA PILARES E ESTRUTURAS SIMILARES, EM CHAPA DE MADEIRA COMPENSADA RESINADA, E = 17 MM. AF_12/2015","m³",{"$f":"ENGECORPS!G177","v":419.8},{"$f":"VLOOKUP(B761,'PREÇO UNITÁRIO'!$B$4:$F$124,5,0)","v":89.2},111.20564,37446.160000000003,46684.13]
["9.8.2.11","72917","SINAPI","ESCAVACAO MECANICA DE VALA EM MATERIAL 2A CATEGORIA COM UTILIZACAO DE ESCAVADEIRA HIDRAULICA","m³",{"$f":"ENGECORPS!G178","v":334.8},{"$f":"VLOOKUP(B762,'PREÇO UNITÁRIO'!$B$4:$F$124,5,0)","v":10.35},{"$f":"G762*(1+$J$4)","v":12.903344999999998},{"$f":"ROUND(F762*G762,2)","v":3465.18},{"$f":"ROUND(F762*H762,2)","v":4320.04}]
["9.8.2.12","93382","SINAPI","REATERRO MANUAL DE VALAS COM COMPACTAÇÃO MECANIZADA. AF_04/2016","m³",{"$f":"ENGECORPS!G180","v":24.02},{"$f":"VLOOKUP(B763,'PREÇO UNITÁRIO'!$B$4:$F$124,5,0)","v":24.07},30.008068999999999,578.16,720.79]
["9.8.2.13","804029","DNIT/MG","CORPO BSTC ø 80, AREIA, BRITA E PEDRA DE MÃO COMERCIAIS","m",{"$f":"ENGECORPS!G181","v":11},{"$f":"VLOOKUP(B764,'PREÇO UNITÁRIO'!$B$4:$F$124,5,0)","v":380.56},474.44415199999997,4186.16,5218.8900000000003]
["9.8.2.14","ED-48572","DEER/MG","CAIXA BSTC ø 80 (1,00 x 1,00 x 1,40)","Unid",{"$f":"ENGECORPS!G182","v":1},{"$f":"VLOOKUP(B765,'PREÇO UNITÁRIO'!$B$4:$F$124,5,0)","v":1083.53},1350.8368509999998,1083.53,1350.84]
["9.8.2.15","804037","DNIT/MG","CORPO BSTC ø 100, AREIA, BRITA E PEDRA DE MÃO COMERCIAIS","m",{"$f":"ENGECORPS!G183","v":63},{"$f":"VLOOKUP(B766,'PREÇO UNITÁRIO'!$B$4:$F$124,5,0)","v":525.1},654.64216999999996,33081.300000000003,41242.46]
["9.8.2.16","C7","CPU","BACIA DE DISSIPAÇÃO (PEDRA ARGAMASSADA e=25cm)","m³",{"$f":"ENGECORPS!G184","v":12.64},{"$f":"VLOOKUP(B767,'PREÇO UNITÁRIO'!$B$4:$F$124,5,0)","v":211.714},263.94384379999997,2676.06,3336.25]
[{"$nulls":7},"TOTAL GALERIA O",{"$f":"I751+I737","v":1310103.73},{"$f":"J751+J737","v":1633306.3500000003}]
[]
[{"$nulls":7},"TOTAL DAS GALERIAS",{"$f":"I768+I734+I703+I693+I683+I671+I659+I628","v":3939572.83},{"$f":"J768+J734+J703+J693+J683+J671+J659+J628","v":4911465.4400000004}]
[]
["10 - DESMOBILIZAÇÃO"]
["10.1","DESMOBILIZAÇÃO",{"$nulls":6},{"$f":"SUM(I774:I775)","v":47729.474880000009},{"$f":"SUM(J774:J775)","v":59499.35}]
["10.1.1","C9","CPU","DESMOBILIZAÇÃO DE PESSOAL E EQUIPAMENTOS","un.",1,{"$f":"VLOOKUP(B774,'PREÇO UNITÁRIO'!$B$4:$F$124,5,0)","v":14578.664000000001},{"$f":"G774*(1+$J$4)","v":18175.2204088},{"$f":"SUM(F774*G774,2)","v":14580.664000000001},{"$f":"ROUND(F774*H774,2)","v":18175.22}]
["10.1.2","C10","CPU","MOBILIZAÇÃO/DESMOBILIZAÇÃO DE EQUIPAMENTOS ESPECIAIS (VIBROACABADORA, ESCAVADEIRA HIDRÁULICA, ROLO COMPACTADOR, MOTONIVELADORA, ETC.)","EQUIP.",{"$f":"F34","v":12},{"$f":"VLOOKUP(B775,'PREÇO UNITÁRIO'!$B$4:$F$124,5,0)","v":2762.2342400000002},{"$f":"G775*(1+$J$4)","v":3443.677427008},{"$f":"SUM(F775*G775,2)","v":33148.810880000005},{"$f":"ROUND(F775*H775,2)","v":41324.129999999997}]
[{"$nulls":7},"TOTAL DESMOBILIZAÇÃO",{"$f":"SUM(I773)","v":47729.474880000009},{"$f":"SUM(J773)","v":59499.35}]
[]
[{"$nulls":7},"TOTAL GERAL",{"$f":"I35+I53+I64+I186+I303+I420+I521+I617+I770+I776","v":24416743.43488},{"$f":"J35+J53+J64+J186+J303+J420+J521+J617+J770+J776","v":30440349.109999999}]

{"sheet":"CRONO 18 MESES","index":1,"n_rows":38,"n_cols":25,"rows_kept":38,"cut":false,"hidden":false,"merged":[[0,0,0,23],[33,0,33,2],[6,0,6,23],[7,22,8,22],[7,23,8,23],[2,20,2,21],[3,20,4,21],[30,0,30,2],[31,0,31,2],[32,0,32,2],[9,0,10,0],[9,1,10,1],[9,2,10,2],[9,22,10,22],[9,23,10,23],[13,0,14,0],[13,1,14,1],[13,2,14,2],[13,22,14,22],[13,23,14,23],[11,0,12,0],[11,1,12,1],[11,2,12,2],[11,22,12,22],[11,23,12,23],[17,0,18,0],[17,1,18,1],[17,2,18,2],[17,22,18,22],[17,23,18,23],[15,0,16,0],[15,1,16,1],[15,2,16,2],[15,22,16,22],[15,23,16,23],[21,0,22,0],[21,1,22,1],[21,2,22,2],[21,22,22,22],[21,23,22,23],[19,0,20,0],[19,1,20,1],[19,2,20,2],[19,22,20,22],[19,23,20,23],[25,0,26,0],[25,1,26,1],[25,2,26,2],[25,22,26,22],[25,23,26,23],[23,0,24,0],[23,1,24,1],[23,2,24,2],[23,22,24,22],[23,23,24,23],[27,0,28,0],[27,1,28,1],[27,2,28,2],[27,22,28,22],[27,23,28,23],[7,2,8,3],[7,0,8,0],[7,1,8,1],[3,22,4,23],[1,20,1,21],[7,4,7,21],[1,0,1,1],[2,0,2,1],[3,0,3,1],[4,0,4,1],[1,2,1,19],[2,2,2,19],[3,2,3,19],[4,2,4,19],[1,22,1,23],[2,22,2,23],[9,24,10,24],[11,24,12,24],[13,24,14,24],[15,24,16,24],[17,24,18,24],[19,24,20,24],[21,24,22,24],[23,24,24,24],[25,24,26,24],[27,24,28,24]]}
["PLANILHA DE CUSTOS – PONTES E GALERIAS – PROJETO JEQUITAÍ – OAE E PAVIMENTAÇÃO"]
["OBRA:",null,"OBRAS DE ARTE ESPECIAIS E PAVIMENTAÇÃO (PONTES E GALERIAS)",{"$nulls":17},"DATA:",null,"SETEMBRO.2020 "]
["LOCAL:",null,"ÁREA DE INTERFERÊNCIA DIRETA DA BARRAGEM JEQUITAÍ I - MUNICÍPIO DE FRANCISCO DUMONT/MG",{"$nulls":17},"VALOR TOTAL C/BDI (R$):",null,{"$f":"C30","v":30440349.109999999}]
["DATA BASE TABELAS:",null,"SINAPI JUL2020  /  DEER-MG ABR2020 / SICRO-MG JAN2020 / SIURB JAN2020 / DER-SP-JUN2020 / ORSE MAI2020",{"$nulls":17},"BDI (%):",null,{"$f":"BDI!$C$23","v":0.2467}]
["PRAZO EXECUÇÃO:",null,"18 (DEZOITO) MESES"]
[]
["CRONOGRAMA -FÍSICO/FINANCEIRO"]
["ITEM","SERVIÇO","VALOR TOTAL  (R$)",null,"EXECUÇÃO X  DESEMBOLSO",{"$nulls":17},"VALOR ACUMULADO (R$)","% ACUMULADO"]
[{"$nulls":4},"MÊS 01","MÊS 02","MÊS 03","MÊS 04","MÊS 05","MÊS 06","MÊS 07","MÊS 08","MÊS 09","MÊS 10","MÊS 11","MÊS 12","MÊS 13","MÊS 14","MÊS 15","MÊS 16","MÊS 17","MÊS 18"]
[1,"MOBILIZAÇÃO E SERVIÇOS PRELIMINARES",{"$f":"'PLANILHA UNIFICADA'!J35","v":6003238.9100000001},"%",{"$f":"((E13+E15+E17+E19+E21+E23+E25+E27+E29)/($C$30-$C$10)*100)","v":4.0196777767937553},{"$f":"((F13+F15+F17+F19+F21+F23+F25+F27+F29)/($C$30-$C$10)*100)","v":6.1380289883866883},7.7630414417822617,9.2706446157451143,9.937076000909471,11.384019678934139,8.5747725318192494,7.3344519312271217,6.0941313306349931,4.7304760404935271,4.6805682326546121,4.6805682326546121,4.6805682326546121,4.6805682326546121,4.6793563217634464,1.2303106685224099,7.304384542162437E-2,4.8695896947749583E-2,{"$f":"SUM(E11:V11)","v":6003238.9100000001},{"$f":"SUM(W10/$C$30)","v":0.19721320830804362},{"$f":"W10/C10","v":1}]
[null,null,null,"R$",{"$f":"E10*$C$10/100","v":241310.86035310567},{"$f":"F10*$C$10/100","v":368480.54453790904},466033.92443249776,556538.94478023064,596546.41300286935,683409.89888783137,514764.08107416535,440304.67217067303,365845.26326718071,283981.7782911348,280985.69335182098,280985.69335182098,280985.69335182098,280985.69335182098,280912.93944564799,73858.488766618437,4384.996549711208,2923.3310331408056]
[2,"CONTROLE TECNOLÓGICO (PONTES A/B/C)",{"$f":"'PLANILHA UNIFICADA'!J53","v":243920.52},"%",null,null,null,10,10,20,10,10,10,10,5,5,5,5,{"$nulls":4},{"$f":"SUM(E13:V13)","v":243920.52000000005},{"$f":"SUM(W12/$C$30)","v":8.0130657870763188E-3},{"$f":"W12/C12","v":1.0000000000000002}]
[null,null,null,"R$",{"$f":"SUM($C$12*E12%)","v":0},{"$f":"SUM($C$12*F12%)","v":0},0,24392.052,24392.052,48784.103999999999,{"$f":"SUM($C$12*K12%)","v":24392.052},24392.052,24392.052,24392.052,12196.026,12196.026,12196.026,12196.026,0,0,0,0]
[3,"DESVIO DE TRÁFEGO - GERAL (PONTES A/B/C/N/R)",{"$f":"'PLANILHA UNIFICADA'!J64","v":301394.34000000003},"%",null,20,null,10,20,20,10,10,10,{"$nulls":9},{"$f":"SUM(E15:V15)","v":301394.34000000003},{"$f":"SUM(W14/$C$30)","v":9.9011459727637811E-3},{"$f":"W14/C14","v":1}]
[null,null,null,"R$",{"$f":"SUM($C$14*E14%)","v":0},{"$f":"SUM($C$14*F14%)","v":60278.868000000009},0,30139.434000000005,60278.868000000009,60278.868000000009,{"$f":"SUM($C$14*K14%)","v":30139.434000000005},30139.434000000005,30139.434000000005,0,0,0,0,0,0,0,0,0]
[4,"PONTE A",{"$f":"'PLANILHA UNIFICADA'!J186","v":1873891.3699999999},"%",{"$nulls":4},10,30,30,20,10,{"$nulls":9},{"$f":"SUM(E17:V17)","v":1873891.3699999996},{"$f":"SUM(W16/$C$30)","v":6.1559457259457155E-2},{"$f":"W16/C16","v":0.99999999999999989}]
[null,null,null,"R$",{"$f":"SUM($C$16*E16%)","v":0},{"$f":"SUM($C$16*F16%)","v":0},0,0,187389.13699999999,562167.41099999996,{"$f":"SUM($C$16*K16%)","v":562167.41099999996},374778.27399999998,187389.13699999999,0,0,0,0,0,0,0,0,0]
[5,"PONTE B",{"$f":"'PLANILHA UNIFICADA'!J303","v":1157093.75},"%",{"$nulls":4},10,30,30,20,10,{"$nulls":9},{"$f":"SUM(E19:V19)","v":1157093.75},{"$f":"SUM(W18/$C$30)","v":3.8011842302422265E-2},{"$f":"W18/C18","v":1}]
[null,null,null,"R$",{"$f":"SUM($C$18*E18%)","v":0},{"$f":"SUM($C$18*F18%)","v":0},0,0,115709.375,347128.125,{"$f":"SUM($C$18*K18%)","v":347128.125},231418.75,115709.375,0,0,0,0,0,0,0,0,0]
[6,"PONTE C",{"$f":"'PLANILHA UNIFICADA'!J420","v":11315995.909999998},"%",{"$nulls":5},{"$f":"7.5+0.0008601","v":7.5008600999999997},10,10,10,10,10,10,10,10,10,{"$f":"2.5-0.0008601","v":2.4991398999999999},null,null,{"$f":"SUM(E21:V21)","v":11315995.909999998},{"$f":"SUM(W20/$C$30)","v":0.37174330258527044},{"$f":"W20/C20","v":1}]
[null,null,null,"R$",{"$f":"SUM($C$20*E20%)","v":0},{"$f":"SUM($C$20*F20%)","v":0},0,0,0,848797.02213082172,1131599.5909999998,1131599.5909999998,1131599.5909999998,1131599.5909999998,1131599.5909999998,1131599.5909999998,1131599.5909999998,1131599.5909999998,1131599.5909999998,282802.56886917801,0,0]
[7,"PONTE N",{"$f":"'PLANILHA UNIFICADA'!J521","v":3138831.6300000004},"%",null,10,20,30,20,20,{"$nulls":12},{"$f":"SUM(E23:V23)","v":3138831.6300000008},{"$f":"SUM(W22/$C$30)","v":0.10311417975718482},{"$f":"W22/C22","v":1.0000000000000002}]
[null,null,null,"R$",{"$f":"SUM($C$22*E22%)","v":0},313883.16300000006,627766.32600000012,941649.48900000006,627766.32600000012,627766.32600000012,{"$f":"SUM($C$22*K22%)","v":0},0,0,0,0,0,0,0,0,0,0,0]
[8,"PONTE R",{"$f":"'PLANILHA UNIFICADA'!J617","v":1435017.8900000001},"%",null,10,20,20,30,20,{"$nulls":12},{"$f":"SUM(E25:V25)","v":1435017.8900000001},{"$f":"SUM(W24/$C$30)","v":4.7141965580433522E-2},{"$f":"W24/C24","v":1}]
[null,null,null,"R$",{"$f":"SUM($C$24*E24%)","v":0},143501.78900000002,287003.57800000004,{"$f":"SUM($C$24*H24%)","v":287003.57800000004},{"$f":"SUM($C$24*I24%)","v":430505.36700000003},{"$f":"SUM($C$24*J24%)","v":287003.57800000004},{"$f":"SUM($C$24*K24%)","v":0},0,0,0,0,0,0,0,0,0,0,0]
[9,"GALERIAS",{"$f":"'PLANILHA UNIFICADA'!J770","v":4911465.4400000004},"%",20,20,20,20,20,{"$nulls":13},{"$f":"SUM(E27:V27)","v":4911465.4400000004},{"$f":"SUM(W26/$C$30)","v":0.16134721130338575},{"$f":"W26/C26","v":1}]
[null,null,null,"R$",{"$f":"SUM($C$26*E26%)","v":982293.08800000011},982293.08800000011,982293.08800000011,{"$f":"SUM($C$26*H26%)","v":982293.08800000011},{"$f":"SUM($C$26*I26%)","v":982293.08800000011},{"$f":"SUM($C$26*J26%)","v":0},{"$f":"SUM($C$26*K26%)","v":0},0,0,0,0,0,0,0,0,0,0,0]
[10,"DESMOBILIZAÇÃO",{"$f":"'PLANILHA UNIFICADA'!J776","v":59499.35},"%",{"$nulls":14},20,30,30,20,{"$f":"SUM(E29:V29)","v":59499.350000000006},{"$f":"SUM(W28/$C$30)","v":1.954621143962301E-3},{"$f":"W28/C28","v":1.0000000000000002}]
[null,null,null,"R$",{"$f":"SUM($C$28*E28%)","v":0},0,0,0,{"$f":"SUM($C$28*I28%)","v":0},{"$f":"SUM($C$28*J28%)","v":0},{"$f":"SUM($C$28*K28%)","v":0},0,0,0,0,0,0,0,11899.87,17849.805,17849.805,11899.87]
[null,"TOTAL R$",{"$f":"SUM(C10:C29)","v":30440349.109999999},{"$nulls":19},{"$f":"SUM(W10:W29)","v":30440349.110000003},{"$f":"SUM(X10:X29)","v":1}]
["% Parcial",null,null,"%",{"$f":"SUM(E32/$W$30)","v":4.019677776793755E-2},6.1380289883866873E-2,7.7630414417822619E-2,9.2706446157451133E-2,9.93707600090947E-2,0.11384019678934139,8.5747725318192469E-2,7.3344519312271206E-2,6.0941313306349935E-2,4.7304760404935267E-2,4.6805682326546104E-2,4.6805682326546104E-2,4.6805682326546104E-2,4.6805682326546104E-2,4.6793563217634462E-2,1.2303106685224097E-2,7.3043845421624353E-4,4.8695896947749574E-4]
["Valor (R$) - Parcial",null,null,"R$",{"$f":"SUM(E11+E13+E15+E17+E19+E21+E23+E25+E27+E29)","v":1223603.9483531057},{"$f":"SUM(F11+F13+F15+F17+F19+F21+F23+F25+F27+F29)","v":1868437.4525379092},2363096.916432498,2822016.5857802308,3024880.6260028696,3465335.3330186536,{"$f":"SUM(K11+K13+K15+K17+K19+K21+K23+K25+K27+K29)","v":2610190.6940741651},2232632.7731706728,1855074.8522671806,1439973.4212911346,1424781.3103518207,1424781.3103518207,1424781.3103518207,1424781.3103518207,1424412.400445648,374510.86263579642,22234.801549711206,14823.201033140806]
["% Acumulado",null,null,null,{"$f":"E31","v":4.019677776793755E-2},{"$f":"E33+F31","v":0.10157706765180442},0.17920748206962706,0.27191392822707816,0.37128468823617289,0.48512488502551426,{"$f":"J33+K31","v":0.57087261034370673},{"$f":"K33+L31","v":0.64421712965597799},{"$f":"L33+M31","v":0.70515844296232788},{"$f":"M33+N31","v":0.75246320336726313},{"$f":"N33+O31","v":0.79926888569380927},{"$f":"O33+P31","v":0.84607456802035541},{"$f":"P33+Q31","v":0.89288025034690155},{"$f":"Q33+R31","v":0.93968593267344769},{"$f":"R33+S31","v":0.98647949589108219},{"$f":"S33+T31","v":0.99878260257630624},{"$f":"T33+U31","v":0.99951304103052252},{"$f":"U33+V31","v":1}]
["Valor (R$) - Acumulado",null,null,null,{"$f":"E32","v":1223603.9483531057},3092041.4008910148,5455138.3173235133,8277154.9031037446,11302035.529106613,14767370.862125266,17377561.556199431,19610194.329370104,21465269.181637283,22905242.602928419,24330023.913280241,25754805.22363206,27179586.533983879,28604367.844335698,30028780.244781345,30403291.10741714,30425525.90896685,30440349.109999992]
[]
[{"$nulls":9},14767370.859999999,{"$nulls":11},15672978.25]
[{"$nulls":9},{"$f":"J34","v":14767370.862125266},{"$nulls":11},{"$f":"J37+V36","v":30440349.112125266}]
[{"$nulls":9},{"$f":"J36-J34","v":-2.1252669394016266E-3},{"$nulls":11},{"$f":"V37-V34","v":2.1252743899822235E-3}]

{"sheet":"TRANSPORTES","index":2,"n_rows":41,"n_cols":32,"rows_kept":41,"cut":false,"hidden":false,"merged":[[2,0,4,1],[2,2,4,2],[2,3,2,11],[3,6,3,7],[3,8,3,9],[3,10,3,11],[32,3,32,7],[33,3,33,7],[34,3,34,7],[35,3,35,7],[25,9,26,9],[27,3,27,7],[28,3,28,7],[29,3,29,7],[30,3,30,7],[31,3,31,7],[25,0,26,0],[25,1,26,1],[25,2,26,2],[25,3,26,7],[25,8,26,8],[3,28,3,29],[3,30,3,31],[25,12,26,12],[25,13,26,13],[25,10,26,10],[25,11,26,11],[3,22,3,23],[3,24,3,25],[3,26,3,27],[3,12,3,13],[3,14,3,15],[3,16,3,17],[3,18,3,19],[3,20,3,21]]}
["TRANSPORTES - DISTÂNCIAS"]
[]
["PRODUTO",null,"ORIGEM","DESTINOS"]
[null,null,null,"P/ M.Claros (km)","P/ Jequitaí (km)","P/ Francisco Dumont (km)","P/ A (km)",null,"P/ B (km)",null,"P/ C (km)",null,"P/ N (km)",null,"P/ R (km)",null,"P/ D (km)",null,"P/ E (km)",null,"P/ F (km)",null,"P/ G1 (km)",null,"P/ G2 (km)",null,"P/ H (km)",null,"P/ M (km)",null,"P/ O (km)"]
[null,null,null,"Rodovia Pavimentada","Rodovia Pavimentada","Rodovia Pavimentada","Est. Terra/ Jequitaí","Est. Terra/ Fco Dum","Est. Terra/ Jequitaí","Est. Terra/ Fco Dum","Est. Terra/ Jequitaí","Est. Terra/ Fco Dum","Est. Terra/ Jequitaí","Est. Terra/ Fco Dum","Est. Terra/ Jequitaí","Est. Terra/ Fco Dum","Est. Terra/ Jequitaí","Est. Terra/ Fco Dum","Est. Terra/ Jequitaí","Est. Terra/ Fco Dum","Est. Terra/ Jequitaí","Est. Terra/ Fco Dum","Est. Terra/ Jequitaí","Est. Terra/ Fco Dum","Est. Terra/ Jequitaí","Est. Terra/ Fco Dum","Est. Terra/ Jequitaí","Est. Terra/ Fco Dum","Est. Terra/ Jequitaí","Est. Terra/ Fco Dum","Est. Terra/ Jequitaí","Est. Terra/ Fco Dum"]
["AREIA - Fina / Média",null,"Barra do Guaicuí",145,51,"-",15,"-",21,"-",24,"-","-","-","-","-","-","-","-","-","-","-","-","-","-","-","-","-","-","-","-","-"]
["BRITA - 1 e 4",null,"Montes Claros",10,111,127,15,"-",21,"-",24,"-","-",6,"-",13,"-",10,"-",9,"-",7.5,"-",6,"-",5.5,"-",5,"-",7,"-",8]
["FILLER (pó de pedra)",null,"Montes Claros",10,"-","-","-","-","-","-","-","-","-",6,"-",13,"-",10,"-",9,"-",7.5,"-",6,"-",5.5,"-",5,"-",7,"-",8]
["CIMENTO CPIII - 32",null,"Montes Claros","-","-","-","-","-","-","-","-","-","-","-","-","-","-","-","-","-","-","-","-","-","-","-","-","-","-","-","-","-"]
["CBUQ",null,"Montes Claros","-",111,127,15,15,21,9,24,6,"-","-","-","-","-","-","-","-","-","-","-","-","-","-","-","-","-","-","-","-"]
["CAP 30/45 - Massa Asfáltica",null,"Betim (BR135)",435,"-","-","-","-","-","-","-","-","-","-","-","-","-","-","-","-","-","-","-","-","-","-","-","-","-","-","-","-"]
["CM30 - Imprimação",null,"Betim (BR135)","-",413,377,15,15,21,9,24,6,"-","-","-","-","-","-","-","-","-","-","-","-","-","-","-","-","-","-","-","-"]
["RR-2C - Ligante",null,"Betim (BR135)","-",413,377,15,15,21,9,24,6,"-","-","-","-","-","-","-","-","-","-","-","-","-","-","-","-","-","-","-","-"]
["Concreto",null,"Pirapora / MG","-",75,"-",15,15,21,9,24,6,"-",6,"-",15,"-","-","-","-","-","-","-","-","-","-","-","-","-","-","-","-"]
["Concreto",null,"Bocaiúva / MG","-","-",69,"-",15,"-",9,"-",6,"-",10,"-",15,"-",10,"-",9,"-",7.5,"-",6,"-",5.5,"-",5,"-",10,"-",10]
["Material Jazida",null,"Próximo","-","-","-",5,"-",5,"-",5,"-","-",5,"-",5,"-",5,"-",5,"-",5,"-",5,"-",5,"-",5,"-",5,"-",5]
["Entulho (material limpeza)",null,"Próximo","-","-","-",5,"-",5,"-",5,"-","-",5,"-",5,"-",5,"-",5,"-",5,"-",5,"-",5,"-",5,"-",5,"-",5]
[]
["ITEM 3.3.1 > CAMINHÃO PLATAFORMA 8X2, PBT 29.000 KG E DISTÂNCIA ENTRE EIXOS 4,8M - 188 KW - MOTORISTA E CAMINHÃO"]
["24 horas x 10 dias = 240,00hs"]
[]
[]
["PARA MACRO ITEM 3 - EQUIPAMENTOS (TRANSPORTE)"]
["DNIT ","A9316","CAMINHÃO PLATAFORMA 8 X 2, PBT 29.000 KG E DISTÂNCIA ENTRE EIXOS 4,8 M - 188 KW - MOTORISTA DE CAMINHÃO"]
["Custo Prod.",144.8612,"Custo Improd.",41.211300000000001,null,"Total:",{"$f":"B25","v":144.8612},"p/h"]
["Item","Código","Fonte","Especificação",{"$nulls":4},"Unidade","Quant.","Unidade","Quant.","Unidade","Quant."]
[]
[1,5932,"SINAPI","MOTONIVELADORA POTÊNCIA BÁSICA LÍQUIDA (PRIMEIRA MARCHA) 125 HP, PESO CHP BRUTO 13032 KG, LARGURA DA LÂMINA DE 3,7 M - CHP DIURNO. AF_06/2014 - SINAPI 5932 (1X)",{"$nulls":4},"H",1,"H",1,"H",1]
[2,5679,"SINAPI","RETROESCAVADEIRA SOBRE RODAS COM CARREGADEIRA, TRAÇÃO 4X4, POTÊNCIA LÍQ. 88 HP, CAÇAMBA CARREG. CAP. MÍN. 1 M3, CAÇAMBA RETRO CAP. 0,26 M3, PESO OPERACIONAL MÍN. 6.674 KG, PROFUNDIDADE ESCAVAÇÃO MÁX. 4,37 M - CHI DIURNO. AF_06/2014",{"$nulls":4},"H",1,"H",1,"H",1]
[3,7049,"SINAPI","ROLO COMPACTADOR PE DE CARNEIRO VIBRATORIO, POTENCIA 125 HP, PESO OPERACIONAL SEM/COM LASTRO 11,95 / 13,30 T, IMPACTO DINAMICO 38,5 / 22,5 T, LARGURA DE TRABALHO 2,15 M - CHP DIURNO. AF_06/2014",{"$nulls":4},"H",1,"H",1,"H",1]
[4,5835,"SINAPI","VIBROACABADORA DE ASFALTO SOBRE ESTEIRAS, LARGURA DE PAVIMENTAÇÃO 1,90 M A CHP 5,30 M, POTÊNCIA 105 HP CAPACIDADE 450 T/H - CHP DIURNO. AF_11/2014",{"$nulls":4},"H",1,"H",1,"H",1]
[5,96463,"SINAPI","ROLO COMPACTADOR DE PNEUS, ESTATICO, PRESSAO VARIAVEL, POTENCIA 110 HP, PE CHP SO SEM/COM LASTRO 10,8/27 T, LARGURA DE ROLAGEM 2,30 M - CHP DIURNO. AF_06 /2017",{"$nulls":4},"CHP",1,"CHP",1,"CHP",1]
[6,90991,"SINAPI","ESCAVADEIRA HIDRÁULICA SOBRE ESTEIRAS, CAÇAMBA 0,80 M3, PESO OPERACIONAL 17,8 T, POTÊNCIA LÍQUIDA 110 HP - CHP DIURNO. AF_10/2014",{"$nulls":4},"CHP",1,"CHP",1,"CHP",1]
[7,"00010775","SINAPI","CONTAINER 2,30 X 6,00 M, ALT. 2,50 M, COM 1 SANITARIO, PARA ESCRITORIO, COMPLETO, SEM DIVISORIAS INTERNAS (LOCACAO)",{"$nulls":4},"UNID",1,"UNID",1,"UNID",1]
[8,"00010777","SINAPI","CONTAINER 2,30 X 4,30 M, ALT. 2,50 M, PARA SANITARIO, COM 3 BACIAS, 4 CHUVEIROS, 1 LAVATORIO E 1 MICTORIO (LOCACÃO)",{"$nulls":4},"UNID",1,"UNID",1,"UNID",1]
[9,"ED-50144","DEER/MG","ED-50144  IIO-CON-040 CONTAINER (6,0X2,3X2,5M) COM ISOLAMENTO TÉRMICO - REFEITÓRIO COMPLETO - DEER MG",{"$nulls":4},"UNID",1,"UNID",1,"UNID",1]
[]
["itens 1 a 9","Máquinas provenientes de Montes Claros e transportadas pela BR365 até Jequitaí = 111,00km e mais 15,00km por terra até "]
[null,"Área A. Utilização do caminhão plataforma por 10 dias > Disponibilidade 24,00 hs."]
[]
["Então:",10,"dias                          x",24,{"$f":"SUM(B41*D41)","v":240},"hs"]

{"sheet":"PREÇO UNITÁRIO","index":3,"n_rows":1101,"n_cols":16,"rows_kept":1101,"cut":false,"hidden":false,"merged":[[90,8,90,10],[1,7,2,7],[1,0,2,0],[1,1,2,1],[1,2,2,2],[1,3,2,3],[1,4,1,5],[1,6,2,6]]}
[]
["Fonte","Código","SERVIÇO","Unidade","Preço Unitário (R$)",null,"Código","Fonte"]
[{"$nulls":4},"VELHO","NOVO"]
["SINAPI",91790,"(COMPOSIÇÃO REPRESENTATIVA) DO SERVIÇO DE INSTALAÇÃO DE TUBOS DE PVC, SÉRIE R, ÁGUA PLUVIAL, DN 100 MM (INSTALADO EM RAMAL DE ENCAMINHAMENTO , OU CONDUTORES VERTICAIS), INCLUSIVE  CONEXÕES, CORTES E FIXAÇÕES, PARA PRÉDIOS. AF_10/2015 ","m",40.950000000000003,42.45,91790,"SINAPI"]
["CPU","C1","ADMINISTRAÇÃO LOCAL E MANUTENÇÃO DO CANTEIRO DE OBRAS EM CONTAINER - PRAZO DE OBRA IGUAL A 08 MESES","gl",{"$f":"CPU!$I$61","v":2476647.04},{"$f":"CPU!I61","v":2476647.04},"C1","CPU","CONFERIR CPU"]
["DEER/MG","ED-48193","ALVENARIA DE VEDAÇÃO COM BLOCO DE CONCRETO, ESP.19 CM, PARA REVESTIMENTO, INCLUSIVE ARGAMASSA PARA ASSENTAMENTO","m²",49.27,49.12,"ED-48193","DEER/MG"]
["DNIT/MG",4507755,"ANCORAGEM ATIVA PARA 12 CORDOALHAS D = 12,7 MM COM PLACA DE ANCORAGEM, BLOCO, CUNHAS TRIPARTIDAS, TROMBETA E PROTENSÃO","unid.",1454.16,1458,4507755,"DNIT/MG"]
["SINAPI",84154,"APARELHO APOIO NEOPRENE FRETADO ","dm³",109.06,109.31,84154,"SINAPI","sinapi 09.2019"]
["DNIT/MG",4508176,"BAINHA METÁLICA DIÂMETRO 95 MM PARA 19 CORDOALHAS D = 15,2 MM, SEMI-RÍGIDA, REDONDA, COM MONTAGEM E INJEÇÃO DE NATA DE CIMENTO","m",69.34,68.38,4508176,"DNIT/MG"]
["SINAPI","73770/001","BARREIRA PRE-MOLDADA EXTERNA CONCRETO ARMADO 0,25X0,40X1,14M FCK=25MPA ACO CA-50 INCL VIGOTA HORIZONTAL MONTANTE A CADA 1,00M FERROS DE LIGACAO E MATERIAIS.","m",450.09,468.97,"73770/001","SINAPI","sinapi 09.2019"]
["DEER/MG","RO-43113","BASE DE SOLO SEM MISTURA, COMPACTADA NA ENERGIA DO PROCTOR INTERMEDIÁRIO (EXECUÇÃO, INCLUINDO ESCAVAÇÃO, CARGA, DESCARGA, ESPALHAMENTO, UMIDECIMENTO E COMPACTAÇÃO DO MATERIAL; EXCLUI AQUISIÇÃO E TRANSPORTE DO MATERIAL)","m³",14.25,14.05,"RO-43113","DEER/MG"]
["DNIT/MG","A9316","CAMINHÃO PLATAFORMA 8 X 2, PBT 29.000 KG E DISTÂNCIA ENTRE EIXOS 4,8 M - 188 KW - MOTORISTA DE CAMINHÃO","H",144.8612,null,"A9316","DNIT/MG","SUBSTITUIDO PELO CPU"]
["DEER/MG","ED-48555","CANALETA PARA DRENAGEM, PRÉ-MOLDADA, TIPO MEIA CANA, DIÂMETRO 60CM, EXCLUSIVE TAMPA, INCLUSIVE ASSENTAMENTO EM ARGAMASSA, TRAÇO 1:3 (CIMENTO E AREIA), ESCAVAÇÃO, TRANSPORTE E RETIRADA DO MATERIAL ESCAVADO (EM CAÇAMBA)","m",117.46,116.74,"ED-48566","DEER/MG"]
["DEER/MG","ED-14723","CANALETA PARA DRENAGEM, EM CONCRETO COM FCK 15MPA, MOLDADA IN LOCO, SEÇÃO 60X60CM, FORMA EM CONTRA BARRANCO, EXCLUSIVE TAMPA, INCLUSIVE ESCAVAÇÃO, REATERRO COM TRANSPORTE E RETIRADA DO MATERIAL ESCAVADO (EM CAÇAMBA)","m",236.39,236.98,"ED-14723","DEER/MG"]
["SINAPI","72898","CARGA E DESCARGA MECANIZADAS DE ENTULHO EM CAMINHAO BASCULANTE 6 M3 ","m³",3.86,5.16,"72898","SINAPI","substitui pelo 100981"]
["SINAPI","72888","CARGA, MANOBRAS E DESCARGA DE AREIA, BRITA, PEDRA DE MAO E SOLOS COM CAMINHAO BASCULANTE 6 M3 (DESCARGA LIVRE)","m³",1.17,0.79,"72888","SINAPI"]
["SINAPI","72849","CARGA, MANOBRAS E DESCARGA DE MISTURAS DE SOLOS E AGREGADOS (BASES ESTABILIZADAS EM USINA) COM CAMINHAO BASCULANTE 6 M3","t",2.68,1.81,"72849","SINAPI"]
["SINAPI","74039/001","CERCA COM MOUROES DE MADEIRA ROLICA, DIAMETRO 11CM, ESPACAMENTO DE 2M, ALTURA LIVRE DE 1M, CRAVADOS 0,5M, COM 5 FIOS DE ARAME FARPADO Nº 14 CLASSE 250","m",24.45,26.27,"74039/001","SINAPI","sinapi 09.2019"]
["DEER/MG","RO-43226","COLOCAÇÃO DE PLACAS","m²",64.06,65.77,"RO-43226","DEER/MG"]
["DEER/MG","RO-40251","COMPACTAÇÃO DE ATERRO A 100% PROCTOR NORMAL","m³",3.15,3.14,"RO-40251","DEER/MG"]
["DEER/MG","RO-41624","CONCRETO DE CIMENTO PORTLAND, FCK>=15,0MPA (EXECUÇÃO, INCLUINDO OFORNECIMENTO E TRANSPORTE DOS AGREGADOS)","m³",358.39,365.06,"RO-41624","DEER/MG"]
["DNIT/MG",1116263,"CONCRETO PARA BOMBEAMENTO FCK = 25 MPA - CONFECÇÃO EM CENTRAL DOSADORA DE 30 M³/H - AREIA E BRITA COMERCIAIS","m³",214.21,231.5,1116263,"DNIT/MG"]
["DNIT/MG",1106280,"CONCRETO PARA BOMBEAMENTO FCK = 30 MPA - CONFECÇÃO EM CENTRAL DOSADORA DE 30 M³/H - AREIA E BRITA COMERCIAIS","m³",224.51,270.39999999999998,1106280,"DNIT/MG"]
["DNIT/MG",1106281,"CONCRETO PARA BOMBEAMENTO FCK = 35 MPA - CONFECÇÃO EM CENTRAL DOSADORA DE 30 M³/H - AREIA E BRITA COMERCIAIS","m³",236.01,285.42,1106281,"DNIT/MG"]
["SINAPI",95995,"CONSTRUÇÃO DE PAVIMENTO COM APLICAÇÃO DE CONCRETO BETUMINOSO USINADO A QUENTE (CBUQ), CAMADA DE ROLAMENTO, COM ESPESSURA DE 5,0 CM - EXCLUSIVE TRANSPORTE. AF_03/2017 (PAVIMENTAÇÃO OAE)","m³",1017.65,997.69,95995,"SINAPI","sinapi 09.2019"]
["DNIT/MG",4507956,"CORDOALHA CP 190 RB D = 12,7 MM - FORNECIMENTO, PREPARO E COLOCAÇÃO ","Kg",9.3699999999999992,9.19,4507956,"DNIT/MG"]
["SINAPI",92880,"CORTE E DOBRA DE AÇO CA-25, DIÂMETRO DE 20,0 MM. AF_12/2015","kg",4.78,6.16,92880,"SINAPI"]
["SINAPI",92881,"CORTE E DOBRA DE AÇO CA-25, DIÂMETRO DE 25,0 MM. AF_12/2015","kg",null,6.14,92881,"SINAPI"]
["SINAPI",92794,"CORTE E DOBRA DE AÇO CA-50, DIÂMETRO DE 10,0 MM, UTILIZADO EM ESTRUTURAS DIVERSAS","kg",5.27,5.82,92794,"SINAPI"]
["SINAPI",92795,"CORTE E DOBRA DE AÇO CA-50, DIÂMETRO DE 12,5 MM, UTILIZADO EM ESTRUTURAS DIVERSAS","kg",4.91,4.95,92795,"SINAPI"]
["SINAPI",92796,"CORTE E DOBRA DE AÇO CA-50, DIÂMETRO DE 16,0 MM, UTILIZADO EM ESTRUTURAS DIVERSAS","kg",4.84,4.87,92796,"SINAPI"]
["SINAPI",92797,"CORTE E DOBRA DE AÇO CA-50, DIÂMETRO DE 20,0 MM, UTILIZADO EM ESTRUTURAS DIVERSAS","kg",4.62,5.72,92797,"SINAPI"]
["SINAPI",92798,"CORTE E DOBRA DE AÇO CA-50, DIÂMETRO DE 25,0 MM, UTILIZADO EM ESTRUTURAS DIVERSAS","kg",5.33,5.7,92798,"SINAPI"]
["SINAPI",92792,"CORTE E DOBRA DE AÇO CA-50, DIÂMETRO DE 6,3 MM, UTILIZADO EM ESTRUTURA S DIVERSAS","kg",5.92,6.58,92792,"SINAPI"]
["SINAPI",92793,"CORTE E DOBRA DE AÇO CA-50, DIÂMETRO DE 8,0 MM, UTILIZADO EM ESTRUTURA S DIVERSAS","kg",6.35,6.38,92793,"SINAPI"]
["SINAPI","98529","CORTE RASO E RECORTE DE ÁRVORE COM DIÂMETRO DE TRONCO MAIOR OU IGUAL A 0,20 M E MENOR QUE 0,40","unid.","NOVO",53.77,"98529","SINAPI"]
["SINAPI","98530","CORTE RASO E RECORTE DE ÁRVORE COM DIÂMETRO DE TRONCO MAIOR OU IGUAL A 0,40 M E MENOR QUE 0,60","unid.","NOVO",95.78,"98530","SINAPI"]
["SINAPI","98531","CORTE RASO E RECORTE DE ÁRVORE COM DIÂMETRO DE TRONCO MAIOR OU IGUAL A 0,60 M","unid.","NOVO",192.46,"98531","SINAPI"]
["DEER/MG","RO-41763","DEFENSA SINGELA SEMI-MALEÁVEL SV-DSM-02 (EXECUÇÃO, INCLUINDO FORNECIMENTO, COLOCAÇÃO E TRANSPORTE DE TODOS OS MATERIAIS)","m",264.45999999999998,265.94,"RO-41763","DEER/MG"]
["DEER/MG","ED-48598","DESCIDA D´ÁGUA TIPO CALHA DN 500, EXCLUSIVE BOTA FORA","m",290.69,289.51,"ED-48598","DEER/MG"]
["DNIT/MG","2003441","DISSIPADOR DE ENERGIA DE 501 - AREIA E PEDRA DE MÃO COMERCIAIS","und",125.78,128.18,"2003441","DNIT/MG"]
["DEER/MG","ED-50732","EMBOÇO COM MARGAMASSA, TRAÇO 1:6 (CIMENTO E AREIA), ESP. 20MM, APLICAÇÃO MANUAL, PREPARO MECÂNICO","m²",23,22.84,"ED-50732","DEER/MG"]
["SINAPI","73698","ENROCAMENTO MANUAL, COM ARRUMACAO DO MATERIAL","m³",54.95,89.82,"73698","SINAPI","usei o 1505877 DNIT","impactou bastante o custo final da obra"]
["DEER/MG","ED-49559","ENSAIO  DE MASSA ESPECIFICA - IN SITU - METODO FRASCO DE AREIA - SOLOS","unid.",35.03,35.03,"ED-49559","DEER/MG"]
["DEER/MG","ED-49555","ENSAIO DE COMPACTAÇÃO - AMOSTRAS NÃO TRABALHADAS - ENERGIA NORMAL - SOLOS","unid.",95.08,95.08,"ED-49555","DEER/MG"]
["DEER/MG","ED-49546","ENSAIO DE RESISTENCIA A COMPRESSÃO SIMPLES - CONCRETO","unid.",90.07,90.07,"ED-49546","DEER/MG"]
["DEER/MG","ED-49564","ENSAIO DE TEOR DE UMIDADE - PROCESSO SPEEDY - SOLOS E AGREGADOS MIUDOS","unid.",30.02,30.02,"ED-49564","DEER/MG"]
["SIURB","02-06-14","ENSAIOS DE LABORATÓRIO - ADESIVIDADE","unid.",237.18,247.19,"02-06-14","SIURB"]
["SIURB","02-06-13","ENSAIOS DE LABORATÓRIO - DURABILIDADE","unid.",470.64,490.46,"02-06-13","SIURB"]
["SIURB","02-06-11","ENSAIOS DE LABORATÓRIO - LOS ANGELES","unid.",435.4,454.15,"02-06-11","SIURB"]
["SIURB","02-06-18","ENSAIOS DE LABORATÓRIO - PENETRAÇÃO","unid.",196.42,204.85,"02-06-18","SIURB"]
["SIURB","02-06-19","ENSAIOS DE LABORATÓRIO - PONTO DE AMOLECIMENTO","unid.",118.59,123.59,"02-06-19","SIURB"]
["SIURB","02-06-17","ENSAIOS DE LABORATÓRIO - PONTO DE FULGOR","unid.",135.99,141.58000000000001,"02-06-17","SIURB"]
["SIURB","02-06-15","ENSAIOS DE LABORATÓRIO - VISCOSIDADE","unid.",157.47999999999999,164.14,"02-06-15","SIURB"]
["SINAPI","72917","ESCAVACAO MECANICA DE VALA EM MATERIAL 2A CATEGORIA COM UTILIZACAO DE ESCAVADEIRA HIDRAULICA","m³",11.04,10.35,"72917","SINAPI"]
["SINAPI","83338","ESCAVACAO MECANICA, A CEU ABERTO, EM MATERIAL DE 1A CATEGORIA, COM ESCAVADEIRA HIDRAULICA, CAPACIDADE DE 0,78 M3 - CORTE","m³",2.23,2.12,"83338","SINAPI"]
["DEER/MG","RO-40182","ESCAVAÇÃO, CARGA, DESCARGA, ESPALHAMENTO E TRANSPORTE DE MATERIAL DE 3ª CATEGORIA. DISTÂNCIA MÉDIA DE TRANSPORTE ATÉ 200 M","m³",41.33,26.31,"RO-40182","DEER/MG"]
["DEER/MG","RO-40160","ESCAVAÇÃO, CARGA, DESCARGA, ESPALHAMENTO E TRANSPORTE DE MATERIAL DE 1ª CATEGORIA, COM CAMINHÃO. DISTÂNCIA MÉDIA DE TRANSPORTE DE 3.001 A 4.000 M","m³",7.46,7.44,"RO-40160","DEER/MG"]
["DNIT/MG",2003864,"ESGOTAMENTO DE ÁGUA COM BOMBA SUBMERSA","h",0.18,11.84,2003864,"DNIT/MG",{"$nulls":5},"DNIT/MG","ESGOTAMENTO DE ÁGUA COM BOMBA SUBMERSA","h"]
["DEER/MG","RO-42263","ESPALHAMENTO DE MATERIAL EM BOTA-FORA","m³",0.18,0.18,"RO-42263","DEER/MG"]
["SINAPI",96162,"ESTACA RAIZ Ø 41 cm EM SOLO","m",323.20999999999998,751.3,96162,"SINAPI","substitui pelo 25.04.14",2306071,1372.29]
["SINAPI","96401","EXECUÇÃO DE IMPRIMAÇÃO COM ASFALTO DILUÍDO CM-30. AF_09/2017","m²",6.24,6.65,"96401","SINAPI"]
["SINAPI",92263,"FABRICAÇÃO DE FÔRMA PARA PILARES E ESTRUTURAS SIMILARES, EM CHAPA DE MADEIRA COMPENSADA RESINADA, E = 17 MM. AF_12/2015","m²",84.2,89.2,92263,"SINAPI"]
["SINAPI","92270","FABRICAÇÃO DE FÔRMA PARA VIGAS, COM MADEIRA SERRADA, E = 25 MM. AF_12/2015","m²",74.75,79.11,"92270","SINAPI"]
["DER/SP","28.10.01.99","FORN./INSTAL. BALIZ.(CATADIOPTRICO) P/DEF. MET. C/PELICULA GT+GT, CONF.OP-06-05","un.",{"$f":"SUM(29.82/1.4179)","v":21.031102334438255},28.99,"28.10.01.99","DER/SP"]
["DEER/MG","ED-49799","FORNECIMENTO DE CONCRETO ESTRUTURAL, USINADO, COM FCK 30MPA","m³",346.7,346.25,"ED-49799","DEER/MG"]
["DEER/MG","ED-50430","FORNECIMENTO E APLICAÇÃO DE GROUT PARA ANCORAGENS","m³",272.56,272.01,"ED-50430","DEER/MG"]
["SINAPI","92743","MURO DE GABIÃO, ENCHIMENTO COM PEDRA DE MÃO TIPO RACHÃO, DE GRAVIDADE, COM GAIOLAS DE COMPRIMENTO MENOR OU IGUAL A 2 M","m³",296.17,401.37,"92743","SINAPI"]
["SINAPI","92755","PROTEÇÃO SUPERFICIAL DE CANAL EM GABIÃO TIPO COLCHÃO, ALTURA DE 17 CENTÍMETROS, ENCHIMENTO COM PEDRA DE MÃO TIPO RACHÃO - FORNECIMENTO E EXECUÇÃO. AF_12/2015","m³",{"$f":"117.32","v":117.32},136.43,"92755","SINAPI"]
["SINAPI","73881/001","FORNECIMENTO E INSTALAÇÃO DE PROTEÇÃO DE TALUDE COM MANTA GEOTÊXTIL (200g/m²)","m²",20.71,5.22,"73881/001","SINAPI"]
["DEER/MG","ED-48676","FORNECIMENTO, ASSENTAMENTO E  REJUNTAMENTO DE TUBO DE CONCRETO SIMPLES PS1 D = 400 MM","m",86.88,86.76,"ED-48676","DEER/MG"]
["SINAPI","85424","ISOLAMENTO DE OBRA COM TELA PLASTICA COM MALHA DE 5MM E ESTRUTURA DE MADEIRA PONTALETEADA","m",18.87,20.83,"85424","SINAPI","sinapi 09.2019"]
["DNIT/MG",307736,"JUNTA DE DILATAÇÃO EM PERFIL EXTRUDADO DE BORRACHA VULCANIZADA DE 40 X 70 MM - FORNECIMENTO E INSTALAÇÃO","m",1017.84,1014.24,307736,"DNIT/MG"]
["DEER/MG","ED-50429","LANÇAMENTO DE TABULEIRO PRÉ-MOLDADO","unid.",63.38,63.14,"ED-50429","DEER/MG"]
["DNIT/MG",1107860,"LANÇAMENTO MECÂNICO DE CONCRETO COM BOMBA LANÇA SOBRE CHASSI COM CAPACIDADE DE 45 M³/H - CONFECÇÃO EM CENTRAL DOSADORA DE 40 M³/H","m³",31.52,31.39,1107860,"DNIT/MG"]
["DER/SP","26.13.01.99","LANCAMENTO VIGA P<=50T-GUINDASTE AUTO PROPULSADO      ","unid.",{"$f":"SUM(9672.17/1.4179)","v":6821.4754213978422},9481.2000000000007,"26.13.01.99","DER/SP"]
["SINAPI","83534","LASTRO DE CONCRETO, PREPARO MECÂNICO, INCLUSOS ADITIVO IMPERMEABILIZANTE, LANÇAMENTO E ADENSAMENTO","m³",434.59,427.75,"83534","SINAPI","USEI O 96.616 (MUDOU NOMENCLAT.)"]
["SINAPI",98525,"LIMPEZA MECANIZADA DE CAMADA VEGETAL, VEGETAÇÃO E PEQUENAS ÁRVORES (DIÂMETRO DE TRONCO MENOR QUE 0,20 M), COM TRATOR DE ESTEIRAS","m²",0.48,0.27,"98525","SINAPI","USEI O 98.525 (MUDOU NOMENCLAT.)"]
["DEER/MG","RO-41237               OBR-VIA-245","LINHAS DE RESINA ACRILICA 0,6MM DE ESPESSURA E LARGURA = 0,10M (EXECUÇÃO, INCLUSIVE PRÉ-MARCAÇÃO, FORNECIMENTO E TRANSPORTE DE TODOS OS MATERIAIS) - LINHAS AMARELAS","m²",1.73,1.73,"RO-41237        OBR-VIA-245","DEER/MG"]
["SINAPI","99064","LOCAÇÃO DE PAVIMENTAÇÃO. AF_10/2018","m",0.5,0.55000000000000004,"99064","SINAPI"]
["CPU","C2","MOBILIZAÇÃO","unid",{"$f":"CPU!$I$91","v":13361.400000000001},{"$f":"CPU!I91","v":13361.400000000001},"C2","CPU","CONFERIR CPU"]
["CPU","C3","MONTAGEM DAS ESTRUTURAS PRÉ-MOLDADAS (LAJES E LONGARINAS)","m³",127.24,{"$f":"CPU!I143","v":202.43912800000004},"C3","CPU","FAZER A CPU"]
["(DNIT/MG)",5406023,"MURO DE ESCAMA DE CONCRETO ARMADO EM SOLO REFORÇADO COM FITA METÁLICA COM ALTURA ATÉ 4 M - TIPO 1 - AREIA E BRITA COMERCIAIS","m²",345.33,340.3,5406023,"(DNIT/MG)"]
["(DNIT/MG)",5406025,"MURO DE ESCAMA DE CONCRETO ARMADO EM SOLO REFORÇADO COM FITA METÁLICA COM ALTURA DE 4 A 6M - TIPO 1 - AREIA E BRITA COMERCIAIS","m²",323.20999999999998,310.44,5406025,"(DNIT/MG)"]
["(DNIT/MG)",5406027,"MURO DE ESCAMA DE CONCRETO ARMADO EM SOLO REFORÇADO COM FITA METÁLICA COM ALTURA DE 6 A 8M - TIPO 1 - AREIA E BRITA COMERCIAIS","m²",319,304.75,5406027,"(DNIT/MG)"]
["(DNIT/MG)",5406029,"MURO DE ESCAMA DE CONCRETO ARMADO EM SOLO REFORÇADO COM FITA METÁLICA COM ALTURA DE 8 A 10M - TIPO 1 - AREIA E BRITA COMERCIAIS","m²",316.66000000000003,301.58999999999997,5406029,"(DNIT/MG)"]
["DNIT/MG",4011520,"PAVIMENTO RÍGIDO DE CONCRETO, FCK = 35MPA","m²",214.21,57.9,4011520,"DNIT/MG"]
["SINAPI","72942","PINTURA DE LIGACAO COM EMULSAO RR-1C","m²",1.62,1.6,"72942","SINAPI","usei o 96402"]
["DEER/MG","RO-41841","PLACA DE AÇO CARBONO COM PELÍCULA REFLETIVA GRAU TÉCNICO TIPO I DA ABNT - PLACA CIRCULAR (EXECUÇÃO, INCLUINDO FORNECIMENTO E TRANSPORTE DE TODOS OS MATERIAIS, INCLUSIVE POSTE DE SUSTENTAÇÃO)","m²",337.22,341.61,"RO-41841","DEER/MG"]
["DEER/MG","RO-41844","PLACA DE AÇO CARBONO COM PELÍCULA REFLETIVA GRAU TÉCNICO TIPO I DA ABNT - PLACA QUADRADA (EXECUÇÃO, INCLUINDO FORNECIMENTO E TRANSPORTE DE TODOS OS MATERIAIS, INCLUSIVE POSTE DE SUSTENTAÇÃO)","m²",326.75,331.13,"RO-41844","DEER/MG"]
["SINAPI","74209/001","PLACA DE OBRA EM CHAPA DE ACO GALVANIZADO","m²",301.52,320.26,"74209/001","SINAPI","Atualizado por Varzelândia 2"]
["CPU","C4","PROTEÇÃO DE TALUDE REVESTIMENTO VEGETAL","m²",26.54,{"$f":"CPU!I175","v":18.217180000000003},"C4","CPU","ELABORAR CPU"]
["SINAPI","92757","PROTEÇÃO SUPERFICIAL DE CANAL EM GABIÃO TIPO COLCHÃO, ALTURA DE 30 CENTÍMETROS, ENCHIMENTO COM PEDRA DE MÃO TIPO RACHÃO - FORNECIMENTO E EXECUÇÃO. AF_12/2015","m²",182.36,182.17,"92757","SINAPI"]
["SINAPI","93382","REATERRO MANUAL DE VALAS COM COMPACTAÇÃO MECANIZADA. AF_04/2016","m³",21.06,24.07,"93382","SINAPI"]
["DEER/MG","RO-41291","REMOÇÃO DE CERCAS","m",6.45,6.64,"RO-41291","DEER/MG"]
["DEER/MG","RO-40613","SARJETA DE CONCRETO EM ATERRO,TIPO DR.SCA- X/Y. LARGURA=60CM TIPO 30/10 (EXECUÇÃO, INCLUINDO ESCAVAÇÃO, FORNECIMENTO, TRANSPORTE E PLANTIO DA GRAMA)","m",28.47,29.3,"RO-40613","DEER/MG"]
["DEER/MG","RO-40661","SARJETA DE CONCRETO EM CORTE TIPO DR.SCC-X/Y. LARGURA=90CM TIPO80/10 (EXECUÇÃO, INCLUINDOESCAVAÇÃO, FORNECIMENTO E TRANSPORTE DE TODOS OS MATERIAIS)","m",43.8,45.05,"RO-40661","DEER/MG"]
["SINAPI",97051,"SINALIZAÇÃO COM FITA FIXADA NA ESTRUTURA. AF_11/2017","m",0.46,0.5,97051,"SINAPI"]
["SINAPI","96391","SOLO CIMENTO PARA ANCORAGEM, (6% DE CIMENTO NA MISTURA EM PESO, RESISTÊNCIA A COMPRESSÃO SIMPLES 20kgf/cm²)","m³",42.63,64.14,"96391","SINAPI"]
["DEER/MG","RO-43112","SUB-BASE, SEM MISTURA, COMPACTADA NA ENERGIA DO PROCTOR INTERMEDIÁRIO (EXECUÇÃO, INCLUINDO ESCAVAÇÃO, CARGA, DESCARGA, ESPALHAMENTO, UMIDECIMENTO E COMPACTAÇÃO DO MATERIAL; EXCLUI AQUISIÇÃO E TRANSPORTE DO MATERIAL)","m³",14.25,14.05,"RO-43112","DEER/MG"]
["SINAPI","97916","TRANSPORTE COM CAMINHÃO BASCULANTE DE 6 M3, EM VIA URBANA EM LEITO NATURAL TXKM (UNIDADE: TXKM). AF_01/2018","txkm",1.47,1.35,"97916","SINAPI"]
["DNIT/MG","5914539","TRANSPORTE COM CAMINHÃO BETONEIRA - RODOVIA EM LEITO NATURAL (Entre Francisco Dumont/MG e Área A - 15,00km)","txkm",0.54,0.55000000000000004,"5914539","DNIT/MG"]
["DNIT/MG","5914569","TRANSPORTE COM CAMINHÃO BETONEIRA - RODOVIA PAVIMENTADA (Entre Bocaiúva/MG e Francisco Dumont/MG - 69,00km)","txkm",0.35,0.36,"5914569","DNIT/MG"]
["SINAPI","72884","TRANSPORTE COMERCIAL COM CAMINHAO CARROCERIA 9 T ","m³*km",0.9,0.73,"72884","SINAPI"]
["DER/SP","22.03.04.99","TRANSPORTE DE 1/2 CATEGORIA ATÉ 10KM (BASE E SUB BASE)","m³xkm",{"$f":"SUM(2.09/1.4179)","v":1.474010861132661},1.97,"22.03.04.99","DER/SP"]
["DEER/MG","RO-41352   OBR-VIA-370","TRANSPORTE DE AGREGADOS PARA GABIÃO. DISTÂNCIA MÉDIA DE TRANSPORTE > 50,10 KM","m³*km",0.73,0.73,"RO-41352   OBR-VIA-370","DEER/MG"]
["SINAPI",93177,"TRANSPORTE DE MATERIAL ASFALTICO, COM CAMINHÃO COM CAPACIDADE DE 20000 L EM RODOVIA PAVIMENTADA. AF_02/2016 (P/ ITEM 2.1.12) (DE MONTES CLAROS/MG ATÉ JEQUITAÍ/MG - DIST. 111KM)","txkm",1.69,1.65,93177,"SINAPI"]
["SINAPI",93176,"TRANSPORTE DE MATERIAL ASFALTICO, COM CAMINHÃO COM CAPACIDADE DE 30000 L EM RODOVIA PAVIMENTADA. AF_02/2016 (P/ ITEM 2.1.12) (ORIUNDO D MONTES CLAROS/MG DIST. 111KM)","txkm",0.48,0.47,93176,"SINAPI"]
["SINAPI",93178,"TRANSPORTE DE MATERIAL ASFALTICO, COM CAMINHÃO COM CAPACIDADE DE 30000 TXKM L EM RODOVIA NÃO PAVIMENTADA PARA DISTÂNCIAS MÉDIAS DE TRANSPORTE SUPERIORES A 100 KM. AF_02/2016  (9KM EM TERRA) B)","txkm",0.54,0.53,93178,"SINAPI"]
["SINAPI",96622,"LASTRO COM MATERIAL GRANULAR (AREIA)","m³",68.959999999999994,111.85,96621,"SINAPI"]
["SINAPI",96624,"LASTRO COM MATERIAL GRANULAR (PEDRA BRITADA)","m³",49.21,107.21,96621,"SINAPI"]
["CPU","C5a","REMOÇÃO E RELOCAÇÃO DE CERCA DE ARAME FARPADO (4 FIOS), MOURÃO DE MADEIRA TRATADA","M",13.7,{"$f":"CPU!I206","v":23.861197950000001},"C5a","CPU"]
["CPU","C5b","REMOÇÃO E CONSTRUÇÃO DE NOVA CERCA DE ARAME LISO (4 FIOS), MOURÃO DE MADEIRA TRATADA","M",13.7,{"$f":"CPU!I237","v":26.922033603999999},"C5b","CPU"]
["CPU","C6","TRANSIÇÃO COMPACTADA, INCLUSIVE CARGA, TRANSP. E FORNEC. DE MATERIAL (DMT = 1,00 km)","M3",{"$f":"55.7/6","v":9.2833333333333332},{"$f":"CPU!I264","v":4.9565426753843438},"C6","CPU"]
["CPU","C7","BACIA DE DISSIPAÇÃO EM PEDRA ARGAMASSADA, E = 25CM","M3",{"$f":"ENGECORPS!H56","v":217.41248716092366},{"$f":"CPU!I292","v":211.714},"C7","CPU"]
["CPU","C8","RECOMPOSIÇÃO DE ÁREA EXPLORADA DE JAZIDA / EMPRESTIMO","m²",{"$f":"ENGECORPS!H64","v":11.734408683876014},{"$f":"CPU!I319","v":2.4832000000000001}]
["CPU","C9","DESMOBILIZAÇÃO","VB",null,{"$f":"CPU!I424","v":14578.664000000001},"C9","CPU"]
["CPU","C10","MOBILIZAÇÃO/DESMOBILIZAÇÃO DE EQUIPAMENTOS ESPECIAIS (VIBROACABADORA, ESCAVADEIRA HIDRÁULICA, ROLO COMPACTADOR, MOTONIVELADORA, ETC.)","EQUIP.",null,{"$f":"CPU!I117","v":2762.2342400000002},"C10","CPU"]
["DNIT/MG","804029","CORPO BSTC ø 80, AREIA, BRITA E PEDRA DE MÃO COMERCIAIS","M",391.51643179163904,380.56,"804029","DNIT/MG"]
["DEER/MG","ED-48572","CAIXA BSTC ø 80 (1,00 x 1,00 x 1,40)","UNID",2094.2614647109981,1083.53,"ED-48572","DEER/MG"]
["DNIT/MG","804037","CORPO BSTC ø 100, AREIA, BRITA E PEDRA DE MÃO COMERCIAIS","M",550.32026010984453,525.1,"804037","DNIT/MG"]
["DER/SP","25.03.04.01","ENSECADEIRA COM SACO DE AREIA","m³",124.64,490.84,"25.03.04.01","DER/SP"]
["DEER/MG","RO-41344","TRANSPORTE DE MATERIAL DE JAZIDA PARA CONSERVAÇÃO. DISTÂNCIA MÉDIA DE TRANSPORTE > 50,10 KM (ESCAVAÇÃO+BASE E SUB BASE)","m³xkm",0.78,0.78,"RO-41344","DEER/MG"]
["DEER/MG","RO-40514","VALETA DE PROTEÇÃO DE ATERRO TIPO DR.VPA (EXECUÇÃO,INCLUINDO ESCAVAÇÃO)","m",24.48,25.49,"RO-40514","DEER/MG"]
{"$rows_empty":975}
[null,"DESMOBILIZAÇÃO",{"$nulls":4},"DESMOBILIZAÇÃO"]
["CPU","-","DESMOBILIZAÇÃO","un.",{"$f":"CPU!$I$424","v":14578.664000000001},null,"-","CPU"]

{"sheet":"CPU","index":4,"n_rows":424,"n_cols":15,"rows_kept":424,"cut":false,"hidden":false,"merged":[[250,9,250,13],[286,0,286,1],[277,0,277,1],[305,0,305,1],[394,0,394,7],[395,0,395,7],[396,0,396,7],[397,0,397,8],[137,0,137,1],[169,0,169,1],[155,0,155,1],[156,0,156,1],[157,0,157,1],[158,0,158,1],[159,0,159,1],[231,0,231,1],[218,0,218,1],[219,0,219,1],[220,0,220,1],[221,0,221,1],[245,0,245,1],[385,0,385,8],[386,0,386,1],[387,0,387,1],[373,0,373,6],[374,0,374,6],[375,0,375,8],[388,0,388,7],[389,0,389,8],[390,0,390,1],[391,0,391,1],[392,0,392,7],[393,0,393,1],[393,3,393,7],[376,0,376,1],[377,0,377,1],[378,0,378,1],[379,0,379,1],[380,0,380,7],[381,0,381,8],[382,0,382,1],[383,0,383,1],[384,0,384,7],[365,0,365,1],[366,0,366,7],[367,0,367,1],[367,3,367,7],[368,0,368,7],[369,0,369,7],[370,0,370,7],[371,0,371,8],[372,0,372,1],[372,2,372,8],[356,0,356,1],[357,0,357,1],[358,0,358,7],[359,0,359,8],[360,0,360,1],[361,0,361,1],[362,0,362,7],[363,0,363,8],[364,0,364,1],[347,0,347,6],[348,0,348,6],[349,0,349,8],[350,0,350,1],[351,0,351,1],[352,0,352,1],[353,0,353,1],[354,0,354,7],[355,0,355,8],[339,0,339,1],[340,0,340,7],[341,0,341,1],[341,3,341,7],[342,0,342,7],[343,0,343,7],[344,0,344,7],[345,0,345,8],[346,0,346,1],[346,2,346,8],[330,0,330,1],[331,0,331,1],[332,0,332,7],[333,0,333,8],[334,0,334,1],[335,0,335,1],[336,0,336,7],[337,0,337,8],[338,0,338,1],[321,0,321,6],[322,0,322,6],[323,0,323,8],[324,0,324,1],[325,0,325,1],[326,0,326,1],[327,0,327,1],[328,0,328,7],[329,0,329,8],[313,0,313,1],[314,0,314,7],[315,0,315,1],[315,3,315,7],[316,0,316,7],[317,0,317,7],[318,0,318,7],[319,0,319,8],[320,0,320,1],[320,2,320,8],[303,0,303,1],[304,0,304,1],[306,0,306,7],[307,0,307,8],[308,0,308,1],[309,0,309,1],[310,0,310,7],[311,0,311,8],[312,0,312,1],[294,0,294,6],[295,0,295,6],[296,0,296,8],[297,0,297,1],[298,0,298,1],[299,0,299,1],[300,0,300,1],[301,0,301,7],[302,0,302,8],[285,0,285,1],[287,0,287,7],[288,0,288,1],[288,3,288,7],[289,0,289,7],[290,0,290,7],[291,0,291,7],[292,0,292,8],[293,0,293,1],[293,2,293,8],[275,0,275,1],[276,0,276,1],[278,0,278,7],[279,0,279,8],[280,0,280,1],[281,0,281,1],[282,0,282,7],[283,0,283,8],[284,0,284,1],[266,0,266,6],[267,0,267,6],[268,0,268,8],[269,0,269,1],[270,0,270,1],[271,0,271,1],[272,0,272,1],[273,0,273,7],[274,0,274,8],[258,0,258,1],[259,0,259,7],[260,0,260,1],[260,3,260,7],[261,0,261,7],[262,0,262,7],[263,0,263,7],[264,0,264,8],[265,0,265,1],[265,2,265,8],[249,0,249,1],[250,0,250,1],[251,0,251,7],[252,0,252,8],[253,0,253,1],[254,0,254,1],[255,0,255,7],[256,0,256,8],[257,0,257,1],[239,0,239,6],[240,0,240,6],[241,0,241,8],[242,0,242,1],[243,0,243,1],[244,0,244,1],[246,0,246,1],[247,0,247,7],[248,0,248,8],[232,0,232,7],[233,0,233,1],[233,3,233,7],[234,0,234,7],[235,0,235,7],[236,0,236,7],[237,0,237,8],[238,0,238,1],[238,2,238,8],[222,0,222,1],[223,0,223,7],[224,0,224,8],[225,0,225,1],[226,0,226,1],[227,0,227,7],[228,0,228,8],[229,0,229,1],[230,0,230,1],[209,0,209,6],[210,0,210,8],[211,0,211,1],[212,0,212,1],[213,0,213,1],[214,0,214,1],[215,0,215,7],[216,0,216,8],[217,0,217,1],[207,0,207,1],[207,2,207,8],[208,0,208,6],[177,0,177,6],[180,0,180,1],[181,0,181,1],[182,0,182,1],[186,0,186,1],[187,0,187,1],[188,0,188,1],[202,3,202,7],[205,0,205,7],[194,0,194,1],[193,0,193,8],[167,0,167,1],[168,0,168,1],[170,0,170,7],[171,0,171,1],[171,3,171,7],[172,0,172,7],[173,0,173,7],[174,0,174,7],[175,0,175,8],[13,0,13,1],[14,0,14,1],[15,0,15,1],[12,9,14,11],[19,0,19,1],[26,9,26,10],[62,0,62,1],[62,2,62,8],[20,0,20,1],[21,0,21,1],[27,0,27,1],[31,0,31,1],[37,0,37,1],[38,0,38,1],[39,0,39,1],[40,0,40,7],[41,0,41,8],[42,0,42,1],[32,0,32,1],[33,0,33,1],[34,0,34,1],[35,0,35,1],[36,0,36,1],[50,0,50,1],[0,0,0,1],[0,2,0,8],[25,0,25,1],[26,0,26,1],[28,0,28,1],[29,0,29,1],[30,0,30,1],[18,0,18,1],[22,0,22,1],[23,0,23,1],[16,0,16,1],[17,0,17,1],[7,0,7,7],[8,0,8,8],[9,0,9,1],[10,0,10,1],[11,0,11,1],[12,0,12,1],[24,0,24,1],[1,0,1,6],[2,0,2,6],[3,0,3,8],[4,0,4,1],[5,0,5,1],[56,0,56,7],[57,0,57,1],[57,3,57,7],[43,0,43,1],[44,0,44,7],[45,0,45,8],[46,0,46,1],[47,0,47,1],[49,0,49,1],[51,0,51,1],[52,0,52,1],[53,0,53,1],[54,0,54,1],[55,0,55,1],[48,0,48,1],[65,0,65,8],[66,0,66,1],[67,0,67,1],[68,0,68,1],[58,0,58,7],[59,0,59,7],[60,0,60,7],[63,0,63,6],[64,0,64,6],[77,0,77,1],[78,0,78,7],[79,0,79,8],[80,0,80,1],[81,0,81,1],[82,0,82,7],[74,0,74,7],[75,0,75,8],[76,0,76,1],[83,0,83,8],[84,0,84,1],[85,0,85,1],[86,0,86,7],[87,0,87,1],[87,3,87,7],[399,0,399,1],[399,2,399,8],[92,0,92,1],[92,2,92,8],[93,0,93,6],[94,0,94,6],[95,0,95,8],[96,0,96,1],[97,0,97,1],[98,0,98,1],[99,0,99,1],[100,0,100,7],[102,0,102,1],[161,0,161,7],[162,0,162,8],[163,0,163,1],[164,0,164,1],[165,0,165,7],[118,2,118,8],[123,0,123,1],[88,0,88,7],[89,0,89,7],[90,0,90,7],[91,0,91,8],[101,0,101,8],[104,0,104,7],[105,0,105,8],[106,0,106,1],[107,0,107,1],[108,0,108,7],[109,0,109,8],[110,0,110,1],[111,0,111,1],[103,0,103,1],[408,0,408,8],[401,0,401,6],[402,0,402,8],[403,0,403,1],[404,0,404,1],[405,0,405,1],[406,0,406,1],[142,0,142,7],[143,0,143,8],[144,0,144,1],[144,2,144,8],[145,0,145,6],[146,0,146,6],[147,0,147,8],[148,0,148,1],[149,0,149,1],[150,0,150,1],[151,0,151,1],[152,0,152,7],[153,0,153,8],[154,0,154,1],[160,0,160,1],[400,0,400,6],[166,0,166,8],[424,0,424,8],[415,0,415,7],[416,0,416,8],[417,0,417,1],[418,0,418,1],[419,0,419,7],[420,0,420,1],[420,3,420,7],[409,0,409,1],[410,0,410,1],[411,0,411,7],[412,0,412,8],[413,0,413,1],[414,0,414,1],[421,0,421,7],[422,0,422,7],[423,0,423,7],[407,0,407,7],[119,0,119,6],[120,0,120,6],[121,0,121,8],[122,0,122,1],[132,0,132,1],[133,0,133,7],[134,0,134,8],[135,0,135,1],[136,0,136,1],[138,0,138,7],[195,0,195,1],[196,0,196,7],[197,0,197,8],[140,0,140,7],[141,0,141,7],[206,0,206,8],[198,0,198,1],[199,0,199,1],[203,0,203,7],[204,0,204,7],[200,0,200,1],[201,0,201,7],[202,0,202,1],[6,0,6,1],[73,0,73,1],[72,0,72,1],[71,0,71,1],[70,0,70,1],[69,0,69,1],[139,0,139,1],[139,3,139,7],[128,0,128,1],[129,0,129,7],[130,0,130,8],[131,0,131,1],[112,0,112,7],[113,0,113,1],[113,3,113,7],[114,0,114,7],[115,0,115,7],[124,0,124,1],[125,0,125,7],[126,0,126,8],[127,0,127,1],[116,0,116,7],[117,0,117,8],[118,0,118,1],[186,9,192,12],[176,0,176,1],[176,2,176,8],[178,0,178,6],[179,0,179,8],[183,0,183,1],[184,0,184,7],[185,0,185,8],[191,0,191,1],[192,0,192,7],[189,0,189,1],[190,0,190,1]]}
["CODEVASF",null," COMPOSIÇÃO DE PREÇO UNITÁRIO",{"$nulls":6},"A",6,"MESES"]
["DESCRIÇÃO DO SERVIÇO",{"$nulls":6},"DATA BASE: ","2020-09-01","B",8,"MESES"]
["ADMINISTRAÇÃO LOCAL E MANUTENÇÃO DO CANTEIRO DE OBRAS - PRAZO DE OBRA IGUAL A 18 MESES",{"$nulls":6},"UNIDADE: ","GL","C",10,"MESES"]
["EQUIPAMENTO",{"$nulls":8},"PRAZO",18,"MESES"]
["DISCRIMINAÇÃO",null,"UNIDADE","QUANT.","PROD","IMPROD","P.UN. PROD","P.UN. IMPR","P.TOTAL","Quant.Veículos:","Horas/Dia","Dias/Mês","T/horas/mês","Meses/Obra","Total Horas"]
["VEICULO COMERCIAL LEVE (PICK-UP) COM CAPACIDADE DE CARGA DE 700 KG, MOTOR FLEX (LOCACAO) - 00001160",null,"H",{"$f":"K4*K6*L6*J6","v":7920},4,4,9.43,null,{"$f":"D6*E6*G6+D6*F6*H6","v":298742.39999999997},5,4,22,{"$f":"SUM(K6*L6)","v":88},6,{"$f":"SUM(M6*N6)","v":528}]
["INCLUIR VEÍCULO SUV PARA A FISCALIZAÇÃO!",null,"H",{"$f":"K4*K6*L6*J7","v":1584},4,4,9.43,null,{"$f":"D7*E7*G7+D7*F7*H7","v":59748.479999999996},1]
["SUB-TOTAL",{"$nulls":7},{"$f":"SUM(I6:I7)","v":358490.87999999995}]
["MATERIAL"]
["DISCRIMINAÇÃO",null,"UNIDADE","QUANT.",null,null,null,"P.UNIT.","P.TOTAL"]
["TARIFA DE ENERGIA ELETRICA COMERCIAL, BAIXA TENSAO, RELATIVA AO CONSUMO DE ATE 100 KWH, INCLUINDO ICMS, PIS/PASEP E COFINS - SINAPI 00014250",null,"KWH",{"$f":"400*K4","v":7200},null,null,null,0.95,{"$f":"D11*H11","v":6840}]
["TARIFA \"A\" ENTRE 0 E 20M3 FORNECIMENTO D'AGUA -  00014583",null,"M3",{"$f":"20*K4","v":360},null,null,null,17.97,6469.2]
["CONTAINER 2,30 X 6,00 M, ALT. 2,50 M, COM 1 SANITARIO, PARA ESCRITORIO, COMPLETO, SEM DIVISORIAS INTERNAS (LOCACAO) - SINAPI 00010775",null,"MÊS",{"$f":"K1+K2+K3+10","v":34},null,null,null,522,17748,"PARA CANTEIROS AVANÇADOS (PONTES E GALERIAS)"]
["CONTAINER 2,30 X 4,30 M, ALT. 2,50 M, PARA SANITARIO, COM 3 BACIAS, 4 CHUVEIROS, 1 LAVATORIO E 1 MICTORIO (LOCACAO) - SINAPI 00010777",null,"MÊS",{"$f":"K1+K2+K3+10","v":34},null,null,null,592.67999999999995,20151.12]
["CONTAINER REFEITÓRIO SEM BANHEIRO - 6,00 x 2,40m EQUIPADO COM AR CONDICIONADO E MESA PARA 12 PESSOAS - ORSE/04296",null,"MÊS",{"$f":"K1+K2+K3+10","v":34},null,null,null,660.64,22461.759999999998,null,null,null,1400]
["ALUGUEL DE MESA DE REUNIÃO - ORSE/10530",null,"MÊS",{"$f":"6*K4","v":108},null,null,null,5,540]
["ALUGUEL DE CADEIRA SEM BRAÇOS - ORSE/10531",null,"MÊS",{"$f":"12*K4","v":216},null,null,null,2.91,628.56000000000006]
["ALUGUEL DE ARQUIVO EM AÇO - ORSE/10535",null,"MÊS",{"$f":"3*$K$4","v":54},null,null,null,7.91,427.14]
["ALUGUEL DE BEBEDOURO ELÉTRICO - ORSE/10786",null,"MÊS",{"$f":"6*$K$4","v":108},null,null,null,11.46,1237.68]
["ALUGUEL DE BANHEIRO QUÍMICO COM 3 LIMPEZAS SEMANAIS - ORSE/10389",null,"MÊS",{"$f":"K1+K2+K3+10","v":34},null,null,null,428.72,14576.480000000001]
["ALUGUEL DE COMPUTADOR - ORSE/10539",null,"MÊS",{"$f":"5*K4","v":90},null,null,null,18.510000000000002,{"$f":"D21*H21","v":1665.9}]
["ALUGUEL DE COPIADORA / IMPRESSORA - ORSE/10553",null,"MÊS",{"$f":"5*K4","v":90},null,null,null,5.96,536.4]
["ALUGUEL DE APARELHO DE AR CONDICIONADO 18.000 BTU'S - ORSE/10568",null,"MÊS",{"$f":"3*$K$4","v":54},null,null,null,26.42,1426.68]
["EXTINTOR  DE PÓ QUÍMICO SECO (ABC) 12KG - ORSE/13174",null,"UNID.",6,null,null,null,203.53,1221.18]
["EXTINTOR DE ÁGUA PRESSURIZADA CAPACIDADE 10 L - ORSE/10886",null,"UNID",6,null,null,null,128.62,771.72]
["ALUGUEL DE GRUPO GERADOR 6KVA, INCLUSO COMBUSTÍVEL - ORSE/03334",null,"H",{"$f":"K4*K6*L6*3","v":4752},null,null,null,6.46,30697.919999999998]
["TELEFONE - DISPÊNDIO MENSAL - ORSE/10557",null,"MÊS",{"$f":"5*$K$4","v":90},null,null,null,65,{"$f":"D27*H27","v":5850},"HISTOGRAMA:"]
["INTERNET - DISPÊNDIO MENSAL - ORSE/10558",null,"MÊS",{"$f":"K4","v":18},null,null,null,89,{"$f":"D28*H28","v":1602}]
["PLOTAGEM EM FORMATO A1 - ORSE/05554",null,"UNID",400,null,null,null,2.7,1080,"ENG.",1]
["SEDEX - ORSE/10560",null,"MÊS",{"$f":"K4","v":18},null,null,null,17,306,"ENC+MESTRE",3]
["MATERIAL DE LIMPEZA - ORSE/10563",null,"MÊS",{"$f":"K4","v":18},null,null,null,69.540000000000006,1251.72,"ALMOX.+ADM.",2]
["MEDICAMENTOS PRIMEIROS SOCORROS - ORSE/10564",null,"MÊS",{"$f":"K4","v":18},null,null,null,30,540,"TEC.SEG",1]
["PCMAT (NR-18) - ORSE/10571",null,"UNIDADE",1,null,null,null,800,800,"CARPINT.",4]
["PPRA (NR-9)- ORSE/10572",null,"UNIDADE",1,null,null,null,800,800,"ARMADOR",4]
["PCMSO (NR-7) - ORSE/10573",null,"UNIDADE",1,null,null,null,800,800,"PEDREIRO",4]
["ART CREA",null,"UNIDADE",1,null,null,null,100,100,"SERV.+AJUD",12]
["CONSUMO DE MATERIAL DE ESCRITÓRIO - EMBASA/F020000329",null,"MÊS",18,null,null,null,120,2160,"MOTOR.",2]
["GASOLINA COMUM - SINAPI 00004222",null,"L",{"$f":"K4*4*200","v":14400},null,null,null,4.26,61344,"OPERADOR",4]
["ÓLEO LUBRIFICANTE PARA VEÍCULO - SINAPI 00004227",null,"L",{"$f":"K4*4/6*4.5","v":54},null,null,null,14.25,769.5,"OUTROS",3]
["REFEIÇÕES PARA PESSOAL - ESTIMATIVA",null,"UNID.",{"$f":"K4*L6*K40","v":15840},null,null,null,10,158400,"QUANT.FUNC.:",{"$f":"SUM(K29:K39)","v":40},"(MÉDIA)"]
["SUB-TOTAL",{"$nulls":7},{"$f":"SUM(I11:I40)","v":363202.95999999996}]
["SERVIÇOS - COMPOSIÇÕES AUXILIARES"]
["DISCRIMINAÇÃO",null,"UNIDADE","QUANT.",null,null,null,"P.UNIT.","P.TOTAL"]
[{"$nulls":8},{"$f":"D44*H44","v":0}]
["SUB-TOTAL",{"$nulls":7},{"$f":"SUM(I44:I44)","v":0}]
["MÃO DE OBRA"]
["DISCRIMINAÇÃO",null,"UNIDADE","QUANT.",null,null,null,"P.UNIT.","P.TOTAL"]
["ENGENHEIRO CIVIL PLENO COM ENCARGOS COMPLEMENTARES - SINAPI 90778",null,"H",{"$f":"220*K4","v":3960},null,null,null,100.29,{"$f":"D48*H48","v":397148.4}]
["ENGENHEIRO AMBIENTAL PLENO COM ENCARGOS COMPLEMENTARES - SINAPI 90778",null,"H",{"$f":"220*K4","v":3960},null,null,null,100.29,397148.4]
["TÉCNICO DE SEGURANÇA COM ENCARGOS COMPLEMENTARES - SINAPI 88321",null,"H",{"$f":"220*K4","v":3960},null,null,null,27.76,109929.60000000001]
["MESTRE DE OBRAS COM ENCARGOS COMPLEMENTARES - SINAPI 90780",null,"H",{"$f":"220*K4","v":3960},null,null,null,60.83,240886.8]
["ENCARREGADO DE FORMA COM ENCARGOS COMPLEMENTARES - SINAPI 90776 ",null,"H",{"$f":"220*K4","v":3960},null,null,null,40.58,{"$f":"D52*H52","v":160696.79999999999}]
["ENCARREGADO DE ARMAÇÃO COM ENCARGOS COMPLEMENTARES - SINAPI 90776",null,"H",{"$f":"220*K4","v":3960},null,null,null,40.58,{"$f":"D53*H53","v":160696.79999999999}]
["VIGIA NOTURNO COM ENCARGOS COMPLEMENTARES - SINAPI 88326",null,"H",{"$f":"220*K4*2","v":7920},null,null,null,19.420000000000002,153806.40000000002]
["AUXILIAR DE ESCRITORIO COM ENCARGOS COMPLEMENTARES - SINAPI 90772",null,"H",{"$f":"220*K4","v":3960},null,null,null,15.81,62607.6]
["ALMOXARIFE COM ENCARGOS COMPLEMENTARES - 90766",null,"H",{"$f":"220*K4","v":3960},null,null,null,18.190000000000001,72032.400000000009]
["SUB-TOTAL",{"$nulls":7},{"$f":"SUM(I48:I56)","v":1754953.2000000002}]
["PRODUÇÃO DA EQUIPE",null,1,"CUSTO ",{"$nulls":4},{"$f":"I57+I45+I41+I8","v":2476647.04}]
["TOTAL - R$",{"$nulls":7},{"$f":"I58/C58","v":2476647.04}]
["BDI                %",{"$nulls":7},1]
["TOTAL DO SERVIÇO - R$",{"$nulls":7},{"$f":"I59*I60","v":2476647.04}]
[]
["CODEVASF",null," COMPOSIÇÃO DE PREÇO UNITÁRIO"]
["DESCRIÇÃO DO SERVIÇO",{"$nulls":6},"DATA BASE: ","2020-09-01"]
["MOBILIZAÇÃO DE PESSOAL E EQUIPAMENTOS",{"$nulls":6},"UNIDADE: ","VB"]
["EQUIPAMENTO"]
["DISCRIMINAÇÃO",null,"UNIDADE","QUANT.","PROD","IMPROD","P.UN. PROD","P.UN. IMPR","P.TOTAL"]
["CAMINHÃO BASCULANTE 6 M3 TOCO, PESO BRUTO TOTAL 16.000 KG, CARGA ÚTIL MÁXIMA 11.130 KG, DISTÂNCIA ENTRE EIXOS 5,36 M, POTÊNCIA 185 CV, INCLUSIVE CAÇAMBA METÁLICA - MATERIAIS NA OPERAÇÃO. AF_06/2014 - SINAPI 67826",null,"H",{"$f":"8*2*5","v":80},0.8,0.2,101.03,34.49,{"$f":"(D68*E68*G68)+(D68*F68)*H68","v":7017.76}]
["GUINDAUTO HIDRÁULICO, CAPACIDADE MÁXIMA DE CARGA 6200 KG, MOMENTO MÁXIMO DE CARGA 11,7 TM, ALCANCE MÁXIMO HORIZONTAL 9,70 M, INCLUSIVE CAMINHÃO TOCO PBT 16.000 KG, POTÊNCIA DE 189 CV - CHP DIURNO. AF_06/2014 - CÓD SINAPI 5928 (1X)",null,"H",{"$f":"8*5","v":40},0.9,0.1,139.61000000000001,34.22,{"$f":"(D69*E69*G69)+(D69*F69)*H69","v":5162.8400000000011}]
["MOTONIVELADORA POTÊNCIA BÁSICA LÍQUIDA (PRIMEIRA MARCHA) 125 HP, PESO CHP BRUTO 13032 KG, LARGURA DA LÂMINA DE 3,7 M - CHP DIURNO. AF_06/2014 - SINAPI 5932 (1X)",null,"CHP","-",0.7,0.3,147.35,null,"-"]
["RETROESCAVADEIRA SOBRE RODAS COM CARREGADEIRA, TRAÇÃO 4X4, POTÊNCIA LÍQ. 88 HP, CAÇAMBA CARREG. CAP. MÍN. 1 M3, CAÇAMBA RETRO CAP. 0,26 M3, PESO OPERACIONAL MÍN. 6.674 KG, PROFUNDIDADE ESCAVAÇÃO MÁX. 4,37 M - CHI DIURNO. AF_06/2014 - SINAPI 5679 (1X)",null,"CHI","-",0.625,0.375,38.200000000000003,null,"-"]
["ROLO COMPACTADOR PE DE CARNEIRO VIBRATORIO, POTENCIA 125 HP, PESO OPERACIONAL SEM/COM LASTRO 11,95 / 13,30 T, IMPACTO DINAMICO 38,5 / 22,5 T, LARGURA DE TRABALHO 2,15 M - CHP DIURNO. AF_06/2014 - SINAPI 7049 (1X)",null,"CHP","-",0.7,0.3,132.85,null,"-"]
["VIBROACABADORA DE ASFALTO SOBRE ESTEIRAS, LARGURA DE PAVIMENTAÇÃO 2,13 M A 4,55 M, POTÊNCIA 100 HP, CAPACIDADE 400 T/H - MATERIAIS NA OPERAÇÃO. AF_11/2014 - SINAPI 89256 (1X)",null,"H","-",0.7,0.3,49.01,null,"-"]
["ROLO COMPACTADOR VIBRATÓRIO DE UM CILINDRO AÇO LISO, POTÊNCIA 80 HP, PESO OPERACIONAL MÁXIMO 8,1 T, IMPACTO DINÂMICO 16,15 / 9,5 T, LARGURA DE TRABALHO 1,68 M - CHP DIURNO. AF_06/2014 - SINAPI 5684 (1X)",null,"CHP","-",0.7,0.3,95.16,null,"-"]
["SUB-TOTAL",{"$nulls":7},{"$f":"SUM(I68:I74)","v":12180.600000000002}]
["MATERIAL"]
["DISCRIMINAÇÃO",null,"UNIDADE","QUANT.",null,null,null,"P.UNIT.","P.TOTAL"]
[{"$nulls":8},{"$f":"D78*H78","v":0}]
["SUB-TOTAL",{"$nulls":7},{"$f":"SUM(I78:I78)","v":0}]
["SERVIÇOS - COMPOSIÇÕES AUXILIARES"]
["DISCRIMINAÇÃO",null,"UNIDADE","QUANT.",null,null,null,"P.UNIT.","P.TOTAL"]
[{"$nulls":8},{"$f":"D82*H82","v":0}]
["SUB-TOTAL",{"$nulls":7},{"$f":"SUM(I82:I82)","v":0}]
["MÃO DE OBRA"]
["DISCRIMINAÇÃO",null,"UNIDADE","QUANT.",null,null,null,"P.UNIT.","P.TOTAL"]
["SERVENTE COM ENCARGOS COMPLEMENTARES - 88316",null,"H",{"$f":"2*5*8","v":80},null,null,null,14.76,{"$f":"D86*H86","v":1180.8}]
["SUB-TOTAL",{"$nulls":7},{"$f":"SUM(I86:I86)","v":1180.8}]
["PRODUÇÃO DA EQUIPE",null,1,"CUSTO ",{"$nulls":4},{"$f":"I75+I79+I83+I87","v":13361.400000000001}]
["TOTAL - R$",{"$nulls":7},{"$f":"I88/C88","v":13361.400000000001}]
["BDI                %",{"$nulls":7},1]
["TOTAL DO SERVIÇO - R$",{"$nulls":7},{"$f":"I89*I90","v":13361.400000000001}]
[]
["CODEVASF",null," COMPOSIÇÃO DE PREÇO UNITÁRIO"]
["DESCRIÇÃO DO SERVIÇO",{"$nulls":6},"DATA BASE: ","2020-09-01"]
["MOBILIZAÇÃO / DESMOBILIZAÇÃO DE EQUIPAMENTOS ESPECIAIS (VIBROACABADORA, ESCAVADEIRA HIDRÁULICA, ROLO COMPACTADOR, MOTONIVELADORA, ETC.)",{"$nulls":6},"UNIDADE: ","EQUIP."]
["EQUIPAMENTO"]
["DISCRIMINAÇÃO",null,"UNIDADE","QUANT.","PROD","IMPROD","P.UN. PROD","P.UN. IMPR","P.TOTAL"]
["CAMINHÃO PLATAFORMA 8 X 2, PBT 29.000 KG E DISTÂNCIA ENTRE EIXOS 4,8 M - 188 KW - MOTORISTA DE CAMINHÃO  (A9333)",null,"H",16,0.9,0.1,183.97900000000001,39.010399999999997,{"$f":"(D98*E98*G98)+(D98*F98)*H98","v":2711.7142400000002}]
[]
[]
["SUB-TOTAL",{"$nulls":7},{"$f":"SUM(I98:I100)","v":2711.7142400000002}]
["MATERIAL"]
["DISCRIMINAÇÃO",null,"UNIDADE","QUANT.",null,null,null,"P.UNIT.","P.TOTAL"]
[{"$nulls":8},{"$f":"D104*H104","v":0}]
["SUB-TOTAL",{"$nulls":7},{"$f":"SUM(I104:I104)","v":0}]
["SERVIÇOS - COMPOSIÇÕES AUXILIARES"]
["DISCRIMINAÇÃO",null,"UNIDADE","QUANT.",null,null,null,"P.UNIT.","P.TOTAL"]
[{"$nulls":8},{"$f":"D108*H108","v":0}]
["SUB-TOTAL",{"$nulls":7},{"$f":"SUM(I108:I108)","v":0}]
["MÃO DE OBRA"]
["DISCRIMINAÇÃO",null,"UNIDADE","QUANT.",null,null,null,"P.UNIT.","P.TOTAL"]
["OPERADOR DE MÁQUINAS COM ENCARGOS COMPLEMENTARES - 88294",null,"H",2,null,null,null,25.26,{"$f":"D112*H112","v":50.52}]
["SUB-TOTAL",{"$nulls":7},{"$f":"SUM(I112:I112)","v":50.52}]
["PRODUÇÃO DA EQUIPE",null,1,"CUSTO ",{"$nulls":4},{"$f":"I113+I109+I105+I101","v":2762.2342400000002}]
["TOTAL - R$",{"$nulls":7},{"$f":"I114/C114","v":2762.2342400000002}]
["BDI                %",{"$nulls":7},1]
["TOTAL DO SERVIÇO - R$",{"$nulls":7},{"$f":"I115*I116","v":2762.2342400000002}]
[]
["CODEVASF",null," COMPOSIÇÃO DE PREÇO UNITÁRIO"]
["DESCRIÇÃO DO SERVIÇO",{"$nulls":6},"DATA BASE: ","2020-09-01"]
["MONTAGEM DAS ESTRUTURAS PRÉ-MOLDADAS (LAJES E LONGARINAS)",{"$nulls":6},"UNIDADE: ","M3"]
["EQUIPAMENTO"]
["DISCRIMINAÇÃO",null,"UNIDADE","QUANT.","PROD","IMPROD","P.UN. PROD","P.UN. IMPR","P.TOTAL"]
["GUINDASTE HIDRÁULICO AUTOPROPELIDO, COM LANÇA TELESCÓPICA 40 M, CAPACIDADE MÁXIMA 60 T, POTÊNCIA 260 KW (93287)",null,"H",0.41160000000000002,1,0,375.94,85.94,{"$f":"(D124*E124*G124)+(D124*F124)*H124","v":154.73690400000001}]
["CAMINHÃO PLATAFORMA 8 X 2, PBT 29.000 KG E DISTÂNCIA ENTRE EIXOS 4,8 M - 188 KW - MOTORISTA DE CAMINHÃO  (A9333)",null,"H",5.1999999999999998E-2,1,0,183.97900000000001,39.010399999999997,{"$f":"(D125*E125*G125)+(D125*F125)*H125","v":9.5669079999999997}]
["SUB-TOTAL",{"$nulls":7},{"$f":"SUM(I124:I125)","v":164.30381200000002}]
["MATERIAL"]
["DISCRIMINAÇÃO",null,"UNIDADE","QUANT.",null,null,null,"P.UNIT.","P.TOTAL"]
[{"$nulls":8},{"$f":"D129*H129","v":0}]
["SUB-TOTAL",{"$nulls":7},{"$f":"SUM(I129:I129)","v":0}]
["SERVIÇOS - COMPOSIÇÕES AUXILIARES"]
["DISCRIMINAÇÃO",null,"UNIDADE","QUANT.",null,null,null,"P.UNIT.","P.TOTAL"]
[{"$nulls":8},{"$f":"D133*H133","v":0}]
["SUB-TOTAL",{"$nulls":7},{"$f":"SUM(I133:I133)","v":0}]
["MÃO DE OBRA"]
["DISCRIMINAÇÃO",null,"UNIDADE","QUANT.",null,null,null,"P.UNIT.","P.TOTAL"]
["SERVENTE COM ENCARGOS COMPLEMENTARES - 88316",null,"H",1.8748,null,null,null,14.76,{"$f":"D137*H137","v":27.672048}]
["PEDREIRO COM ENCARGOS COMPLEMENTARES - 88309",null,"H",0.50280000000000002,null,null,null,20.81,{"$f":"D138*H138","v":10.463267999999999}]
["SUB-TOTAL",{"$nulls":7},{"$f":"SUM(I137:I138)","v":38.135316000000003}]
["PRODUÇÃO DA EQUIPE",null,1,"CUSTO ",{"$nulls":4},{"$f":"I139+I134+I130+I126","v":202.43912800000004}]
["TOTAL - R$",{"$nulls":7},{"$f":"I140/C140","v":202.43912800000004}]
["BDI                %",{"$nulls":7},1]
["TOTAL DO SERVIÇO - R$",{"$nulls":7},{"$f":"I141*I142","v":202.43912800000004}]
[]
["CODEVASF",null," COMPOSIÇÃO DE PREÇO UNITÁRIO"]
["DESCRIÇÃO DO SERVIÇO",{"$nulls":6},"DATA BASE: ","2020-09-01"]
["PROTEÇÃO DO TALUDE COM REVESTIMENTO VEGETAL",{"$nulls":6},"UNIDADE: ","M2"]
["EQUIPAMENTO"]
["DISCRIMINAÇÃO",null,"UNIDADE","QUANT.","PROD","IMPROD","P.UN. PROD","P.UN. IMPR","P.TOTAL"]
["CAMINHÃO PIPA 10.000 L TRUCADO, PESO BRUTO TOTAL 23.000 KG, CARGA ÚTIL  MÁXIMA 15.935 KG, DISTÂNCIA ENTRE EIXOS 4,8 M, POTÊNCIA 230 CV, INCLUSIVE TANQUE DE AÇO PARA TRANSPORTE DE ÁGUA (5901)",null,"H",1,7.0000000000000007E-2,0.93,166.06,36.840000000000003,{"$f":"(D150*E150*G150)+(D150*F150)*H150","v":45.885400000000004}]
[{"$nulls":8},{"$f":"(D151*E151*G151)+(D151*F151)*H151","v":0}]
[{"$nulls":8},{"$f":"(D152*E152*G152)+(D152*F152)*H152","v":0}]
["SUB-TOTAL",{"$nulls":7},{"$f":"SUM(I150:I152)","v":45.885400000000004}]
["MATERIAL"]
["DISCRIMINAÇÃO",null,"UNIDADE","QUANT.",null,null,null,"P.UNIT.","P.TOTAL"]
["Adubo NPK - 25951",null,"kg",0.15,null,null,null,1.72,{"$f":"D156*H156","v":0.25800000000000001}]
["Grama tipo batatais - 3324","m²","M²",1,null,null,null,4.96,4.96]
["Pó calcário - 25963","kg","kg",0.2,null,null,null,0.1,2.0000000000000004E-2]
["Terra vegetal a granel - 7253","m³","M³",0.05,null,null,null,102.85,5.1425000000000001]
[{"$nulls":8},0]
[{"$nulls":8},{"$f":"D161*H161","v":0}]
["SUB-TOTAL",{"$nulls":7},{"$f":"SUM(I156:I161)","v":10.3805}]
["SERVIÇOS - COMPOSIÇÕES AUXILIARES"]
["DISCRIMINAÇÃO",null,"UNIDADE","QUANT.",null,null,null,"P.UNIT.","P.TOTAL"]
[{"$nulls":8},{"$f":"D165*H165","v":0}]
["SUB-TOTAL",{"$nulls":7},{"$f":"SUM(I165:I165)","v":0}]
["MÃO DE OBRA"]
["DISCRIMINAÇÃO",null,"UNIDADE","QUANT.",null,null,null,"P.UNIT.","P.TOTAL"]
["SERVENTE COM ENCARGOS COMPLEMENTARES - 88316",null,"H",1,null,null,null,14.76,{"$f":"D169*H169","v":14.76}]
["JARDINEIRO COM ENCARGOS COMPLEMENTARES - 88441",null,"H",1,null,null,null,20.059999999999999,{"$f":"D170*H170","v":20.059999999999999}]
["SUB-TOTAL",{"$nulls":7},{"$f":"SUM(I169:I170)","v":34.82}]
["PRODUÇÃO DA EQUIPE",null,5,"CUSTO ",{"$nulls":4},{"$f":"I171+I166+I162+I153","v":91.085900000000009}]
["TOTAL - R$",{"$nulls":7},{"$f":"I172/C172","v":18.217180000000003}]
["BDI                %",{"$nulls":7},1]
["TOTAL DO SERVIÇO - R$",{"$nulls":7},{"$f":"I173*I174","v":18.217180000000003}]
[]
["CODEVASF",null," COMPOSIÇÃO DE PREÇO UNITÁRIO"]
["DESCRIÇÃO DO SERVIÇO",{"$nulls":6},"DATA BASE: ","2020-09-01"]
["REMOÇÃO E RELOCAÇÃO DE CERCA DE ARAME FARPADO (4 FIOS), MOURÃO DE MADEIRA TRATADA",{"$nulls":6},"UNIDADE: ","M"]
["EQUIPAMENTO"]
["DISCRIMINAÇÃO",null,"UNIDADE","QUANT.","PROD","IMPROD","P.UN. PROD","P.UN. IMPR","P.TOTAL"]
["CAMINHÃO TOCO, PBT 16.000 KG, CARGA ÚTIL MÁX. 10.685 KG, DIST. ENTRE EIXOS 4,8 M, POTÊNCIA 189 CV, INCLUSIVE CARROCERIA FIXA ABERTA DE MADEIRA P/ TRANSPORTE GERAL DE CARGA SECA, DIMEN. APROX. 2,5 X 7,00 X 0,50 M - 5824",null,"H",4.6670000000000001E-3,1,0,109.27,30.81,{"$f":"(D182*E182*G182)+(D182*F182)*H182","v":0.50996308999999995}]
[{"$nulls":8},{"$f":"(D183*E183*G183)+(D183*F183)*H183","v":0}]
[{"$nulls":8},{"$f":"(D184*E184*G184)+(D184*F184)*H184","v":0}]
["SUB-TOTAL",{"$nulls":7},{"$f":"SUM(I182:I184)","v":0.50996308999999995}]
["MATERIAL"]
["DISCRIMINAÇÃO",null,"UNIDADE","QUANT.",null,null,null,"P.UNIT.","P.TOTAL"]
["ARAME FARPADO GALVANIZADO, 16 BWG (1,65 MM), CLASSE 250 - 340",null,"M",0.88,null,null,null,0.77,{"$f":"D188*H188","v":0.67759999999999998}]
["GRAMPO PARA FIXAÇÃO EM ACO POLIDO 1 \" X 9 - 5076","Grampo para cerca galvanizado de 1 x 9\"","KG",2E-3,null,null,null,10.89,2.1780000000000001E-2]
["MADEIRA ROLICA TRATADA, EUCALIPTO OU EQUIVALENTE DA REGIAO, H = 2,2 M, D = 8 A 11CM - 21138","Mourão de madeira - H = 2,10 m e D = 10 cm","UNID.",0.04,null,null,null,4.55,0.182]
["MADEIRA ROLICA TRATADA, EUCALIPTO OU EQUIVALENTE DA REGIAO, H = 3 M, D = 12 A 15CM - 4115","Mourão de madeira - H = 2,20 m e D = 15 cm","UNID.",4.0000000000000001E-3,null,null,null,8.8000000000000007,3.5200000000000002E-2]
[{"$nulls":8},{"$f":"D192*H192","v":0}]
["SUB-TOTAL",{"$nulls":7},{"$f":"SUM(I188:I192)","v":0.91658000000000006}]
["SERVIÇOS - COMPOSIÇÕES AUXILIARES"]
["DISCRIMINAÇÃO",null,"UNIDADE","QUANT.",null,null,null,"P.UNIT.","P.TOTAL"]
[{"$nulls":8},{"$f":"D196*H196","v":0}]
["SUB-TOTAL",{"$nulls":7},{"$f":"SUM(I196:I196)","v":0}]
["MÃO DE OBRA"]
["DISCRIMINAÇÃO",null,"UNIDADE","QUANT.",null,null,null,"P.UNIT.","P.TOTAL"]
["SERVENTE COM ENCARGOS COMPLEMENTARES - 88316",null,"H",1.3333330000000001,null,null,null,14.76,{"$f":"D200*H200","v":19.679995080000001}]
["CARPINTEIRO DE FORMAS - 88262",null,"H",0.13333300000000001,null,null,null,20.66,{"$f":"D201*H201","v":2.7546597800000003}]
["SUB-TOTAL",{"$nulls":7},{"$f":"SUM(I200:I201)","v":22.434654860000002}]
["PRODUÇÃO DA EQUIPE",null,1,"CUSTO ",{"$nulls":4},{"$f":"I202+I197+I193+I185","v":23.861197950000001}]
["TOTAL - R$",{"$nulls":7},{"$f":"I203/C203","v":23.861197950000001}]
["BDI                %",{"$nulls":7},1]
["TOTAL DO SERVIÇO - R$",{"$nulls":7},{"$f":"I204*I205","v":23.861197950000001}]
[]
["CODEVASF",null," COMPOSIÇÃO DE PREÇO UNITÁRIO"]
["DESCRIÇÃO DO SERVIÇO",{"$nulls":6},"DATA BASE: ","2020-09-01"]
["REMOÇÃO E CONSTRUÇÃO DE NOVA CERCA DE ARAME LISO (4 FIOS), MOURÃO DE MADEIRA TRATADA",{"$nulls":6},"UNIDADE: ","M"]
["EQUIPAMENTO"]
["DISCRIMINAÇÃO",null,"UNIDADE","QUANT.","PROD","IMPROD","P.UN. PROD","P.UN. IMPR","P.TOTAL"]
["CAMINHÃO TOCO, PBT 16.000 KG, CARGA ÚTIL MÁX. 10.685 KG, DIST. ENTRE EIXOS 4,8 M, POTÊNCIA 189 CV, INCLUSIVE CARROCERIA FIXA ABERTA DE MADEIRA P/ TRANSPORTE GERAL DE CARGA SECA, DIMEN. APROX. 2,5 X 7,00 X 0,50 M - CHP DIURNO.",null,"H",4.6670000000000001E-3,1,0,{"$f":"G182","v":109.27},{"$f":"H182","v":30.81},{"$f":"(D213*E213*G213)+(D213*F213)*H213","v":0.50996308999999995}]
[{"$nulls":8},{"$f":"(D214*E214*G214)+(D214*F214)*H214","v":0}]
[{"$nulls":8},{"$f":"(D215*E215*G215)+(D215*F215)*H215","v":0}]
["SUB-TOTAL",{"$nulls":7},{"$f":"SUM(I213:I215)","v":0.50996308999999995}]
["MATERIAL"]
["DISCRIMINAÇÃO",null,"UNIDADE","QUANT.",null,null,null,"P.UNIT.","P.TOTAL"]
["ARAME GALVANIZADO 16 BWG, D = 1,65MM (0,0166KG/M) - 344",null,"KG",{"$f":"4.4*0.0166","v":7.3040000000000008E-2},null,null,null,18.399999999999999,{"$f":"D219*H219","v":1.343936}]
["CATRACA PARA ARAME LISO","Grampo para cerca galvanizado de 1 x 9\"","UNID.",0.08,null,null,null,4.6100000000000003,0.36880000000000002]
["MADEIRA ROLICA TRATADA, EUCALIPTO OU EQUIVALENTE DA REGIAO, H = 2,2 M, D = 8 A 11CM - 21138","Mourão de madeira - H = 2,10 m e D = 10 cm","UNID.",0.2,null,null,null,4.55,0.91]
["MADEIRA ROLICA TRATADA, EUCALIPTO OU EQUIVALENTE DA REGIAO, H = 3 M, D = 12 A 15CM - 4115","Mourão de madeira - H = 2,20 m e D = 15 cm","UNID.",0.02,null,null,null,8.8000000000000007,0.17600000000000002]
[{"$nulls":8},{"$f":"D223*H223","v":0}]
["SUB-TOTAL",{"$nulls":7},{"$f":"SUM(I219:I223)","v":2.7987360000000003}]
["SERVIÇOS - COMPOSIÇÕES AUXILIARES"]
["DISCRIMINAÇÃO",null,"UNIDADE","QUANT.",null,null,null,"P.UNIT.","P.TOTAL"]
[{"$nulls":8},{"$f":"D227*H227","v":0}]
["SUB-TOTAL",{"$nulls":7},{"$f":"SUM(I227:I227)","v":0}]
["MÃO DE OBRA"]
["DISCRIMINAÇÃO",null,"UNIDADE","QUANT.",null,null,null,"P.UNIT.","P.TOTAL"]
["SERVENTE COM ENCARGOS COMPLEMENTARES - 88316",null,"H",0.66666669999999995,null,null,null,14.76,{"$f":"D231*H231","v":9.8400004919999997}]
["CARPINTEIRO DE FORMAS - 88262",null,"H",0.66666669999999995,null,null,null,20.66,{"$f":"D232*H232","v":13.773334021999998}]
["SUB-TOTAL",{"$nulls":7},{"$f":"SUM(I231:I232)","v":23.613334513999998}]
["PRODUÇÃO DA EQUIPE",null,1,"CUSTO ",{"$nulls":4},{"$f":"I233+I228+I224+I216","v":26.922033603999999}]
["TOTAL - R$",{"$nulls":7},{"$f":"I234/C234","v":26.922033603999999}]
["BDI                %",{"$nulls":7},1]
["TOTAL DO SERVIÇO - R$",{"$nulls":7},{"$f":"I235*I236","v":26.922033603999999}]
[]
["CODEVASF",null," COMPOSIÇÃO DE PREÇO UNITÁRIO"]
["DESCRIÇÃO DO SERVIÇO",{"$nulls":6},"DATA BASE: ","2020-09-01"]
["TRANSIÇÃO COMPACTADA, INCLUSIVE CARGA, TRANSP. E FORNEC. DE MATERIAL (DMT = 1,00 km)",{"$nulls":6},"UNIDADE: ","M3"]
["EQUIPAMENTO"]
["DISCRIMINAÇÃO",null,"UNIDADE","QUANT.","PROD","IMPROD","P.UN. PROD","P.UN. IMPR","P.TOTAL"]
["CAMINHÃO PIPA 10.000 L TRUCADO, PESO BRUTO TOTAL 23.000 KG, CARGA ÚTIL  MÁXIMA 15.935 KG, DISTÂNCIA ENTRE EIXOS 4,8 M, POTÊNCIA 230 CV, INCLUSIVE TANQUE DE AÇO PARA TRANSPORTE DE ÁGUA (5901)",null,"H",1,0.34,0.66,166.06,36.840000000000003,{"$f":"(D244*E244*G244)+(D244*F244)*H244","v":80.774800000000013}]
["MOTONIVELADORA POTÊNCIA BÁSICA LÍQUIDA (PRIMEIRA MARCHA) 125 HP, PESO BRUTO 13032 KG, LARGURA DA LÂMINA DE 3,7 M (5932)",null,"H",1,0.52,0.48,142.07,56.87,{"$f":"(D245*E245*G245)+(D245*F245)*H245","v":101.17400000000001}]
["TRATOR DE ESTEIRAS, POTÊNCIA 100 HP, PESO OPERACIONAL 9,4 T, COM LÂMINA 2,19 M3 (89032)",null,"H",1,0.8,0.2,115.28,46.42,{"$f":"(D246*E246*G246)+(D246*F246)*H246","v":101.50800000000001}]
["ROLO COMPACTADOR VIBRATORIO TANDEM, ACO LISO, POTENCIA 125 HP, PESO SEM/COM LASTRO 10,20/11,65 T, LARGURA DE TRABALHO 1,73 M (95631)",null,"H",1,0.52,0.48,128.41,47.75,{"$f":"(D247*E247*G247)+(D247*F247)*H247","v":89.693200000000004}]
["SUB-TOTAL",{"$nulls":7},{"$f":"SUM(I244:I247)","v":373.15000000000003}]
["MATERIAL"]
["DISCRIMINAÇÃO",null,"UNIDADE","QUANT.",null,null,null,"P.UNIT.","P.TOTAL"]
["PEDRA DE MAO OU PEDRA RACHAO PARA ARRIMO/FUNDACAO (POSTO PEDREIRA) - 4730",null,"M3",1.05,null,null,null,74.48,{"$f":"D251*H251","v":78.204000000000008}]
["SUB-TOTAL",{"$nulls":7},{"$f":"SUM(I251:I251)","v":78.204000000000008}]
["SERVIÇOS - COMPOSIÇÕES AUXILIARES"]
["DISCRIMINAÇÃO",null,"UNIDADE","QUANT.",null,null,null,"P.UNIT.","P.TOTAL"]
["TRANSPORTE COMERCAL DE BRITA (PEDRA RACHÃO) - 83356",null,"M3XKM",{"$f":"1.05*139","v":145.95000000000002},null,null,null,0.65,{"$f":"D255*H255","v":94.867500000000021}]
["SUB-TOTAL",{"$nulls":7},{"$f":"SUM(I255:I255)","v":94.867500000000021}]
["MÃO DE OBRA"]
["DISCRIMINAÇÃO",null,"UNIDADE","QUANT.",null,null,null,"P.UNIT.","P.TOTAL"]
["SERVENTE COM ENCARGOS COMPLEMENTARES - 88316",null,"H",1,null,null,null,14.76,{"$f":"D259*H259","v":14.76}]
["SUB-TOTAL",{"$nulls":7},{"$f":"SUM(I259:I259)","v":14.76}]
["PRODUÇÃO DA EQUIPE",null,113.18,"CUSTO ",{"$nulls":4},{"$f":"I260+I256+I252+I248","v":560.9815000000001}]
["TOTAL - R$",{"$nulls":7},{"$f":"I261/C261","v":4.9565426753843438}]
["BDI                %",{"$nulls":7},1]
["TOTAL DO SERVIÇO - R$",{"$nulls":7},{"$f":"I262*I263","v":4.9565426753843438}]
[]
["CODEVASF",null," COMPOSIÇÃO DE PREÇO UNITÁRIO"]
["DESCRIÇÃO DO SERVIÇO",{"$nulls":6},"DATA BASE: ","2020-09-01"]
["BACIA DE DISSIPAÇÃO EM PEDRA ARGAMASSADA, E = 25CM",{"$nulls":6},"UNIDADE: ","M3"]
["EQUIPAMENTO"]
["DISCRIMINAÇÃO",null,"UNIDADE","QUANT.","PROD","IMPROD","P.UN. PROD","P.UN. IMPR","P.TOTAL"]
[{"$nulls":8},{"$f":"(D271*E271*G271)+(D271*F271)*H271","v":0}]
[{"$nulls":8},{"$f":"(D272*E272*G272)+(D272*F272)*H272","v":0}]
[{"$nulls":8},{"$f":"(D273*E273*G273)+(D273*F273)*H273","v":0}]
["SUB-TOTAL",{"$nulls":7},{"$f":"SUM(I271:I273)","v":0}]
["MATERIAL"]
["DISCRIMINAÇÃO",null,"UNIDADE","QUANT.",null,null,null,"P.UNIT.","P.TOTAL"]
["PEDRA DE MAO OU PEDRA RACHAO PARA ARRIMO/FUNDACAO (POSTO PEDREIRA) - 4730",null,"M3",0.8,null,null,null,74.48,{"$f":"D277*H277","v":59.584000000000003}]
["CIMENTO PORTLAND CP-IV E32  -  34753",null,"KG",139.13,null,null,null,0.39,{"$f":"D278*H278","v":54.2607}]
["SUB-TOTAL",{"$nulls":7},{"$f":"SUM(I277:I277)","v":59.584000000000003}]
["SERVIÇOS - COMPOSIÇÕES AUXILIARES"]
["DISCRIMINAÇÃO",null,"UNIDADE","QUANT.",null,null,null,"P.UNIT.","P.TOTAL"]
["TRANSPORTE COMERCAL DE BRITA (PEDRA RACHÃO) - 83356",null,"M3XKM",{"$f":"0.8*139","v":111.2},null,null,null,0.65,{"$f":"D282*H282","v":72.28}]
["SUB-TOTAL",{"$nulls":7},{"$f":"SUM(I282:I282)","v":72.28}]
["MÃO DE OBRA"]
["DISCRIMINAÇÃO",null,"UNIDADE","QUANT.",null,null,null,"P.UNIT.","P.TOTAL"]
["SERVENTE COM ENCARGOS COMPLEMENTARES - 88316",null,"H",4,null,null,null,14.76,{"$f":"D286*H286","v":59.04}]
["PEDREIRO COM ENCARGOS COMPLEMENTARES - 88309",null,"H",1,null,null,null,20.81,{"$f":"D287*H287","v":20.81}]
["SUB-TOTAL",{"$nulls":7},{"$f":"SUM(I286:I287)","v":79.849999999999994}]
["PRODUÇÃO DA EQUIPE",null,1,"CUSTO ",{"$nulls":4},{"$f":"I288+I283+I279+I274","v":211.714}]
["TOTAL - R$",{"$nulls":7},{"$f":"I289/C289","v":211.714}]
["BDI                %",{"$nulls":7},1]
["TOTAL DO SERVIÇO - R$",{"$nulls":7},{"$f":"I290*I291","v":211.714}]
[]
["CODEVASF",null," COMPOSIÇÃO DE PREÇO UNITÁRIO"]
["DESCRIÇÃO DO SERVIÇO",{"$nulls":6},"DATA BASE: ","2020-09-01"]
["RECOMPOSIÇÃO DE ÁREA EXPLORADA DE JAZIDA / EMPRESTIMO",{"$nulls":6},"UNIDADE: ","M2"]
["EQUIPAMENTO"]
["DISCRIMINAÇÃO",null,"UNIDADE","QUANT.","PROD","IMPROD","P.UN. PROD","P.UN. IMPR","P.TOTAL"]
[{"$nulls":8},{"$f":"(D299*E299*G299)+(D299*F299)*H299","v":0}]
[{"$nulls":8},{"$f":"(D300*E300*G300)+(D300*F300)*H300","v":0}]
[{"$nulls":8},{"$f":"(D301*E301*G301)+(D301*F301)*H301","v":0}]
["SUB-TOTAL",{"$nulls":7},{"$f":"SUM(I299:I301)","v":0}]
["MATERIAL"]
["DISCRIMINAÇÃO",null,"UNIDADE","QUANT.",null,null,null,"P.UNIT.","P.TOTAL"]
["Tela verde composta de fibras vegetais e fios de propileno com densidade 1,27kg/m3",null,"m2",1,null,null,null,9.9,{"$f":"D305*H305","v":9.9}]
["Adubo NPK - 25951",null,"kg",0.1,null,null,null,1.72,{"$f":"D306*H306","v":0.17200000000000001}]
["SUB-TOTAL",{"$nulls":7},{"$f":"SUM(I305:I306)","v":10.072000000000001}]
["SERVIÇOS - COMPOSIÇÕES AUXILIARES"]
["DISCRIMINAÇÃO",null,"UNIDADE","QUANT.",null,null,null,"P.UNIT.","P.TOTAL"]
[{"$nulls":8},{"$f":"D310*H310","v":0}]
["SUB-TOTAL",{"$nulls":7},{"$f":"SUM(I310:I310)","v":0}]
["MÃO DE OBRA"]
["DISCRIMINAÇÃO",null,"UNIDADE","QUANT.",null,null,null,"P.UNIT.","P.TOTAL"]
["SERVENTE COM ENCARGOS COMPLEMENTARES - 88316",null,"H",1,null,null,null,14.76,{"$f":"D314*H314","v":14.76}]
["SUB-TOTAL",{"$nulls":7},{"$f":"SUM(I314:I314)","v":14.76}]
["PRODUÇÃO DA EQUIPE",null,10,"CUSTO ",{"$nulls":4},{"$f":"I315+I311+I307+I302","v":24.832000000000001}]
["TOTAL - R$",{"$nulls":7},{"$f":"I316/C316","v":2.4832000000000001}]
["BDI                %",{"$nulls":7},1]
["TOTAL DO SERVIÇO - R$",{"$nulls":7},{"$f":"I317*I318","v":2.4832000000000001}]
[]
["CODEVASF",null," COMPOSIÇÃO DE PREÇO UNITÁRIO"]
["DESCRIÇÃO DO SERVIÇO",{"$nulls":6},"DATA BASE: ","2020-09-01"]
["DESMOBILIZAÇÃO DE PESSOAL E EQUIPAMENTOS",{"$nulls":6},"UNIDADE: ","UNID"]
["EQUIPAMENTO"]
["DISCRIMINAÇÃO",null,"UNIDADE","QUANT.","PROD","IMPROD","P.UN. PROD","P.UN. IMPR","P.TOTAL"]
["CAMINHÃO BASCULANTE 6 M3 TOCO, PESO BRUTO TOTAL 16.000 KG, CARGA ÚTIL MÁXIMA 11.130 KG, DISTÂNCIA ENTRE EIXOS 5,36 M, POTÊNCIA 185 CV, INCLUSIVE CAÇAMBA METÁLICA - MATERIAIS NA OPERAÇÃO. AF_06/2014 - SINAPI 67826",null,"H",{"$f":"8*2*5","v":80},0.8,0.2,101.03,34.49,{"$f":"(D326*E326*G326)+(D326*F326)*H326","v":7017.76}]
["GUINDAUTO HIDRÁULICO, CAPACIDADE MÁXIMA DE CARGA 6200 KG, MOMENTO MÁXIMO DE CARGA 11,7 TM, ALCANCE MÁXIMO HORIZONTAL 9,70 M, INCLUSIVE CAMINHÃO TOCO PBT 16.000 KG, POTÊNCIA DE 189 CV - CHP DIURNO. AF_06/2014 - CÓD SINAPI 5928 (1X)",null,"H",{"$f":"8*5","v":40},0.9,0.1,139.61000000000001,34.22,{"$f":"(D327*E327*G327)+(D327*F327)*H327","v":5162.8400000000011}]
["RETROESCAVADEIRA SOBRE RODAS COM CARREGADEIRA, TRAÇÃO 4X4, POTÊNCIA LÍQ. 88 HP, CAÇAMBA CARREG. CAP. MÍN. 1 M3, CAÇAMBA RETRO CAP. 0,26 M3, PESO OPERACIONAL MÍN. 6.674 KG, PROFUNDIDADE ESCAVAÇÃO MÁX. 4,37 M - SINAPI 5678 (1X)",null,"CHP",16,0.7,0.3,90.56,42.29,{"$f":"(D328*E328*G328)+(D328*F328)*H328","v":1217.2639999999999}]
["SUB-TOTAL",{"$nulls":7},{"$f":"SUM(I326:I328)","v":13397.864000000001}]
["MATERIAL"]
["DISCRIMINAÇÃO",null,"UNIDADE","QUANT.",null,null,null,"P.UNIT.","P.TOTAL"]
[{"$nulls":8},{"$f":"D332*H332","v":0}]
["SUB-TOTAL",{"$nulls":7},{"$f":"SUM(I332:I332)","v":0}]
["SERVIÇOS - COMPOSIÇÕES AUXILIARES"]
["DISCRIMINAÇÃO",null,"UNIDADE","QUANT.",null,null,null,"P.UNIT.","P.TOTAL"]
[{"$nulls":8},{"$f":"D336*H336","v":0}]
["SUB-TOTAL",{"$nulls":7},{"$f":"SUM(I336:I336)","v":0}]
["MÃO DE OBRA"]
["DISCRIMINAÇÃO",null,"UNIDADE","QUANT.",null,null,null,"P.UNIT.","P.TOTAL"]
["SERVENTE COM ENCARGOS COMPLEMENTARES - 88316",null,"H",{"$f":"D6","v":7920},null,null,null,14.76,{"$f":"D340*H340","v":116899.2}]
["SUB-TOTAL",{"$nulls":7},{"$f":"SUM(I340:I340)","v":116899.2}]
["PRODUÇÃO DA EQUIPE",null,1,"CUSTO ",{"$nulls":4},{"$f":"I341+I337+I333+I329","v":130297.064}]
["TOTAL - R$",{"$nulls":7},{"$f":"I342/C342","v":130297.064}]
["BDI                %",{"$nulls":7},1]
["TOTAL DO SERVIÇO - R$",{"$nulls":7},{"$f":"I343*I344","v":130297.064}]
[]
["CODEVASF",null," COMPOSIÇÃO DE PREÇO UNITÁRIO"]
["DESCRIÇÃO DO SERVIÇO",{"$nulls":6},"DATA BASE: ","2020-09-01"]
["DESMOBILIZAÇÃO",{"$nulls":6},"UNIDADE: ","UNID"]
["EQUIPAMENTO"]
["DISCRIMINAÇÃO",null,"UNIDADE","QUANT.","PROD","IMPROD","P.UN. PROD","P.UN. IMPR","P.TOTAL"]
["CAMINHÃO BASCULANTE 6 M3 TOCO, PESO BRUTO TOTAL 16.000 KG, CARGA ÚTIL MÁXIMA 11.130 KG, DISTÂNCIA ENTRE EIXOS 5,36 M, POTÊNCIA 185 CV, INCLUSIVE CAÇAMBA METÁLICA - MATERIAIS NA OPERAÇÃO. AF_06/2014 - SINAPI 67826",null,"H",{"$f":"8*2*5","v":80},0.8,0.2,101.03,34.49,{"$f":"(D352*E352*G352)+(D352*F352)*H352","v":7017.76}]
["GUINDAUTO HIDRÁULICO, CAPACIDADE MÁXIMA DE CARGA 6200 KG, MOMENTO MÁXIMO DE CARGA 11,7 TM, ALCANCE MÁXIMO HORIZONTAL 9,70 M, INCLUSIVE CAMINHÃO TOCO PBT 16.000 KG, POTÊNCIA DE 189 CV - CHP DIURNO. AF_06/2014 - CÓD SINAPI 5928 (1X)",null,"H",{"$f":"8*5","v":40},0.9,0.1,139.61000000000001,34.22,{"$f":"(D353*E353*G353)+(D353*F353)*H353","v":5162.8400000000011}]
["RETROESCAVADEIRA SOBRE RODAS COM CARREGADEIRA, TRAÇÃO 4X4, POTÊNCIA LÍQ. 88 HP, CAÇAMBA CARREG. CAP. MÍN. 1 M3, CAÇAMBA RETRO CAP. 0,26 M3, PESO OPERACIONAL MÍN. 6.674 KG, PROFUNDIDADE ESCAVAÇÃO MÁX. 4,37 M - SINAPI 5678 (1X)",null,"CHP",16,0.7,0.3,90.56,42.29,{"$f":"(D354*E354*G354)+(D354*F354)*H354","v":1217.2639999999999}]
["SUB-TOTAL",{"$nulls":7},{"$f":"SUM(I352:I354)","v":13397.864000000001}]
["MATERIAL"]
["DISCRIMINAÇÃO",null,"UNIDADE","QUANT.",null,null,null,"P.UNIT.","P.TOTAL"]
[{"$nulls":8},{"$f":"D358*H358","v":0}]
["SUB-TOTAL",{"$nulls":7},{"$f":"SUM(I358:I358)","v":0}]
["SERVIÇOS - COMPOSIÇÕES AUXILIARES"]
["DISCRIMINAÇÃO",null,"UNIDADE","QUANT.",null,null,null,"P.UNIT.","P.TOTAL"]
[{"$nulls":8},{"$f":"D362*H362","v":0}]
["SUB-TOTAL",{"$nulls":7},{"$f":"SUM(I362:I362)","v":0}]
["MÃO DE OBRA"]
["DISCRIMINAÇÃO",null,"UNIDADE","QUANT.",null,null,null,"P.UNIT.","P.TOTAL"]
["SERVENTE COM ENCARGOS COMPLEMENTARES - 88316",null,"H",{"$f":"D33","v":1},null,null,null,14.76,{"$f":"D366*H366","v":14.76}]
["SUB-TOTAL",{"$nulls":7},{"$f":"SUM(I366:I366)","v":14.76}]
["PRODUÇÃO DA EQUIPE",null,1,"CUSTO ",{"$nulls":4},{"$f":"I367+I363+I359+I355","v":13412.624000000002}]
["TOTAL - R$",{"$nulls":7},{"$f":"I368/C368","v":13412.624000000002}]
["BDI                %",{"$nulls":7},1]
["TOTAL DO SERVIÇO - R$",{"$nulls":7},{"$f":"I369*I370","v":13412.624000000002}]
[]
["CODEVASF",null," COMPOSIÇÃO DE PREÇO UNITÁRIO"]
["DESCRIÇÃO DO SERVIÇO",{"$nulls":6},"DATA BASE: ","2020-09-01"]
["DESMOBILIZAÇÃO",{"$nulls":6},"UNIDADE: ","UNID"]
["EQUIPAMENTO"]
["DISCRIMINAÇÃO",null,"UNIDADE","QUANT.","PROD","IMPROD","P.UN. PROD","P.UN. IMPR","P.TOTAL"]
["CAMINHÃO BASCULANTE 6 M3 TOCO, PESO BRUTO TOTAL 16.000 KG, CARGA ÚTIL MÁXIMA 11.130 KG, DISTÂNCIA ENTRE EIXOS 5,36 M, POTÊNCIA 185 CV, INCLUSIVE CAÇAMBA METÁLICA - MATERIAIS NA OPERAÇÃO. AF_06/2014 - SINAPI 67826",null,"H",{"$f":"8*2*5","v":80},0.8,0.2,101.03,34.49,{"$f":"(D378*E378*G378)+(D378*F378)*H378","v":7017.76}]
["GUINDAUTO HIDRÁULICO, CAPACIDADE MÁXIMA DE CARGA 6200 KG, MOMENTO MÁXIMO DE CARGA 11,7 TM, ALCANCE MÁXIMO HORIZONTAL 9,70 M, INCLUSIVE CAMINHÃO TOCO PBT 16.000 KG, POTÊNCIA DE 189 CV - CHP DIURNO. AF_06/2014 - CÓD SINAPI 5928 (1X)",null,"H",{"$f":"8*5","v":40},0.9,0.1,139.61000000000001,34.22,{"$f":"(D379*E379*G379)+(D379*F379)*H379","v":5162.8400000000011}]
["RETROESCAVADEIRA SOBRE RODAS COM CARREGADEIRA, TRAÇÃO 4X4, POTÊNCIA LÍQ. 88 HP, CAÇAMBA CARREG. CAP. MÍN. 1 M3, CAÇAMBA RETRO CAP. 0,26 M3, PESO OPERACIONAL MÍN. 6.674 KG, PROFUNDIDADE ESCAVAÇÃO MÁX. 4,37 M - SINAPI 5678 (1X)",null,"CHP",16,0.7,0.3,90.56,42.29,{"$f":"(D380*E380*G380)+(D380*F380)*H380","v":1217.2639999999999}]
["SUB-TOTAL",{"$nulls":7},{"$f":"SUM(I378:I380)","v":13397.864000000001}]
["MATERIAL"]
["DISCRIMINAÇÃO",null,"UNIDADE","QUANT.",null,null,null,"P.UNIT.","P.TOTAL"]
[{"$nulls":8},{"$f":"D384*H384","v":0}]
["SUB-TOTAL",{"$nulls":7},{"$f":"SUM(I384:I384)","v":0}]
["SERVIÇOS - COMPOSIÇÕES AUXILIARES"]
["DISCRIMINAÇÃO",null,"UNIDADE","QUANT.",null,null,null,"P.UNIT.","P.TOTAL"]
[{"$nulls":8},{"$f":"D388*H388","v":0}]
["SUB-TOTAL",{"$nulls":7},{"$f":"SUM(I388:I388)","v":0}]
["MÃO DE OBRA"]
["DISCRIMINAÇÃO",null,"UNIDADE","QUANT.",null,null,null,"P.UNIT.","P.TOTAL"]
["SERVENTE COM ENCARGOS COMPLEMENTARES - 88316",null,"H",{"$f":"D60","v":0},null,null,null,14.76,{"$f":"D392*H392","v":0}]
["SUB-TOTAL",{"$nulls":7},{"$f":"SUM(I392:I392)","v":0}]
["PRODUÇÃO DA EQUIPE",null,1,"CUSTO ",{"$nulls":4},{"$f":"I393+I389+I385+I381","v":13397.864000000001}]
["TOTAL - R$",{"$nulls":7},{"$f":"I394/C394","v":13397.864000000001}]
["BDI                %",{"$nulls":7},1]
["TOTAL DO SERVIÇO - R$",{"$nulls":7},{"$f":"I395*I396","v":13397.864000000001}]
[]
[]
["CODEVASF",null," COMPOSIÇÃO DE PREÇO UNITÁRIO"]
["DESCRIÇÃO DO SERVIÇO",{"$nulls":6},"DATA BASE: ","2020-09-01"]
["DESMOBILIZAÇÃO",{"$nulls":6},"UNIDADE: ","UNID"]
["EQUIPAMENTO"]
["DISCRIMINAÇÃO",null,"UNIDADE","QUANT.","PROD","IMPROD","P.UN. PROD","P.UN. IMPR","P.TOTAL"]
["CAMINHÃO BASCULANTE 6 M3 TOCO, PESO BRUTO TOTAL 16.000 KG, CARGA ÚTIL MÁXIMA 11.130 KG, DISTÂNCIA ENTRE EIXOS 5,36 M, POTÊNCIA 185 CV, INCLUSIVE CAÇAMBA METÁLICA - MATERIAIS NA OPERAÇÃO. AF_06/2014 - SINAPI 67826",null,"H",{"$f":"8*2*5","v":80},0.8,0.2,101.03,34.49,{"$f":"(D405*E405*G405)+(D405*F405)*H405","v":7017.76}]
["GUINDAUTO HIDRÁULICO, CAPACIDADE MÁXIMA DE CARGA 6200 KG, MOMENTO MÁXIMO DE CARGA 11,7 TM, ALCANCE MÁXIMO HORIZONTAL 9,70 M, INCLUSIVE CAMINHÃO TOCO PBT 16.000 KG, POTÊNCIA DE 189 CV - CHP DIURNO. AF_06/2014 - CÓD SINAPI 5928 (1X)",null,"H",{"$f":"8*5","v":40},0.9,0.1,139.61000000000001,34.22,{"$f":"(D406*E406*G406)+(D406*F406)*H406","v":5162.8400000000011}]
["RETROESCAVADEIRA SOBRE RODAS COM CARREGADEIRA, TRAÇÃO 4X4, POTÊNCIA LÍQ. 88 HP, CAÇAMBA CARREG. CAP. MÍN. 1 M3, CAÇAMBA RETRO CAP. 0,26 M3, PESO OPERACIONAL MÍN. 6.674 KG, PROFUNDIDADE ESCAVAÇÃO MÁX. 4,37 M - SINAPI 5678 (1X)",null,"CHP",16,0.7,0.3,90.56,42.29,{"$f":"(D407*E407*G407)+(D407*F407)*H407","v":1217.2639999999999}]
["SUB-TOTAL",{"$nulls":7},{"$f":"SUM(I405:I407)","v":13397.864000000001}]
["MATERIAL"]
["DISCRIMINAÇÃO",null,"UNIDADE","QUANT.",null,null,null,"P.UNIT.","P.TOTAL"]
[{"$nulls":8},{"$f":"D411*H411","v":0}]
["SUB-TOTAL",{"$nulls":7},{"$f":"SUM(I411:I411)","v":0}]
["SERVIÇOS - COMPOSIÇÕES AUXILIARES"]
["DISCRIMINAÇÃO",null,"UNIDADE","QUANT.",null,null,null,"P.UNIT.","P.TOTAL"]
[{"$nulls":8},{"$f":"D415*H415","v":0}]
["SUB-TOTAL",{"$nulls":7},{"$f":"SUM(I415:I415)","v":0}]
["MÃO DE OBRA"]
["DISCRIMINAÇÃO",null,"UNIDADE","QUANT.",null,null,null,"P.UNIT.","P.TOTAL"]
["SERVENTE COM ENCARGOS COMPLEMENTARES - 88316",null,"H",{"$f":"D86","v":80},null,null,null,14.76,{"$f":"D419*H419","v":1180.8}]
["SUB-TOTAL",{"$nulls":7},{"$f":"SUM(I419:I419)","v":1180.8}]
["PRODUÇÃO DA EQUIPE",null,1,"CUSTO ",{"$nulls":4},{"$f":"I420+I416+I412+I408","v":14578.664000000001}]
["TOTAL - R$",{"$nulls":7},{"$f":"I421/C421","v":14578.664000000001}]
["BDI                %",{"$nulls":7},1]
["TOTAL DO SERVIÇO - R$",{"$nulls":7},{"$f":"I422*I423","v":14578.664000000001}]

{"sheet":"ENGECORPS","index":5,"n_rows":209,"n_cols":14,"rows_kept":209,"cut":false,"hidden":false,"merged":[[6,8,7,8],[6,10,7,10],[10,12,10,13],[165,11,165,13]]}
[]
[]
[]
[]
[]
[]
[{"$nulls":8},"DATA BASE",null,"2017-03-01"]
[{"$nulls":4},"BARRAGEM DE JEQUITAÍ OBRAS DO RESERVATÓRIO - PLANILHA DE QUANTITATIVOS E CUSTOS DAS OBRAS"]
[]
[]
[null,"Ref.","ITEM","CÓDIGO","DISCRIMINAÇÃO","Unid.ID","QUANT.","Custo Unitário","Custo Total","Preço Unitário","Preço Total",null,"% SOBRE O CUSTO DIRETO"]
[null,null,1,null,"SERVIÇOS PRELIMINARES",null,null,null,{"$f":"SUBTOTAL(9,I13:I16)","v":103500},null,{"$f":"SUBTOTAL(9,K13:K16)","v":131321.56567192817},null,{"$f":"K12/$M$209","v":1.4844800165513183E-2}]
[null,null,"1.1",null,"MOBILIZAÇÃO E DESMOBILIZAÇÃO",null,null,null,{"$f":"SUBTOTAL(9,I14:I16)","v":103500},null,{"$f":"SUBTOTAL(9,K14:K16)","v":131321.56567192817}]
[null,null,"1.1.1",null,"PESSOAL E EQUIPAMENTOS",null,null,null,{"$f":"SUBTOTAL(9,I15:I16)","v":103500},null,{"$f":"SUBTOTAL(9,K15:K16)","v":131321.56567192817}]
[null,null,"1.1.1.1","CI1005","MOBILIZAÇÃO DE PESSOAL E EQUIPAMENTOS","Global",1,51750,{"$f":"H15*G15","v":51750},65660.782835964084,{"$f":"J15*G15","v":65660.782835964084}]
[null,null,"1.1.1.2","CI1006","DESMOBILIZAÇÃO DE PESSOAL E EQUIPAMENTOS","Global",1,51750,{"$f":"H16*G16","v":51750},65660.782835964084,{"$f":"J16*G16","v":65660.782835964084}]
[null,null,2,null,"DESPESAS GERAIS",null,null,null,{"$f":"SUBTOTAL(9,I18:I19)","v":3364710.9251489001},null,{"$f":"SUBTOTAL(9,K18:K19)","v":4269170.1132753184},null,{"$f":"K17/$M$209","v":0.48259382897154013}]
[null,null,"2.1",null,"ADMINISTRAÇÃO DA OBRA",null,null,null,{"$f":"SUBTOTAL(9,I19)","v":3364710.9251489001},null,{"$f":"SUBTOTAL(9,K19)","v":4269170.1132753184}]
[null,null,"2.1.1","CI1008","ADMINISTRAÇÃO LOCAL","Global",1,3364710.9251489001,{"$f":"H19*G19","v":3364710.9251489001},4269170.1132753184,{"$f":"J19*G19","v":4269170.1132753184}]
[null,null,3,null,"CANTEIRO DE OBRAS",null,null,null,{"$f":"SUBTOTAL(9,I21:I23)","v":1417520.8695499999},null,{"$f":"SUBTOTAL(9,K21:K23)","v":1798560.9658158361},null,{"$f":"K20/$M$209","v":0.20331221293636936},{"$f":"SUM(M12:M20)","v":0.70075084207342275}]
[null,null,"3.1",null,"CONSTRUÇÃO E INSTALAÇÃO DO CANTEIRO DE OBRAS",null,null,null,{"$f":"SUBTOTAL(9,I22:I23)","v":1417520.8695499999},null,{"$f":"SUBTOTAL(9,K22:K23)","v":1798560.9658158361}]
[null,null,"3.2","CI1007","CONSTRUÇÃO E INSTALAÇÃO DO CANTEIRO DE OBRAS ","Global",1,415000,{"$f":"H22*G22","v":415000},526555.0700855091,{"$f":"J22*G22","v":526555.0700855091}]
[null,null,"3.3","CI1009","MANUTENÇÃO E OPERAÇÃO DO CANTEIRO DE OBRAS","Global",1,1002520.8695499999,{"$f":"H23*G23","v":1002520.8695499999},1272005.8957303271,{"$f":"J23*G23","v":1272005.8957303271}]
[null,null,4,null,"OBRAS NO RESERVATÓRIO ",null,null,null,{"$f":"SUBTOTAL(9,I25:I207)","v":6972138.3141584359},null,{"$f":"SUBTOTAL(9,K25:K207)","v":8846300.6714639999},null,{"$f":"K209","v":15045353.316227078},{"$f":"M24-K20-K17","v":8977622.2371359244}]
[null,null,"4.4",null,"GALERIA LOCAL D ( EM FASE DE CONCLUSÃO)",null,null,null,{"$f":"SUBTOTAL(9,I26:I36)","v":158617.86798400199},null,{"$f":"SUBTOTAL(9,K26:K36)","v":201255.52432079567}]
[null,null,"4.4.1",null,"TERRAPLENAGEM",null,null,null,{"$f":"SUBTOTAL(9,I27:I32)","v":129930.61859518805},null,{"$f":"SUBTOTAL(9,K27:K32)","v":164856.93007383807}]
[null,"DNIT","4.4.1.1",5914346,"MOMENTO DE TRANSPORTE DE MATERIAL DE 3ª CATEGORIA","m³xkm",45664.800000000003,2.0501609103078988,{"$f":"H27*G27","v":93620.187937028139},2.6012593296716791,{"$f":"J27*G27","v":118785.9870375913}]
[null,"DNIT","4.4.1.2",4915764,"CORTE DE ARVORE COM MOTOSERRA, CARGA, TRANSPORTE E EMPILHAMENTO","há",0.56000000000000005,12527.27020472505,7015.2713146460283,15894.693109949658,8901.0281415718091]
[null,"DNIT","4.4.1.3","CPU 020","AREIA PARA ASSENTAMENTO (AREIA COMERCIAL)","m³",7,102.425,716.97500000000002,129.95759771929701,909.70318403507906]
[null,"DNIT","4.4.1.4",4915671,"SOLO COMPACTADO MANUALMENTE","m³",175.8,12.04209077054448,2116.9995574617196,15.279093854602676,2686.0646996391506]
[null,"DNIT","4.4.1.5","1600966a","REMOÇÃO E CONSTRUÇÃO DE NOVA CERCA DE ARAME LISO (4 FIOS), MOURÃO DE MADEIRA TRATADA","m",180,13.697790602402829,2465.6023084325093,17.379858049794816,3128.3744489630667]
[null,"DNIT","4.4.1.6",4011275,"TRANSIÇÃO COMPACTADA, INCLUSIVE CARGA, TRANSP. E FORNEC. DE MATERIAL (DMT = 1,00 km)","m",430.8,55.700052176461568,23995.582477619646,70.672638259140314,30445.772562037648]
[null,null,"4.4.2",null,"ESTRUTURAS",null,null,null,{"$f":"SUBTOTAL(9,I34:I36)","v":28687.249388813936},null,{"$f":"SUBTOTAL(9,K34:K36)","v":36398.594246957589}]
[null,"DNIT","4.4.2.1",3108012,"FORMAS PLANAS, CHAPA DE COMPENSADO PLASTIFICADA e=12mm","m²",38.520000000000003,80.284435791502673,{"$f":"H34*G34","v":3092.556466688683},101.86548606016926,{"$f":"J34*G34","v":3923.8585230377203}]
[null,"DNIT","4.4.2.2","CPU 014a","LASTRO DE CONCRETO CONSUMO MINIMO DE CIMENTO 200kg/m³ (BRITA E AREIA COMERCIAL)","m³",3.85,263.36787235073228,1013.9663085503194,334.163104780509,1286.5279534049596]
[null,"DNIT","4.4.2.3","CPU 002a","CONCRETO CONVENCIONAL CLASSE D, fck 25MPa (BRITA E AREIA COMERCIAL)","m³",75.180000000000007,326.95832154263013,24580.726613574934,414.84713714438556,31188.207770514909]
[null,null,"4.5",null,"GALERIA LOCAL E",null,null,null,{"$f":"SUBTOTAL(9,I38:I56)","v":325652.00254309451},null,{"$f":"SUBTOTAL(9,K38:K56)","v":413189.66993389284}]
[null,null,"4.5.1",null,"TERRAPLENAGEM",null,null,null,{"$f":"SUBTOTAL(9,I39:I50)","v":150952.41117629773},null,{"$f":"SUBTOTAL(9,K39:K50)","v":191529.53601569164}]
[null,"DNIT","4.5.1.1",5501700,"DESMATAMENTO, DESTOCAMENTO E LIMPEZA DO TERRENO","m²",3640,0.37363277774317893,{"$f":"H39*G39","v":1360.0233109851713},0.47406803245976631,{"$f":"J39*G39","v":1725.6076381535493}]
[null,"DNIT","4.5.1.2",5502986,"EXPURGO DE MATERIAL, INCLUSIVE CARGA E TRANSP. (DMT = 1,00 km)","m³",728,1.7815673230550957,1296.9810111841095,2.2604657991646473,1645.6191017918632]
[null,"DNIT","4.5.1.3",5502113,"ESCAVAÇÃO MECANIZADA EM MATERIAL DE 1ª CATEGORIA, INCLUSIVE CARGA E TRANSP. (DMT=1,00 km)","m³",6230.94,5.4642106287193108,34047.168574912299,6.9330308688368198,43199.299361870093]
[null,"DNIT","4.5.1.4",5502978,"SOLO COMPACTADO","m³",4980.5600000000004,2.627496749290728,13086.40520964743,3.3337873131860878,16604.127740562104]
[null,"DNIT","4.5.1.5",5502983,"ENROCAMENTO DE PROTEÇÃO INCLUSIVE FORNEC. DE MATERIAL E TRANSP.(DMT = 1,00km)","m³",431.7,54.946935737731735,23720.59215797879,69.717078550277819,30096.862810154933]
[null,"DNIT","4.5.1.6",5502746,"ESCAVAÇÃO MECANIZADA EM MATERIAL DE 3ª CATEGORIA, INCLUSIVE CARGA E TRANSP.  (DMT = 1,00 km)","m³",332.41,41.329465861359061,13738.327746974366,52.439132031866443,17431.291878712727]
[null,"DNIT","4.5.1.7",5915319,"MOMENTO DE TRANSPORTE DE MATERIAL DE 1ª E 2ª CATEGORIA","m³xkm",4361.66,1.0528830751577738,4592.3179935926555,1.3359058347748143,5826.7670433039166]
[null,"DNIT","4.5.1.8",5914346,"MOMENTO DE TRANSPORTE DE MATERIAL DE 3ª CATEGORIA","m³xkm",431.7,2.0501609103078988,885.05446497991989,2.6012593296716791,1122.9636526192637]
[null,"DNIT","4.5.1.9","CPU 017","ENSECADEIRA COM SACOS DE AREIA","m³",14.57,124.6420415074285,1816.0345447632333,158.14674434107215,2304.1980650494211]
[null,"DNIT","4.5.1.10","4816012a","BRITA PARA BASE","m³",10.23,49.208067329182946,503.39852877754157,62.435559858531022,638.71577735277242]
[null,"DNIT","4.5.1.11",4816019,"AREIA PARA ASSENTAMENTO","m³",10.23,68.959327131934472,705.45391655968967,87.496104412060973,895.08514813538375]
[null,"DNIT","4.5.1.12",4813200,"PROTEÇÃO DE TALUDE REVESTIMENTO VEGETAL","m²",2080,26.538775824972369,55200.653715942528,33.672595095185393,70038.997797985619]
[null,null,"4.5.2",null,"ESTRUTURAS",null,null,null,{"$f":"SUBTOTAL(9,I52:I56)","v":174699.59136679675},null,{"$f":"SUBTOTAL(9,K52:K56)","v":221660.13391820111}]
[null,"DNIT","4.5.2.1","1107871a","CONCRETO MAGRO CLASSE A, fck 10MPa","m³",9.31,236.08831138730235,{"$f":"H52*G52","v":2197.9821790157848},299.55059602147105,{"$f":"J52*G52","v":2788.8160489598959}]
[null,"DNIT","4.5.2.2","CPU 002a","CONCRETO CONVENCIONAL CLASSE D, fck 25MPa","m³",110.28,326.95832154263013,36056.963699721251,414.84713714438556,45749.342284282837]
[null,"DNIT","4.5.2.3",".0407819","ARMADURA, (FORNECIMENTO, CORTE. DOBRA E MONTAGEM), AÇO CA-50 - D de 1/4\" a 1/2\"","t",12.13,7030.9780287455369,85285.763488683369,8920.9569366163396,108211.2076411562]
[null,"DNIT","4.5.2.4",3108012,"FORMAS PLANAS, CHAPA DE COMPENSADO PLASTIFICADA e=12mm","m²",604.02,80.284435791502673,48493.404906783442,101.86548606016926,61528.790890063436]
[null,"DNIT","4.5.2.5",1506056,"BACIA DE DISSIPAÇÃO (PEDRA ARGAMASSADA e=25cm)","m³",12.26,217.41248716092366,2665.4770925929242,275.8545720830964,3381.9770537387617]
[null,null,"4.6",null,"GALERIA LOCAL F ( EM FASE DE CONCLUSÃO)",null,null,null,{"$f":"SUBTOTAL(9,I58:I69)","v":146748.82326401031},null,{"$f":"SUBTOTAL(9,K58:K69)","v":186195.99257529381}]
[null,null,"4.6.1",null,"TERRAPLENAGEM",null,null,null,{"$f":"SUBTOTAL(9,I59:I65)","v":125534.63914880404},null,{"$f":"SUBTOTAL(9,K59:K65)","v":159279.27883170504}]
[null,"DNIT","4.6.1.1",5914346,"MOMENTO DE TRANSPORTE DE MATERIAL DE 3ª CATEGORIA","m³xkm",13016.88,2.0501609103078988,{"$f":"H59*G59","v":26686.69855016868},2.6012593296716791,{"$f":"J59*G59","v":33860.280543216686}]
[null,"DNIT","4.6.1.2",4915764,"CORTE DE ARVORE COM MOTOSERRA, CARGA, TRANSPORTE E EMPILHAMENTO","há",0.36,12527.27020472505,4509.8172737010173,15894.693109949658,5722.0895195818766]
[null,"DNIT","4.6.1.3","CPU 020","AREIA PARA ASSENTAMENTO (AREIA COMERCIAL)","m³",7.25,102.425,742.58124999999995,129.95759771929701,942.19258346490335]
[null,"DNIT","4.6.1.4",4915671,"SOLO COMPACTADO MANUALMENTE","m³",144.24,12.04209077054448,1736.951172743336,15.279093854602676,2203.8564975878903]
[null,"DNIT","4.6.1.5","1600966a","REMOÇÃO E CONSTRUÇÃO DE NOVA CERCA DE ARAME LISO (4 FIOS), MOURÃO DE MADEIRA TRATADA","m",520,13.697790602402829,7122.8511132494714,17.379858049794816,9037.5261858933045]
[null,"DNIT","4.6.1.6",4413016,"RECOMPOSIÇÃO DE ÁREA EXPLORADA DE JAZIDA / EMPRESTIMO","m²",6530.77,11.734408683876014,76634.724200396959,14.88870454686829,97234.704993551029]
[null,"DNIT","4.6.1.7",4011275,"TRANSIÇÃO COMPACTADA, INCLUSIVE CARGA, TRANSP. E FORNEC. DE MATERIAL (DMT = 1,00 km)","m³",145.44,55.700052176461568,8101.0155885445702,70.672638259140314,10278.628508409367]
[null,null,"4.6.2",null,"ESTRUTURAS",null,null,null,{"$f":"SUBTOTAL(9,I67:I69)","v":21214.184115206284},null,{"$f":"SUBTOTAL(9,K67:K69)","v":26916.713743588763}]
[null,"DNIT","4.6.2.1",3108012,"FORMAS PLANAS, CHAPA DE COMPENSADO PLASTIFICADA e=12mm","m²",30.4,80.284435791502673,{"$f":"H67*G67","v":2440.6468480616813},101.86548606016926,{"$f":"J67*G67","v":3096.7107762291453}]
[null,"DNIT","4.6.2.2","CPU 014a","LASTRO DE CONCRETO CONSUMO MINIMO DE CIMENTO 200kg/m³ (BRITA E AREIA COMERCIAL)","m³",3.04,263.36787235073228,800.63833194622612,334.163104780509,1015.8558385327474]
[null,"DNIT","4.6.2.3","CPU 002a","CONCRETO CONVENCIONAL CLASSE D, fck 25MPa (BRITA E AREIA COMERCIAL)","m³",54.97,326.95832154263013,17972.898935198376,414.84713714438556,22804.147128826873]
[null,null,"4.7",null,"GALERIA LOCAL G1 ( EM FASE DE CONCLUSÃO)",null,null,null,{"$f":"SUBTOTAL(9,I71:I82)","v":114323.76648038278},null,{"$f":"SUBTOTAL(9,K71:K82)","v":145054.84065425862}]
[null,null,"4.7.1",null,"TERRAPLENAGEM",null,null,null,{"$f":"SUBTOTAL(9,I72:I78)","v":83454.098163977702},null,{"$f":"SUBTOTAL(9,K72:K78)","v":105887.1771268825}]
[null,"DNIT","4.7.1.1",5914346,"MOMENTO DE TRANSPORTE DE MATERIAL DE 3ª CATEGORIA","m³xkm",3000.22,2.0501609103078988,{"$f":"H72*G72","v":6150.9337663239639},2.6012593296716791,{"$f":"J72*G72","v":7804.350266067564}]
[null,"DNIT","4.7.1.2",4915764,"CORTE DE ARVORE COM MOTOSERRA, CARGA, TRANSPORTE E EMPILHAMENTO","há",0.39,12527.27020472505,4885.6353798427699,15894.693109949658,6198.9303128803667]
[null,"DNIT","4.7.1.3","CPU 020","AREIA PARA ASSENTAMENTO (AREIA COMERCIAL)","m³",7.72,102.425,790.721,129.95759771929701,1003.2726543929729]
[null,"DNIT","4.7.1.4",4915671,"SOLO COMPACTADO MANUALMENTE","m³",125.36,12.04209077054448,1509.5964989954559,15.279093854602676,1915.3872056129915]
[null,"DNIT","4.7.1.5","1600966a","REMOÇÃO E RELOCAÇÃO DE CERCA DE ARAME FARPADO (4 FIOS), MOURÃO DE MADEIRA TRATADA","m",560,13.697790602402829,7670.7627373455844,17.379858049794816,9732.7205078850966]
[null,"DNIT","4.7.1.6",4413016,"RECOMPOSIÇÃO DE ÁREA EXPLORADA DE JAZIDA / EMPRESTIMO","m²",5147.97,11.734408683876014,60408.383872333208,14.88870454686829,76646.604346141554]
[null,"DNIT","4.7.1.7",4011275,"TRANSIÇÃO COMPACTADA, INCLUSIVE CARGA, TRANSP. E FORNEC. DE MATERIAL (DMT = 1,00 km)","m³",36.590000000000003,55.700052176461568,2038.0649091367291,70.672638259140314,2585.9118339019442]
[null,null,"4.7.2",null,"ESTRUTURAS",null,null,null,{"$f":"SUBTOTAL(9,I80:I82)","v":30869.668316405066},null,{"$f":"SUBTOTAL(9,K80:K82)","v":39167.66352737612}]
[null,"DNIT","4.7.2.1",3108012,"FORMAS PLANAS, CHAPA DE COMPENSADO PLASTIFICADA e=12mm","m²",53.37,80.284435791502673,{"$f":"H80*G80","v":4284.7803381924978},101.86548606016926,{"$f":"J80*G80","v":5436.5609910312332}]
[null,"DNIT","4.7.2.2","CPU 014a","LASTRO DE CONCRETO CONSUMO MINIMO DE CIMENTO 200kg/m³ (BRITA E AREIA COMERCIAL)","m³",6.12,263.36787235073228,1611.8113787864816,334.163104780509,2045.0782012567151]
[null,"DNIT","4.7.2.3","CPU 002a","CONCRETO CONVENCIONAL CLASSE D, fck 25MPa (BRITA E AREIA COMERCIAL)","m³",76.38,326.95832154263013,24973.076599426087,414.84713714438556,31686.024335088168]
[null,null,"4.8",null,"GALERIA LOCAL G2 ( EM FASE DE CONCLUSÃO)",null,null,null,{"$f":"SUBTOTAL(9,I84:I93)","v":28620.681158423831},null,{"$f":"SUBTOTAL(9,K84:K93)","v":36314.131983780411}]
[null,null,"4.8.1",null,"TERRAPLENAGEM",null,null,null,{"$f":"SUBTOTAL(9,I85:I89)","v":9033.1916775926966},null,{"$f":"SUBTOTAL(9,K85:K89)","v":11461.380426242556}]
[null,"DNIT","4.8.1.1",5914346,"MOMENTO DE TRANSPORTE DE MATERIAL DE 3ª CATEGORIA","m³xkm",961.21,2.0501609103078988,{"$f":"H85*G85","v":1970.6351685970556},2.6012593296716791,{"$f":"J85*G85","v":2500.3564802737146}]
[null,"DNIT","4.8.1.2",4915764,"CORTE DE ARVORE COM MOTOSERRA, CARGA, TRANSPORTE E EMPILHAMENTO","há",0.34,12527.27020472505,4259.2718696065167,15894.693109949658,5404.1956573828838]
[null,"DNIT","4.8.1.3","CPU 020","AREIA PARA ASSENTAMENTO (AREIA COMERCIAL)","m³",5.74,102.425,587.91949999999997,129.95759771929701,745.9566109087649]
[null,"DNIT","4.8.1.4",4915671,"SOLO COMPACTADO MANUALMENTE","m³",122.08,12.04209077054448,1470.09844126807,15.279093854602676,1865.2717777698947]
[null,"DNIT","4.8.1.5",4011275,"TRANSIÇÃO COMPACTADA, INCLUSIVE CARGA, TRANSP. E FORNEC. DE MATERIAL (DMT = 1,00 km)","m³",13.38,55.700052176461568,745.26669812105581,70.672638259140314,945.59989990729741]
[null,null,"4.8.2",null,"ESTRUTURAS",null,null,null,{"$f":"SUBTOTAL(9,I91:I93)","v":19587.489480831136},null,{"$f":"SUBTOTAL(9,K91:K93)","v":24852.751557537857}]
[null,"DNIT","1.8.2.1",3108012,"FORMAS PLANAS, CHAPA DE COMPENSADO PLASTIFICADA e=12mm","m²",50.24,80.284435791502673,{"$f":"H91*G91","v":4033.4900541650945},101.86548606016926,{"$f":"J91*G91","v":5117.7220196629041}]
[null,"DNIT","1.8.2.2","CPU 014a","LASTRO DE CONCRETO CONSUMO MINIMO DE CIMENTO 200kg/m³ (BRITA E AREIA COMERCIAL)","m³",2.87,263.36787235073228,755.86579364660167,334.163104780509,959.04811072006089]
[null,"DNIT","1.8.2.3","CPU 002a","CONCRETO CONVENCIONAL CLASSE D, fck 25MPa (BRITA E AREIA COMERCIAL)","m³",45.26,326.95832154263013,14798.133633019439,414.84713714438556,18775.981427154889]
[null,null,"4.9",null,"GALERIA LOCAL H ( EM FASE DE CONCLUSÃO)",null,null,null,{"$f":"SUBTOTAL(9,I95:I105)","v":293376.02714841365},null,{"$f":"SUBTOTAL(9,K95:K105)","v":372237.67358202691}]
[null,null,"4.9.1",null,"TERRAPLENAGEM",null,null,null,{"$f":"SUBTOTAL(9,I96:I101)","v":225737.54692169189},null,{"$f":"SUBTOTAL(9,K96:K101)","v":286417.46949465631}]
[null,"DNIT","4.9.1.1",5914346,"MOMENTO DE TRANSPORTE DE MATERIAL DE 3ª CATEGORIA","m³xkm",30080.68,2.0501609103078988,{"$f":"H96*G96","v":61670.234291480607},2.6012593296716791,{"$f":"J96*G96","v":78247.649492868281}]
[null,"DNIT","4.9.1.2",4915764,"CORTE DE ARVORE COM MOTOSERRA, CARGA, TRANSPORTE E EMPILHAMENTO","há",0.53,12527.27020472505,6639.4532085042765,15894.693109949658,8424.187348273319]
[null,"DNIT","4.9.1.3","CPU 020","AREIA PARA ASSENTAMENTO (AREIA COMERCIAL)","m³",12.46,102.425,1276.2155,129.95759771929701,1619.2716675824408]
[null,"DNIT","4.9.1.4",4915671,"SOLO COMPACTADO MANUALMENTE","m³",244.74,12.04209077054448,2947.1812951830561,15.279093854602676,3739.4054299754589]
[null,"DNIT","4.9.1.5","1600966a","REMOÇÃO E RELOCAÇÃO DE CERCA DE ARAME FARPADO (4 FIOS), MOURÃO DE MADEIRA TRATADA","m³",760,13.697790602402829,10410.320857826151,17.379858049794816,13208.692117844061]
[null,"DNIT","4.9.1.6",4413016,"RECOMPOSIÇÃO DE ÁREA EXPLORADA DE JAZIDA / EMPRESTIMO","m²",12168.84,11.734408683876014,142794.14176869779,14.88870454686829,181178.26343811271]
[null,null,"4.9.2",null,"ESTRUTURAS",null,null,null,{"$f":"SUBTOTAL(9,I103:I105)","v":67638.48022672176},null,{"$f":"SUBTOTAL(9,K103:K105)","v":85820.204087370585}]
[null,"DNIT","4.9.2.1",3108012,"FORMAS PLANAS, CHAPA DE COMPENSADO PLASTIFICADA e=12mm","m²",53.14,80.284435791502673,{"$f":"H103*G103","v":4266.3149179604525},101.86548606016926,{"$f":"J103*G103","v":5413.1319292373946}]
[null,"DNIT","4.9.2.2","CPU 014a","LASTRO DE CONCRETO CONSUMO MINIMO DE CIMENTO 200kg/m³ (BRITA E AREIA COMERCIAL)","m³",9.2530000000000001,263.36787235073228,2436.9429228613258,334.163104780509,3092.0112085340497]
[null,"DNIT","4.9.2.3","CPU 002a","CONCRETO CONVENCIONAL CLASSE D, fck 25MPa (BRITA E AREIA COMERCIAL)","m³",186.37,326.95832154263013,60935.222385899979,414.84713714438556,77315.060949599138]
[null,null,"4.10",null,"GALERIA LOCAL M",null,null,null,{"$f":"SUBTOTAL(9,I107:I125)","v":1664709.6471338409},null,{"$f":"SUBTOTAL(9,K107:K125)","v":2112195.9154664641}]
[null,null,"4.10.1",null,"TERRAPLENAGEM",null,null,null,{"$f":"SUBTOTAL(9,I108:I119)","v":1374975.5270443531},null,{"$f":"SUBTOTAL(9,K108:K119)","v":1744579.1205028892}]
[null,"DNIT","4.10.1.1",5501700,"DESMATAMENTO, DESTOCAMENTO E LIMPEZA DO TERRENO","m²",28000,0.37363277774317893,{"$f":"H108*G108","v":10461.71777680901},0.47406803245976631,{"$f":"J108*G108","v":13273.904908873457}]
[null,"DNIT","4.10.1.2",5502986,"EXPURGO DE MATERIAL, INCLUSIVE CARGA E TRANSP. (DMT = 1,00 km)","m³",5600,1.7815673230550957,9976.7770091085367,2.2604657991646473,12658.608475322026]
[null,"DNIT","4.10.1.3",5502978,"SOLO COMPACTADO","m³",60167.53,2.627496749290728,158089.98948785235,3.3337873131860878,200585.74817974333]
[null,"DNIT","4.10.1.4",5502113,"ESCAVAÇÃO MECANIZADA EM MATERIAL DE 1ª CATEGORIA, INCLUSIVE CARGA E TRANSP. (DMT=1,00 km)","m³",75209.41,5.4642106287193108,410960.05750170845,6.9330308688368198,521429.16115700465]
[null,"DNIT","4.10.1.5",5502983,"ENROCAMENTO DE PROTEÇÃO INCLUSIVE FORNEC. DE MATERIAL E TRANSP.(DMT = 1,00km)","m³",4812.3599999999997,54.946935737731735,264424.43566683069,69.717078550277819,335503.68013221497]
[null,"DNIT","4.10.1.6",5502746,"ESCAVAÇÃO MECANIZADA EM MATERIAL DE 3ª CATEGORIA, INCLUSIVE CARGA E TRANSP.  (DMT = 1,00 km)","m³",3705.52,41.329465861359061,153147.16233858324,52.439132031866443,194314.25252672174]
[null,"DNIT","4.10.1.7",5915319,"MOMENTO DE TRANSPORTE DE MATERIAL DE 1ª E 2ª CATEGORIA","m³xkm",52646.59,1.0528830751577738,55430.703575770502,1.3359058347748143,70330.88676199739]
[null,"DNIT","4.10.1.8",5914346,"MOMENTO DE TRANSPORTE DE MATERIAL DE 3ª CATEGORIA","m³xkm",4812.3599999999997,2.0501609103078988,9866.1123583293192,2.6012593296716791,12518.1963477388]
[null,"DNIT","4.10.1.9","CPU 017","ENSECADEIRA COM SACOS DE AREIA","m³",25.64,124.6420415074285,3195.8219442504669,158.14674434107215,4054.8825249050901]
[null,"DNIT","4.10.1.10","4816012a","BRITA PARA BASE","m³",18.52,49.208067329182946,911.33340693646812,62.435559858531022,1156.3065685799945]
[null,"DNIT","4.10.1.11",4816019,"AREIA PARA ASSENTAMENTO","m³",18.52,68.959327131934472,1277.1267384834264,87.496104412060973,1620.4278537113692]
[null,"DNIT","4.10.1.12",4813200,"PROTEÇÃO DE TALUDE REVESTIMENTO VEGETAL","m²",11200,26.538775824972369,297234.28923969052,33.672595095185393,377133.06506607641]
[null,null,"4.10.2",null,"ESTRUTURAS",null,null,null,{"$f":"SUBTOTAL(9,I121:I125)","v":289734.12008948787},null,{"$f":"SUBTOTAL(9,K121:K125)","v":367616.79496357491}]
[null,"DNIT","4.10.2.1","1107871a","CONCRETO MAGRO CLASSE A, fck 10MPa","m³",16.14,236.08831138730235,{"$f":"H121*G121","v":3810.4653457910599},299.55059602147105,{"$f":"J121*G121","v":4834.7466197865433}]
[null,"DNIT","4.10.2.2","CPU 002a","CONCRETO CONVENCIONAL CLASSE D, fck 25MPa","m³",170.74,326.95832154263013,55824.863820188672,414.84713714438556,70831.000196032401]
[null,"DNIT","4.10.2.3",".0407819","ARMADURA, (FORNECIMENTO, CORTE. DOBRA E MONTAGEM), AÇO CA-50 - D  de 1/4\" a 1/2\"","t",18.78,7030.9780287455369,132041.76737984119,8920.9569366163396,167535.57126965487]
[null,"DNIT","4.10.2.4",3108012,"FORMAS PLANAS, CHAPA DE COMPENSADO PLASTIFICADA e=12mm","m²",1190.58,80.284435791502673,95585.043564647247,101.86548606016926,121279.01039351631]
[null,"DNIT","4.10.2.5",1506056,"BACIA DE DISSIPAÇÃO (PEDRA ARGAMASSADA e=25cm)","m³",11.37,217.41248716092366,2471.9799790197017,275.8545720830964,3136.466484584806]
[null,null,"4.11",null,"PONTE LOCAL N",null,null,null,{"$f":"SUBTOTAL(9,I127:I158)","v":2075707.3312407148},null,{"$f":"SUBTOTAL(9,K127:K158)","v":2633672.8175384565}]
[null,null,"4.11.1",null,"TERRAPLENAGEM",null,null,null,{"$f":"SUBTOTAL(9,I128:I140)","v":1103285.4419193247},null,{"$f":"SUBTOTAL(9,K128:K140)","v":1399856.7305883178}]
[null,"DNIT","4.11.1.1",5501700,"DESMATAMENTO, DESTOCAMENTO E LIMPEZA DO TERRENO","m²",{"$f":"480*14","v":6720},0.37363277774317893,{"$f":"H128*G128","v":2510.8122664341627},0.47406803245976631,{"$f":"J128*G128","v":3185.7371781296297},"OK","ITEM 3.1.1"]
[null,"DNIT","4.11.1.2",5502986,"EXPURGO DE MATERIAL, INCLUSIVE CARGA E TRANSP. (DMT = 1,00 km)","m³",{"$f":"G128*0.2","v":1344},1.7815673230550957,2394.4264821860488,2.2604657991646473,3038.0660340772861,"OK","ITEM 3.1.2 E 3.1.4"]
[null,"DNIT","4.11.1.3",5502978,"SOLO COMPACTADO","m³",43934.45,2.627496749290728,115437.62455687602,3.3337873131860878,146468.11202180851,"OK","LINHA 479","ENCABEÇAMENTO???"]
[null,"DNIT","4.11.1.4",5502113,"ESCAVAÇÃO MECANIZADA EM MATERIAL DE 1ª CATEGORIA, INCLUSIVE CARGA E TRANSP. (DMT=1,00 km)","m³",54918.06,5.4642106287193108,300083.84716064483,6.9330308688368198,380748.60523663257,"OK","LINHA 477","ENCABEÇAMENTO???"]
[null,"DNIT","4.11.1.5",5502983,"ENROCAMENTO DE PROTEÇÃO INCLUSIVE FORNEC. DE MATERIAL E TRANSP.(DMT = 1,00km)","m³",3169.8,54.946935737731735,174170.79690146208,69.717078550277819,220989.19558867064,"OK","LINHA 496"]
[null,"DNIT","4.11.1.6",5502746,"ESCAVAÇÃO MECANIZADA EM MATERIAL DE 3ª CATEGORIA, INCLUSIVE CARGA E TRANSP.  (DMT = 1,00 km)","m³",2440.75,41.329465861359061,100874.89380111214,52.439132031866443,127990.81150677802,"OK","LINHA 497","PARA FAZER ENROCAMENTO (30% EMPOL.)"]
[null,"DNIT","4.11.1.7",5915319,"MOMENTO DE TRANSPORTE DE MATERIAL DE 1ª E 2ª CATEGORIA","m³xkm",38442.639999999999,1.0528830751577738,40475.605020383242,1.3359058347748143,51355.747080147667,"OK","LINHA 498"]
[null,"DNIT","4.11.1.8",5914346,"MOMENTO DE TRANSPORTE DE MATERIAL DE 3ª CATEGORIA","m³xkm",3169.8,2.0501609103078988,6498.6000534939776,2.6012593296716791,8245.4718231932893,"OK","LINHA 499","PARA FAZER ENROCAMENTO (30% EMPOL.)"]
[null,"DNIT","4.11.1.9",3205872,"FORNECIMENTO E INSTALAÇÃO DE PROTEÇÃO DE TALUDE COM GABIÃO MANTA e=17cm","m²",{"$f":"66*24","v":1584},117.32283736140383,185839.37438046368,148.8600839746139,235794.37301578841,"OK","LINHA 500"]
[null,"DNIT","4.11.1.10",3205865,"FORNECIMENTO E INSTALAÇÃO DE PROTEÇÃO DE TALUDE COM GABIÃO CAIXA (1,00X1,00)","m³",{"$f":"6*24*1","v":144},296.17291471181113,42648.899718500805,375.78638521327036,54113.239470710934,"OK","LINHA 501"]
[null,"DNIT","4.11.1.11",4413014,"FORNECIMENTO E INSTALAÇÃO DE PROTEÇÃO DE TALUDE COM MANTA GEOTÊXTIL (200g/m²)","m²",{"$f":"84*24","v":2016},20.708366838760128,41748.067546940416,26.274929041300652,52970.256947262111,"OK","LINHA 502"]
[null,"DNIT","4.11.1.12",4011313,"SOLO CIMENTO PARA ANCORAGEM, (6% DE CIMENTO NA MISTURA EM PESO, RESISTÊNCIA A COMPRESSÃO SIMPLES 20kgf/cm²)","m³",{"$f":"0.7*48","v":33.599999999999994},42.625216039291502,1432.2072589201941,54.083189443323135,1817.195165295657,"OK","LINHA 503"]
[null,"DNIT","4.11.1.13",4813200,"PROTEÇÃO DE TALUDE REVESTIMENTO VEGETAL","m²",{"$f":"420*8","v":3360},26.538775824972369,89170.286771907166,33.672595095185393,113139.91951982293,"OK","LINHA 504"]
[null,null,"4.11.2",null,"ESTRUTURAS",null,null,null,{"$f":"SUBTOTAL(9,I142:I155)","v":950231.81913727557},null,{"$f":"SUBTOTAL(9,K142:K155)","v":1205661.1617429131}]
[null,"DNIT","4.11.2.1",4805757,"ESCAVAÇÃO MECANIZADA PARA SAPATAS","m³",{"$f":"28.4+22.8","v":51.2},4.9791286345654102,{"$f":"H142*G142","v":254.93138608974903},6.317555246116517,{"$f":"J142*G142","v":323.45882860116569},"OK","LINHA423"]
[null,"DNIT","4.11.2.2",4915671,"REATERRO COM COMPACTAÇÃO (PROCTOR NORMAL = 98%)","m³",17.600000000000001,12.04209077054448,211.94079756158285,15.279093854602676,268.9120518410071,"OK","LINHA424"]
[null,"DNIT","4.11.2.3",2003864,"ESGOTAMENTO COM BOMBA DE IMERSÃO POTÊNCIA 2,7 kW ATÉ 8m DE PROFUNDIDADE","m³",447.07,0.18134242586123078,81.072758329780441,0.23008861146707615,102.86571552858574,"OK","LINHA 430"]
[null,"DNIT","4.11.2.4","CPU 014a","LASTRO DE CONCRETO CONSUMO MINIMO DE CIMENTO 200kg/m³","m³",1.1200000000000001,263.36787235073228,294.97201703282019,334.163104780509,374.26267735417014,"OK","LINHA 425"]
[null,"DNIT","4.11.2.5",2306066,"ESTACA RAIZ Ø 41 cm EM SOLO","m",{"$f":"58.24+57.04","v":115.28},310.40551246795792,35783.547477306187,393.84481053612996,45402.42975860506,"OK","LINHA 431"]
[null,"DNIT","4.11.2.6","CPU 002a","CONCRETO CONVENCIONAL CLASSE D, fck 25MPa","m³",442.03,326.95832154263013,144525.38687148879,414.84713714438556,183374.88003193273,"OK","LINHAS 428 E 440"]
[null,"DNIT","4.11.2.7",3108012,"FORMAS PLANAS, CHAPA DE COMPENSADO PLASTIFICADA e=12mm","m²",1656.75,80.284435791502673,133011.23899757204,101.86548606016926,168765.64403018542,"OK","LINHAS 429 E 435"]
[null,"DNIT","4.11.2.8",".0407819","ARMADURA, (FORNECIMENTO, CORTE. DOBRA E MONTAGEM), AÇO CA-50 - D  de 1/4\" a 1/2\"","t",82.19,7030.9780287455369,577876.08418259572,8920.9569366163396,733213.45062049688,"OK","LINHAS 444 A 450"]
[null,"DNIT","4.11.2.9",407818,"ARMADURA (FORNECIMENTO, CORTE DOBRA E MONTAGEM), AÇO CA-25 - D de 1/4\" a 5/16\"","t",0.7,6887.4868588849222,4821.2408012194455,8738.8942787787291,6117.2259951451097,"OK","LINHAS 444 A 450"]
[null,"DNIT","4.11.2.10","0307731c","APARELHO DE APOIO - 250mm x 300mm x 70mm","Unid",24,370.37963488507353,8889.1112372417647,469.94042073531364,11278.570097647527,"OK","LINHA 454"]
[null,"DNIT","4.11.2.11","CPU 015","JUNTA TIPO JEENE JJ3550 OU SIMILAR C/ INSTALAÇÃO","m",30.8,380.17150144184575,11709.282244408849,482.36441346078146,14856.82393459207,"OK","LINHA 452"]
[null,"DNIT","4.11.2.12",5213481,"FORNECIMENTO E IMPLANTAÇÃO PLACA SINALIZAÇÃO SEMI-REFLETIVA","m²",5.2,380.11642452624631,1976.6054075364809,482.29453146282106,2507.9315636066694,"OK","LINHAS 511 E 512"]
[null,"DNIT","4.11.2.13","CPU 016","MONTAGEM DAS ESTRUTURAS PRÉ MOLDADAS","m³",138.68,127.24071507085333,17645.742366025941,161.44396058280353,22389.048453623192,"OK","LINHA 460"]
[null,"DNIT","4.11.2.14",4011507,"PAVIMENTO RIGIDO EM CONCRETO 25MPa","m³",{"$f":"0.5848*65","v":38.012},345.96081744886817,13150.662592866376,438.95764452681635,16685.657983753343,"OK","LINHA 441"]
[null,null,"4.11.3",null,"DEMOLIÇÃO",null,null,null,{"$f":"SUBTOTAL(9,I157:I158)","v":22190.070184114738},null,{"$f":"SUBTOTAL(9,K157:K158)","v":28154.925207226264}]
[null,"DNIT","4.11.3.1",1600990,"DEMOLIÇÃO DE ESTRUTURAS DE CONCRETO ARMADO","m³",82.31,266.26021593587836,{"$f":"H157*G157","v":21915.87837368215},337.83293171831133,{"$f":"J157*G157","v":27807.028609734207}]
[null,"DNIT","4.4.3.2",5915319,"MOMENTO DE TRANSPORTE DE MATERIAL DE ENTULHO","m³xkm",260.42,1.0528830751577738,274.19181043258749,1.3359058347748143,347.89659749205714]
[null,null,"4.12",null,"GALERIA LOCAL O",null,null,null,{"$f":"SUBTOTAL(9,I160:I184)","v":1251508.9131809392},null,{"$f":"SUBTOTAL(9,K160:K184)","v":1587923.7674521171}]
[null,null,"4.12.1",null,"TERRAPLENAGEM",null,null,null,{"$f":"SUBTOTAL(9,I161:I172)","v":1101515.181612297},null,{"$f":"SUBTOTAL(9,K161:K172)","v":1397610.6112147355}]
[null,"DNIT","4.12.1.1",5501700,"DESMATAMENTO, DESTOCAMENTO E LIMPEZA DO TERRENO","m²",37800,0.37363277774317893,{"$f":"H161*G161","v":14123.318998692164},0.47406803245976631,{"$f":"J161*G161","v":17919.771626979167}]
[null,"DNIT","4.12.1.2",5502986,"EXPURGO DE MATERIAL, INCLUSIVE CARGA E TRANSP. (DMT = 1,00 km)","m³",7560,1.7815673230550957,13468.648962296524,2.2604657991646473,17089.121441684732]
[null,"DNIT","4.12.1.3",5502113,"ESCAVAÇÃO MECANIZADA EM MATERIAL DE 1ª CATEGORIA, INCLUSIVE CARGA E TRANSP. (DMT=1,00 km)","m³",44483.519999999997,5.4642106287193108,243067.32278684803,6.9330308688368198,308405.61731452006]
[null,"DNIT","4.12.1.4",5502978,"SOLO COMPACTADO","m³",28426.67,2.627496749290728,74690.983018160259,3.3337873131860878,94768.471802127562]
[null,"DNIT","4.12.1.5",5502983,"ENROCAMENTO DE PROTEÇÃO INCLUSIVE FORNEC. DE MATERIAL E TRANSP.(DMT = 1,00km)","m³",1659.66,54.946935737731735,91193.231366483858,69.717078550277819,115706.6465867541]
[null,"DNIT","4.12.1.6",5502746,"ESCAVAÇÃO MECANIZADA EM MATERIAL DE 3ª CATEGORIA, INCLUSIVE CARGA E TRANSP.  (DMT = 1,00 km)","m³",1277.8900000000001,41.329465861359061,52814.511129572136,52.439132031866443,67011.442432201817,"adotei brita comercial na cpu"]
[null,"DNIT","4.12.1.7",5915319,"MOMENTO DE TRANSPORTE DE MATERIAL DE 1ª E 2ª CATEGORIA","m³xkm",31138.46,1.0528830751577738,32785.157520477333,1.3359058347748143,41598.05039990216]
[null,"DNIT","4.12.1.8",5914346,"MOMENTO DE TRANSPORTE DE MATERIAL DE 3ª CATEGORIA","m³xkm",1659.66,2.0501609103078988,3402.5700564016074,2.6012593296716791,4317.2060590828987]
[null,"DNIT","4.12.1.9","CPU 017","ENSECADEIRA COM SACOS DE AREIA","m³",16.22,124.6420415074285,2021.6939132504901,158.14674434107215,2565.1401932121903]
[null,"DNIT","4.12.1.10","4816012a","BRITA PARA BASE","m³",6.01,49.208067329182946,295.7404846483895,62.435559858531022,375.23771474977144]
[null,"DNIT","4.12.1.11",4816019,"AREIA PARA ASSENTAMENTO","m³",6.01,68.959327131934472,414.44555606292619,87.496104412060973,525.85158751648646]
[null,"DNIT","4.12.1.12",4813200,"PROTEÇÃO DE TALUDE REVESTIMENTO VEGETAL","m²",21600,26.538775824972369,573237.55781940313,33.672595095185393,727328.0540560045]
[null,null,"4.12.2",null,"ESTRUTURAS",null,null,null,{"$f":"SUBTOTAL(9,I174:I184)","v":149993.73156864196},null,{"$f":"SUBTOTAL(9,K174:K184)","v":190313.15623738145}]
[null,"DNIT","4.12.2.1","CPU 014a","CONCRETO MAGRO CLASSE A, fck 10MPa","m³",4.3600000000000003,263.36787235073228,{"$f":"H174*G174","v":1148.2839234491928},334.163104780509,{"$f":"J174*G174","v":1456.9511368430194}]
[null,"DNIT","4.12.2.2","CPU 002a","CONCRETO CONVENCIONAL CLASSE D, fck 25MPa","m³",83.03,326.95832154263013,27147.349437684581,414.84713714438556,34444.757797098333]
[null,"DNIT","4.12.2.3",".0407819","ARMADURA, (FORNECIMENTO, CORTE. DOBRA E MONTAGEM), AÇO CA-50 - D  de 1/4\" a 1/2\"","t",5.84,7030.9780287455369,41060.911687873937,8920.9569366163396,52098.388509839424]
[null,"DNIT","4.12.2.4",3108012,"FORMAS PLANAS, CHAPA DE COMPENSADO PLASTIFICADA e=12mm","m²",419.8,80.284435791502673,33703.40614527282,101.86548606016926,42763.131048059055]
[null,"DNIT","4.12.2.5",4805757,"ESCAVAÇÃO DE VALA, INCLUSIVE CARGA E TRANSP.  (DMT = 1,00 km)","m³",334.8,4.9791286345654102,1667.0122668524994,6.317555246116517,2115.1174963998101]
[null,"DNIT","4.12.2.6","CPU 014","LASTRO DE CONCRETO CONSUMO MINIMO DE CIMENTO 200kg/m³","m³",5.77,200.74603954023189,1158.3046481471379,254.70806004697633,1469.6655064710533]
[null,"DNIT","4.12.2.7",4915671,"REATERRO E COMPACTAÇÃO DE VALA","m³",24.02,12.04209077054448,289.25102030847842,15.279093854602676,367.00383438755625]
[null,"DNIT","4.12.2.8",".0804028","CORPO BSTC ø 80","m",11,391.51643179163904,4306.680749708029,496.75894501608417,5464.3483951769258]
[null,"DNIT","4.12.2.9",2003733,"CAIXA BSTC ø 80 (1,00 x 1,00 x 1,40)","Unid",1,2094.2614647109981,2094.2614647109981,2657.214439345254,2657.214439345254]
[null,"DNIT","4.12.2.10",".0804036","CORPO BSTC ø 100","m",63,550.32026010984453,34670.176386920204,698.25041718461387,43989.776282630672]
[null,"DNIT","4.12.2.11",1506056,"BACIA DE DISSIPAÇÃO (PEDRA ARGAMASSADA e=25cm)","m³",12.64,217.41248716092366,2748.0938377140751,275.8545720830964,3486.8017911303386]
[null,null,"4.13",null,"PONTE LOCAL R",null,null,null,{"$f":"SUBTOTAL(9,I186:I207)","v":912873.25402461563},null,{"$f":"SUBTOTAL(9,K186:K207)","v":1158260.3379569112}]
[null,null,"4.13.1",null,"TERRAPLENAGEM",null,null,null,{"$f":"SUBTOTAL(9,I187:I196)","v":415622.47677962261},null,{"$f":"SUBTOTAL(9,K187:K196)","v":527344.87322845066}]
[null,"DNIT","4.13.1.1",5501700,"DESMATAMENTO, DESTOCAMENTO E LIMPEZA DO TERRENO","m²",{"$f":"340*14","v":4760},0.37363277774317893,{"$f":"H187*G187","v":1778.4920220575318},0.47406803245976631,{"$f":"J187*G187","v":2256.5638345084876},"OK","ITEM 3.1.1","DESMATAMENTO, DESTOCAMENTO E LIMPEZA DO TERRENO"]
[null,"DNIT","4.13.1.2",5502986,"EXPURGO DE MATERIAL, INCLUSIVE CARGA E TRANSP. (DMT = 1,00 km)","m³",{"$f":"G187*0.2","v":952},1.7815673230550957,1696.052091548451,2.2604657991646473,2151.9634408047441,"OK","ITEM 3.1.2 E 3.1.4","EXPURGO DE MATERIAL, INCLUSIVE CARGA E TRANSP. (DMT = 1,00 km)"]
[null,"DNIT","4.13.1.3",5502978,"SOLO COMPACTADO","m³",16715.490000000002,2.627496749290728,43919.895637801674,3.3337873131860878,55725.888495688923,"OK","LINHA 613","SOLO COMPACTADO"]
[null,"DNIT","4.13.1.4",5502113,"ESCAVAÇÃO MECANIZADA EM MATERIAL DE 1ª CATEGORIA, INCLUSIVE CARGA E TRANSP. (DMT=1,00 km)","m³",20894.36,5.4642106287193108,114171.18399228762,6.9330308688368198,144861.24286458929,"OK","LINHA 612","ESCAVAÇÃO MECANIZADA EM MATERIAL DE 1ª CATEGORIA, INCLUSIVE CARGA E TRANSP. (DMT=1,00 km)"]
[null,"DNIT","4.13.1.5",3205872,"FORNECIMENTO E INSTALAÇÃO DE PROTEÇÃO DE TALUDE COM GABIÃO MANTA e=17cm","m²",{"$f":"42*24","v":1008},117.32283736140383,118261.42006029506,148.8600839746139,150050.96464641081,"OK","LINHA 635","FORNECIMENTO E INSTALAÇÃO DE PROTEÇÃO DE TALUDE COM GABIÃO MANTA e=17cm"]
[null,"DNIT","4.13.1.6",3205865,"FORNECIMENTO E INSTALAÇÃO DE PROTEÇÃO DE TALUDE COM GABIÃO CAIXA (1,00X1,00)","m³",{"$f":"24*4*1","v":96},296.17291471181113,28432.599812333869,375.78638521327036,36075.492980473951,"OK","LINHA 636","FORNECIMENTO E INSTALAÇÃO DE PROTEÇÃO DE TALUDE COM GABIÃO CAIXA (1,00X1,00)"]
[null,"DNIT","4.13.1.7",4413014,"FORNECIMENTO E INSTALAÇÃO DE PROTEÇÃO DE TALUDE COM MANTA GEOTÊXTIL (200g/m²)","m²",{"$f":"54*24","v":1296},20.708366838760128,26838.043423033127,26.274929041300652,34052.308037525647,"OK","LINHA 637","FORNECIMENTO E INSTALAÇÃO DE PROTEÇÃO DE TALUDE COM MANTA GEOTÊXTIL (200g/m²)"]
[null,"DNIT","4.13.1.8",4813200,"PROTEÇÃO DE TALUDE REVESTIMENTO VEGETAL","m²",{"$f":"300*8","v":2400},26.538775824972369,63693.061979933686,33.672595095185393,80814.228228444947,"OK","LINHA 639","PROTEÇÃO DE TALUDE REVESTIMENTO VEGETAL"]
[null,"DNIT","4.13.1.9",5915319,"MOMENTO DE TRANSPORTE DE MATERIAL DE 1ª E 2ª CATEGORIA","m³xkm",14626.05,1.0528830751577738,15399.520501411356,1.3359058347748143,19539.025534708173,"OK","LINHA 626","MOMENTO DE TRANSPORTE DE MATERIAL DE 1ª E 2ª CATEGORIA"]
[null,"DNIT","4.13.1.10",4011313,"SOLO CIMENTO PARA ANCORAGEM, (6% DE CIMENTO NA MISTURA EM PESO, RESISTÊNCIA A COMPRESSÃO SIMPLES 20kgf/cm²)","m³",{"$f":"0.7*48","v":33.599999999999994},42.625216039291502,1432.2072589201941,54.083189443323135,1817.195165295657,"OK","LINHA 638","SOLO CIMENTO PARA ANCORAGEM, (6% DE CIMENTO NA MISTURA EM PESO, RESISTÊNCIA A COMPRESSÃO SIMPLES 20kgf/cm²)"]
[null,null,"4.13.2",null,"ESTRUTURAS",null,null,null,{"$f":"SUBTOTAL(9,I198:I207)","v":497250.77724499314},null,{"$f":"SUBTOTAL(9,K198:K207)","v":630915.46472846065},null,null,"ESTRUTURAS"]
[null,"DNIT","4.13.2.1","CPU 002a","CONCRETO CONVENCIONAL CLASSE D, fck 25MPa","m³",229.16,326.95832154263013,{"$f":"H198*G198","v":74925.768964709117},414.84713714438556,{"$f":"J198*G198","v":95066.369948007399},"OK","LINHA 563 E 574","CONCRETO CONVENCIONAL CLASSE D, fck 25MPa"]
[null,"DNIT","4.13.2.2",3108012,"FORMAS PLANAS, CHAPA DE COMPENSADO PLASTIFICADA e=12mm","m²",1068.94,80.284435791502673,85819.244794968865,101.86548606016926,108888.09266915734,"OK","LINHA 564 E 570","FORMAS PLANAS, CHAPA DE COMPENSADO PLASTIFICADA e=12mm"]
[null,"DNIT","4.13.2.3",".0407819","ARMADURA, (FORNECIMENTO, CORTE. DOBRA E MONTAGEM), AÇO CA-50 - D de 1/4\" a 1/2\"","t",42.96,7030.9780287455369,302050.81611490826,8920.9569366163396,383244.30999703798,null,null,"ARMADURA, (FORNECIMENTO, CORTE. DOBRA E MONTAGEM), AÇO CA-50 - D  de 1/4\" a 1/2\""]
[null,"DNIT","4.13.2.4",407818,"ARMADURA (FORNECIMENTO, CORTE DOBRA E MONTAGEM), AÇO CA-25 - D de 1/4\" a 5/16\"","t",0.52,6887.4868588849222,3581.4931666201596,8738.8942787787291,4544.2250249649396,null,null,"ARMADURA (FORNECIMENTO, CORTE DOBRA E MONTAGEM), AÇO CA-25 - D de 1/4\" a 5/16\""]
[null,"DNIT","4.13.2.5","0307731a","APARELHO DE APOIO - 200mm x 250mm x 70mm","Unid",16,262.64630988507361,4202.3409581611777,333.24758098610909,5331.9612957777454,"OK","LINHA 589","APARELHO DE APOIO - 250mm x 300mm x 70mm"]
[null,"DNIT","4.13.2.6","0307731b","APARELHO DE APOIO - 250mm x 300mm x 70mm","Unid",8,316.51297238507357,2532.1037790805885,401.59400086071133,3212.7520068856907,"OK","LINHA 589","APARELHO DE APOIO - 250mm x 300mm x 70mm"]
[null,"DNIT","4.13.2.7","CPU 015","JUNTA TIPO JEENE JJ3550 OU SIMILAR C/ INSTALAÇÃO","m",22.8,380.17150144184575,8667.9102328740828,482.36441346078146,10997.908626905817,"OK","LINHA 587","JUNTA TIPO JEENE JJ3550 OU SIMILAR C/ INSTALAÇÃO"]
[null,"DNIT","4.13.2.8",5213481,"FORNECIMENTO E IMPLANTAÇÃO PLACA SINALIZAÇÃO SEMI-REFLETIVA","m²",5.2,380.11642452624631,1976.6054075364809,482.29453146282106,2507.9315636066694,null,null,"FORNECIMENTO E IMPLANTAÇÃO PLACA SINALIZAÇÃO SEMI-REFLETIVA"]
[null,"DNIT","4.13.2.9","CPU 016","MONTAGEM DAS ESTRUTURAS PRÉ MOLDADAS","m³",66.069999999999993,127.24071507085333,8406.7940447312776,161.44396058280353,10666.602475705828,"OK","LINHA 595","MONTAGEM DAS ESTRUTURAS PRÉ MOLDADAS"]
[null,"DNIT","4.13.2.10",4011507,"PAVIMENTO RIGIDO EM CONCRETO 25MPa","m³",{"$f":"0.3268*45","v":14.706},345.96081744886817,5087.6997814030556,438.95764452681635,6455.3111204113611,null,null,"PAVIMENTO RIGIDO EM CONCRETO 25MPa"]
[]
[{"$nulls":8},{"$f":"SUBTOTAL(9,I12:I207)","v":11857870.108857326},null,{"$f":"SUBTOTAL(9,K12:K207)","v":15045353.316227078},null,{"$f":"SUBTOTAL(9,K24:K207)","v":8846300.6714639999}]

{"sheet":"PL-ORÇ-DEF.A","index":6,"n_rows":186,"n_cols":12,"rows_kept":186,"cut":false,"hidden":false,"merged":[[0,0,0,9],[6,0,6,9],[7,0,8,0],[7,1,8,1],[7,2,8,2],[7,3,8,3],[7,4,8,4],[7,5,8,5],[7,6,7,7],[7,8,7,9],[61,1,61,3],[10,0,10,9],[21,0,21,9],[28,0,28,9],[33,0,33,9],[44,0,44,9],[45,1,45,3],[47,1,47,3],[49,1,49,3],[55,1,55,3],[57,1,57,3],[59,1,59,3],[63,1,63,3],[68,0,68,9],[86,0,86,9],[123,1,123,9],[124,0,124,9],[153,10,153,13],[70,10,70,13],[156,0,156,9],[161,0,161,9],[180,0,180,9],[136,0,136,9]]}
["PLANILHA DE QUANTIDADES E CUSTOS – PONTES E GALERIAS - PROJETO JEQUITAÍ - OAE E PAVIMENTAÇÃO"]
["CONTRATANTE:",null,"CODEVASF - COMPANHIA DE DESENVOLVIMENTO DOS VALES DO SÃO FRANCISCO E PARNAÍBA",{"$nulls":5},"REV.:","A7"]
["OBRA:",null,"OAE E PAVIMENTAÇÃO - ÁREA A ",{"$nulls":5},"DATA:","NOV2019"]
["LOCAL:",null,"MG208 - ENTRE JEQUITAÍ/MG E FRANCISCO DUMONT/MG",{"$nulls":4},"VALOR TOTAL C/BDI (R$):",null,{"$f":"SUM(J186)","v":5143371.459999999}]
["DATA BASE TABELAS:",null,"SINAPI-SET2019  /  DEER-MG-AGO2019 / DNIT-MG ABR/2019 / SIURB JAN2019 / DER-SP - MAR2019",{"$nulls":4},"BDI (%):",null,{"$f":"BDI!$C$23","v":0.2467}]
["PRAZO EXECUÇÃO:",null,"6 (SEIS) MESES"]
[]
["Item","Código","Fonte","Especificação","Unidade","Quantidade","Preço Unitário (R$)",null,"Preço Total"]
[{"$nulls":6},"Sem BDI","Com BDI","Sem BDI","Com BDI"]
[]
["1 - SERVIÇOS PRELIMINARES"]
["1.1","SERVIÇOS PRELIMINARES",{"$nulls":6},{"$f":"SUM(I13:I19)","v":45282.474000000002},{"$f":"SUM(J13:J19)","v":56436.200000000004}]
["1.1.1","RO-41291","DEER/MG","REMOÇÃO DE CERCAS","m",486,6.45,{"$f":"G13*(1+$J$5)","v":8.0412149999999993},{"$f":"SUM(F13*G13,2)","v":3136.7000000000003},{"$f":"ROUND(F13*H13,2)","v":3908.03}]
["1.1.2","73822/002","SINAPI","LIMPEZA MECANIZADA DE TERRENO COM REMOCAO DE CAMADA VEGETAL, UTILIZANDO MOTONIVELADORA (JAZIDA)","m²",1000,0.48,{"$f":"G14*(1+$J$5)","v":0.59841599999999995},{"$f":"SUM(F14*G14,2)","v":482},{"$f":"ROUND(F14*H14,2)","v":598.41999999999996}]
["1.1.3","73822/002","SINAPI","LIMPEZA MECANIZADA DE TERRENO COM REMOCAO DE CAMADA VEGETAL, UTILIZANDO MOTONIVELADORA (ESTRADA NOVA)","m²",7308,0.48,0.59841599999999995,3509.8399999999997,{"$f":"ROUND(F15*H15,2)","v":4373.22}]
["1.1.4","72898","SINAPI","CARGA E DESCARGA MECANIZADAS DE ENTULHO EM CAMINHAO BASCULANTE 6 M3 ","m³",{"$f":"SUM(F14+F15)*0.2","v":1661.6000000000001},3.86,{"$f":"G16*(1+$J$5)","v":4.8122619999999996},{"$f":"SUM(F16*G16,2)","v":6415.7760000000007},{"$f":"ROUND(F16*H16,2)","v":7996.05}]
["1.1.5","97916","SINAPI","TRANSPORTE COM CAMINHÃO BASCULANTE DE 6 M3, EM VIA URBANA EM LEITO NATURAL TXKM (UNIDADE: TXKM). AF_01/2018","txkm",21281,1.47,1.8326489999999998,31285.07,39000.6]
["1.1.6","RO-42263","DEER/MG","ESPALHAMENTO DE MATERIAL EM BOTA-FORA","m³",1661.6,0.18,{"$f":"G18*(1+$J$5)","v":0.22440599999999997},{"$f":"SUM(F18*G18,2)","v":301.08799999999997},{"$f":"ROUND(F18*H18,2)","v":372.87}]
["1.1.7","99064","SINAPI","LOCAÇÃO DE PAVIMENTAÇÃO. AF_10/2018","m",300,0.5,0.62334999999999996,152,{"$f":"ROUND(F19*H19,2)","v":187.01}]
[{"$nulls":7},"TOTAL SERVIÇOS PRELIMINARES",{"$f":"SUM(I12)","v":45282.474000000002},{"$f":"SUM(J12)","v":56436.200000000004}]
[]
["2 - CANTEIRO DE OBRAS"]
["2.1","CANTEIRO DE OBRAS",{"$nulls":6},{"$f":"SUM(I24:I26)","v":2493632.6800000002},{"$f":"SUM(J24:J26)","v":3108804.38}]
["2.1.1","C1","CPU","ADMINISTRAÇÃO LOCAL E MANUTENÇÃO DO CANTEIRO DE OBRAS EM CONTAINER - PRAZO DE OBRA IGUAL A 08 MESES","gl",1,{"$f":"CPU!$I$61","v":2476647.04},{"$f":"G24*(1+$J$5)","v":3087635.8647679999},{"$f":"SUM(F24*G24,2)","v":2476649.04},{"$f":"ROUND(F24*H24,2)","v":3087635.86}]
["2.1.2","C2","CPU","MOBILIZAÇÃO","unid",1,{"$f":"CPU!$I$91","v":13361.400000000001},16657.657380000001,13363.400000000001,{"$f":"ROUND(F25*H25,2)","v":16657.66}]
["2.1.3","74209/001","SINAPI","PLACA DE OBRA EM CHAPA DE ACO GALVANIZADO","m²",12,301.52,375.90498399999996,3620.24,{"$f":"ROUND(F26*H26,2)","v":4510.8599999999997}]
[{"$nulls":7},"TOTAL CANTEIRO DE OBRAS",{"$f":"SUM(I23)","v":2493632.6800000002},{"$f":"SUM(J23)","v":3108804.38}]
[]
["3 - EQUIPAMENTOS"]
["3.1","TRANSPORTES DE EQUIPAMENTOS",{"$nulls":6},{"$f":"SUM(I31)","v":34768.688000000002},{"$f":"SUM(J31)","v":43343.63}]
["3.3.1","A9316","DNIT/MG","CAMINHÃO PLATAFORMA 8 X 2, PBT 29.000 KG E DISTÂNCIA ENTRE EIXOS 4,8 M - 188 KW - MOTORISTA DE CAMINHÃO","H",{"$f":"TRANSPORTES!$E$41","v":240},144.8612,{"$f":"G31*(1+$J$5)","v":180.59845804},{"$f":"SUM(F31*G31,2)","v":34768.688000000002},{"$f":"ROUND(F31*H31,2)","v":43343.63}]
[{"$nulls":7},"TOTAL EQUIPAMENTOS",{"$f":"SUM(I30)","v":34768.688000000002},{"$f":"SUM(J30)","v":43343.63}]
[]
["4 - DESVIO DE TRÁFEGO"]
["4.1","DESVIO DE TRÁFEGO",{"$nulls":6},{"$f":"SUM(I36:I42)","v":36539.892411792091},{"$f":"SUM(J36:J42)","v":45536.83}]
["4.1.1","73822/002","SINAPI","LIMPEZA MECANIZADA DE TERRENO COM REMOCAO DE CAMADA VEGETAL, UTILIZANDO MOTONIVELADORA","m²",4455,0.48,{"$f":"G36*(1+$J$5)","v":0.59841599999999995},{"$f":"SUM(F36*G36,2)","v":2140.4},{"$f":"ROUND(F36*H36,2)","v":2665.94}]
["4.1.2","72898","SINAPI","CARGA E DESCARGA MECANIZADAS DE ENTULHO EM CAMINHAO BASCULANTE 6 M3 ","m³",{"$f":"SUM(F36*0.2)","v":891},3.86,4.8122619999999996,3441.2599999999998,{"$f":"ROUND(F37*H37,2)","v":4287.7299999999996}]
["4.1.3","97916","SINAPI","TRANSPORTE COM CAMINHÃO BASCULANTE DE 6 M3, EM VIA URBANA EM LEITO NATURAL TXKM (UNIDADE: TXKM). AF_01/2018","txkm",11547.36,1.47,1.8326489999999998,16976.619200000001,21162.26]
["4.1.4","83344","SINAPI","ESPALHAMENTO DE MATERIAL EM BOTA FORA, COM UTILIZACAO DE TRATOR DE ESTEIRAS DE 165 HP","m³",{"$f":"F37","v":891},0.85,{"$f":"G39*(1+$J$5)","v":1.0596949999999998},{"$f":"SUM(F39*G39,2)","v":759.35},{"$f":"ROUND(F39*H39,2)","v":944.19}]
["4.1.5","RO-43112","DEER/MG","SUB-BASE, SEMMISTURA, COMPACTADA NA ENERGIA DO PROCTOR INTERMEDIÁRIO (EXECUÇÃO, INCLUINDO ESCAVAÇÃO, CARGA, DESCARGA, ESPALHAMENTO, UMIDECIMENTO E COMPACTAÇÃO DO MATERIAL; EXCLUI AQUISIÇÃO E TRANSPORTE DO MATERIAL)","m³",252.32,14.25,17.765474999999999,3597.56,{"$f":"ROUND(F40*H40,2)","v":4482.58}]
["4.1.6","RO-43113","DEER/MG","BASE DE SOLO SEM MISTURA, COMPACTADA NA ENERGIA DO PROCTOR INTERMEDIÁRIO (EXECUÇÃO, INCLUINDO ESCAVAÇÃO, CARGA, DESCARGA, ESPALHAMENTO, UMIDECIMENTO E COMPACTAÇÃO DO MATERIAL; EXCLUI AQUISIÇÃO E TRANSPORTE DO MATERIAL)","m³",252.32,14.25,17.765474999999999,3597.56,{"$f":"ROUND(F41*H41,2)","v":4482.58}]
["4.1.7","22.03.04.99","DER/SP","TRANSPORTE DE 1/2 CATEGORIA ATÉ 10KM (BASE E SUB BASE)","m³xkm",{"$f":"SUM(F40+F41)*8.1","v":4087.5839999999998},{"$f":"SUM(2.09/1.4179)","v":1.474010861132661},1.8376493405740884,6027.1432117920867,{"$f":"ROUND(F42*H42,2)","v":7511.55}]
[{"$nulls":7},"TOTAL DESVIO DE TRÁFEGO",{"$f":"SUM(I35)","v":36539.892411792091},{"$f":"SUM(J35)","v":45536.83}]
[]
["5 - OBRAS DE ARTE CORRENTE E DRENAGEM"]
["5.1","VALETA DE PROTEÇÃO DE ATERRO",{"$nulls":6},{"$f":"SUM(I47)","v":1935.92},{"$f":"SUM(J47)","v":2411.02}]
["5.1.1","RO-40514","DEER/MG","VALETA DE PROTEÇÃO DE ATERRO TIPO DR.VPA (EXECUÇÃO,INCLUINDO ESCAVAÇÃO)","m",79,24.48,{"$f":"G47*(1+$J$5)","v":30.519216},{"$f":"SUM(F47*G47,2)","v":1935.92},{"$f":"ROUND(F47*H47,2)","v":2411.02}]
["5.2","DISSIPADOR DE ENERGIA",{"$nulls":6},{"$f":"SUM(I49)","v":756.68000000000006},{"$f":"SUM(J49)","v":940.86}]
["5.2.1","2003441","DNIT/MG","DISSIPADOR DE ENERGIA DE 501 - AREIA E PEDRA DE MÃO COMERCIAIS","und",6,125.78,{"$f":"G49*(1+$J$5)","v":156.80992599999999},{"$f":"SUM(F49*G49,2)","v":756.68000000000006},{"$f":"ROUND(F49*H49,2)","v":940.86}]
["5.3","CAIXA COLETORA EM ALVENARIA",{"$nulls":6},{"$f":"SUM(I51:I55)","v":1348.2576799999999},{"$f":"SUM(J51:J55)","v":1668.41}]
["5.3.1","RO-40160","DEER/MG","ESCAVAÇÃO, CARGA, DESCARGA, ESPALHAMENTO E TRANSPORTE DE MATERIAL DE 1ª CATEGORIA, COMCAMINHÃO. DISTÂNCIA MÉDIA DE TRANSPORTE DE 3.001 A 4.000 M","m³",8.98,7.46,{"$f":"G51*(1+$J$5)","v":9.300381999999999},{"$f":"SUM(F51*G51,2)","v":68.990800000000007},{"$f":"ROUND(F51*H51,2)","v":83.52}]
["5.3.2","ED-48193","DEER/MG","ALVENARIA DE VEDAÇÃO COM BLOCO DE CONCRETO, ESP.19 CM, PARA REVESTIMENTO, INCLUSIVE ARGAMASSA PARA ASSENTAMENTO","m²",3.83,49.27,61.424909,190.70410000000001,{"$f":"ROUND(F52*H52,2)","v":235.26}]
["5.3.3","ED-50732","DEER/MG","EMBOÇO COM MARGAMASSA, TRAÇO 1:6 (CIMENTO E AREIA), ESP. 20MM, APLICAÇÃO MANUAL, PREPARO MECÂNICO","m²",3.03,23,28.674099999999999,71.69,{"$f":"ROUND(F53*H53,2)","v":86.88}]
["5.3.4","RO-41624","DEER/MG","CONCRETO DE CIMENTO PORTLAND, FCK>=15,0MPA (EXECUÇÃO, INCLUINDO OFORNECIMENTO E TRANSPORTE DOS AGREGADOS)","m³",0.40200000000000002,358.39,446.80481299999997,146.07277999999999,{"$f":"ROUND(F54*H54,2)","v":179.62}]
["5.3.5","ED-48676","DEER/MG","FORNECIMENTO, ASSENTAMENTO E  REJUNTAMENTO DE TUBO DE CONCRETO SIMPLES PS1 D = 400 MM","m",10,86.88,108.31329599999999,870.8,{"$f":"ROUND(F55*H55,2)","v":1083.1300000000001}]
["5.4","SARJETA DE CONCRETO ATERRO",{"$nulls":6},{"$f":"SUM(I57)","v":8799.23},{"$f":"SUM(J57)","v":10967.51}]
["5.4.1","RO-40613","DEER/MG","SARJETA DE CONCRETO EM ATERRO,TIPO DR.SCA- X/Y. LARGURA=60CM TIPO 30/10 (EXECUÇÃO, INCLUINDO ESCAVAÇÃO, FORNECIMENTO, TRANSPORTE E PLANTIO DA GRAMA)","m",309,28.47,{"$f":"G57*(1+$J$5)","v":35.493548999999994},{"$f":"SUM(F57*G57,2)","v":8799.23},{"$f":"ROUND(F57*H57,2)","v":10967.51}]
["5.5","SARJETA DE CONCRETO CORTE",{"$nulls":6},{"$f":"SUM(I59)","v":7404.2},{"$f":"SUM(J59)","v":9228.32}]
["5.5.1","RO-40661","DEER/MG","SARJETA DE CONCRETO EM CORTE TIPO DR.SCC-X/Y. LARGURA=90CM TIPO80/10 (EXECUÇÃO, INCLUINDOESCAVAÇÃO, FORNECIMENTO E TRANSPORTE DE TODOS OS MATERIAIS)","m",169,43.8,{"$f":"G59*(1+$J$5)","v":54.605459999999994},{"$f":"SUM(F59*G59,2)","v":7404.2},{"$f":"ROUND(F59*H59,2)","v":9228.32}]
["5.6","CANALETA",{"$nulls":6},{"$f":"SUM(I61)","v":2838.68},{"$f":"SUM(J61)","v":3536.49}]
["5.6.1","ED-14723","DEER/MG","CANALETA PARA DRENAGEM, EM CONCRETO COM FCK 15MPA, MOLDADA IN LOCO, SEÇÃO 60X60CM, FORMA EM CONTRA BARRANCO, EXCLUSIVE TAMPA, INCLUSIVE ESCAVAÇÃO, REATERRO COM TRANSPORTE E RETIRADA DO MATERIAL ESCAVADO (EM CAÇAMBA)","m",12,236.39,{"$f":"G61*(1+$J$5)","v":294.70741299999997},{"$f":"SUM(F61*G61,2)","v":2838.68},{"$f":"ROUND(F61*H61,2)","v":3536.49}]
["5.7","DESCIDA D'ÁGUA",{"$nulls":6},{"$f":"SUM(I63)","v":8432.01},{"$f":"SUM(J63)","v":10509.69}]
["5.7.1","ED-48598","DEER/MG","DESCIDA D´ÁGUA TIPO CALHA DN 500, EXCLUSIVE BOTA FORA","m",29,290.69,{"$f":"G63*(1+$J$5)","v":362.40322299999997},{"$f":"SUM(F63*G63,2)","v":8432.01},{"$f":"ROUND(F63*H63,2)","v":10509.69}]
["5.8","GABIÃO",{"$nulls":6},{"$f":"SUM(I65:I66)","v":269309.17355000001},{"$f":"SUM(J65:J66)","v":335742.76}]
["5.8.1","92757","SINAPI","PROTEÇÃO SUPERFICIAL DE CANAL EM GABIÃO TIPO COLCHÃO, ALTURA DE 30 CENTÍMETROS, ENCHIMENTO COM PEDRA DE MÃO TIPO RACHÃO - FORNECIMENTO E EXECUÇÃO. AF_12/2015","m²",1281.3499999999999,182.36,{"$f":"G65*(1+$J$5)","v":227.34821199999999},{"$f":"SUM(F65*G65,2)","v":233668.986},{"$f":"ROUND(F65*H65,2)","v":291312.63}]
["5.8.2","RO-41352   OBR-VIA-370","DEER/MG","TRANSPORTE DE AGREGADOS PARA GABIÃO. DISTÂNCIA MÉDIA DE TRANSPORTE > 50,10 KM","m³*km",{"$f":"F65*0.3*127","v":48819.434999999998},0.73,0.91009099999999987,35640.187549999995,{"$f":"ROUND(F66*H66,2)","v":44430.13}]
[{"$nulls":7},"TOTAL OBRAS DE ARTE CORRENTE E DRENAGEM",{"$f":"SUM(I46+I48+I50+I56+I58+I60+I62+I64)","v":300824.15123000002},{"$f":"SUM(J46+J48+J50+J56+J58+J60+J62+J64)","v":375005.06}]
[]
["6 - CONTROLE TECNOLÓGICO"]
["6.1","ENSAIO DE SOLO",{"$nulls":6},{"$f":"SUM(I71:I73)","v":1972.5700000000002},{"$f":"SUM(J71:J73)","v":2451.7200000000003}]
["6.1.1","ED-49564","DEER/MG","ENSAIO DE TEOR DE UMIDADE - PROCESSO SPEEDY - SOLOS E AGREGADOS MIUDOS","unid.",19,30.02,{"$f":"G71*(1+$J$5)","v":37.425933999999998},{"$f":"SUM(F71*G71,2)","v":572.38},{"$f":"ROUND(F71*H71,2)","v":711.09}]
["6.1.2","ED-49555","DEER/MG","ENSAIO DE COMPACTAÇÃO - AMOSTRAS NÃO TRABALHADAS - ENERGIA NORMAL - SOLOS","unid.",4,95.08,118.53623599999999,382.32,{"$f":"ROUND(F72*H72,2)","v":474.14}]
["6.1.3","ED-49559","DEER/MG","ENSAIO  DE MASSA ESPECIFICA - IN SITU - METODO FRASCO DE AREIA - SOLOS","unid.",29,35.03,43.671900999999998,1017.87,{"$f":"ROUND(F73*H73,2)","v":1266.49}]
["6.2","ENSAIO DE PAVIMENTO",{"$nulls":6},{"$f":"SUM(I75:I78)","v":16436.96},{"$f":"SUM(J75:J78)","v":20481.989999999998}]
["6.2.1","02-06-15","SIURB","ENSAIOS DE LABORATÓRIO - VISCOSIDADE","unid.",27,157.47999999999999,{"$f":"G75*(1+$J$5)","v":196.33031599999998},{"$f":"SUM(F75*G75,2)","v":4253.96},{"$f":"ROUND(F75*H75,2)","v":5300.92}]
["6.2.2","02-06-17","SIURB","ENSAIOS DE LABORATÓRIO - PONTO DE FULGOR","unid.",27,135.99,169.53873300000001,3673.7300000000005,{"$f":"ROUND(F76*H76,2)","v":4577.55}]
["6.2.3","02-06-18","SIURB","ENSAIOS DE LABORATÓRIO - PENETRAÇÃO","unid.",27,196.42,244.87681399999997,5305.3399999999992,{"$f":"ROUND(F77*H77,2)","v":6611.67}]
["6.2.4","02-06-19","SIURB","ENSAIOS DE LABORATÓRIO - PONTO DE AMOLECIMENTO","unid.",27,118.59,147.84615299999999,3203.9300000000003,{"$f":"ROUND(F78*H78,2)","v":3991.85}]
["6.3","ENSAIO DE AGREGADOS",{"$nulls":6},{"$f":"SUM(I80:I82)","v":7315.9000000000005},{"$f":"SUM(J80:J82)","v":9113.25}]
["6.3.1","02-06-11","SIURB","ENSAIOS DE LABORATÓRIO - LOS ANGELES","unid.",1,435.4,{"$f":"G80*(1+$J$5)","v":542.81317999999999},{"$f":"SUM(F80*G80,2)","v":437.4},{"$f":"ROUND(F80*H80,2)","v":542.80999999999995}]
["6.3.2","02-06-13","SIURB","ENSAIOS DE LABORATÓRIO - DURABILIDADE","unid.",1,470.64,586.7468879999999,472.64,{"$f":"ROUND(F81*H81,2)","v":586.75}]
["6.3.3","02-06-14","SIURB","ENSAIOS DE LABORATÓRIO - ADESIVIDADE","unid.",27,237.18,295.69230599999997,6405.8600000000006,{"$f":"ROUND(F82*H82,2)","v":7983.69}]
["6.4","ENSAIO DE CONCRETO",{"$nulls":6},{"$f":"SUM(I84)","v":632.49},{"$f":"SUM(J84)","v":786.03}]
["6.4.1","ED-49546","DEER/MG","ENSAIO DE RESISTENCIA A COMPRESSÃO SIMPLES - CONCRETO","unid.",7,90.07,{"$f":"G84*(1+$J$5)","v":112.29026899999998},{"$f":"SUM(F84*G84,2)","v":632.49},{"$f":"ROUND(F84*H84,2)","v":786.03}]
[{"$nulls":7},"TOTAL CONTROLE TECNOLÓGICO",{"$f":"SUM(I70+I74+I79+I83)","v":26357.920000000002},{"$f":"SUM(J70+J74+J79+J83)","v":32832.99}]
[]
["7- OAE"]
["7.1","INFRA ESTRUTURA",{"$nulls":6},{"$f":"SUM(I89:I95)","v":28208.590499999998},{"$f":"SUM(J89:J95)","v":35150.200000000004}]
["7.1.1","72917","SINAPI","ESCAVACAO MECANICA DE VALA EM MATERIAL 2A. CATEGORIA DE 2,01 ATE 4,00M DE PROFUNDIDADE COM UTILIZACAO DE ESCAVADEIRA HIDRAULICA","m³",726.54,11.04,{"$f":"G89*(1+$J$5)","v":13.763567999999998},{"$f":"SUM(F89*G89,2)","v":8023.0015999999987},{"$f":"ROUND(F89*H89,2)","v":9999.7800000000007}]
["7.1.2","93382","SINAPI","REATERRO MANUAL DE VALAS COM COMPACTAÇÃO MECANIZADA. AF_04/2016","m³",699.08,21.06,26.255501999999996,14724.6248,18354.7]
["7.1.3","83534","SINAPI","LASTRO DE CONCRETO, PREPARO MECÂNICO, INCLUSOS ADITIVO IMPERMEABILIZANTE, LANÇAMENTO E ADENSAMENTO","m³",1.94,434.59,541.8033529999999,845.10459999999989,1051.0999999999999]
["7.1.4","5914569","DNIT/MG","TRANSPORTE COM CAMINHÃO BETONEIRA - RODOVIA PAVIMENTADA (Entre Bocaiúva/MG e Francisco Dumont/MG - 69,00km)","txkm",{"$f":"SUM(F94*2.4)*69","v":2227.3199999999997},0.35,0.43634499999999993,781.5619999999999,971.88]
["7.1.5","5914539","DNIT/MG","TRANSPORTE COM CAMINHÃO BETONEIRA - RODOVIA EM LEITO NATURAL (Entre Francisco Dumont/MG e Área A - 15,00km)","txkm",{"$f":"SUM(F94*2.4)*15","v":484.19999999999993},0.54,0.67321799999999998,263.46799999999996,325.97000000000003]
["7.1.6",1106280,"DNIT/MG","CONCRETO PARA BOMBEAMENTO FCK = 30 MPA - CONFECÇÃO EM CENTRAL DOSADORA DE 30 M³/H - AREIA E BRITA COMERCIAIS","m³",13.45,224.51,279.89661699999999,3021.6594999999998,3764.61]
["7.1.7","92270","SINAPI","FABRICAÇÃO DE FÔRMA PARA VIGAS, COM MADEIRA SERRADA, E = 25 MM. AF_12/2015","m²",7.32,74.75,93.19082499999999,549.17000000000007,682.16]
["7.2","MESO E SUPER ESTRUTURA",{"$nulls":6},{"$f":"SUM(I97:I122)","v":707940.55764117767},{"$f":"SUM(J97:J122)","v":882524.6399999999}]
["7.2.1",92263,"SINAPI","FABRICAÇÃO DE FÔRMA PARA PILARES E ESTRUTURAS SIMILARES, EM CHAPA DE MADEIRA COMPENSADA RESINADA, E = 17 MM. AF_12/2015","m²",{"$f":"1732.13821977567+87.32","v":1819.4582197756699},84.2,{"$f":"G97*(1+$J$5)","v":104.97214},{"$f":"SUM(F97*G97,2)","v":153200.38210511141},{"$f":"ROUND(F97*H97,2)","v":190992.42}]
["7.2.2","83534","SINAPI","LASTRO DE CONCRETO, PREPARO MECÂNICO, INCLUSOS ADITIVO IMPERMEABILIZANTE, LANÇAMENTO E ADENSAMENTO","m³",5.3420750000000004,434.59899999999999,541.81457330000001,2323.6604529250003,2894.41]
["7.2.3","5914569","DNIT/MG","TRANSPORTE COM CAMINHÃO BETONEIRA - RODOVIA PAVIMENTADA (Entre Bocaiúva/MG e Francisco Dumont/MG - 69,00km)","txkm",{"$f":"SUM(($F$101+$F$102+$F$103)*2.4)*69","v":47110.398876000007},0.35,0.43634499999999993,16490.639606600002,20556.39]
["7.2.4","5914539","DNIT/MG","TRANSPORTE COM CAMINHÃO BETONEIRA - RODOVIA EM LEITO NATURAL (Entre Francisco Dumont/MG e Área A - 15,00km)","txkm",{"$f":"SUM(($F$101+$F$102+$F$103)*2.4)*15","v":10241.391060000002},0.54,0.67321799999999998,5532.3511724000009,6894.69]
["7.2.5",1116263,"DNIT/MG","CONCRETO PARA BOMBEAMENTO FCK = 25 MPA - CONFECÇÃO EM CENTRAL DOSADORA DE 30 M³/H - AREIA E BRITA COMERCIAIS","m³",12.71998,214.21,267.05560700000001,2726.7469157999999,3396.94]
["7.2.6",1106280,"DNIT/MG","CONCRETO PARA BOMBEAMENTO FCK = 30 MPA - CONFECÇÃO EM CENTRAL DOSADORA DE 30 M³/H - AREIA E BRITA COMERCIAIS","m³",98.265905000000018,224.51,279.89661699999999,22063.678331550003,27504.29]
["7.2.7",1106281,"DNIT/MG","CONCRETO PARA BOMBEAMENTO FCK = 35 MPA - CONFECÇÃO EM CENTRAL DOSADORA DE 30 M³/H - AREIA E BRITA COMERCIAIS","m³",173.49720000000002,236.01,294.23366699999997,40949.074172000001,51048.72]
["7.2.8",1107860,"DNIT/MG","LANÇAMENTO MECÂNICO DE CONCRETO COM BOMBA LANÇA SOBRE CHASSI COM CAPACIDADE DE 45 M³/H - CONFECÇÃO EM CENTRAL DOSADORA DE 40 M³/H","m³",{"$f":"SUM(F101+F102+F103)","v":284.48308500000007},31.52,39.295983999999997,8968.9068392000027,11179.04]
["7.2.9","ED-50430","DEER/MG","FORNECIMENTO E APLICAÇÃO DE GROUT PARA ANCORAGENS","m³",0.28800000000000003,272.56,339.80055199999998,80.497280000000003,97.86]
["7.2.10",92792,"SINAPI","CORTE E DOBRA DE AÇO CA-50, DIÂMETRO DE 6,3 MM, UTILIZADO EM ESTRUTURA S DIVERSAS","kg",1778,5.92,7.380463999999999,10527.76,13122.46,{"$f":"F106/$L$106","v":4.568345323741007E-2},{"$f":"SUM(F106:F113)","v":38920}]
["7.2.11",92793,"SINAPI","CORTE E DOBRA DE AÇO CA-50, DIÂMETRO DE 8,0 MM, UTILIZADO EM ESTRUTURA S DIVERSAS","kg",2412,6.35,7.9165449999999993,15318.199999999999,19094.71,{"$f":"F107/$L$106","v":6.1973278520041107E-2}]
["7.2.12",92794,"SINAPI","CORTE E DOBRA DE AÇO CA-50, DIÂMETRO DE 10,0 MM, UTILIZADO EM ESTRUTURAS DIVERSAS","kg",10991,5.27,6.5701089999999986,57924.569999999992,72212.070000000007,0.28239979445015417]
["7.2.13",92795,"SINAPI","CORTE E DOBRA DE AÇO CA-50, DIÂMETRO DE 12,5 MM, UTILIZADO EM ESTRUTURAS DIVERSAS","kg",6416,4.91,6.1212970000000002,31504.560000000001,39274.239999999998,0.16485097636176774]
["7.2.14",92796,"SINAPI","CORTE E DOBRA DE AÇO CA-50, DIÂMETRO DE 16,0 MM, UTILIZADO EM ESTRUTURAS DIVERSAS","kg",10454,4.84,6.0340279999999993,50599.360000000001,63079.73,0.2686022610483042]
["7.2.15",92797,"SINAPI","CORTE E DOBRA DE AÇO CA-50, DIÂMETRO DE 20,0 MM, UTILIZADO EM ESTRUTURAS DIVERSAS","kg",6163,4.62,5.759754,28475.06,35497.360000000001,0.15835046248715312]
["7.2.16",92798,"SINAPI","CORTE E DOBRA DE AÇO CA-50, DIÂMETRO DE 25,0 MM, UTILIZADO EM ESTRUTURAS DIVERSAS","kg",334,5.33,6.6449109999999996,1782.22,2219.4,8.5817060637204522E-3]
["7.2.17",92880,"SINAPI","CORTE E DOBRA DE AÇO CA-25, DIÂMETRO DE 20,0 MM. AF_12/2015","kg",372,4.78,5.9592260000000001,1780.16,2216.83,9.5580678314491265E-3]
["7.2.18",307736,"DNIT/MG","JUNTA DE DILATAÇÃO EM PERFIL EXTRUDADO DE BORRACHA VULCANIZADA DE 40 X 70 MM - FORNECIMENTO E INSTALAÇÃO","m",20.6,1017.84,1268.9411279999999,20969.504000000001,26140.19]
["7.2.19",91790,"SINAPI","(COMPOSIÇÃO REPRESENTATIVA) DO SERVIÇO DE INSTALAÇÃO DE TUBOS DE PVC, SÉRIE R, ÁGUA PLUVIAL, DN 100 MM (INSTALADO EM RAMAL DE ENCAMINHAMENTO , OU CONDUTORES VERTICAIS), INCLUSIVE  CONEXÕES, CORTES E FIXAÇÕES, PARA PRÉDIOS. AF_10/2015 ","m",172.46,40.950000000000003,51.052365000000002,7064.237000000001,8804.49]
["7.2.20",84154,"SINAPI","APARELHO APOIO NEOPRENE FRETADO ","dm³",45.12,109.06,135.965102,4922.7871999999998,6134.75]
["7.2.21","73770/001","SINAPI","BARREIRA PRE-MOLDADA EXTERNA CONCRETO ARMADO 0,25X0,40X1,14M FCK=25MPA ACO CA-50 INCL VIGOTA HORIZONTAL MONTANTE A CADA 1,00M FERROS DE LIGACAO E MATERIAIS.","m",86.231999999999999,450.09,561.12720299999989,38814.160879999996,48387.12]
["7.2.22","ED-50429","DEER/MG","LANÇAMENTO DE TABULEIRO PRÉ-MOLDADO","unid.",360,63.38,79.015845999999996,22818.799999999999,28445.7]
["7.2.23",4507956,"DNIT/MG","CORDOALHA CP 190 RB D = 12,7 MM - FORNECIMENTO, PREPARO E COLOCAÇÃO ","Kg",5425.2,9.3699999999999992,11.681578999999997,50836.123999999996,63374.9]
["7.2.24",4508176,"DNIT/MG","BAINHA METÁLICA DIÂMETRO 95 MM PARA 19 CORDOALHAS D = 15,2 MM, SEMI-RÍGIDA, REDONDA, COM MONTAGEM E INJEÇÃO DE NATA DE CIMENTO","m",554.4,69.34,86.446178000000003,38444.095999999998,47925.760000000002]
["7.2.25",4507755,"DNIT/MG","ANCORAGEM ATIVA PARA 12 CORDOALHAS D = 12,7 MM COM PLACA DE ANCORAGEM, BLOCO, CUNHAS TRIPARTIDAS, TROMBETA E PROTENSÃO","unid.",32,1454.16,1812.9012720000001,46535.12,58012.84]
["7.2.26","26.13.01.99","DER/SP","LANCAMENTO VIGA P<=50T-GUINDASTE AUTO PROPULSADO      ","unid.",4,{"$f":"SUM(9672.17/1.4179)","v":6821.4754213978422},{"$f":"G122*(1+$J$5)","v":8504.3334078566895},{"$f":"SUM(F122*G122,2)","v":27287.901685591369},{"$f":"ROUND(F122*H122,2)","v":34017.33}]
[{"$nulls":7},"TOTAL OAE",{"$f":"SUM(I88+I96)","v":736149.14814117772},{"$f":"SUM(J88+J96)","v":917674.83999999985}]
[]
["8 - MATERIAIS E TRANSPORTE PARA PAVIMENTAÇÃO ASFÁLTICA (PARA USINA EM MONTES CLAROS)"]
["8.1","CAP - CIMENTO ASFÁLTICO",{"$nulls":6},{"$f":"SUM(I127:I128)","v":4677.7079999999996},{"$f":"SUM(J127:J128)","v":5826.71}]
["8.1.1","72849","SINAPI","CARGA, MANOBRAS E DESCARGA DE MISTURAS DE SOLOS E AGREGADOS (BASES ESTABILIZADAS EM USINA) COM CAMINHAO BASCULANTE 6 M3","t",22.1,2.68,{"$f":"G127*(1+$J$5)","v":3.3411559999999998},{"$f":"SUM(F127*G127,2)","v":61.228000000000009},{"$f":"ROUND(F127*H127,2)","v":73.84}]
["8.1.2",93176,"SINAPI","TRANSPORTE DE MATERIAL ASFALTICO, COM CAMINHÃO COM CAPACIDADE DE 30000 L EM RODOVIA PAVIMENTADA. AF_02/2016 (P/ ITEM 6.1.9) (ORIUNDO DE BETIM/MG DISTANTE 435KM DE MONTES CLAROS/MG)","txkm",{"$f":"F127*435","v":9613.5},0.48,0.59841599999999995,4616.4799999999996,{"$f":"ROUND(F128*H128,2)","v":5752.87}]
["8.2","AREIA",{"$nulls":6},{"$f":"SUM(I130:I131)","v":12973.495000000001},{"$f":"SUM(J130:J131)","v":16169.07}]
["8.2.1","72888","SINAPI","CARGA, MANOBRAS E DESCARGA DE AREIA, BRITA, PEDRA DE MAO E SOLOS COM CAMINHAO BASCULANTE 6 M3 (DESCARGA LIVRE)","m³",98.5,1.17,{"$f":"G130*(1+$J$5)","v":1.4586389999999998},{"$f":"SUM(F130*G130,2)","v":117.24499999999999},{"$f":"ROUND(F130*H130,2)","v":143.68}]
["8.2.2","72884","SINAPI","TRANSPORTE COMERCIAL COM CAMINHAO CARROCERIA 9 T (DA CIDADE DE BARRA DO GUAICUÍ/MG ATÉ MONTES CLAROS/MG = 145KM)","m³*km",{"$f":"F130*145","v":14282.5},0.9,1.1220299999999999,12856.25,{"$f":"ROUND(F131*H131,2)","v":16025.39}]
["8.3","BRITA",{"$nulls":6},{"$f":"SUM(I133:I134)","v":1353.559},{"$f":"SUM(J133:J134)","v":1682.49}]
["8.3.1","72888","SINAPI","CARGA, MANOBRAS E DESCARGA DE AREIA, BRITA, PEDRA DE MAO E SOLOS COM CAMINHAO BASCULANTE 6 M3 (DESCARGA LIVRE)","m³",132.69999999999999,1.17,{"$f":"G133*(1+$J$5)","v":1.4586389999999998},{"$f":"SUM(F133*G133,2)","v":157.25899999999999},{"$f":"ROUND(F133*H133,2)","v":193.56}]
["8.3.2","72884","SINAPI","TRANSPORTE COMERCIAL COM CAMINHAO CARROCERIA 9 T (DE JAZIDA DISTANTE 10KM DE MONTES CLAROS/MG) ","m³*km",{"$f":"F133*10","v":1327},0.9,1.1220299999999999,1196.3,{"$f":"ROUND(F134*H134,2)","v":1488.93}]
[{"$nulls":7},"TOTAL DE MATERIAIS DO CONCRETO",{"$f":"SUM(I126+I129+I132)","v":19004.762000000002},{"$f":"SUM(J126+J129+J132)","v":23678.27}]
[]
["9 - PAVIMENTAÇÃO ASFÁLTICA"]
["9.1","PAVIMENTO FLEXIVEL - NOVO E RECUPERAÇÃO",{"$nulls":6},{"$f":"SUM(I139:I154)","v":309474.10520384001},{"$f":"SUM(J139:J154)","v":385781.45999999996}]
["9.1.1","83338","SINAPI","ESCAVACAO MECANICA, A CEU ABERTO, EM MATERIAL DE 1A CATEGORIA, COM ESCAVADEIRA HIDRAULICA, CAPACIDADE DE 0,78 M3 - CORTE","m³",464.7,2.23,{"$f":"G139*(1+$J$5)","v":2.780141},{"$f":"SUM(F139*G139,2)","v":1038.2809999999999},{"$f":"ROUND(F139*H139,2)","v":1291.93}]
["9.1.2","83338","SINAPI","ESCAVACAO MECANICA, A CEU ABERTO, EM MATERIAL DE 1A CATEGORIA, COM ESCAVADEIRA HIDRAULICA, CAPACIDADE DE 0,78 M3 - CORTE JAZIDA","m³",7006.31,2.23,2.780141,15626.071300000001,19478.53,7006.31,8757.89]
["9.1.3","RO-40251","DEER/MG","COMPACTAÇÃO DE ATERRO A 100% PROCTOR NORMAL","m³",7006.31,3.15,3.9271049999999996,22071.876500000002,27514.52,7006.31,8757.89]
["9.1.4","RO-43112","DEER/MG","SUB-BASE, SEMMISTURA, COMPACTADA NA ENERGIA DO PROCTOR INTERMEDIÁRIO (EXECUÇÃO, INCLUINDO ESCAVAÇÃO, CARGA, DESCARGA, ESPALHAMENTO, UMIDECIMENTO E COMPACTAÇÃO DO MATERIAL; EXCLUI AQUISIÇÃO E TRANSPORTE DO MATERIAL)","m³",395.85,14.25,17.765474999999999,5642.8625000000002,7032.46]
["9.1.5","RO-43113","DEER/MG","BASE DE SOLO SEM MISTURA, COMPACTADA NA ENERGIA DO PROCTOR INTERMEDIÁRIO (EXECUÇÃO, INCLUINDO ESCAVAÇÃO, CARGA, DESCARGA, ESPALHAMENTO, UMIDECIMENTO E COMPACTAÇÃO DO MATERIAL; EXCLUI AQUISIÇÃO E TRANSPORTEDO MATERIAL)","m³",395.85,14.25,17.765474999999999,5642.8625000000002,7032.46]
["9.1.6","96401","SINAPI","EXECUÇÃO DE IMPRIMAÇÃO COM ASFALTO DILUÍDO CM-30. AF_09/2017","m²",2919.04,6.24,7.7794080000000001,18216.809600000001,22708.400000000001]
["9.1.7",93176,"SINAPI","TRANSPORTE DE MATERIAL ASFALTICO, COM CAMINHÃO COM CAPACIDADE DE 30000 L EM RODOVIA PAVIMENTADA. AF_02/2016 (P/ ITEM 6.1.9) (ORIUNDO DE BETIM/MG DISTANTE 377KM DIRETO FCO DUMONT)","txkm",{"$f":"SUM(F144*0.0012)*377","v":1320.5736959999999},0.48,0.59841599999999995,635.87537407999992,790.25]
["9.1.8",93178,"SINAPI","TRANSPORTE DE MATERIAL ASFALTICO, COM CAMINHÃO COM CAPACIDADE DE 30000 TXKM L EM RODOVIA NÃO PAVIMENTADA PARA DISTÂNCIAS MÉDIAS DE TRANSPORTE SUPERIORES A 100 KM. AF_02/2016  (ORIUNDO DE FCO DUMONT DISTANTE 15KM DIRETO PARA OBRA A)","txkm",{"$f":"SUM(F144*0.0012)*15","v":52.542719999999996},0.54,0.67321799999999998,30.373068799999999,35.369999999999997]
["9.1.9","72942","SINAPI","PINTURA DE LIGACAO COM EMULSAO RR-1C","m²",2919.04,1.62,2.0196540000000001,4730.8447999999999,5895.45]
["9.1.10",93176,"SINAPI","TRANSPORTE DE MATERIAL ASFALTICO, COM CAMINHÃO COM CAPACIDADE DE 30000 L EM RODOVIA PAVIMENTADA. AF_02/2016 (P/ ITEM 6.1.9) (ORIUNDO DE BETIM/MG DISTANTE 377KM DIRETO FCO DUMONT)","txkm",{"$f":"SUM(F147*0.0004)*377","v":440.19123200000001},0.48,0.59841599999999995,213.29179135999999,263.42]
["9.1.11",93178,"SINAPI","TRANSPORTE DE MATERIAL ASFALTICO, COM CAMINHÃO COM CAPACIDADE DE 30000 TXKM L EM RODOVIA NÃO PAVIMENTADA PARA DISTÂNCIAS MÉDIAS DE TRANSPORTE SUPERIORES A 100 KM. AF_02/2016  (ORIUNDO DE FCO DUMONT DISTANTE 15KM DIRETO PARA OBRA A)","txkm",{"$f":"SUM(F147*0.0004)*15","v":17.514240000000001},0.54,0.67321799999999998,11.457689600000002,11.79]
["9.1.12",95995,"SINAPI","CONSTRUÇÃO DE PAVIMENTO COM APLICAÇÃO DE CONCRETO BETUMINOSO USINADO A QUENTE (CBUQ), CAMADA DE ROLAMENTO, COM ESPESSURA DE 5,0 CM - EXCLUSIVE TRANSPORTE. AF_03/2017 (PAVIMENTAÇÃO ESTRADA)","m³",131.94999999999999,1017.65,1268.7042549999999,134280.91749999998,167405.53]
["9.1.13",95995,"SINAPI","CONSTRUÇÃO DE PAVIMENTO COM APLICAÇÃO DE CONCRETO BETUMINOSO USINADO A QUENTE (CBUQ), CAMADA DE ROLAMENTO, COM ESPESSURA DE 5,0 CM - EXCLUSIVE TRANSPORTE. AF_03/2017 (PAVIMENTAÇÃO OAE)","m³",28,1017.65,1268.7042549999999,28496.2,35523.72]
["9.1.14",93176,"SINAPI","TRANSPORTE DE MATERIAL ASFALTICO, COM CAMINHÃO COM CAPACIDADE DE 30000 L EM RODOVIA PAVIMENTADA. AF_02/2016 (P/ ITEM 2.1.12) (ORIUNDO D MONTES CLAROS/MG DIST. 111KM)","txkm",{"$f":"SUM((F150+F151)*2.4)*111","v":42610.679999999993},0.48,0.59841599999999995,20455.126399999997,25498.91]
["9.1.15",93178,"SINAPI","TRANSPORTE DE MATERIAL ASFALTICO, COM CAMINHÃO COM CAPACIDADE DE 30000 TXKM L EM RODOVIA NÃO PAVIMENTADA PARA DISTÂNCIAS MÉDIAS DE TRANSPORTE SUPERIORES A 100 KM. AF_02/2016 (JEQUITAÍ P/ ÁREA A - 15KM)","txkm",{"$f":"SUM((F150+F151)*2.4)*15","v":5758.1999999999989},0.54,0.67321799999999998,3111.4279999999994,3876.52]
["9.1.16","RO-41344","DEER/MG","TRANSPORTE DE MATERIAL DE JAZIDA PARA CONSERVAÇÃO. DISTÂNCIA MÉDIA DE TRANSPORTE > 50,10 KM (ESCAVAÇÃO+BASE E SUB BASE) - 8,10KM","m³xkm",{"$f":"SUM(F140+F142+F143)*8.1","v":63163.881000000008},0.78,0.97242600000000001,49269.827180000008,61422.2]
[{"$nulls":7},"TOTAL PAVIMENTAÇÃO ASFÁLTICA",{"$f":"SUM(I138)","v":309474.10520384001},{"$f":"SUM(J138)","v":385781.45999999996}]
[]
["10 - COMPLEMENTARES"]
["10.1","RECOMPOSIÇÃO DE DIVISAS",{"$nulls":6},{"$f":"SUM(I159)","v":11982.5},{"$f":"SUM(J159)","v":14936.09}]
["10.1.1","74039/001","SINAPI","CERCA COM MOUROES DE MADEIRA ROLICA, DIAMETRO 11CM, ESPACAMENTO DE 2M, ALTURA LIVRE DE 1M, CRAVADOS 0,5M, COM 5 FIOS DE ARAME FARPADO Nº 14 CLASSE 250","m",490,24.45,{"$f":"G159*(1+$J$5)","v":30.481814999999997},{"$f":"SUM(F159*G159,2)","v":11982.5},{"$f":"ROUND(F159*H159,2)","v":14936.09}]
[{"$nulls":7},"TOTAL COMPLEMENTARES",{"$f":"SUM(I158)","v":11982.5},{"$f":"SUM(J158)","v":14936.09}]
[]
["11 - SINALIZAÇÃO DE OBRA E DEFINITIVA"]
["11.1","SINALIZAÇÃO DE OBRA",{"$nulls":6},{"$f":"SUM(I164:I168)","v":22899.523300000001},{"$f":"SUM(J164:J168)","v":28536.38}]
["11.1.1",97051,"SINAPI","SINALIZAÇÃO COM FITA FIXADA NA ESTRUTURA. AF_11/2017","m",3000,0.46,{"$f":"G164*(1+$J$5)","v":0.57348199999999994},{"$f":"SUM(F164*G164,2)","v":1382},{"$f":"ROUND(F164*H164,2)","v":1720.45}]
["11.1.2","RO-41841","DEER/MG","PLACA DE AÇO CARBONO COM PELÍCULA REFLETIVA GRAU TÉCNICO TIPO I DA ABNT - PLACA CIRCULAR (EXECUÇÃO, INCLUINDO FORNECIMENTO E TRANSPORTE DE TODOS OS MATERIAIS, INCLUSIVE POSTE DE SUSTENTAÇÃO)","m²",0.78,337.22,420.41217399999999,265.03160000000003,{"$f":"ROUND(F165*H165,2)","v":327.92}]
["11.1.3","RO-41844","DEER/MG","PLACA DE AÇO CARBONO COM PELÍCULA REFLETIVA GRAU TÉCNICO TIPO I DA ABNT - PLACA QUADRADA (EXECUÇÃO, INCLUINDO FORNECIMENTO E TRANSPORTE DE TODOS OS MATERIAIS, INCLUSIVE POSTE DE SUSTENTAÇÃO)","m²",15.89,326.75,407.35922499999998,5194.0574999999999,{"$f":"ROUND(F166*H166,2)","v":6472.94}]
["11.1.4","RO-43226","DEER/MG","COLOCAÇÃO DE PLACAS","m²",16.670000000000002,64.06,79.863602,1069.8802000000001,{"$f":"ROUND(F167*H167,2)","v":1331.33}]
["11.1.5","85424","SINAPI","ISOLAMENTO DE OBRA COM TELA PLASTICA COM MALHA DE 5MM E ESTRUTURA DE MADEIRA PONTALETEADA","m",794.2,18.87,23.525229,14988.554000000002,{"$f":"ROUND(F168*H168,2)","v":18683.740000000002}]
["11.2","SINALIZAÇÃO DEFINITIVA HORIZONTAL",{"$nulls":6},{"$f":"SUM(I170:I171)","v":315.3827},{"$f":"SUM(J170:J171)","v":388.2}]
["11.2.1","RO-41237               OBR-VIA-245","DEER/MG","LINHAS DE RESINA ACRILICA 0,6MM DE ESPESSURA E LARGURA = 0,10M (EXECUÇÃO, INCLUSIVE PRÉ-MARCAÇÃO, FORNECIMENTO E TRANSPORTE DE TODOS OS MATERIAIS) - LINHAS BRANCAS","m²",59.99,1.73,{"$f":"G170*(1+$J$5)","v":2.1567909999999997},{"$f":"SUM(F170*G170,2)","v":105.78270000000001},{"$f":"ROUND(F170*H170,2)","v":129.38999999999999}]
["11.2.2","RO-41237               OBR-VIA-245","DEER/MG","LINHAS DE RESINA ACRILICA 0,6MM DE ESPESSURA E LARGURA = 0,10M (EXECUÇÃO, INCLUSIVE PRÉ-MARCAÇÃO, FORNECIMENTO E TRANSPORTE DE TODOS OS MATERIAIS) - LINHAS AMARELAS","m²",120,1.73,2.1567909999999997,209.6,{"$f":"ROUND(F171*H171,2)","v":258.81}]
["11.3","SINALIZAÇÃO DEFINITIVA VERTICAL",{"$nulls":6},{"$f":"SUM(I173:I175)","v":553.29920000000004},{"$f":"SUM(J173:J175)","v":682.32}]
["11.3.1","RO-41841","DEER/MG","PLACA DE AÇO CARBONO COM PELÍCULA REFLETIVA GRAU TÉCNICO TIPO I DA ABNT - PLACA CIRCULAR (EXECUÇÃO, INCLUINDO FORNECIMENTO E TRANSPORTE DE TODOS OS MATERIAIS, INCLUSIVE POSTE DE SUSTENTAÇÃO)","m²",0.39,337.22,{"$f":"G173*(1+$J$5)","v":420.41217399999999},{"$f":"SUM(F173*G173,2)","v":133.51580000000001},{"$f":"ROUND(F173*H173,2)","v":163.96}]
["11.3.2","RO-41844","DEER/MG","PLACA DE AÇO CARBONO COM PELÍCULA REFLETIVA GRAU TÉCNICO TIPO I DA ABNT - PLACA QUADRADA (EXECUÇÃO, INCLUINDO FORNECIMENTO E TRANSPORTE DE TODOS OS MATERIAIS, INCLUSIVE POSTE DE SUSTENTAÇÃO)","m²",1,326.74,407.34675799999997,328.74,{"$f":"ROUND(F174*H174,2)","v":407.35}]
["11.3.3","RO-43226","DEER/MG","COLOCAÇÃO DE PLACAS","m²",1.39,64.06,79.863602,91.043399999999991,{"$f":"ROUND(F175*H175,2)","v":111.01}]
["11.4","DISPOSITIVOS DE SEGURANÇA",{"$nulls":6},{"$f":"SUM(I177:I178)","v":73445.557479370895},{"$f":"SUM(J177:J178)","v":91559.590000000011}]
["11.4.1","RO-41763","DEER/MG","DEFENSA SINGELA SEMI-MALEÁVEL SV-DSM-02 (EXECUÇÃO, INCLUINDO FORNECIMENTO, COLOCAÇÃO E TRANSPORTE DE TODOS OS MATERIAIS)","m",275,264.45999999999998,{"$f":"G177*(1+$J$5)","v":329.70228199999997},{"$f":"SUM(F177*G177,2)","v":72728.5},{"$f":"ROUND(F177*H177,2)","v":90668.13}]
["11.4.2","28.10.01.99","DER/SP","FORN./INSTAL. BALIZ.(CATADIOPTRICO) P/DEF. MET. C/PELICULA GT+GT, CONF.OP-06-05","un.",34,{"$f":"SUM(29.82/1.4179)","v":21.031102334438255},26.21947528034417,717.05747937090064,{"$f":"ROUND(F178*H178,2)","v":891.46}]
[{"$nulls":7},"TOTAL SINALIZAÇÃO DE OBRA E DEFINITIVA",{"$f":"SUM(I163+I169+I172+I176)","v":97213.762679370891},{"$f":"SUM(J163+J169+J172+J176)","v":121166.49000000002}]
[]
["12 - DESMOBILIZAÇÃO"]
["12.1","DESMOBILIZAÇÃO",{"$nulls":6},{"$f":"SUM(I183)","v":14580.664000000001},{"$f":"SUM(J183)","v":18175.22}]
["12.1.1","-","CPU","DESMOBILIZAÇÃO","un.",1,{"$f":"CPU!$I$424","v":14578.664000000001},{"$f":"G183*(1+$J$5)","v":18175.2204088},{"$f":"SUM(F183*G183,2)","v":14580.664000000001},{"$f":"ROUND(F183*H183,2)","v":18175.22}]
[{"$nulls":7},"TOTAL DESMOBILIZAÇÃO",{"$f":"SUM(I182)","v":14580.664000000001},{"$f":"SUM(J182)","v":18175.22}]
[]
[{"$nulls":7},"TOTAL GERAL",{"$f":"SUM(I20+I27+I32+I43+I67+I85+I123+I135+I155+I160+I179+I184)","v":4125810.7476661811},{"$f":"SUM(J20+J27+J32+J43+J67+J85+J123+J135+J155+J160+J179+J184)","v":5143371.459999999}]

{"sheet":"PL-ORÇ-DEF.B","index":7,"n_rows":181,"n_cols":10,"rows_kept":181,"cut":false,"hidden":false,"merged":[[45,1,45,3],[0,0,0,9],[6,0,6,9],[7,0,8,0],[7,1,8,1],[7,2,8,2],[7,3,8,3],[7,4,8,4],[7,5,8,5],[7,6,7,7],[7,8,7,9],[10,0,10,9],[21,0,21,9],[28,0,28,9],[33,0,33,9],[44,0,44,9],[47,1,47,3],[55,1,55,3],[57,1,57,3],[59,1,59,3],[53,1,53,3],[156,0,156,9],[131,0,131,9],[151,0,151,9],[175,0,175,9],[63,0,63,9],[81,0,81,9],[118,1,118,9],[119,0,119,9]]}
["CDV-249-001-000-002-PL-PE-A07-001 - PLANILHA DE QUANTIDADES E CUSTOS – OAE E PAVIMENTAÇÃO"]
["CONTRATANTE:",null,"CODEVASF - COMPANHIA DE DESENVOLVIMENTO DOS VALES DO SÃO FRANCISCO E PARNAÍBA",{"$nulls":5},"REV.:","A7"]
["OBRA:",null,"OAE E PAVIMENTAÇÃO - ÁREA B ",{"$nulls":5},"DATA:","NOV2019"]
["LOCAL:",null,"MG208 - ENTRE JEQUITAÍ/ MG E FRANCISCO DUMONT/MG",{"$nulls":4},"VALOR TOTAL C/BDI (R$):",null,{"$f":"SUM(J181)","v":1458970.17}]
["DATA BASE TABELAS:",null,"SINAPI-SET2019  /  DEER-MG-AGO2019 / DNIT-MG ABR/2019 / SIURB JAN2019 / DER-SP - MAR2019",{"$nulls":4},"BDI (%):",null,0.24229999999999999]
["PRAZO EXECUÇÃO:",null,"6 (SEIS) MESES"]
[]
["Item","Código","Fonte","Especificação","Unidade","Quantidade","Preço Unitário (R$)",null,"Preço Total"]
[{"$nulls":6},"Sem BDI","Com BDI","Sem BDI","Com BDI"]
[]
["1 - SERVIÇOS PRELIMINARES"]
["1.1","SERVIÇOS PRELIMINARES",{"$nulls":6},{"$f":"SUM(I13:I19)","v":25873.094499999999},{"$f":"SUM(J13:J19)","v":32124.74}]
["1.1.1","RO-41291","DEER/MG","REMOÇÃO DE CERCAS","m",255.81,6.45,{"$f":"G13*(1+$J$5)","v":8.0128350000000008},{"$f":"SUM(F13*G13,2)","v":1651.9745},{"$f":"ROUND(F13*H13,2)","v":2049.7600000000002}]
["1.1.2","73822/002","SINAPI","LIMPEZA MECANIZADA DE TERRENO COM REMOCAO DE CAMADA VEGETAL, UTILIZANDO MOTONIVELADORA (JAZIDA)","m²",1000,0.48,{"$f":"G14*(1+$J$5)","v":0.59630399999999995},{"$f":"SUM(F14*G14,2)","v":482},{"$f":"ROUND(F14*H14,2)","v":596.29999999999995}]
["1.1.3","73822/002","SINAPI","LIMPEZA MECANIZADA DE TERRENO COM REMOCAO DE CAMADA VEGETAL, UTILIZANDO MOTONIVELADORA (ESTRADA NOVA)","m²",3000,0.48,0.59630399999999995,1442,{"$f":"ROUND(F15*H15,2)","v":1788.91}]
["1.1.4","72898","SINAPI","CARGA E DESCARGA MECANIZADAS DE ENTULHO EM CAMINHAO BASCULANTE 6 M3 ","m³",{"$f":"SUM(F14+F15)*0.2","v":800},3.86,4.7952779999999997,3090,{"$f":"ROUND(F16*H16,2)","v":3836.22}]
["1.1.5","97916","SINAPI","TRANSPORTE COM CAMINHÃO BASCULANTE DE 6 M3, EM VIA URBANA EM LEITO NATURAL TXKM (UNIDADE: TXKM). AF_01/2018","txkm",12896,1.47,1.8261809999999998,18959.12,23550.43]
["1.1.6","RO-42263","DEER/MG","ESPALHAMENTO DE MATERIAL EM BOTA-FORA","m³",800,0.18,0.22361399999999998,146,{"$f":"ROUND(F18*H18,2)","v":178.89}]
["1.1.7","99064","SINAPI","LOCAÇÃO DE PAVIMENTAÇÃO. AF_10/2018","m",200,0.5,0.62114999999999998,102,{"$f":"ROUND(F19*H19,2)","v":124.23}]
[{"$nulls":7},"TOTAL SERVIÇOS PRELIMINARES",{"$f":"SUM(I12)","v":25873.094499999999},{"$f":"SUM(J12)","v":32124.74}]
[]
["2 - CANTEIRO DE OBRAS"]
["2.1","CANTEIRO DE OBRAS",{"$nulls":6},{"$f":"SUM(I24:I26)","v":117282.57599999999},{"$f":"SUM(J24:J26)","v":145692.69}]
["2.1.1","C1","CPU","ADMINISTRAÇÃO LOCAL E MANUTENÇÃO DO CANTEIRO DE OBRAS EM CONTAINER - PRAZO DE OBRA IGUAL A 08 MESES","GL",1,{"$f":"[1]CPU!$J$56","v":101175.23999999999},{"$f":"G24*(1+$J$5)","v":125690.00065199999},{"$f":"SUM(F24*G24,2)","v":101177.23999999999},{"$f":"ROUND(F24*H24,2)","v":125690}]
["2.1.2","C2","CPU","MOBILIZAÇÃO","UNID",1,{"$f":"[1]CPU!$J$86","v":12483.095999999998},15507.750160799997,12485.095999999998,{"$f":"ROUND(F25*H25,2)","v":15507.75}]
["2.1.3","74209/001","SINAPI","PLACA DE OBRA EM CHAPA DE ACO GALVANIZADO","M2",12,301.52,374.57829599999997,3620.24,{"$f":"ROUND(F26*H26,2)","v":4494.9399999999996}]
[{"$nulls":7},"TOTAL CANTEIRO DE OBRAS",{"$f":"SUM(I23)","v":117282.57599999999},{"$f":"SUM(J23)","v":145692.69}]
[]
["3 - EQUIPAMENTOS"]
["3.1","TRANSPORTES DE EQUIPAMENTOS",{"$nulls":6},{"$f":"SUM(I31)","v":34768.688000000002},{"$f":"SUM(J31)","v":43190.66}]
["3.3.1","A9316","DINIT/MG","CAMINHÃO PLATAFORMA 8X2, PBT 29.000 KG E DISTÂNCIA ENTRE EIXOS 4,8M - 188 KW - MOTORISTA E CAMINHÃO","H",{"$f":"[1]TRANSPORTES!$E$43","v":240},144.8612,{"$f":"G31*(1+$J$5)","v":179.96106875999999},{"$f":"SUM(F31*G31,2)","v":34768.688000000002},{"$f":"ROUND(F31*H31,2)","v":43190.66}]
[{"$nulls":7},"TOTAL EQUIPAMENTOS",{"$f":"SUM(I30)","v":34768.688000000002},{"$f":"SUM(J30)","v":43190.66}]
[]
["4 - DESVIO DE TRÁFEGO"]
["4.1","DESVIO DE TRÁFEGO",{"$nulls":6},{"$f":"SUM(I36:I42)","v":39949.140298293249},{"$f":"SUM(J36:J42)","v":49611.429999999993}]
["4.1.1","73822/002","SINAPI","LIMPEZA MECANIZADA DE TERRENO COM REMOCAO DE CAMADA VEGETAL, UTILIZANDO MOTONIVELADORA","m²",3716.83,0.48,{"$f":"G36*(1+$J$5)","v":0.59630399999999995},{"$f":"SUM(F36*G36,2)","v":1786.0783999999999},{"$f":"ROUND(F36*H36,2)","v":2216.36}]
["4.1.2","72898","SINAPI","CARGA E DESCARGA MECANIZADAS DE ENTULHO EM CAMINHAO BASCULANTE 6 M3 ","m³",743.36,3.86,4.7952779999999997,2871.3696,{"$f":"ROUND(F37*H37,2)","v":3564.62}]
["4.1.3","97916","SINAPI","TRANSPORTE COM CAMINHÃO BASCULANTE DE 6 M3, EM VIA URBANA EM LEITO NATURAL TXKM (UNIDADE: TXKM). AF_01/2018 - 13,10KM","txkm",15580.95,1.47,1.8261809999999998,22905.996500000001,28453.63]
["4.1.4","83344","SINAPI","ESPALHAMENTO DE MATERIAL EM BOTA FORA, COM UTILIZACAO DE TRATOR DE ESTEIRAS DE 165 HP","m³",743.36,0.85,1.055955,633.85599999999999,{"$f":"ROUND(F39*H39,2)","v":784.95}]
["4.1.5","RO-43112","DEER/MG","SUB-BASE, SEMMISTURA, COMPACTADA NA ENERGIA DO PROCTOR INTERMEDIÁRIO (EXECUÇÃO, INCLUINDO ESCAVAÇÃO, CARGA, DESCARGA, ESPALHAMENTO, UMIDECIMENTO E COMPACTAÇÃO DO MATERIAL; EXCLUI AQUISIÇÃO E TRANSPORTE DO MATERIAL)","m³",175,14.25,17.702774999999999,2495.75,{"$f":"ROUND(F40*H40,2)","v":3097.99}]
["4.1.6","RO-43113","DEER/MG","BASE DE SOLO SEM MISTURA, COMPACTADA NA ENERGIA DO PROCTOR INTERMEDIÁRIO (EXECUÇÃO, INCLUINDO ESCAVAÇÃO, CARGA, DESCARGA, ESPALHAMENTO, UMIDECIMENTO E COMPACTAÇÃO DO MATERIAL; EXCLUI AQUISIÇÃO E TRANSPORTE DO MATERIAL)","m³",175,14.25,17.702774999999999,2495.75,{"$f":"ROUND(F41*H41,2)","v":3097.99}]
["4.1.7","22.03.04.99","DER/SP","TRANSPORTE DE 1/2 CATEGORIA ATÉ 15KM (BASE E SUB BASE)","m³xkm",{"$f":"SUM(F40+F41)*13.1","v":4585},{"$f":"SUM(2.09/1.4179)","v":1.474010861132661},1.8311636927851047,6760.3397982932511,{"$f":"ROUND(F42*H42,2)","v":8395.89}]
[{"$nulls":7},"TOTAL DESVIO DE TRÁFEGO",{"$f":"SUM(I35)","v":39949.140298293249},{"$f":"SUM(J35)","v":49611.429999999993}]
[]
["5 - OBRAS DE ARTE CORRENTE E DRENAGEM"]
["5.1","VALETA DE PROTEÇÃO DE ATERRO",{"$nulls":6},{"$f":"SUM(I47)","v":1813.52},{"$f":"SUM(J47)","v":2250.4499999999998}]
["5.1.1","RO-40514","DEER/MG","VALETA DE PROTEÇÃO DE ATERRO TIPO DR.VPA (EXECUÇÃO,INCLUINDO ESCAVAÇÃO)","m",74,24.48,{"$f":"G47*(1+$J$5)","v":30.411504000000001},{"$f":"SUM(F47*G47,2)","v":1813.52},{"$f":"ROUND(F47*H47,2)","v":2250.4499999999998}]
["5.2","CAIXA COLETORA EM ALVENARIA",{"$nulls":6},{"$f":"SUM(I49:I53)","v":1815.2963999999999},{"$f":"SUM(J49:J53)","v":2242.7199999999998}]
["5.2.1","RO-40160","DEER/MG","ESCAVAÇÃO, CARGA, DESCARGA, ESPALHAMENTO E TRANSPORTE DE MATERIAL DE 1ª CATEGORIA, COMCAMINHÃO. DISTÂNCIA MÉDIA DE TRANSPORTE DE 3.001 A 4.000 M","m³",17.96,7.46,{"$f":"G49*(1+$J$5)","v":9.2675579999999993},{"$f":"SUM(F49*G49,2)","v":135.98160000000001},{"$f":"ROUND(F49*H49,2)","v":166.45}]
["5.2.2","ED-48193","DEER/MG","ALVENARIA DE VEDAÇÃO COM BLOCO DE CONCRETO, ESP.19 CM, PARA REVESTIMENTO, INCLUSIVE ARGAMASSA PARA ASSENTAMENTO","m²",7.64,49.27,61.208120999999998,378.4228,{"$f":"ROUND(F50*H50,2)","v":467.63}]
["5.2.3","ED-50732","DEER/MG","EMBOÇO COM MARGAMASSA, TRAÇO 1:6 (CIMENTO E AREIA), ESP. 20MM, APLICAÇÃO MANUAL, PREPARO MECÂNICO","m²",6.06,23,28.572900000000001,141.38,{"$f":"ROUND(F51*H51,2)","v":173.15}]
["5.2.4","RO-41624","DEER/MG","CONCRETO DE CIMENTO PORTLAND, FCK>=15,0MPA (EXECUÇÃO, INCLUINDO OFORNECIMENTO E TRANSPORTE DOS AGREGADOS)","m³",0.8,358.39,445.22789699999998,288.71199999999999,{"$f":"ROUND(F52*H52,2)","v":356.18}]
["5.2.5","ED-48676","DEER/MG","FORNECIMENTO, ASSENTAMENTO E  REJUNTAMENTO DE TUBO DE CONCRETO SIMPLES PS1 D = 400 MM","m",10,86.88,107.93102399999999,870.8,{"$f":"ROUND(F53*H53,2)","v":1079.31}]
["5.3","SARJETA DE CONCRETO ATERRO",{"$nulls":6},{"$f":"SUM(I55)","v":1824.08},{"$f":"SUM(J55)","v":2263.5700000000002}]
["5.3.1","RO-40613","DEER/MG","SARJETA DE CONCRETO EM ATERRO,TIPO DR.SCA- X/Y. LARGURA=60CM TIPO 30/10 (EXECUÇÃO, INCLUINDO ESCAVAÇÃO, FORNECIMENTO, TRANSPORTE E PLANTIO DA GRAMA)","m",64,28.47,{"$f":"G55*(1+$J$5)","v":35.368280999999996},{"$f":"SUM(F55*G55,2)","v":1824.08},{"$f":"ROUND(F55*H55,2)","v":2263.5700000000002}]
["5.4","SARJETA DE CONCRETO CORTE",{"$nulls":6},{"$f":"SUM(I57)","v":9988.4},{"$f":"SUM(J57)","v":12406.1}]
["5.4.1","RO-40661","DEER/MG","SARJETA DE CONCRETO EM CORTE TIPO DR.SCC-X/Y. LARGURA=90CM TIPO80/10 (EXECUÇÃO, INCLUINDOESCAVAÇÃO, FORNECIMENTO E TRANSPORTE DE TODOS OS MATERIAIS)","m",228,43.8,{"$f":"G57*(1+$J$5)","v":54.412739999999992},{"$f":"SUM(F57*G57,2)","v":9988.4},{"$f":"ROUND(F57*H57,2)","v":12406.1}]
["5.5","CANALETA",{"$nulls":6},{"$f":"SUM(I59)","v":236.92},{"$f":"SUM(J59)","v":291.83999999999997}]
["5.5.1","ED-48566","DEER/MG","CANALETA PARA ÁGUAS PLUVIAIS EM CONCRETO MOLDADA IN-LOCO, LARGURA 60 CM","m",2,117.46,{"$f":"G59*(1+$J$5)","v":145.920558},{"$f":"SUM(F59*G59,2)","v":236.92},{"$f":"ROUND(F59*H59,2)","v":291.83999999999997}]
["5.6","DESCIDA D'ÁGUA",{"$nulls":6},{"$f":"SUM(I61)","v":2908.9},{"$f":"SUM(J61)","v":3611.24}]
["5.6.1","ED-48598","DEER/MG","DESCIDA D´ÁGUA TIPO CALHA DN 500, EXCLUSIVE BOTA FORA","m",10,290.69,{"$f":"G61*(1+$J$5)","v":361.12418700000001},{"$f":"SUM(F61*G61,2)","v":2908.9},{"$f":"ROUND(F61*H61,2)","v":3611.24}]
[{"$nulls":7},"TOTAL OBRAS DE ARTE CORRENTE E DRENAGEM",{"$f":"SUM(I46+I48+I54+I56+I58+I60)","v":18587.116399999999},{"$f":"SUM(J46+J48+J54+J56+J58+J60)","v":23065.919999999998}]
[]
["6 - CONTROLE TECNOLÓGICO"]
["6.1","ENSAIO DE SOLO",{"$nulls":6},{"$f":"SUM(I66:I68)","v":1106.8699999999999},{"$f":"SUM(J66:J68)","v":1367.6100000000001}]
["6.1.1","ED-49564","DEER/MG","ENSAIO DE TEOR DE UMIDADE - PROCESSO SPEEDY - SOLOS E AGREGADOS MIUDOS","unid.",12,30.02,{"$f":"G66*(1+$J$5)","v":37.293845999999995},{"$f":"SUM(F66*G66,2)","v":362.24},{"$f":"ROUND(F66*H66,2)","v":447.53}]
["6.1.2","ED-49555","DEER/MG","ENSAIO DE COMPACTAÇÃO - AMOSTRAS NÃO TRABALHADAS - ENERGIA NORMAL - SOLOS","unid.",3,95.08,118.11788399999999,287.24,{"$f":"ROUND(F67*H67,2)","v":354.35}]
["6.1.3","ED-49559","DEER/MG","ENSAIO  DE MASSA ESPECIFICA - IN SITU - METODO FRASCO DE AREIA - SOLOS","unid.",13,35.03,43.517769000000001,457.39,{"$f":"ROUND(F68*H68,2)","v":565.73}]
["6.2","ENSAIO DE PAVIMENTO",{"$nulls":6},{"$f":"SUM(I70:I73)","v":10960.64},{"$f":"SUM(J70:J73)","v":13606.47}]
["6.2.1","02-06-15","SIURB","ENSAIOS DE LABORATÓRIO - VISCOSIDADE","unid.",18,157.47999999999999,{"$f":"G70*(1+$J$5)","v":195.63740399999998},{"$f":"SUM(F70*G70,2)","v":2836.64},{"$f":"ROUND(F70*H70,2)","v":3521.47}]
["6.2.2","02-06-17","SIURB","ENSAIOS DE LABORATÓRIO - PONTO DE FULGOR","unid.",18,135.99,168.94037700000001,2449.8200000000002,{"$f":"ROUND(F71*H71,2)","v":3040.93}]
["6.2.3","02-06-18","SIURB","ENSAIOS DE LABORATÓRIO - PENETRAÇÃO","unid.",18,196.42,244.01256599999996,3537.56,{"$f":"ROUND(F72*H72,2)","v":4392.2299999999996}]
["6.2.4","02-06-19","SIURB","ENSAIOS DE LABORATÓRIO - PONTO DE AMOLECIMENTO","unid.",18,118.59,147.32435699999999,2136.62,{"$f":"ROUND(F73*H73,2)","v":2651.84}]
["6.3","ENSAIO DE AGREGADOS",{"$nulls":6},{"$f":"SUM(I75:I77)","v":5181.28},{"$f":"SUM(J75:J77)","v":6429.26}]
["6.3.1","02-06-11","SIURB","ENSAIOS DE LABORATÓRIO - LOS ANGELES","unid.",1,435.4,{"$f":"G75*(1+$J$5)","v":540.89742000000001},{"$f":"SUM(F75*G75,2)","v":437.4},{"$f":"ROUND(F75*H75,2)","v":540.9}]
["6.3.2","02-06-13","SIURB","ENSAIOS DE LABORATÓRIO - DURABILIDADE","unid.",1,470.64,584.67607199999998,472.64,{"$f":"ROUND(F76*H76,2)","v":584.67999999999995}]
["6.3.3","02-06-14","SIURB","ENSAIOS DE LABORATÓRIO - ADESIVIDADE","unid.",18,237.18,294.64871399999998,4271.24,{"$f":"ROUND(F77*H77,2)","v":5303.68}]
["6.4","ENSAIO DE CONCRETO",{"$nulls":6},{"$f":"SUM(I79)","v":542.41999999999996},{"$f":"SUM(J79)","v":671.36}]
["6.4.1","ED-49546","DEER/MG","ENSAIO DE RESISTENCIA A COMPRESSÃO SIMPLES - CONCRETO","unid.",6,90.07,{"$f":"G79*(1+$J$5)","v":111.89396099999999},{"$f":"SUM(F79*G79,2)","v":542.41999999999996},{"$f":"ROUND(F79*H79,2)","v":671.36}]
[{"$nulls":7},"TOTAL CONTROLE TECNOLÓGICO",{"$f":"SUM(I65+I69+I74+I78)","v":17791.209999999995},{"$f":"SUM(J65+J69+J74+J78)","v":22074.7}]
[]
["7- OAE"]
["7.1","INFRA ESTRUTURA",{"$nulls":6},{"$f":"SUM(I84:I90)","v":38010.702899999997},{"$f":"SUM(J84:J90)","v":47203.3}]
["7.1.1","72917","SINAPI","ESCAVACAO MECANICA DE VALA EM MATERIAL 2A. CATEGORIA DE 2,01 ATE 4,00M DE PROFUNDIDADE COM UTILIZACAO DE ESCAVADEIRA HIDRAULICA","m³",853.73,11.04,{"$f":"G84*(1+$J$5)","v":13.714991999999999},{"$f":"SUM(F84*G84,2)","v":9427.1791999999987},{"$f":"ROUND(F84*H84,2)","v":11708.9}]
["7.1.2","93382","SINAPI","REATERRO MANUAL DE VALAS COM COMPACTAÇÃO MECANIZADA. AF_04/2016","m³",810.16,21.06,26.162837999999997,17063.969599999997,21196.080000000002]
["7.1.3","83534","SINAPI","LASTRO DE CONCRETO, PREPARO MECÂNICO, INCLUSOS ADITIVO IMPERMEABILIZANTE, LANÇAMENTO E ADENSAMENTO","m³",3.31,434.59,539.89115699999991,1440.4929,1787.04]
["7.1.4","5914569","DNIT/MG","TRANSPORTE COM CAMINHÃO BETONEIRA - RODOVIA PAVIMENTADA (Entre Bocaiúva/MG e Francisco Dumont/MG - 69,00km)","txkm",{"$f":"SUM(F89*2.4)*69","v":5266.08},0.35,0.43480499999999994,1845.1279999999999,2289.7199999999998]
["7.1.5","5914539","DNIT/MG","TRANSPORTE COM CAMINHÃO BETONEIRA - RODOVIA EM LEITO NATURAL (Entre Francisco Dumont/MG e Área B - 9,00km)","txkm",{"$f":"SUM(F89*2.4)*9","v":686.87999999999988},0.54,0.67084200000000005,372.91519999999997,460.79]
["7.1.6",1106280,"DNIT/MG","CONCRETO PARA BOMBEAMENTO FCK = 30 MPA - CONFECÇÃO EM CENTRAL DOSADORA DE 30 M³/H - AREIA E BRITA COMERCIAIS","m³",31.8,224.51,278.908773,7141.4179999999997,8869.2999999999993]
["7.1.7","92270","SINAPI","FABRICAÇÃO DE FÔRMA PARA VIGAS, COM MADEIRA SERRADA, E = 25 MM. AF_12/2015","m²",9.6,74.75,92.861924999999999,719.6,891.47]
["7.2","MESO E SUPER ESTRUTURA",{"$nulls":6},{"$f":"SUM(I92:I117)","v":621738.48256559134},{"$f":"SUM(J92:J117)","v":772321.11}]
["7.2.1",92263,"SINAPI","FABRICAÇÃO DE FÔRMA PARA PILARES E ESTRUTURAS SIMILARES, EM CHAPA DE MADEIRA COMPENSADA RESINADA, E = 17 MM. AF_12/2015","m²",{"$f":"1484.97+87.324","v":1572.2940000000001},84.2,{"$f":"G92*(1+$J$5)","v":104.60166},{"$f":"SUM(F92*G92,2)","v":132389.15480000002},{"$f":"ROUND(F92*H92,2)","v":164464.56}]
["7.2.2","83534","SINAPI","LASTRO DE CONCRETO, PREPARO MECÂNICO, INCLUSOS ADITIVO IMPERMEABILIZANTE, LANÇAMENTO E ADENSAMENTO","m³",5.35,434.59,539.89115699999991,2327.0564999999997,2888.42]
["7.2.3","5914569","DNIT/MG","TRANSPORTE COM CAMINHÃO BETONEIRA - RODOVIA PAVIMENTADA (Entre Bocaiúva/MG e Francisco Dumont/MG - 69,00km)","txkm",{"$f":"SUM(($F$96+$F$97+$F$98)*2.4)*69","v":42029.279999999999},0.35,0.43480499999999994,14712.247999999998,18274.54]
["7.2.4","5914539","DNIT/MG","TRANSPORTE COM CAMINHÃO BETONEIRA - RODOVIA EM LEITO NATURAL (Entre Francisco Dumont/MG e Área B - 9,00km)","txkm",{"$f":"SUM(($F$96+$F$97+$F$98)*2.4)*9","v":5482.08},0.54,0.67084200000000005,2962.3232000000003,3677.61]
["7.2.5",1116263,"DNIT/MG","CONCRETO PARA BOMBEAMENTO FCK = 25 MPA - CONFECÇÃO EM CENTRAL DOSADORA DE 30 M³/H - AREIA E BRITA COMERCIAIS","m³",11,214.21,266.11308300000002,2358.31,2927.24]
["7.2.6",1106280,"DNIT/MG","CONCRETO PARA BOMBEAMENTO FCK = 30 MPA - CONFECÇÃO EM CENTRAL DOSADORA DE 30 M³/H - AREIA E BRITA COMERCIAIS","m³",97.15,224.51,278.908773,21813.146499999999,27095.99]
["7.2.7",1106281,"DNIT/MG","CONCRETO PARA BOMBEAMENTO FCK = 35 MPA - CONFECÇÃO EM CENTRAL DOSADORA DE 30 M³/H - AREIA E BRITA COMERCIAIS","m³",145.65,236.01,293.195223,34376.856500000002,42703.88]
["7.2.8",1107860,"DNIT/MG","LANÇAMENTO MECÂNICO DE CONCRETO COM BOMBA LANÇA SOBRE CHASSI COM CAPACIDADE DE 45 M³/H - CONFECÇÃO EM CENTRAL DOSADORA DE 40 M³/H","m³",{"$f":"SUM(F96+F97+F98)","v":253.8},31.52,39.157295999999995,8001.7759999999998,9938.1200000000008]
["7.2.9","ED-50430","DEER/MG","FORNECIMENTO E APLICAÇÃO DE GROUT PARA ANCORAGENS","m³",0.28800000000000003,272.56,338.60128800000001,80.497280000000003,97.52]
["7.2.10",92792,"SINAPI","CORTE E DOBRA DE AÇO CA-50, DIÂMETRO DE 6,3 MM, UTILIZADO EM ESTRUTURA S DIVERSAS","kg",1562,5.92,7.3544159999999996,9249.0399999999991,11487.6]
["7.2.11",92793,"SINAPI","CORTE E DOBRA DE AÇO CA-50, DIÂMETRO DE 8,0 MM, UTILIZADO EM ESTRUTURA S DIVERSAS","kg",2991,6.35,7.8886049999999992,18994.849999999999,23594.82]
["7.2.12",92794,"SINAPI","CORTE E DOBRA DE AÇO CA-50, DIÂMETRO DE 10,0 MM, UTILIZADO EM ESTRUTURAS DIVERSAS","kg",9471,5.27,6.5469209999999993,49914.17,62005.89]
["7.2.13",92795,"SINAPI","CORTE E DOBRA DE AÇO CA-50, DIÂMETRO DE 12,5 MM, UTILIZADO EM ESTRUTURAS DIVERSAS","kg",7154,4.91,6.0996930000000003,35128.14,43637.2]
["7.2.14",92796,"SINAPI","CORTE E DOBRA DE AÇO CA-50, DIÂMETRO DE 16,0 MM, UTILIZADO EM ESTRUTURAS DIVERSAS","kg",7751,4.84,6.0127319999999997,37516.839999999997,46604.69]
["7.2.15",92797,"SINAPI","CORTE E DOBRA DE AÇO CA-50, DIÂMETRO DE 20,0 MM, UTILIZADO EM ESTRUTURAS DIVERSAS","kg",4017,4.62,5.7394259999999999,18560.54,23055.27]
["7.2.16",92798,"SINAPI","CORTE E DOBRA DE AÇO CA-50, DIÂMETRO DE 25,0 MM, UTILIZADO EM ESTRUTURAS DIVERSAS","kg",334,5.33,6.6214589999999998,1782.22,2211.5700000000002]
["7.2.17",92880,"SINAPI","CORTE E DOBRA DE AÇO CA-25, DIÂMETRO DE 20,0 MM. AF_12/2015","kg",448,4.78,5.9381940000000002,2143.44,2660.31]
["7.2.18",307736,"DNIT/MG","JUNTA DE DILATAÇÃO EM PERFIL EXTRUDADO DE BORRACHA VULCANIZADA DE 40 X 70 MM - FORNECIMENTO E INSTALAÇÃO","m",20.6,1017.84,1264.462632,20969.504000000001,26047.93]
["7.2.19",91790,"SINAPI","(COMPOSIÇÃO REPRESENTATIVA) DO SERVIÇO DE INSTALAÇÃO DE TUBOS DE PVC, SÉRIE R, ÁGUA PLUVIAL, DN 100 MM (INSTALADO EM RAMAL DE ENCAMINHAMENTO , OU CONDUTORES VERTICAIS), INCLUSIVE  CONEXÕES, CORTES E FIXAÇÕES, PARA PRÉDIOS. AF_10/2015 ","m",152.46,40.950000000000003,50.872185000000002,6245.237000000001,7755.97]
["7.2.20",84154,"SINAPI","APARELHO APOIO NEOPRENE FRETADO ","dm³",45.12,109.06,135.48523800000001,4922.7871999999998,6113.09]
["7.2.21","73770/001","SINAPI","BARREIRA PRE-MOLDADA EXTERNA CONCRETO ARMADO 0,25X0,40X1,14M FCK=25MPA ACO CA-50 INCL VIGOTA HORIZONTAL MONTANTE A CADA 1,00M FERROS DE LIGACAO E MATERIAIS.","m",76.23,450.09,559.14680699999997,34312.360699999997,42623.76]
["7.2.22","ED-50429","DEER/MG","LANÇAMENTO DE TABULEIRO PRÉ-MOLDADO","unid.",310,63.38,78.736974000000004,19649.8,24408.46]
["7.2.23",4507956,"DNIT/MG","CORDOALHA CP 190 RB D = 12,7 MM - FORNECIMENTO, PREPARO E COLOCAÇÃO ","Kg",3903.2,9.3699999999999992,11.640350999999999,36574.983999999997,45434.62]
["7.2.24",4508176,"DNIT/MG","BAINHA METÁLICA DIÂMETRO 95 MM PARA 19 CORDOALHAS D = 15,2 MM, SEMI-RÍGIDA, REDONDA, COM MONTAGEM E INJEÇÃO DE NATA DE CIMENTO","m",474.88,69.34,86.141081999999997,32930.179199999999,40906.68]
["7.2.25",4507755,"DNIT/MG","ANCORAGEM ATIVA PARA 12 CORDOALHAS D = 12,7 MM COM PLACA DE ANCORAGEM, BLOCO, CUNHAS TRIPARTIDAS, TROMBETA E PROTENSÃO","unid.",32,1454.16,1806.502968,46535.12,57808.09]
["7.2.26","26.13.01.99","DER/SP","LANCAMENTO VIGA P<=50T-GUINDASTE AUTO PROPULSADO      ","unid.",4,{"$f":"SUM(9672.17/1.4179)","v":6821.4754213978422},8474.3189160025395,27287.901685591369,33897.279999999999]
[{"$nulls":7},"TOTAL OAE",{"$f":"SUM(I83+I91)","v":659749.18546559138},{"$f":"SUM(J83+J91)","v":819524.41}]
[]
["8 - MATERIAIS E TRANSPORTE PARA PAVIMENTAÇÃO ASFÁLTICA (PARA USINA EM MONTES CLAROS)"]
["8.1","CAP - CIMENTO ASFÁLTICO",{"$nulls":6},{"$f":"SUM(I122:I123)","v":5916.7},{"$f":"SUM(J122:J123)","v":7345.3499999999995}]
["8.1.2","72849","SINAPI","CARGA, MANOBRAS E DESCARGA DE MISTURAS DE SOLOS E AGREGADOS (BASES ESTABILIZADAS EM USINA) COM CAMINHAO BASCULANTE 6 M3","t",15,2.68,{"$f":"G122*(1+$J$5)","v":3.329364},{"$f":"SUM(F122*G122,2)","v":42.2},{"$f":"ROUND(F122*H122,2)","v":49.94}]
["8.1.3","72884","SINAPI","TRANSPORTE COMERCIAL COM CAMINHAO CARROCERIA 9 T (435KM)","m³*km",{"$f":"F122*435","v":6525},0.9,1.1180699999999999,5874.5,{"$f":"ROUND(F123*H123,2)","v":7295.41}]
["8.2","AREIA",{"$nulls":6},{"$f":"SUM(I125:I126)","v":8825.89},{"$f":"SUM(J125:J126)","v":10959.429999999998}]
["8.2.2","72888","SINAPI","CARGA, MANOBRAS E DESCARGA DE AREIA, BRITA, PEDRA DE MAO E SOLOS COM CAMINHAO BASCULANTE 6 M3 (DESCARGA LIVRE)","m³",67,1.17,{"$f":"G125*(1+$J$5)","v":1.4534909999999999},{"$f":"SUM(F125*G125,2)","v":80.39},{"$f":"ROUND(F125*H125,2)","v":97.38}]
["8.2.3","72884","SINAPI","TRANSPORTE COMERCIAL COM CAMINHAO CARROCERIA 9 T (145KM)","m³*km",{"$f":"F125*145","v":9715},0.9,1.1180699999999999,8745.5,{"$f":"ROUND(F126*H126,2)","v":10862.05}]
["8.3","BRITA",{"$nulls":6},{"$f":"SUM(I128:I129)","v":921.84249999999997},{"$f":"SUM(J128:J129)","v":1140.24}]
["8.3.3","72888","SINAPI","CARGA, MANOBRAS E DESCARGA DE AREIA, BRITA, PEDRA DE MAO E SOLOS COM CAMINHAO BASCULANTE 6 M3 (DESCARGA LIVRE)","m³",90.25,1.17,{"$f":"G128*(1+$J$5)","v":1.4534909999999999},{"$f":"SUM(F128*G128,2)","v":107.59249999999999},{"$f":"ROUND(F128*H128,2)","v":131.18}]
["8.3.4","72884","SINAPI","TRANSPORTE COMERCIAL COM CAMINHAO CARROCERIA 9 T (10KM)","m³*km",{"$f":"F128*10","v":902.5},0.9,1.1180699999999999,814.25,{"$f":"ROUND(F129*H129,2)","v":1009.06}]
[{"$nulls":7},"TOTAL DE MATERIAIS DO CONCRETO",{"$f":"SUM(I121+I124+I127)","v":15664.432500000001},{"$f":"SUM(J121+J124+J127)","v":19445.02}]
[]
["9 - PAVIMENTAÇÃO ASFÁLTICA"]
["9.1","PAVIMENTO FLEXIVEL - NOVO E RECUPERAÇÃO",{"$nulls":6},{"$f":"SUM(I134:I149)","v":203065.86934},{"$f":"SUM(J134:J149)","v":252228.94999999998}]
["9.1.1","83338","SINAPI","ESCAVACAO MECANICA, A CEU ABERTO, EM MATERIAL DE 1A CATEGORIA, COM ESCAVADEIRA HIDRAULICA, CAPACIDADE DE 0,78 M3 - CORTE","m³",202.8,2.23,{"$f":"G134*(1+$J$5)","v":2.7703289999999998},{"$f":"SUM(F134*G134,2)","v":454.24400000000003},{"$f":"ROUND(F134*H134,2)","v":561.82000000000005}]
["9.1.2","83338","SINAPI","ESCAVACAO MECANICA, A CEU ABERTO, EM MATERIAL DE 1A CATEGORIA, COM ESCAVADEIRA HIDRAULICA, CAPACIDADE DE 0,78 M3 - CORTE JAZIDA","m³",807.09,2.23,2.7703289999999998,1801.8107,2235.9]
["9.1.3","RO-40251","DEER/MG","COMPACTAÇÃO DE ATERRO A 100% PROCTOR NORMAL","m³",807.09,3.15,3.9132449999999999,2544.3335000000002,3158.34]
["9.1.4","RO-43112","DEER/MG","SUB-BASE, SEMMISTURA, COMPACTADA NA ENERGIA DO PROCTOR INTERMEDIÁRIO (EXECUÇÃO, INCLUINDO ESCAVAÇÃO, CARGA, DESCARGA, ESPALHAMENTO, UMIDECIMENTO E COMPACTAÇÃO DO MATERIAL; EXCLUI AQUISIÇÃO E TRANSPORTE DO MATERIAL)","m³",252.67,14.25,17.702774999999999,3602.5474999999997,4472.96]
["9.1.5","RO-43113","DEER/MG","BASE DE SOLO SEM MISTURA, COMPACTADA NA ENERGIA DO PROCTOR INTERMEDIÁRIO (EXECUÇÃO, INCLUINDO ESCAVAÇÃO, CARGA, DESCARGA, ESPALHAMENTO, UMIDECIMENTO E COMPACTAÇÃO DO MATERIAL; EXCLUI AQUISIÇÃO E TRANSPORTEDO MATERIAL)","m³",252.67,14.25,17.702774999999999,3602.5474999999997,4472.96]
["9.1.6","96401","SINAPI","EXECUÇÃO DE IMPRIMAÇÃO COM ASFALTO DILUÍDO CM-30. AF_09/2017","m²",1924.22,6.24,7.7519520000000002,12009.132800000001,14916.46]
["9.1.7",93176,"SINAPI","TRANSPORTE DE MATERIAL ASFALTICO, COM CAMINHÃO COM CAPACIDADE DE 30000 L EM RODOVIA PAVIMENTADA. AF_02/2016 (P/ ITEM 6.1.6) (ORIUNDO DE BETIM/MG DISTANTE 377KM DIRETO PARA OBRA B)","txkm",870.52,0.48,0.59630399999999995,419.84959999999995,519.09]
["9.1.8",93178,"SINAPI","TRANSPORTE DE MATERIAL ASFALTICO, COM CAMINHÃO COM CAPACIDADE DE 30000 TXKM L EM RODOVIA NÃO PAVIMENTADA PARA DISTÂNCIAS MÉDIAS DE TRANSPORTE SUPERIORES A 100 KM. AF_02/2016  (9KM EM TERRA) B)","txkm",20.78,0.54,0.67084200000000005,13.221200000000001,13.94]
["9.1.9","72942","SINAPI","PINTURA DE LIGACAO COM EMULSAO RR-1C","m²",1924.22,1.62,2.0125260000000003,3119.2364000000002,3872.54]
["9.1.10",93176,"SINAPI","TRANSPORTE DE MATERIAL ASFALTICO, COM CAMINHÃO COM CAPACIDADE DE 30000 L EM RODOVIA PAVIMENTADA. AF_02/2016 (P/ ITEM 6.1.9) (ORIUNDO DE BETIM/MG DISTANTE 377KM DIRETO PARA OBRA B)","txkm",290.29000000000002,0.48,0.59630399999999995,141.33920000000001,173.1]
["9.1.11",93178,"SINAPI","TRANSPORTE DE MATERIAL ASFALTICO, COM CAMINHÃO COM CAPACIDADE DE 30000 TXKM L EM RODOVIA NÃO PAVIMENTADA PARA DISTÂNCIAS MÉDIAS DE TRANSPORTE SUPERIORES A 100 KM. AF_02/2016 (9KM EM TERRA) B)","txkm",6.93,0.54,0.67084200000000005,5.7422000000000004,4.6500000000000004]
["9.1.12",95995,"SINAPI","CONSTRUÇÃO DE PAVIMENTO COM APLICAÇÃO DE CONCRETO BETUMINOSO USINADO A QUENTE (CBUQ), CAMADA DE ROLAMENTO, COM ESPESSURA DE 5,0 CM - EXCLUSIVE TRANSPORTE. AF_03/2017 (PAVIMENTAÇÃO ESTRADA)","m³",84.22,1017.65,1264.2265949999999,85708.482999999993,106473.16]
["9.1.13",95995,"SINAPI","CONSTRUÇÃO DE PAVIMENTO COM APLICAÇÃO DE CONCRETO BETUMINOSO USINADO A QUENTE (CBUQ), CAMADA DE ROLAMENTO, COM ESPESSURA DE 5,0 CM - EXCLUSIVE TRANSPORTE. AF_03/2017 (PAVIMENTAÇÃO OAE)","m³",24,1017.65,1264.2265949999999,24425.599999999999,30341.439999999999]
["9.1.14",93177,"SINAPI","TRANSPORTE DE MATERIAL ASFALTICO, COM CAMINHÃO COM CAPACIDADE DE 20000 L EM RODOVIA PAVIMENTADA. AF_02/2016 (P/ ITEM 2.1.12) (DE MONTES CLAROS/MG ATÉ JEQUITAÍ/MG - DIST. 111KM)","txkm",28904.400000000001,1.69,2.0994869999999999,48850.436000000002,60684.41]
["9.1.15",93178,"SINAPI","TRANSPORTE DE MATERIAL ASFALTICO, COM CAMINHÃO COM CAPACIDADE DE 30000 TXKM L EM RODOVIA NÃO PAVIMENTADA PARA DISTÂNCIAS MÉDIAS DE TRANSPORTE SUPERIORES A 100 KM. AF_02/2016 (DE JEQUITAÍ ATÉ ÁREA B)","txkm",5468.4,0.54,0.67084200000000005,2954.9360000000001,3668.43]
["9.1.16","RO-41344","DEER/MG","TRANSPORTE DE MATERIAL DE JAZIDA PARA CONSERVAÇÃO. DISTÂNCIA MÉDIA DE TRANSPORTE > 50,10 KM (ESCAVAÇÃO+BASE E SUB BASE) - 13,10KM.","m³xkm",{"$f":"SUM(F135+F137+F138)*13.1","v":17192.832999999999},0.78,0.96899400000000002,13412.409739999999,16659.75]
[{"$nulls":7},"TOTAL PAVIMENTAÇÃO ASFÁLTICA",{"$f":"SUM(I133)","v":203065.86934},{"$f":"SUM(J133)","v":252228.94999999998}]
[]
["10 - COMPLEMENTARES"]
["10.1","RECOMPOSIÇÃO DE DIVISAS",{"$nulls":6},{"$f":"SUM(I154)","v":4641.3874999999998},{"$f":"SUM(J154)","v":5763.51}]
["10.1.1","74039/001","SINAPI","CERCA COM MOUROES DE MADEIRA ROLICA, DIAMETRO 11CM, ESPACAMENTO DE 2M, ALTURA LIVRE DE 1M, CRAVADOS 0,5M, COM 5 FIOS DE ARAME FARPADO Nº 14 CLASSE 250","m",189.75,24.45,{"$f":"G154*(1+$J$5)","v":30.374234999999999},{"$f":"SUM(F154*G154,2)","v":4641.3874999999998},{"$f":"ROUND(F154*H154,2)","v":5763.51}]
[{"$nulls":7},"TOTAL COMPLEMENTARES",{"$f":"SUM(I153)","v":4641.3874999999998},{"$f":"SUM(J153)","v":5763.51}]
[]
["11 - SINALIZAÇÃO DE OBRA E DEFINITIVA"]
["11.1","SINALIZAÇÃO DE OBRA",{"$nulls":6},{"$f":"SUM(I159:I163)","v":18933.049299999999},{"$f":"SUM(J159:J163)","v":23508.1}]
["11.1.1",97051,"SINAPI","SINALIZAÇÃO COM FITA FIXADA NA ESTRUTURA. AF_11/2017","m",3000,0.46,{"$f":"G159*(1+$J$5)","v":0.57145800000000002},{"$f":"SUM(F159*G159,2)","v":1382},{"$f":"ROUND(F159*H159,2)","v":1714.37}]
["11.1.2","RO-41841","DEER/MG","PLACA DE AÇO CARBONO COM PELÍCULA REFLETIVA GRAU TÉCNICO TIPO I DA ABNT - PLACA CIRCULAR (EXECUÇÃO, INCLUINDO FORNECIMENTO E TRANSPORTE DE TODOS OS MATERIAIS, INCLUSIVE POSTE DE SUSTENTAÇÃO)","m²",0.78,337.22,418.928406,265.03160000000003,{"$f":"ROUND(F160*H160,2)","v":326.76}]
["11.1.3","RO-41844","DEER/MG","PLACA DE AÇO CARBONO COM PELÍCULA REFLETIVA GRAU TÉCNICO TIPO I DA ABNT - PLACA QUADRADA (EXECUÇÃO, INCLUINDO FORNECIMENTO E TRANSPORTE DE TODOS OS MATERIAIS, INCLUSIVE POSTE DE SUSTENTAÇÃO)","m²",15.89,326.75,405.92152499999997,5194.0574999999999,{"$f":"ROUND(F161*H161,2)","v":6450.09}]
["11.1.4","RO-43226","DEER/MG","COLOCAÇÃO DE PLACAS","m²",16.670000000000002,64.06,79.581738000000001,1069.8802000000001,{"$f":"ROUND(F162*H162,2)","v":1326.63}]
["11.1.5","85424","SINAPI","ISOLAMENTO DE OBRA COM TELA PLASTICA COM MALHA DE 5MM E ESTRUTURA DE MADEIRA PONTALETEADA","m",584,18.87,23.442201000000001,11022.08,{"$f":"ROUND(F163*H163,2)","v":13690.25}]
["11.2","SINALIZAÇÃO DEFINITIVA HORIZONTAL",{"$nulls":6},{"$f":"SUM(I165:I166)","v":211.60000000000002},{"$f":"SUM(J165:J166)","v":257.89999999999998}]
["11.2.1","RO-41237               OBR-VIA-245","DEER/MG","LINHAS DE RESINA ACRILICA 0,6MM DE ESPESSURA E LARGURA = 0,10M (EXECUÇÃO, INCLUSIVE PRÉ-MARCAÇÃO, FORNECIMENTO E TRANSPORTE DE TODOS OS MATERIAIS) - LINHAS BRANCAS","m²",40,1.73,{"$f":"G165*(1+$J$5)","v":2.1491789999999997},{"$f":"SUM(F165*G165,2)","v":71.2},{"$f":"ROUND(F165*H165,2)","v":85.97}]
["11.2.2","RO-41237               OBR-VIA-245","DEER/MG","LINHAS DE RESINA ACRILICA 0,6MM DE ESPESSURA E LARGURA = 0,10M (EXECUÇÃO, INCLUSIVE PRÉ-MARCAÇÃO, FORNECIMENTO E TRANSPORTE DE TODOS OS MATERIAIS) - LINHAS AMARELAS","m²",80,1.73,2.1491789999999997,140.4,{"$f":"ROUND(F166*H166,2)","v":171.93}]
["11.3","SINALIZAÇÃO DEFINITIVA VERTICAL",{"$nulls":6},{"$f":"SUM(I168:I170)","v":553.29920000000004},{"$f":"SUM(J168:J170)","v":679.91}]
["11.3.1","RO-41841","DEER/MG","PLACA DE AÇO CARBONO COM PELÍCULA REFLETIVA GRAU TÉCNICO TIPO I DA ABNT - PLACA CIRCULAR (EXECUÇÃO, INCLUINDO FORNECIMENTO E TRANSPORTE DE TODOS OS MATERIAIS, INCLUSIVE POSTE DE SUSTENTAÇÃO)","m²",0.39,337.22,{"$f":"G168*(1+$J$5)","v":418.928406},{"$f":"SUM(F168*G168,2)","v":133.51580000000001},{"$f":"ROUND(F168*H168,2)","v":163.38}]
["11.3.2","RO-41844","DEER/MG","PLACA DE AÇO CARBONO COM PELÍCULA REFLETIVA GRAU TÉCNICO TIPO I DA ABNT - PLACA QUADRADA (EXECUÇÃO, INCLUINDO FORNECIMENTO E TRANSPORTE DE TODOS OS MATERIAIS, INCLUSIVE POSTE DE SUSTENTAÇÃO)","m²",1,326.74,405.90910200000002,328.74,{"$f":"ROUND(F169*H169,2)","v":405.91}]
["11.3.3","RO-43226","DEER/MG","COLOCAÇÃO DE PLACAS","m²",1.39,64.06,79.581738000000001,91.043399999999991,{"$f":"ROUND(F170*H170,2)","v":110.62}]
["11.4","DISPOSITIVOS DE SEGURANÇA",{"$nulls":6},{"$f":"SUM(I172:I173)","v":5070.8022046688766},{"$f":"SUM(J172:J173)","v":6294.48}]
["11.4.1","RO-41763","DEER/MG","DEFENSA SINGELA SEMI-MALEÁVEL SV-DSM-02 (EXECUÇÃO, INCLUINDO FORNECIMENTO, COLOCAÇÃO E TRANSPORTE DE TODOS OS MATERIAIS)","m",19,264.45999999999998,{"$f":"G172*(1+$J$5)","v":328.53865799999994},{"$f":"SUM(F172*G172,2)","v":5026.74},{"$f":"ROUND(F172*H172,2)","v":6242.23}]
["11.4.2","28.10.01.99","DER/SP","FORN./INSTAL. BALIZ.(CATADIOPTRICO) P/DEF. MET. C/PELICULA GT+GT, CONF.OP-06-05","un.",2,{"$f":"SUM(29.82/1.4179)","v":21.031102334438255},26.126938430072645,44.062204668876511,{"$f":"ROUND(F173*H173,2)","v":52.25}]
[{"$nulls":7},"TOTAL SINALIZAÇÃO DE OBRA E DEFINITIVA",{"$f":"SUM(I158+I164+I167+I171)","v":24768.750704668877},{"$f":"SUM(J158+J164+J167+J171)","v":30740.39}]
[]
["12 - DESMOBILIZAÇÃO"]
["12.1","DESMOBILIZAÇÃO",{"$nulls":6},{"$f":"SUM(I178)","v":12485.095999999998},{"$f":"SUM(J178)","v":15507.75}]
["12.1.1","C4","CPU","DESMOBILIZAÇÃO","un.",1,{"$f":"[1]CPU!$J$116","v":12483.095999999998},{"$f":"G178*(1+$J$5)","v":15507.750160799997},{"$f":"SUM(F178*G178,2)","v":12485.095999999998},{"$f":"ROUND(F178*H178,2)","v":15507.75}]
[{"$nulls":7},"TOTAL DESMOBILIZAÇÃO",{"$f":"SUM(I177)","v":12485.095999999998},{"$f":"SUM(J177)","v":15507.75}]
[]
[{"$nulls":7},"TOTAL GERAL",{"$f":"SUM(I20+I27+I32+I43+I62+I80+I118+I130+I150+I155+I174+I179)","v":1174626.5467085533},{"$f":"SUM(J20+J27+J32+J43+J62+J80+J118+J130+J150+J155+J174+J179)","v":1458970.17}]

{"sheet":"PL-ORÇ-DEF.C","index":8,"n_rows":181,"n_cols":11,"rows_kept":181,"cut":false,"hidden":false,"merged":[[0,0,0,9],[6,0,6,9],[7,0,8,0],[7,1,8,1],[7,2,8,2],[7,3,8,3],[7,4,8,4],[7,5,8,5],[7,6,7,7],[7,8,7,9],[59,0,59,9],[10,0,10,9],[21,0,21,9],[28,0,28,9],[33,0,33,9],[44,0,44,9],[45,1,45,3],[47,1,47,3],[49,1,49,3],[55,1,55,3],[51,1,51,3],[53,1,53,3],[156,0,156,9],[131,0,131,9],[151,0,151,9],[175,0,175,9],[77,0,77,9],[118,1,118,9],[119,0,119,9]]}
["CDV-249-001-000-003-PL-PE-A07-001 - PLANILHA DE QUANTIDADES E CUSTOS – OAE E PAVIMENTAÇÃO"]
["CONTRATANTE:",null,"CODEVASF - COMPANHIA DE DESENVOLVIMENTO DOS VALES DO SÃO FRANCISCO E PARNAÍBA",{"$nulls":5},"REV.:","A7"]
["OBRA:",null,"OAE E PAVIMENTAÇÃO - ÁREA C ",{"$nulls":5},"DATA:","NOV2019"]
["LOCAL:",null,"MG208 - ENTRE JEQUITAÍ/ MG E FRANCISCO DUMONT/MG",{"$nulls":4},"VALOR TOTAL C/BDI (R$):",null,{"$f":"SUM(J181)","v":15922824.630000003}]
["DATA BASE TABELAS:",null,"SINAPI-SET2019  /  DEER-MG-AGO2019 / DNIT-MG ABR/2019 / SIURB JAN2019 / DER-SP - MAR2019",{"$nulls":4},"BDI (%):",null,0.24229999999999999]
["PRAZO EXECUÇÃO:",null,"10 (DEZ) MESES"]
[]
["Item","Código","Fonte","Especificação","Unidade","Quantidade","Preço Unitário (R$)",null,"Preço Total"]
[{"$nulls":6},"Sem BDI","Com BDI","Sem BDI","Com BDI"]
[]
["1 - SERVIÇOS PRELIMINARES"]
["1.1","SERVIÇOS PRELIMINARES",{"$nulls":6},{"$f":"SUM(I13:I19)","v":472983.02870000002},{"$f":"SUM(J13:J19)","v":587569.42000000004}]
["1.1.1","RO-41291","DEER/MG","REMOÇÃO DE CERCAS","m",3659.03,6.45,{"$f":"G13*(1+$J$5)","v":8.0128350000000008},{"$f":"SUM(F13*G13,2)","v":23602.7435},{"$f":"ROUND(F13*H13,2)","v":29319.200000000001}]
["1.1.2","73822/002","SINAPI","LIMPEZA MECANIZADA DE TERRENO COM REMOCAO DE CAMADA VEGETAL, UTILIZANDO MOTONIVELADORA (JAZIDA)","m²",1000,0.48,{"$f":"G14*(1+$J$5)","v":0.59630399999999995},{"$f":"SUM(F14*G14,2)","v":482},{"$f":"ROUND(F14*H14,2)","v":596.29999999999995}]
["1.1.3","73822/002","SINAPI","LIMPEZA MECANIZADA DE TERRENO COM REMOCAO DE CAMADA VEGETAL, UTILIZANDO MOTONIVELADORA (ESTRADA NOVA)","m²",47873.72,0.48,0.59630399999999995,22981.385600000001,{"$f":"ROUND(F15*H15,2)","v":28547.29}]
["1.1.4","72898","SINAPI","CARGA E DESCARGA MECANIZADAS DE ENTULHO EM CAMINHAO BASCULANTE 6 M3 ","m³",9774.74,3.86,4.7952779999999997,37732.496399999996,{"$f":"ROUND(F16*H16,2)","v":46872.6}]
["1.1.5","97916","SINAPI","TRANSPORTE COM CAMINHÃO BASCULANTE DE 6 M3, EM VIA URBANA EM LEITO NATURAL TXKM (UNIDADE: TXKM). AF_01/2018","txkm",262285,1.47,1.8261809999999998,385560.95,478979.88]
["1.1.6","RO-42263","DEER/MG","ESPALHAMENTO DE MATERIAL EM BOTA-FORA","m³",9774.74,0.18,0.22361399999999998,1761.4531999999999,{"$f":"ROUND(F18*H18,2)","v":2185.77}]
["1.1.7","99064","SINAPI","LOCAÇÃO DE PAVIMENTAÇÃO. AF_10/2018","m",1720,0.5,0.62114999999999998,862,{"$f":"ROUND(F19*H19,2)","v":1068.3800000000001}]
[{"$nulls":7},"TOTAL SERVIÇOS PRELIMINARES",{"$f":"SUM(I12)","v":472983.02870000002},{"$f":"SUM(J12)","v":587569.42000000004}]
[]
["2 - CANTEIRO DE OBRAS"]
["2.1","CANTEIRO DE OBRAS",{"$nulls":6},{"$f":"SUM(I24:I26)","v":443069.37999999995},{"$f":"SUM(J24:J26)","v":550417.63}]
["2.1.1","C1","CPU","ADMINISTRAÇÃO LOCAL E MANUTENÇÃO DO CANTEIRO DE OBRAS EM CONTAINER - PRAZO DE OBRA IGUAL A 12 MESES","GL",1,{"$f":"[2]CPU!$J$55","v":382709.25999999995},{"$f":"G24*(1+$J$5)","v":475439.71369799995},{"$f":"SUM(F24*G24,2)","v":382711.25999999995},{"$f":"ROUND(F24*H24,2)","v":475439.71}]
["2.1.2","C2","CPU","MOBILIZAÇÃO","UNID",1,{"$f":"[2]CPU!$J$85","v":56735.88},70482.983723999991,56737.88,{"$f":"ROUND(F25*H25,2)","v":70482.98}]
["2.1.3","74209/001","SINAPI","PLACA DE OBRA EM CHAPA DE ACO GALVANIZADO","M2",12,301.52,374.57829599999997,3620.24,{"$f":"ROUND(F26*H26,2)","v":4494.9399999999996}]
[{"$nulls":7},"TOTAL CANTEIRO DE OBRAS",{"$f":"SUM(I23)","v":443069.37999999995},{"$f":"SUM(J23)","v":550417.63}]
[]
["3 - EQUIPAMENTOS"]
["3.1","TRANSPORTES DE EQUIPAMENTOS",{"$nulls":6},{"$f":"SUM(I31)","v":41722.025600000001},{"$f":"SUM(J31)","v":51828.79}]
["3.3.1","A9316","DINIT/MG","CAMINHÃO PLATAFORMA 8X2, PBT 29.000 KG E DISTÂNCIA ENTRE EIXOS 4,8M - 188 KW - MOTORISTA E CAMINHÃO","H",{"$f":"[2]TRANSPORTES!$E$41","v":288},144.8612,{"$f":"G31*(1+$J$5)","v":179.96106875999999},{"$f":"SUM(F31*G31,2)","v":41722.025600000001},{"$f":"ROUND(F31*H31,2)","v":51828.79}]
[{"$nulls":7},"TOTAL EQUIPAMENTOS",{"$f":"SUM(I30)","v":41722.025600000001},{"$f":"SUM(J30)","v":51828.79}]
[]
["4 - DESVIO DE TRÁFEGO"]
["4.1","DESVIO DE TRÁFEGO",{"$nulls":6},{"$f":"SUM(I36:I42)","v":191001.67138248254},{"$f":"SUM(J36:J42)","v":237263.99}]
["4.1.1","73822/002","SINAPI","LIMPEZA MECANIZADA DE TERRENO COM REMOCAO DE CAMADA VEGETAL, UTILIZANDO MOTONIVELADORA","m²",13088.19,0.48,{"$f":"G36*(1+$J$5)","v":0.59630399999999995},{"$f":"SUM(F36*G36,2)","v":6284.3311999999996},{"$f":"ROUND(F36*H36,2)","v":7804.54}]
["4.1.2","72898","SINAPI","CARGA E DESCARGA MECANIZADAS DE ENTULHO EM CAMINHAO BASCULANTE 6 M3 ","m³",{"$f":"SUM(F36*0.2)","v":2617.6380000000004},3.86,4.7952779999999997,10106.082680000001,{"$f":"ROUND(F37*H37,2)","v":12552.3}]
["4.1.3","97916","SINAPI","TRANSPORTE COM CAMINHÃO BASCULANTE DE 6 M3, EM VIA URBANA EM LEITO NATURAL TXKM (UNIDADE: TXKM). AF_01/2018 - 17,10KM","txkm",71618.570000000007,1.47,1.8261809999999998,105281.29790000001,130788.47]
["4.1.4","RO-42263","DEER/MG","ESPALHAMENTO DE MATERIAL EM BOTA-FORA","m³",2617.63,0.18,0.22361399999999998,473.17340000000002,{"$f":"ROUND(F39*H39,2)","v":585.34}]
["4.1.5","RO-43112","DEER/MG","SUB-BASE, SEMMISTURA, COMPACTADA NA ENERGIA DO PROCTOR INTERMEDIÁRIO (EXECUÇÃO, INCLUINDO ESCAVAÇÃO, CARGA, DESCARGA, ESPALHAMENTO, UMIDECIMENTO E COMPACTAÇÃO DO MATERIAL; EXCLUI AQUISIÇÃO E TRANSPORTE DO MATERIAL)","m³",872.51,14.25,17.702774999999999,12435.2675,{"$f":"ROUND(F40*H40,2)","v":15445.85}]
["4.1.6","RO-43113","DEER/MG","BASE DE SOLO SEM MISTURA, COMPACTADA NA ENERGIA DO PROCTOR INTERMEDIÁRIO (EXECUÇÃO, INCLUINDO ESCAVAÇÃO, CARGA, DESCARGA, ESPALHAMENTO, UMIDECIMENTO E COMPACTAÇÃO DO MATERIAL; EXCLUI AQUISIÇÃO E TRANSPORTE DO MATERIAL)","m³",872.51,14.25,17.702774999999999,12435.2675,{"$f":"ROUND(F41*H41,2)","v":15445.85}]
["4.1.7","22.03.05.99","DER/SP","TRANSPORTE DE 1/2 CATEGORIA ATÉ 15KM (BASE E SUB BASE)","m³xkm",{"$f":"SUM(F40+F41)*17.1","v":29839.842000000001},{"$f":"SUM(2.09/1.4179)","v":1.474010861132661},1.8311636927851047,43986.251202482548,{"$f":"ROUND(F42*H42,2)","v":54641.64}]
[{"$nulls":7},"TOTAL DESVIO DE TRÁFEGO",{"$f":"SUM(I35)","v":191001.67138248254},{"$f":"SUM(J35)","v":237263.99}]
[]
["5 - OBRAS DE ARTE CORRENTE E DRENAGEM"]
["5.1","VALETA DE PROTEÇÃO DE ATERRO",{"$nulls":6},{"$f":"SUM(I47)","v":39855.440000000002},{"$f":"SUM(J47)","v":49509.93}]
["5.1.1","RO-40514","DEER/MG","VALETA DE PROTEÇÃO DE ATERRO TIPO DR.VPA (EXECUÇÃO,INCLUINDO ESCAVAÇÃO)","m",1628,24.48,{"$f":"G47*(1+$J$5)","v":30.411504000000001},{"$f":"SUM(F47*G47,2)","v":39855.440000000002},{"$f":"ROUND(F47*H47,2)","v":49509.93}]
["5.2","DISSIPADOR DE ENERGIA",{"$nulls":6},{"$f":"SUM(I49)","v":1008.24},{"$f":"SUM(J49)","v":1250.05}]
["5.2.1","2003441","DNIT/MG","DISSIPADOR DE ENERGIA DE 501 - AREIA E PEDRA DE MÃO COMERCIAIS","und",8,125.78,{"$f":"G49*(1+$J$5)","v":156.256494},{"$f":"SUM(F49*G49,2)","v":1008.24},{"$f":"ROUND(F49*H49,2)","v":1250.05}]
["5.3","SARJETA DE CONCRETO ATERRO",{"$nulls":6},{"$f":"SUM(I51)","v":77582.75},{"$f":"SUM(J51)","v":96378.57}]
["5.3.1","RO-40613","DEER/MG","SARJETA DE CONCRETO EM ATERRO,TIPO DR.SCA- X/Y. LARGURA=60CM TIPO 30/10 (EXECUÇÃO, INCLUINDO ESCAVAÇÃO, FORNECIMENTO, TRANSPORTE E PLANTIO DA GRAMA)","m",2725,28.47,{"$f":"G51*(1+$J$5)","v":35.368280999999996},{"$f":"SUM(F51*G51,2)","v":77582.75},{"$f":"ROUND(F51*H51,2)","v":96378.57}]
["5.4","SARJETA DE CONCRETO CORTE",{"$nulls":6},{"$f":"SUM(I53)","v":17346.8},{"$f":"SUM(J53)","v":21547.45}]
["5.4.1","RO-40661","DEER/MG","SARJETA DE CONCRETO EM CORTE TIPO DR.SCC-X/Y. LARGURA=90CM TIPO80/10 (EXECUÇÃO, INCLUINDOESCAVAÇÃO, FORNECIMENTO E TRANSPORTE DE TODOS OS MATERIAIS)","m",396,43.8,{"$f":"G53*(1+$J$5)","v":54.412739999999992},{"$f":"SUM(F53*G53,2)","v":17346.8},{"$f":"ROUND(F53*H53,2)","v":21547.45}]
["5.5","CANALETA",{"$nulls":6},{"$f":"SUM(I55)","v":947.56},{"$f":"SUM(J55)","v":1174.67}]
["5.5.1","ED-14723","DEER/MG","CANALETA PARA DRENAGEM, EM CONCRETO COM FCK 15MPA, MOLDADA IN LOCO, SEÇÃO 60X60CM, FORMA EM CONTRA BARRANCO, EXCLUSIVE TAMPA, INCLUSIVE ESCAVAÇÃO, REATERRO COM TRANSPORTE E RETIRADA DO MATERIAL ESCAVADO (EM CAÇAMBA)","m",4,236.39,{"$f":"G55*(1+$J$5)","v":293.66729699999996},{"$f":"SUM(F55*G55,2)","v":947.56},{"$f":"ROUND(F55*H55,2)","v":1174.67}]
["5.6","DESCIDA D'ÁGUA",{"$nulls":6},{"$f":"SUM(I57)","v":22385.13},{"$f":"SUM(J57)","v":27806.560000000001}]
["5.6.1","ED-48598","DEER/MG","DESCIDA D´ÁGUA TIPO CALHA DN 500, EXCLUSIVE BOTA FORA","m",77,290.69,{"$f":"G57*(1+$J$5)","v":361.12418700000001},{"$f":"SUM(F57*G57,2)","v":22385.13},{"$f":"ROUND(F57*H57,2)","v":27806.560000000001}]
[{"$nulls":7},"TOTAL OBRAS DE ARTE CORRENTE E DRENAGEM",{"$f":"SUM(I46+I48+I50+I52+I54+I56)","v":159125.91999999998},{"$f":"SUM(J46+J48+J50+J52+J54+J56)","v":197667.23000000004}]
[]
["6 - CONTROLE TECNOLÓGICO"]
["6.1","ENSAIO DE SOLO",{"$nulls":6},{"$f":"SUM(I62:I64)","v":14201.550000000001},{"$f":"SUM(J62:J64)","v":17635.14}]
["6.1.1","ED-49564","DEER/MG","ENSAIO DE TEOR DE UMIDADE - PROCESSO SPEEDY - SOLOS E AGREGADOS MIUDOS","unid.",268,30.02,{"$f":"G62*(1+$J$5)","v":37.293845999999995},{"$f":"SUM(F62*G62,2)","v":8047.36},{"$f":"ROUND(F62*H62,2)","v":9994.75}]
["6.1.2","ED-49555","DEER/MG","ENSAIO DE COMPACTAÇÃO - AMOSTRAS NÃO TRABALHADAS - ENERGIA NORMAL - SOLOS","unid.",54,95.08,118.11788399999999,5136.32,{"$f":"ROUND(F63*H63,2)","v":6378.37}]
["6.1.3","ED-49559","DEER/MG","ENSAIO  DE MASSA ESPECIFICA - IN SITU - METODO FRASCO DE AREIA - SOLOS","unid.",29,35.03,43.517769000000001,1017.87,{"$f":"ROUND(F64*H64,2)","v":1262.02}]
["6.2","ENSAIO DE PAVIMENTO",{"$nulls":6},{"$f":"SUM(I66:I69)","v":91280},{"$f":"SUM(J66:J69)","v":113387.19999999998}]
["6.2.1","02-06-15","SIURB","ENSAIOS DE LABORATÓRIO - VISCOSIDADE","unid.",150,157.47999999999999,{"$f":"G66*(1+$J$5)","v":195.63740399999998},{"$f":"SUM(F66*G66,2)","v":23624},{"$f":"ROUND(F66*H66,2)","v":29345.61}]
["6.2.3","02-06-17","SIURB","ENSAIOS DE LABORATÓRIO - PONTO DE FULGOR","unid.",150,135.99,168.94037700000001,20400.5,{"$f":"ROUND(F67*H67,2)","v":25341.06}]
["6.2.1","02-06-18","SIURB","ENSAIOS DE LABORATÓRIO - PENETRAÇÃO","unid.",150,196.42,244.01256599999996,29464.999999999996,{"$f":"ROUND(F68*H68,2)","v":36601.879999999997}]
["6.2.4","02-06-19","SIURB","ENSAIOS DE LABORATÓRIO - PONTO DE AMOLECIMENTO","unid.",150,118.59,147.32435699999999,17790.5,{"$f":"ROUND(F69*H69,2)","v":22098.65}]
["6.3","ENSAIO DE AGREGADOS",{"$nulls":6},{"$f":"SUM(I71:I73)","v":36489.040000000001},{"$f":"SUM(J71:J73)","v":45322.89}]
["6.3.1","02-06-11","SIURB","ENSAIOS DE LABORATÓRIO - LOS ANGELES","unid.",1,435.4,{"$f":"G71*(1+$J$5)","v":540.89742000000001},{"$f":"SUM(F71*G71,2)","v":437.4},{"$f":"ROUND(F71*H71,2)","v":540.9}]
["6.3.2","02-06-13","SIURB","ENSAIOS DE LABORATÓRIO - DURABILIDADE","unid.",1,470.64,584.67607199999998,472.64,{"$f":"ROUND(F72*H72,2)","v":584.67999999999995}]
["6.3.3","02-06-14","SIURB","ENSAIOS DE LABORATÓRIO - ADESIVIDADE","unid.",150,237.18,294.64871399999998,35579,{"$f":"ROUND(F73*H73,2)","v":44197.31}]
["6.4","ENSAIO DE CONCRETO",{"$nulls":6},{"$f":"SUM(I75)","v":2523.96},{"$f":"SUM(J75)","v":3133.03}]
["6.4.1","ED-49546","DEER/MG","ENSAIO DE RESISTENCIA A COMPRESSÃO SIMPLES - CONCRETO","unid.",28,90.07,{"$f":"G75*(1+$J$5)","v":111.89396099999999},{"$f":"SUM(F75*G75,2)","v":2523.96},{"$f":"ROUND(F75*H75,2)","v":3133.03}]
[{"$nulls":7},"TOTAL CONTROLE TECNOLÓGICO",{"$f":"SUM(I61+I65+I70+I74)","v":144494.54999999999},{"$f":"SUM(J61+J65+J70+J74)","v":179478.25999999998}]
[]
["7- OAE"]
["7.1","INFRA ESTRUTURA",{"$nulls":6},{"$f":"SUM(I80:I90)","v":2121878.3711999999},{"$f":"SUM(J80:J90)","v":2635982.1500000004}]
["7.1.1","72917","SINAPI","ESCAVACAO MECANICA DE VALA EM MATERIAL 2A. CATEGORIA DE 2,01 ATE 4,00M DE PROFUNDIDADE COM UTILIZACAO DE ESCAVADEIRA HIDRAULICA","m³",1127.51,11.04,{"$f":"G80*(1+$J$5)","v":13.714991999999999},{"$f":"SUM(F80*G80,2)","v":12449.710399999998},{"$f":"ROUND(F80*H80,2)","v":15463.79}]
["7.1.2","93382","SINAPI","REATERRO MANUAL DE VALAS COM COMPACTAÇÃO MECANIZADA. AF_04/2016","m³",1084.03,21.06,26.162837999999997,22831.671799999996,28361.3]
["7.1.3","83534","SINAPI","LASTRO DE CONCRETO, PREPARO MECÂNICO, INCLUSOS ADITIVO IMPERMEABILIZANTE, LANÇAMENTO E ADENSAMENTO","m³",5.22,434.59,539.89115699999991,2270.5597999999995,2818.23]
["7.1.4","5914569","DNIT/MG","TRANSPORTE COM CAMINHÃO BETONEIRA - RODOVIA PAVIMENTADA (Entre Bocaiúva/MG e Francisco Dumont/MG - 69,00km)","txkm",{"$f":"SUM(F85*2.4)*69","v":5945.04},0.35,0.43480499999999994,2082.7639999999997,2584.9299999999998]
["7.1.5","5914539","DNIT/MG","TRANSPORTE COM CAMINHÃO BETONEIRA - RODOVIA EM LEITO NATURAL (Entre Francisco Dumont/MG e Área C - 6,00km)","txkm",{"$f":"SUM(F85*2.4)*6","v":516.96},0.54,0.67084200000000005,281.15840000000003,346.8]
["7.1.6","ED-49799","DEER/MG","FORNECIMENTO DE CONCRETO ESTRUTURAL, USINADO, COM FCK 30MPA","m³",35.9,346.7,{"$f":"G85*(1+$J$5)","v":430.70540999999997},12448.529999999999,15462.32]
["7.1.7","92270","SINAPI","FABRICAÇÃO DE FÔRMA PARA VIGAS, COM MADEIRA SERRADA, E = 25 MM. AF_12/2015","m²",18.899999999999999,74.75,92.861924999999999,1414.7749999999999,1755.09]
["7.1.8",5406023,"(DNIT/MG)","MURO DE ESCAMA DE CONCRETO ARMADO EM SOLO REFORÇADO COM FITA METÁLICA COM ALTURA ATÉ 4 M - TIPO 1 - AREIA E BRITA COMERCIAIS","m²",3915.7,345.33,429.00345899999996,1352210.6809999999,1679848.84]
["7.1.9",5406025,"(DNIT/MG)","MURO DE ESCAMA DE CONCRETO ARMADO EM SOLO REFORÇADO COM FITA METÁLICA COM ALTURA DE 4 A 6M - TIPO 1 - AREIA E BRITA COMERCIAIS","m²",1313.24,323.20999999999998,401.52378299999998,424454.30039999995,527297.09]
["7.1.10",5406027,"(DNIT/MG)","MURO DE ESCAMA DE CONCRETO ARMADO EM SOLO REFORÇADO COM FITA METÁLICA COM ALTURA DE 6 A 8M - TIPO 1 - AREIA E BRITA COMERCIAIS","m²",716.59,319,396.2937,228594.21000000002,283980.09999999998]
["7.1.11",5406029,"(DNIT/MG)","MURO DE ESCAMA DE CONCRETO ARMADO EM SOLO REFORÇADO COM FITA METÁLICA COM ALTURA DE 8 A 10M - TIPO 1 - AREIA E BRITA COMERCIAIS","m²",198.44,316.66000000000003,393.38671800000003,62840.010400000006,78063.66]
["7.2","MESO E SUPER ESTRUTURA",{"$nulls":6},{"$f":"SUM(I92:I117)","v":2200063.7134510237},{"$f":"SUM(J92:J117)","v":2733074.5799999996}]
["7.2.1",92263,"SINAPI","FABRICAÇÃO DE FÔRMA PARA PILARES E ESTRUTURAS SIMILARES, EM CHAPA DE MADEIRA COMPENSADA RESINADA, E = 17 MM. AF_12/2015","m²",5975.81,84.2,{"$f":"G92*(1+$J$5)","v":104.60166},{"$f":"SUM(F92*G92,2)","v":503165.20200000005},{"$f":"ROUND(F92*H92,2)","v":625079.65}]
["7.2.2","83534","SINAPI","LASTRO DE CONCRETO, PREPARO MECÂNICO, INCLUSOS ADITIVO IMPERMEABILIZANTE, LANÇAMENTO E ADENSAMENTO","m³",5.3420750000000004,434.59,539.89115699999991,2323.6123742499999,2884.14]
["7.2.3","5914569","DNIT/MG","TRANSPORTE COM CAMINHÃO BETONEIRA - RODOVIA PAVIMENTADA (Entre Bocaiúva/MG e Francisco Dumont/MG - 69,00km)","txkm",{"$f":"SUM(($F$96+$F$97+$F$98)*2.4)*69","v":149609.66399999999},0.35,0.43480499999999994,52365.382399999995,65051.03]
["7.2.4","5914539","DNIT/MG","TRANSPORTE COM CAMINHÃO BETONEIRA - RODOVIA EM LEITO NATURAL (Entre Francisco Dumont/MG e Área C - 6,00km)","txkm",{"$f":"SUM(($F$96+$F$97+$F$98)*2.4)*6","v":13009.536},0.54,0.67084200000000005,7027.1494400000001,8727.34]
["7.2.5",1116263,"DNIT/MG","CONCRETO PARA BOMBEAMENTO FCK = 25 MPA - CONFECÇÃO EM CENTRAL DOSADORA DE 30 M³/H - AREIA E BRITA COMERCIAIS","m³",41.52,214.21,266.11308300000002,8895.9992000000002,11049.02]
["7.2.6",1106280,"DNIT/MG","CONCRETO PARA BOMBEAMENTO FCK = 30 MPA - CONFECÇÃO EM CENTRAL DOSADORA DE 30 M³/H - AREIA E BRITA COMERCIAIS","m³",254.24,224.51,278.908773,57081.422400000003,70909.77]
["7.2.7",1106281,"DNIT/MG","CONCRETO PARA BOMBEAMENTO FCK = 35 MPA - CONFECÇÃO EM CENTRAL DOSADORA DE 30 M³/H - AREIA E BRITA COMERCIAIS","m³",607.67999999999995,236.01,293.195223,143420.55679999999,178168.87]
["7.2.8",1107860,"DNIT/MG","LANÇAMENTO MECÂNICO DE CONCRETO COM BOMBA LANÇA SOBRE CHASSI COM CAPACIDADE DE 45 M³/H - CONFECÇÃO EM CENTRAL DOSADORA DE 40 M³/H","m³",{"$f":"SUM(F96+F97+F98)","v":903.43999999999994},31.52,39.157295999999995,28478.428799999998,35376.269999999997]
["7.2.9","ED-50430","DEER/MG","FORNECIMENTO E APLICAÇÃO DE GROUT PARA ANCORAGENS","m³",0.28800000000000003,272.56,338.60128800000001,80.497280000000003,97.52]
["7.2.10",92792,"SINAPI","CORTE E DOBRA DE AÇO CA-50, DIÂMETRO DE 6,3 MM, UTILIZADO EM ESTRUTURA S DIVERSAS","kg",5728,5.92,7.3544159999999996,33911.760000000002,42126.09]
["7.2.11",92793,"SINAPI","CORTE E DOBRA DE AÇO CA-50, DIÂMETRO DE 8,0 MM, UTILIZADO EM ESTRUTURA S DIVERSAS","kg",7062,6.35,7.8886049999999992,44845.7,55709.33]
["7.2.12",92794,"SINAPI","CORTE E DOBRA DE AÇO CA-50, DIÂMETRO DE 10,0 MM, UTILIZADO EM ESTRUTURAS DIVERSAS","kg",21632,5.27,6.5469209999999993,114002.63999999998,141623]
["7.2.13",92795,"SINAPI","CORTE E DOBRA DE AÇO CA-50, DIÂMETRO DE 12,5 MM, UTILIZADO EM ESTRUTURAS DIVERSAS","kg",17666,4.91,6.0996930000000003,86742.06,107757.18]
["7.2.14",92796,"SINAPI","CORTE E DOBRA DE AÇO CA-50, DIÂMETRO DE 16,0 MM, UTILIZADO EM ESTRUTURAS DIVERSAS","kg",43652,4.84,6.0127319999999997,211277.68,262467.78000000003]
["7.2.15",92797,"SINAPI","CORTE E DOBRA DE AÇO CA-50, DIÂMETRO DE 20,0 MM, UTILIZADO EM ESTRUTURAS DIVERSAS","kg",2791,4.62,5.7394259999999999,12896.42,16018.74]
["7.2.16",92798,"SINAPI","CORTE E DOBRA DE AÇO CA-50, DIÂMETRO DE 25,0 MM, UTILIZADO EM ESTRUTURAS DIVERSAS","kg",334,5.33,6.6214589999999998,1782.22,2211.5700000000002]
["7.2.17",92880,"SINAPI","CORTE E DOBRA DE AÇO CA-25, DIÂMETRO DE 20,0 MM. AF_12/2015","kg",1105,4.78,5.9381940000000002,5283.9000000000005,6561.7]
["7.2.18",307736,"DNIT/MG","JUNTA DE DILATAÇÃO EM PERFIL EXTRUDADO DE BORRACHA VULCANIZADA DE 40 X 70 MM - FORNECIMENTO E INSTALAÇÃO","m",20.6,1017.84,1264.462632,20969.504000000001,26047.93]
["7.2.19",91790,"SINAPI","(COMPOSIÇÃO REPRESENTATIVA) DO SERVIÇO DE INSTALAÇÃO DE TUBOS DE PVC, SÉRIE R, ÁGUA PLUVIAL, DN 100 MM (INSTALADO EM RAMAL DE ENCAMINHAMENTO , OU CONDUTORES VERTICAIS), INCLUSIVE  CONEXÕES, CORTES E FIXAÇÕES, PARA PRÉDIOS. AF_10/2015 ","m",512.46,40.950000000000003,50.872185000000002,20987.237000000005,26069.96]
["7.2.20",84154,"SINAPI","APARELHO APOIO NEOPRENE FRETADO ","dm³",135.56,109.06,135.48523800000001,14786.1736,18366.38]
["7.2.21","73770/001","SINAPI","BARREIRA PRE-MOLDADA EXTERNA CONCRETO ARMADO 0,25X0,40X1,14M FCK=25MPA ACO CA-50 INCL VIGOTA HORIZONTAL MONTANTE A CADA 1,00M FERROS DE LIGACAO E MATERIAIS.","m",256.23,450.09,559.14680699999997,115328.5607,143270.19]
["7.2.22","ED-50429","DEER/MG","LANÇAMENTO DE TABULEIRO PRÉ-MOLDADO","unid.",1198,63.38,78.736974000000004,75931.240000000005,94326.89]
["7.2.23",4507956,"DNIT/MG","CORDOALHA CP 190 RB D = 12,7 MM - FORNECIMENTO, PREPARO E COLOCAÇÃO ","Kg",23155.200000000001,9.3699999999999992,11.640350999999999,216966.22399999999,269534.65999999997]
["7.2.24",4508176,"DNIT/MG","BAINHA METÁLICA DIÂMETRO 95 MM PARA 19 CORDOALHAS D = 15,2 MM, SEMI-RÍGIDA, REDONDA, COM MONTAGEM E INJEÇÃO DE NATA DE CIMENTO","m",2381.7600000000002,69.34,86.141081999999997,165153.23840000003,205167.38]
["7.2.25",4507755,"DNIT/MG","ANCORAGEM ATIVA PARA 12 CORDOALHAS D = 12,7 MM COM PLACA DE ANCORAGEM, BLOCO, CUNHAS TRIPARTIDAS, TROMBETA E PROTENSÃO","unid.",120,1454.16,1806.502968,174501.2,216780.36]
["7.2.26","26.13.01.99","DER/SP","LANCAMENTO VIGA P<=50T-GUINDASTE AUTO PROPULSADO      ","unid.",12,{"$f":"SUM(9672.17/1.4179)","v":6821.4754213978422},8474.3189160025395,81859.70505677411,101691.83]
[{"$nulls":7},"TOTAL OAE",{"$f":"SUM(I79+I91)","v":4321942.0846510231},{"$f":"SUM(J79+J91)","v":5369056.7300000004}]
[]
["8 - MATERIAIS E TRANSPORTE PARA PAVIMENTAÇÃO ASFÁLTICA (PARA USINA EM MONTES CLAROS)"]
["8.1","CAP - CIMENTO ASFÁLTICO",{"$nulls":6},{"$f":"SUM(I122:I123)","v":48697.055400000005},{"$f":"SUM(J122:J123)","v":60491.39}]
["8.1.1","72849","SINAPI","CARGA, MANOBRAS E DESCARGA DE MISTURAS DE SOLOS E AGREGADOS (BASES ESTABILIZADAS EM USINA) COM CAMINHAO BASCULANTE 6 M3","t",123.53,2.68,{"$f":"G122*(1+$J$5)","v":3.329364},{"$f":"SUM(F122*G122,2)","v":333.06040000000002},{"$f":"ROUND(F122*H122,2)","v":411.28}]
["8.1.2","72884","SINAPI","TRANSPORTE COMERCIAL COM CAMINHAO CARROCERIA 9 T (435KM)","m³*km",{"$f":"F122*435","v":53735.55},0.9,1.1180699999999999,48363.995000000003,{"$f":"ROUND(F123*H123,2)","v":60080.11}]
["8.2","AREIA",{"$nulls":6},{"$f":"SUM(I125:I126)","v":72567.337},{"$f":"SUM(J125:J126)","v":90145.430000000008}]
["8.2.1","72888","SINAPI","CARGA, MANOBRAS E DESCARGA DE AREIA, BRITA, PEDRA DE MAO E SOLOS COM CAMINHAO BASCULANTE 6 M3 (DESCARGA LIVRE)","m³",551.1,1.17,{"$f":"G125*(1+$J$5)","v":1.4534909999999999},{"$f":"SUM(F125*G125,2)","v":646.78700000000003},{"$f":"ROUND(F125*H125,2)","v":801.02}]
["8.2.2","72884","SINAPI","TRANSPORTE COMERCIAL COM CAMINHAO CARROCERIA 9 T (145KM)","m³*km",{"$f":"F125*145","v":79909.5},0.9,1.1180699999999999,71920.55,{"$f":"ROUND(F126*H126,2)","v":89344.41}]
["8.3","BRITA",{"$nulls":6},{"$f":"SUM(I128:I129)","v":7557.5641000000005},{"$f":"SUM(J128:J129)","v":9383.7899999999991}]
["8.3.1","72888","SINAPI","CARGA, MANOBRAS E DESCARGA DE AREIA, BRITA, PEDRA DE MAO E SOLOS COM CAMINHAO BASCULANTE 6 M3 (DESCARGA LIVRE)","m³",742.73,1.17,{"$f":"G128*(1+$J$5)","v":1.4534909999999999},{"$f":"SUM(F128*G128,2)","v":870.9941},{"$f":"ROUND(F128*H128,2)","v":1079.55}]
["8.3.2","72884","SINAPI","TRANSPORTE COMERCIAL COM CAMINHAO CARROCERIA 9 T (10KM)","m³*km",{"$f":"F128*10","v":7427.3},0.9,1.1180699999999999,6686.5700000000006,{"$f":"ROUND(F129*H129,2)","v":8304.24}]
[{"$nulls":7},"TOTAL DE MATERIAIS DO CONCRETO",{"$f":"SUM(I121+I124+I127)","v":128821.95650000001},{"$f":"SUM(J121+J124+J127)","v":160020.61000000002}]
[]
["9 - PAVIMENTAÇÃO ASFÁLTICA"]
["9.1","PAVIMENTO FLEXIVEL - NOVO E RECUPERAÇÃO",{"$nulls":6},{"$f":"SUM(I134:I149)","v":6039385.574620001},{"$f":"SUM(J134:J149)","v":7502688.9500000011}]
["9.1.1","83338","SINAPI","ESCAVACAO MECANICA, A CEU ABERTO, EM MATERIAL DE 1A CATEGORIA, COM ESCAVADEIRA HIDRAULICA, CAPACIDADE DE 0,78 M3 - CORTE","m³",365.65,2.23,{"$f":"G134*(1+$J$5)","v":2.7703289999999998},{"$f":"SUM(F134*G134,2)","v":817.39949999999999},{"$f":"ROUND(F134*H134,2)","v":1012.97}]
["9.1.2","83338","SINAPI","ESCAVACAO MECANICA, A CEU ABERTO, EM MATERIAL DE 1A CATEGORIA, COM ESCAVADEIRA HIDRAULICA, CAPACIDADE DE 0,78 M3 - CORTE JAZIDA","m³",251888.76,2.23,2.7703289999999998,561713.93480000005,697814.74,314860.94]
["9.1.3","RO-40251","DEER/MG","COMPACTAÇÃO DE ATERRO A 100% PROCTOR NORMAL","m³",251888.76,3.15,3.9132449999999999,793451.59400000004,985702.43]
["9.1.4","RO-43112","DEER/MG","SUB-BASE, SEMMISTURA, COMPACTADA NA ENERGIA DO PROCTOR INTERMEDIÁRIO (EXECUÇÃO, INCLUINDO ESCAVAÇÃO, CARGA, DESCARGA, ESPALHAMENTO, UMIDECIMENTO E COMPACTAÇÃO DO MATERIAL; EXCLUI AQUISIÇÃO E TRANSPORTE DO MATERIAL)","m³",2397.0700000000002,14.25,17.702774999999999,34160.247500000005,42434.79]
["9.1.5","RO-43113","DEER/MG","BASE DE SOLO SEM MISTURA, COMPACTADA NA ENERGIA DO PROCTOR INTERMEDIÁRIO (EXECUÇÃO, INCLUINDO ESCAVAÇÃO, CARGA, DESCARGA, ESPALHAMENTO, UMIDECIMENTO E COMPACTAÇÃO DO MATERIAL; EXCLUI AQUISIÇÃO E TRANSPORTEDO MATERIAL)","m³",2397.0700000000002,14.25,17.702774999999999,34160.247500000005,42434.79]
["9.1.6","96401","SINAPI","EXECUÇÃO DE IMPRIMAÇÃO COM ASFALTO DILUÍDO CM-30. AF_09/2017","m²",16941.740000000002,6.24,7.7519520000000002,105718.45760000001,131331.56]
["9.1.7",93176,"SINAPI","TRANSPORTE DE MATERIAL ASFALTICO, COM CAMINHÃO COM CAPACIDADE DE 30000 L EM RODOVIA PAVIMENTADA. AF_02/2016 (P/ ITEM 6.1.6) (ORIUNDO DE BETIM/MG DISTANTE 377KM DIRETO PARA OBRA C)","txkm",7664.44,0.48,0.59630399999999995,3680.9311999999995,4570.34]
["9.1.8",93178,"SINAPI","TRANSPORTE DE MATERIAL ASFALTICO, COM CAMINHÃO COM CAPACIDADE DE 30000 TXKM L EM RODOVIA NÃO PAVIMENTADA PARA DISTÂNCIAS MÉDIAS DE TRANSPORTE SUPERIORES A 100 KM. AF_02/2016  (ORIUNDO DE FRANCISCO DUMONT/MG DISTANTE 6KM DIRETO PARA OBRA C)","txkm",122,0.54,0.67084200000000005,67.88000000000001,81.84]
["9.1.9","72942","SINAPI","PINTURA DE LIGACAO COM EMULSAO RR-1C","m²",16941.740000000002,1.62,2.0125260000000003,27447.618800000004,34095.69]
["9.1.10",93176,"SINAPI","TRANSPORTE DE MATERIAL ASFALTICO, COM CAMINHÃO COM CAPACIDADE DE 30000 L EM RODOVIA PAVIMENTADA. AF_02/2016 (P/ ITEM 6.1.6) (ORIUNDO DE BETIM/MG DISTANTE 377KM DIRETO PARA OBRA C)","txkm",2554.81,0.48,0.59630399999999995,1228.3088,1523.44]
["9.1.11",93178,"SINAPI","TRANSPORTE DE MATERIAL ASFALTICO, COM CAMINHÃO COM CAPACIDADE DE 30000 TXKM L EM RODOVIA NÃO PAVIMENTADA PARA DISTÂNCIAS MÉDIAS DE TRANSPORTE SUPERIORES A 100 KM. AF_02/2016  (ORIUNDO DE FRANCISCO DUMONT/MG DISTANTE 6KM DIRETO PARA OBRA C)","txkm",40.659999999999997,0.54,0.67084200000000005,23.956399999999999,27.28]
["9.1.12",95995,"SINAPI","CONSTRUÇÃO DE PAVIMENTO COM APLICAÇÃO DE CONCRETO BETUMINOSO USINADO A QUENTE (CBUQ), CAMADA DE ROLAMENTO, COM ESPESSURA DE 5,0 CM - EXCLUSIVE TRANSPORTE. AF_03/2017 (PAVIMENTAÇÃO ESTRADA)","m³",799.03,1017.65,1264.2265949999999,813134.87949999992,1010154.98]
["9.1.13",95995,"SINAPI","CONSTRUÇÃO DE PAVIMENTO COM APLICAÇÃO DE CONCRETO BETUMINOSO USINADO A QUENTE (CBUQ), CAMADA DE ROLAMENTO, COM ESPESSURA DE 5,0 CM - EXCLUSIVE TRANSPORTE. AF_03/2017 (PAVIMENTAÇÃO OAE)","m³",96.13,1017.65,1264.2265949999999,97828.694499999998,121530.1]
["9.1.14",93176,"SINAPI","TRANSPORTE DE MATERIAL ASFALTICO, COM CAMINHÃO COM CAPACIDADE DE 30000 L EM RODOVIA PAVIMENTADA. AF_02/2016 (P/ ITEM 2.1.12) (ORIUNDO D MONTES CLAROS/MG DIST. 111KM)","txkm",{"$f":"SUM((F145+F146)*2.4)*111","v":238470.62400000001},0.48,0.59630399999999995,114467.89952000001,142200.99]
["9.1.15",93177,"SINAPI","TRANSPORTE DE MATERIAL ASFALTICO, COM CAMINHÃO COM CAPACIDADE DE 30000 TXKM L EM RODOVIA NÃO PAVIMENTADA PARA DISTÂNCIAS MÉDIAS DE TRANSPORTE SUPERIORES A 100 KM. AF_02/2016 (JEQUITAÍ P/ ÁREA C - 24KM)","txkm",51561.120000000003,0.54,0.67084200000000005,27845.004800000002,34589.360000000001]
["9.1.16","RO-41344","DEER/MG","TRANSPORTE DE MATERIAL DE JAZIDA PARA CONSERVAÇÃO. DISTÂNCIA MÉDIA DE TRANSPORTE > 50,10 KM (ESCAVAÇÃO+BASE E SUB BASE) - 17,10KM","m³xkm",{"$f":"SUM(F135+F137+F138)*17.1","v":4389277.5900000008},0.78,0.96899400000000002,3423638.5202000006,4253183.6500000004]
[{"$nulls":7},"TOTAL PAVIMENTAÇÃO ASFÁLTICA",{"$f":"SUM(I133)","v":6039385.574620001},{"$f":"SUM(J133)","v":7502688.9500000011}]
[]
["10 - COMPLEMENTARES"]
["10.1","RECOMPOSIÇÃO DE DIVISAS",{"$nulls":6},{"$f":"SUM(I154)","v":89054.523499999996},{"$f":"SUM(J154)","v":110629.95}]
["10.1.1","74039/001","SINAPI","CERCA COM MOUROES DE MADEIRA ROLICA, DIAMETRO 11CM, ESPACAMENTO DE 2M, ALTURA LIVRE DE 1M, CRAVADOS 0,5M, COM 5 FIOS DE ARAME FARPADO Nº 14 CLASSE 250","m",3642.23,24.45,{"$f":"G154*(1+$J$5)","v":30.374234999999999},{"$f":"SUM(F154*G154,2)","v":89054.523499999996},{"$f":"ROUND(F154*H154,2)","v":110629.95}]
[{"$nulls":7},"TOTAL COMPLEMENTARES",{"$f":"SUM(I153)","v":89054.523499999996},{"$f":"SUM(J153)","v":110629.95}]
[]
["11 - SINALIZAÇÃO DE OBRA E DEFINITIVA"]
["11.1","SINALIZAÇÃO DE OBRA",{"$nulls":6},{"$f":"SUM(I159:I163)","v":68791.019199999995},{"$f":"SUM(J159:J163)","v":85446.66}]
["11.1.1",97051,"SINAPI","SINALIZAÇÃO COM FITA FIXADA NA ESTRUTURA. AF_11/2017","m",6000,0.46,{"$f":"G159*(1+$J$5)","v":0.57145800000000002},{"$f":"SUM(F159*G159,2)","v":2762},{"$f":"ROUND(F159*H159,2)","v":3428.75}]
["11.1.2","RO-41841","DEER/MG","PLACA DE AÇO CARBONO COM PELÍCULA REFLETIVA GRAU TÉCNICO TIPO I DA ABNT - PLACA CIRCULAR (EXECUÇÃO, INCLUINDO FORNECIMENTO E TRANSPORTE DE TODOS OS MATERIAIS, INCLUSIVE POSTE DE SUSTENTAÇÃO)","m²",1.57,337.22,418.928406,531.43540000000007,{"$f":"ROUND(F160*H160,2)","v":657.72}]
["11.1.3","RO-41844","DEER/MG","PLACA DE AÇO CARBONO COM PELÍCULA REFLETIVA GRAU TÉCNICO TIPO I DA ABNT - PLACA QUADRADA (EXECUÇÃO, INCLUINDO FORNECIMENTO E TRANSPORTE DE TODOS OS MATERIAIS, INCLUSIVE POSTE DE SUSTENTAÇÃO)","m²",26.88,326.75,405.92152499999997,8785.0399999999991,{"$f":"ROUND(F161*H161,2)","v":10911.17}]
["11.1.4","RO-43226","DEER/MG","COLOCAÇÃO DE PLACAS","m²",28.45,64.06,79.581738000000001,1824.5070000000001,{"$f":"ROUND(F162*H162,2)","v":2264.1}]
["11.1.5","85424","SINAPI","ISOLAMENTO DE OBRA COM TELA PLASTICA COM MALHA DE 5MM E ESTRUTURA DE MADEIRA PONTALETEADA","m",2908.64,18.87,23.442201000000001,54888.036800000002,{"$f":"ROUND(F163*H163,2)","v":68184.92}]
["11.2","SINALIZAÇÃO DEFINITIVA HORIZONTAL",{"$nulls":6},{"$f":"SUM(I165:I166)","v":840.45500000000004},{"$f":"SUM(J165:J166)","v":1039.1300000000001}]
["11.2.1","RO-41237               OBR-VIA-245","DEER/MG","LINHAS DE RESINA ACRILICA 0,6MM DE ESPESSURA E LARGURA = 0,10M (EXECUÇÃO, INCLUSIVE PRÉ-MARCAÇÃO, FORNECIMENTO E TRANSPORTE DE TODOS OS MATERIAIS) - LINHAS BRANCAS","m²",344,1.73,{"$f":"G165*(1+$J$5)","v":2.1491789999999997},{"$f":"SUM(F165*G165,2)","v":597.12},{"$f":"ROUND(F165*H165,2)","v":739.32}]
["11.2.2","RO-41237               OBR-VIA-245","DEER/MG","LINHAS DE RESINA ACRILICA 0,6MM DE ESPESSURA E LARGURA = 0,10M (EXECUÇÃO, INCLUSIVE PRÉ-MARCAÇÃO, FORNECIMENTO E TRANSPORTE DE TODOS OS MATERIAIS) - LINHAS AMARELAS","m²",139.5,1.73,2.1491789999999997,243.33500000000001,{"$f":"ROUND(F166*H166,2)","v":299.81}]
["11.3","SINALIZAÇÃO DEFINITIVA VERTICAL",{"$nulls":6},{"$f":"SUM(I168:I170)","v":819.70299999999997},{"$f":"SUM(J168:J170)","v":1010.87}]
["11.3.1","RO-41841","DEER/MG","PLACA DE AÇO CARBONO COM PELÍCULA REFLETIVA GRAU TÉCNICO TIPO I DA ABNT - PLACA CIRCULAR (EXECUÇÃO, INCLUINDO FORNECIMENTO E TRANSPORTE DE TODOS OS MATERIAIS, INCLUSIVE POSTE DE SUSTENTAÇÃO)","m²",1.18,337.22,{"$f":"G168*(1+$J$5)","v":418.928406},{"$f":"SUM(F168*G168,2)","v":399.9196},{"$f":"ROUND(F168*H168,2)","v":494.34}]
["11.3.2","RO-41844","DEER/MG","PLACA DE AÇO CARBONO COM PELÍCULA REFLETIVA GRAU TÉCNICO TIPO I DA ABNT - PLACA QUADRADA (EXECUÇÃO, INCLUINDO FORNECIMENTO E TRANSPORTE DE TODOS OS MATERIAIS, INCLUSIVE POSTE DE SUSTENTAÇÃO)","m²",1,326.74,405.90910200000002,328.74,{"$f":"ROUND(F169*H169,2)","v":405.91}]
["11.3.3","RO-43226","DEER/MG","COLOCAÇÃO DE PLACAS","m²",1.39,64.06,79.581738000000001,91.043399999999991,{"$f":"ROUND(F170*H170,2)","v":110.62}]
["11.4","DISPOSITIVOS DE SEGURANÇA",{"$nulls":6},{"$f":"SUM(I172:I173)","v":658639.93951900699},{"$f":"SUM(J172:J173)","v":818223.42999999993}]
["11.4.1","RO-41763","DEER/MG","DEFENSA SINGELA SEMI-MALEÁVEL SV-DSM-02 (EXECUÇÃO, INCLUINDO FORNECIMENTO, COLOCAÇÃO E TRANSPORTE DE TODOS OS MATERIAIS)","m",2466,264.45999999999998,{"$f":"G172*(1+$J$5)","v":328.53865799999994},{"$f":"SUM(F172*G172,2)","v":652160.36},{"$f":"ROUND(F172*H172,2)","v":810176.33}]
["11.4.2","28.10.01.99","DER/SP","FORN./INSTAL. BALIZ.(CATADIOPTRICO) P/DEF. MET. C/PELICULA GT+GT, CONF.OP-06-05","un.",308,{"$f":"SUM(29.82/1.4179)","v":21.031102334438255},26.126938430072645,6479.579519006983,{"$f":"ROUND(F173*H173,2)","v":8047.1}]
[{"$nulls":7},"TOTAL SINALIZAÇÃO DE OBRA E DEFINITIVA",{"$f":"SUM(I158+I164+I167+I171)","v":729091.11671900703},{"$f":"SUM(J158+J164+J167+J171)","v":905720.09}]
[]
["12 - DESMOBILIZAÇÃO"]
["12.1","DESMOBILIZAÇÃO",{"$nulls":6},{"$f":"SUM(I178)","v":56737.88},{"$f":"SUM(J178)","v":70482.98}]
["12.1.1","C4","CPU","DESMOBILIZAÇÃO","un.",1,{"$f":"[2]CPU!$J$115","v":56735.88},{"$f":"G178*(1+$J$5)","v":70482.983723999991},{"$f":"SUM(F178*G178,2)","v":56737.88},{"$f":"ROUND(F178*H178,2)","v":70482.98}]
[{"$nulls":7},"TOTAL DESMOBILIZAÇÃO",{"$f":"SUM(I177)","v":56737.88},{"$f":"SUM(J177)","v":70482.98}]
[]
[{"$nulls":7},"TOTAL GERAL",{"$f":"SUM(I20+I27+I32+I43+I58+I76+I118+I130+I150+I155+I174+I179)","v":12817429.711672515},{"$f":"SUM(J20+J27+J32+J43+J58+J76+J118+J130+J150+J155+J174+J179)","v":15922824.630000003}]

{"sheet":"COMPARATIVO CUSTO","index":9,"n_rows":25,"n_cols":8,"rows_kept":25,"cut":false,"hidden":false,"merged":[[2,1,3,2],[2,3,3,4],[6,5,8,5],[20,5,23,7],[10,7,10,8],[11,7,11,8],[12,7,12,8],[13,7,13,8],[14,7,14,8],[15,7,15,8],[16,7,16,8],[17,7,17,8],[18,7,18,8],[19,7,19,8]]}
[]
[]
[null,"CUSTOS INICIAIS",null,"CUSTO ATUALIZADO"]
[]
[null,"SEM BDI","COM BDI","SEM BDI","COM BDI"]
["SERV.PRELIMINARES",null,null,{"$f":"'PLANILHA UNIFICADA'!I35+'PLANILHA UNIFICADA'!I53+'PLANILHA UNIFICADA'!I64+'PLANILHA UNIFICADA'!I776","v":5300439.6348800007},{"$f":"'PLANILHA UNIFICADA'!J35+'PLANILHA UNIFICADA'!J53+'PLANILHA UNIFICADA'!J64+'PLANILHA UNIFICADA'!J776","v":6608053.1199999992}]
["PONTE A",{"$f":"'PL-ORÇ-DEF.A'!I186","v":4125810.7476661811},{"$f":"'PL-ORÇ-DEF.A'!J186","v":5143371.459999999},{"$f":"'PLANILHA UNIFICADA'!I186","v":1503081.25},{"$f":"'PLANILHA UNIFICADA'!J186","v":1873891.3699999999},"CUSTO ATUALIZADO SEM ADMINISTRAÇÃO"]
["PONTE B",{"$f":"'PL-ORÇ-DEF.B'!I181","v":1174626.5467085533},{"$f":"'PL-ORÇ-DEF.B'!J181","v":1458970.17},{"$f":"'PLANILHA UNIFICADA'!I303","v":928125.21},{"$f":"'PLANILHA UNIFICADA'!J303","v":1157093.75}]
["PONTE C",{"$f":"'PL-ORÇ-DEF.C'!I181","v":12817429.711672515},{"$f":"'PL-ORÇ-DEF.C'!J181","v":15922824.630000003},{"$f":"'PLANILHA UNIFICADA'!I420","v":9076759.3800000008},{"$f":"'PLANILHA UNIFICADA'!J420","v":11315995.909999998}]
["ENGECORPS- ADM",{"$f":"ENGECORPS!I12+ENGECORPS!I17+ENGECORPS!I20","v":4885731.7946988996},{"$f":"ENGECORPS!K12+ENGECORPS!K17+ENGECORPS!K20","v":6199052.6447630823}]
["GALERIA D",{"$f":"ENGECORPS!I25","v":158617.86798400199},{"$f":"ENGECORPS!K25","v":201255.52432079567},{"$f":"'PLANILHA UNIFICADA'!I628","v":21190.22},{"$f":"'PLANILHA UNIFICADA'!J628","v":26417.84},{"$f":"E11-C11","v":-174837.68432079567},{"$f":"F11/C11","v":-0.86873483304790833},"Custo transporte = 60mil e Transição = 15mil"]
["GALERIA E",{"$f":"ENGECORPS!I37","v":325652.00254309451},{"$f":"ENGECORPS!K37","v":413189.66993389284},{"$f":"'PLANILHA UNIFICADA'!I659","v":327469.37},{"$f":"'PLANILHA UNIFICADA'!J659","v":408256.08},{"$f":"E12-C12","v":-4933.5899338928284},-1.1940254785852136E-2,"Enrocamento mais caro"]
["GALERIA F",{"$f":"ENGECORPS!I57","v":146748.82326401031},{"$f":"ENGECORPS!K57","v":186195.99257529381},{"$f":"'PLANILHA UNIFICADA'!I671","v":46842.63},{"$f":"'PLANILHA UNIFICADA'!J671","v":58398.689999999995},-127797.30257529381,-0.68635903924524699,"Recomp.Jazida = 77mil, Transp.Rocha = 22mil, Transição = 5mil"]
["GALERIA G1",{"$f":"ENGECORPS!I70","v":114323.76648038278},{"$f":"ENGECORPS!K70","v":145054.84065425862},{"$f":"'PLANILHA UNIFICADA'!I683","v":32223.039999999997},{"$f":"'PLANILHA UNIFICADA'!J683","v":40172.47},-104882.37065425862,-0.72305322718769538,"Recomp.Jazida = 61mil, Transp.Rocha = 5mil, Transição = 2mil"]
["GALERIA G2",{"$f":"ENGECORPS!I83","v":28620.681158423831},{"$f":"ENGECORPS!K83","v":36314.131983780411},{"$f":"'PLANILHA UNIFICADA'!I693","v":3519.0499999999997},{"$f":"'PLANILHA UNIFICADA'!J693","v":4387.22},-31926.91198378041,-0.87918697872333729,"Limpeza = 4mil, Transp+Transição = 3500"]
["GALERIA H",{"$f":"ENGECORPS!I94","v":293376.02714841365},{"$f":"ENGECORPS!K94","v":372237.67358202691},{"$f":"'PLANILHA UNIFICADA'!I703","v":56724.180000000008},{"$f":"'PLANILHA UNIFICADA'!J703","v":70718.040000000008},-301519.63358202693,{"$f":"F16/C16","v":-0.81001912213913396},"Recomp.Jazida = 144mil, Transp.Rocha = 51mil, Limpeza = 7mil"]
["GALERIA M",{"$f":"ENGECORPS!I106","v":1664709.6471338409},{"$f":"ENGECORPS!K106","v":2112195.9154664641},{"$f":"'PLANILHA UNIFICADA'!I734","v":2141500.61},{"$f":"'PLANILHA UNIFICADA'!J734","v":2669808.75},557612.83453353588,0.2639967393414786,"Enrocamento mais caro"]
["PONTE N",{"$f":"ENGECORPS!I126","v":2075707.3312407148},{"$f":"ENGECORPS!K126","v":2633672.8175384565},{"$f":"'PLANILHA UNIFICADA'!I521","v":2517712.0700000003},{"$f":"'PLANILHA UNIFICADA'!J521","v":3138831.6300000004},505158.81246154383,{"$f":"F18/C18","v":0.19180773294903308},"Prot.Aterro, Sinalização e Enrocamento"]
["GALERIA 0",{"$f":"ENGECORPS!I159","v":1251508.9131809392},{"$f":"ENGECORPS!K159","v":1587923.7674521171},{"$f":"'PLANILHA UNIFICADA'!I768","v":1310103.73},{"$f":"'PLANILHA UNIFICADA'!J768","v":1633306.3500000003},45382.58254788327,{"$f":"F19/C19","v":2.8579824471486638E-2},"Enrocamento mais caro, custos transporte (outros compensam)"]
["PONTE R",{"$f":"ENGECORPS!I185","v":912873.25402461563},{"$f":"ENGECORPS!K185","v":1158260.3379569112},{"$f":"'PLANILHA UNIFICADA'!I617","v":1151053.06},{"$f":"'PLANILHA UNIFICADA'!J617","v":1435017.8900000001},276757.55204308894,0.23894244063581557,"Proteção de Talude = 1,1mi"]
["TOTAL:",{"$f":"SUM(B7:B20)","v":29975737.11490459},{"$f":"SUM(C7:C20)","v":37570519.576227091},{"$f":"SUM(D6:D20)","v":24416743.43488},{"$f":"SUM(E6:E20)","v":30440349.109999996},"OBS: CUSTO ADMINISTRATIVO NA PLANILHA DA ENGECORPS BASTANTE ELEVADO (R$6,2MI = 33,7%) -                                    ESSA PODE SER A DIFERENÇA"]
[]
[]
[]
[{"$nulls":5},{"$f":"SUM(F11:F20)","v":639014.28853600356}]

{"sheet":"ANÁLISE","index":10,"n_rows":615,"n_cols":13,"rows_kept":615,"cut":false,"hidden":false,"merged":[[555,9,555,11],[556,9,556,11],[582,9,582,11],[0,0,0,6],[6,0,6,6],[7,0,8,0],[7,1,8,1],[7,2,8,2],[7,3,7,4],[7,5,7,6],[69,9,73,12],[236,9,241,11],[257,9,260,11],[307,9,307,11],[464,9,465,11]]}
[]
[{"$nulls":5},"REV.:","A7"]
[{"$nulls":5},"DATA:","JULHO.2020 "]
[{"$nulls":4},"VALOR TOTAL C/BDI (R$):",null,{"$f":"SUM(#REF!)","v":{"$error":"#REF!"}}]
[{"$nulls":4},"BDI (%):",null,{"$f":"BDI!$C$23","v":0.2467}]
[]
[]
["Especificação","Unidade","Quantidade","Preço Unitário (R$)",null,"Preço Total"]
[null,null,null,"Sem BDI","Com BDI","Sem BDI","Com BDI"]
["(COMPOSIÇÃO REPRESENTATIVA) DO SERVIÇO DE INSTALAÇÃO DE TUBOS DE PVC, SÉRIE R, ÁGUA PLUVIAL, DN 100 MM (INSTALADO EM RAMAL DE ENCAMINHAMENTO , OU CONDUTORES VERTICAIS), INCLUSIVE  CONEXÕES, CORTES E FIXAÇÕES, PARA PRÉDIOS. AF_10/2015 ","m",172.46,42.45,{"$f":"D10*(1+$G$5)","v":52.922415000000001},{"$f":"ROUND(C10*D10,2)","v":7320.93},{"$f":"ROUND(C10*E10,2)","v":9127},91790,"SINAPI"]
["(COMPOSIÇÃO REPRESENTATIVA) DO SERVIÇO DE INSTALAÇÃO DE TUBOS DE PVC, SÉRIE R, ÁGUA PLUVIAL, DN 100 MM (INSTALADO EM RAMAL DE ENCAMINHAMENTO , OU CONDUTORES VERTICAIS), INCLUSIVE  CONEXÕES, CORTES E FIXAÇÕES, PARA PRÉDIOS. AF_10/2015 ","m",152.46,42.45,52.922415000000001,6471.93,8068.55,91790,"SINAPI"]
["(COMPOSIÇÃO REPRESENTATIVA) DO SERVIÇO DE INSTALAÇÃO DE TUBOS DE PVC, SÉRIE R, ÁGUA PLUVIAL, DN 100 MM (INSTALADO EM RAMAL DE ENCAMINHAMENTO , OU CONDUTORES VERTICAIS), INCLUSIVE  CONEXÕES, CORTES E FIXAÇÕES, PARA PRÉDIOS. AF_10/2015 ","m",512.46,42.45,52.922415000000001,21753.93,27120.62,91790,"SINAPI"]
["(COMPOSIÇÃO REPRESENTATIVA) DO SERVIÇO DE INSTALAÇÃO DE TUBOS DE PVC, SÉRIE R, ÁGUA PLUVIAL, DN 100 MM (INSTALADO EM RAMAL DE ENCAMINHAMENTO , OU CONDUTORES VERTICAIS), INCLUSIVE  CONEXÕES, CORTES E FIXAÇÕES, PARA PRÉDIOS. AF_10/2015 ","m",null,42.45,52.922415000000001,0,0,91790,"SINAPI"]
["(COMPOSIÇÃO REPRESENTATIVA) DO SERVIÇO DE INSTALAÇÃO DE TUBOS DE PVC, SÉRIE R, ÁGUA PLUVIAL, DN 100 MM (INSTALADO EM RAMAL DE ENCAMINHAMENTO , OU CONDUTORES VERTICAIS), INCLUSIVE  CONEXÕES, CORTES E FIXAÇÕES, PARA PRÉDIOS. AF_10/2015 ","m",null,42.45,52.922415000000001,0,0,91790,"SINAPI"]
["ADMINISTRAÇÃO LOCAL E MANUTENÇÃO DO CANTEIRO DE OBRAS - PRAZO DE OBRA IGUAL A 18 MESES","gl",1,2028860.7400000002,2529380.6845579999,2028860.74,2529380.6800000002,"C1","CPU"]
["ALVENARIA DE VEDAÇÃO COM BLOCO DE CONCRETO, ESP.19 CM, PARA REVESTIMENTO, INCLUSIVE ARGAMASSA PARA ASSENTAMENTO","m²",38.4,49.12,61.237903999999993,1886.21,2351.54,"ED-48193","DEER/MG"]
["ALVENARIA DE VEDAÇÃO COM BLOCO DE CONCRETO, ESP.19 CM, PARA REVESTIMENTO, INCLUSIVE ARGAMASSA PARA ASSENTAMENTO","m²",38.4,49.12,61.237903999999993,1886.21,2351.54,"ED-48193","DEER/MG"]
["ALVENARIA DE VEDAÇÃO COM BLOCO DE CONCRETO, ESP.19 CM, PARA REVESTIMENTO, INCLUSIVE ARGAMASSA PARA ASSENTAMENTO","m²",3.83,49.12,61.237903999999993,188.13,234.54,"ED-48193","DEER/MG"]
["ALVENARIA DE VEDAÇÃO COM BLOCO DE CONCRETO, ESP.19 CM, PARA REVESTIMENTO, INCLUSIVE ARGAMASSA PARA ASSENTAMENTO","m²",7.64,49.12,61.237903999999993,375.28,467.86,"ED-48193","DEER/MG"]
["ANCORAGEM ATIVA PARA 12 CORDOALHAS D = 12,7 MM COM PLACA DE ANCORAGEM, BLOCO, CUNHAS TRIPARTIDAS, TROMBETA E PROTENSÃO","unid.",32,1458,1817.6886,46656,58166.04,4507755,"DNIT/MG"]
["ANCORAGEM ATIVA PARA 12 CORDOALHAS D = 12,7 MM COM PLACA DE ANCORAGEM, BLOCO, CUNHAS TRIPARTIDAS, TROMBETA E PROTENSÃO","unid.",32,1458,1817.6886,46656,58166.04,4507755,"DNIT/MG"]
["ANCORAGEM ATIVA PARA 12 CORDOALHAS D = 12,7 MM COM PLACA DE ANCORAGEM, BLOCO, CUNHAS TRIPARTIDAS, TROMBETA E PROTENSÃO","unid.",120,1458,1817.6886,174960,218122.63,4507755,"DNIT/MG"]
["ANCORAGEM ATIVA PARA 12 CORDOALHAS D = 12,7 MM COM PLACA DE ANCORAGEM, BLOCO, CUNHAS TRIPARTIDAS, TROMBETA E PROTENSÃO","unid.",null,1458,1817.6886,0,0,4507755,"DNIT/MG"]
["ANCORAGEM ATIVA PARA 12 CORDOALHAS D = 12,7 MM COM PLACA DE ANCORAGEM, BLOCO, CUNHAS TRIPARTIDAS, TROMBETA E PROTENSÃO","unid.",null,1458,1817.6886,0,0,4507755,"DNIT/MG"]
["APARELHO APOIO NEOPRENE FRETADO ","dm³",45.12,109.31,136.27677699999998,4932.07,6148.81,84154,"SINAPI"]
["APARELHO APOIO NEOPRENE FRETADO ","dm³",45.12,109.31,136.27677699999998,4932.07,6148.81,84154,"SINAPI"]
["APARELHO APOIO NEOPRENE FRETADO ","dm³",135.56,109.31,136.27677699999998,14818.06,18473.68,84154,"SINAPI"]
["APARELHO APOIO NEOPRENE FRETADO ","dm³",126,109.31,136.27677699999998,13773.06,17170.87,84154,"SINAPI"]
["APARELHO APOIO NEOPRENE FRETADO ","dm³",98,109.31,136.27677699999998,10712.38,13355.12,84154,"SINAPI"]
["BACIA DE DISSIPAÇÃO (PEDRA ARGAMASSADA e=25cm)","m³",12.26,208.47399999999999,259.90453579999996,2555.89,3186.43,"C7","CPU"]
["BACIA DE DISSIPAÇÃO (PEDRA ARGAMASSADA e=25cm)","m³",11.37,208.47399999999999,259.90453579999996,2370.35,2955.11,"C7","CPU"]
["BACIA DE DISSIPAÇÃO (PEDRA ARGAMASSADA e=25cm)","m³",12.64,208.47399999999999,259.90453579999996,2635.11,3285.19,"C7","CPU"]
["BAINHA METÁLICA DIÂMETRO 95 MM PARA 19 CORDOALHAS D = 15,2 MM, SEMI-RÍGIDA, REDONDA, COM MONTAGEM E INJEÇÃO DE NATA DE CIMENTO","m",554.4,68.38,85.249345999999989,37909.870000000003,47262.239999999998,4508176,"DNIT/MG"]
["BAINHA METÁLICA DIÂMETRO 95 MM PARA 19 CORDOALHAS D = 15,2 MM, SEMI-RÍGIDA, REDONDA, COM MONTAGEM E INJEÇÃO DE NATA DE CIMENTO","m",474.88,68.38,85.249345999999989,32472.29,40483.21,4508176,"DNIT/MG"]
["BAINHA METÁLICA DIÂMETRO 95 MM PARA 19 CORDOALHAS D = 15,2 MM, SEMI-RÍGIDA, REDONDA, COM MONTAGEM E INJEÇÃO DE NATA DE CIMENTO","m",2381.7600000000002,68.38,85.249345999999989,162864.75,203043.48,4508176,"DNIT/MG"]
["BAINHA METÁLICA DIÂMETRO 95 MM PARA 19 CORDOALHAS D = 15,2 MM, SEMI-RÍGIDA, REDONDA, COM MONTAGEM E INJEÇÃO DE NATA DE CIMENTO","m",null,68.38,85.249345999999989,0,0,4508176,"DNIT/MG"]
["BAINHA METÁLICA DIÂMETRO 95 MM PARA 19 CORDOALHAS D = 15,2 MM, SEMI-RÍGIDA, REDONDA, COM MONTAGEM E INJEÇÃO DE NATA DE CIMENTO","m",null,68.38,85.249345999999989,0,0,4508176,"DNIT/MG"]
["BARREIRA PRE-MOLDADA EXTERNA CONCRETO ARMADO 0,25X0,40X1,14M FCK=25MPA ACO CA-50 INCL VIGOTA HORIZONTAL MONTANTE A CADA 1,00M FERROS DE LIGACAO E MATERIAIS.","m",86.231999999999999,468.97,584.66489899999999,40440.22,50416.82,"73770/001","SINAPI"]
["BARREIRA PRE-MOLDADA EXTERNA CONCRETO ARMADO 0,25X0,40X1,14M FCK=25MPA ACO CA-50 INCL VIGOTA HORIZONTAL MONTANTE A CADA 1,00M FERROS DE LIGACAO E MATERIAIS.","m",76.23,468.97,584.66489899999999,35749.58,44569.01,"73770/001","SINAPI"]
["BARREIRA PRE-MOLDADA EXTERNA CONCRETO ARMADO 0,25X0,40X1,14M FCK=25MPA ACO CA-50 INCL VIGOTA HORIZONTAL MONTANTE A CADA 1,00M FERROS DE LIGACAO E MATERIAIS.","m",256.23,468.97,584.66489899999999,120164.18,149808.69,"73770/001","SINAPI"]
["BARREIRA PRE-MOLDADA EXTERNA CONCRETO ARMADO 0,25X0,40X1,14M FCK=25MPA ACO CA-50 INCL VIGOTA HORIZONTAL MONTANTE A CADA 1,00M FERROS DE LIGACAO E MATERIAIS.","m",null,468.97,584.66489899999999,0,0,"73770/001","SINAPI"]
["BARREIRA PRE-MOLDADA EXTERNA CONCRETO ARMADO 0,25X0,40X1,14M FCK=25MPA ACO CA-50 INCL VIGOTA HORIZONTAL MONTANTE A CADA 1,00M FERROS DE LIGACAO E MATERIAIS.","m",null,468.97,584.66489899999999,{"$f":"ROUND(C42*D42,2)","v":0},0,"73770/001","SINAPI"]
["BASE DE SOLO SEM MISTURA, COMPACTADA NA ENERGIA DO PROCTOR INTERMEDIÁRIO (EXECUÇÃO, INCLUINDO ESCAVAÇÃO, CARGA, DESCARGA, ESPALHAMENTO, UMIDECIMENTO E COMPACTAÇÃO DO MATERIAL; EXCLUI AQUISIÇÃO E TRANSPORTE DO MATERIAL)","m³",1299.83,14.05,17.516134999999998,18262.61,22768,"RO-43113","DEER/MG"]
["BASE DE SOLO SEM MISTURA, COMPACTADA NA ENERGIA DO PROCTOR INTERMEDIÁRIO (EXECUÇÃO, INCLUINDO ESCAVAÇÃO, CARGA, DESCARGA, ESPALHAMENTO, UMIDECIMENTO E COMPACTAÇÃO DO MATERIAL; EXCLUI AQUISIÇÃO E TRANSPORTEDO MATERIAL)","m³",395.85,14.05,17.516134999999998,5561.69,6933.76,"RO-43113","DEER/MG"]
["BASE DE SOLO SEM MISTURA, COMPACTADA NA ENERGIA DO PROCTOR INTERMEDIÁRIO (EXECUÇÃO, INCLUINDO ESCAVAÇÃO, CARGA, DESCARGA, ESPALHAMENTO, UMIDECIMENTO E COMPACTAÇÃO DO MATERIAL; EXCLUI AQUISIÇÃO E TRANSPORTEDO MATERIAL)","m³",252.67,14.05,17.516134999999998,3550.01,4425.8,"RO-43113","DEER/MG"]
["BASE DE SOLO SEM MISTURA, COMPACTADA NA ENERGIA DO PROCTOR INTERMEDIÁRIO (EXECUÇÃO, INCLUINDO ESCAVAÇÃO, CARGA, DESCARGA, ESPALHAMENTO, UMIDECIMENTO E COMPACTAÇÃO DO MATERIAL; EXCLUI AQUISIÇÃO E TRANSPORTEDO MATERIAL)","m³",2397.0700000000002,14.05,17.516134999999998,33678.83,41987.4,"RO-43113","DEER/MG"]
["BASE DE SOLO SEM MISTURA, COMPACTADA NA ENERGIA DO PROCTOR INTERMEDIÁRIO (EXECUÇÃO, INCLUINDO ESCAVAÇÃO, CARGA, DESCARGA, ESPALHAMENTO, UMIDECIMENTO E COMPACTAÇÃO DO MATERIAL; EXCLUI AQUISIÇÃO E TRANSPORTEDO MATERIAL)","m³",null,14.05,17.516134999999998,0,0,"RO-43113","DEER/MG"]
["BASE DE SOLO SEM MISTURA, COMPACTADA NA ENERGIA DO PROCTOR INTERMEDIÁRIO (EXECUÇÃO, INCLUINDO ESCAVAÇÃO, CARGA, DESCARGA, ESPALHAMENTO, UMIDECIMENTO E COMPACTAÇÃO DO MATERIAL; EXCLUI AQUISIÇÃO E TRANSPORTEDO MATERIAL)","m³",null,14.05,17.516134999999998,0,0,"RO-43113","DEER/MG"]
["CAIXA BSTC ø 80 (1,00 x 1,00 x 1,40)","Unid",1,1083.53,1350.8368509999998,1083.53,1350.84,"ED-48572","DEER/MG"]
["CANALETA PARA DRENAGEM, EM CONCRETO COM FCK 15MPA, MOLDADA IN LOCO, SEÇÃO 60X60CM, FORMA EM CONTRA BARRANCO, EXCLUSIVE TAMPA, INCLUSIVE ESCAVAÇÃO, REATERRO COM TRANSPORTE E RETIRADA DO MATERIAL ESCAVADO (EM CAÇAMBA)","m",440,236.98,295.44296599999996,104271.2,129994.91,"ED-14723","DEER/MG"]
["CANALETA PARA DRENAGEM, EM CONCRETO COM FCK 15MPA, MOLDADA IN LOCO, SEÇÃO 60X60CM, FORMA EM CONTRA BARRANCO, EXCLUSIVE TAMPA, INCLUSIVE ESCAVAÇÃO, REATERRO COM TRANSPORTE E RETIRADA DO MATERIAL ESCAVADO (EM CAÇAMBA)","m",0,236.98,295.44296599999996,0,0,"ED-14723","DEER/MG"]
["CANALETA PARA DRENAGEM, EM CONCRETO COM FCK 15MPA, MOLDADA IN LOCO, SEÇÃO 60X60CM, FORMA EM CONTRA BARRANCO, EXCLUSIVE TAMPA, INCLUSIVE ESCAVAÇÃO, REATERRO COM TRANSPORTE E RETIRADA DO MATERIAL ESCAVADO (EM CAÇAMBA)","m",12,236.98,295.44296599999996,2843.76,3545.32,"ED-14723","DEER/MG"]
["CANALETA PARA DRENAGEM, EM CONCRETO COM FCK 15MPA, MOLDADA IN LOCO, SEÇÃO 60X60CM, FORMA EM CONTRA BARRANCO, EXCLUSIVE TAMPA, INCLUSIVE ESCAVAÇÃO, REATERRO COM TRANSPORTE E RETIRADA DO MATERIAL ESCAVADO (EM CAÇAMBA)","m",4,236.98,295.44296599999996,947.92,1181.77,"ED-14723","DEER/MG"]
["CANALETA PARA DRENAGEM, PRÉ-MOLDADA, TIPO MEIA CANA, DIÂMETRO 60CM, EXCLUSIVE TAMPA, INCLUSIVE ASSENTAMENTO EM ARGAMASSA, TRAÇO 1:3 (CIMENTO E AREIA), ESCAVAÇÃO, TRANSPORTE E RETIRADA DO MATERIAL ESCAVADO (EM CAÇAMBA)","m",2,116.74,145.53975799999998,233.48,291.08,"ED-48555","DEER/MG"]
["CARGA E DESCARGA MECANIZADAS DE ENTULHO EM CAMINHAO BASCULANTE 6 M3 ","m³",55195.998,3.2,3.9894400000000001,176627.19,220201.12,"72898","SINAPI"]
["CARGA E DESCARGA MECANIZADAS DE ENTULHO EM CAMINHAO BASCULANTE 6 M3 ","m³",12236.34,3.2,3.9894400000000001,39156.29,48816.14,"72898","SINAPI"]
["CARGA E DESCARGA MECANIZADAS DE ENTULHO EM CAMINHAO BASCULANTE 6 M3 ","m³",728,3.2,3.9894400000000001,2329.6,2904.31,"72898","SINAPI"]
["CARGA E DESCARGA MECANIZADAS DE ENTULHO EM CAMINHAO BASCULANTE 6 M3 ","m³",5600,3.2,3.9894400000000001,17920,22340.86,"72898","SINAPI"]
["CARGA E DESCARGA MECANIZADAS DE ENTULHO EM CAMINHAO BASCULANTE 6 M3 ","m³",7560,3.2,3.9894400000000001,24192,30160.17,"72898","SINAPI"]
["CARGA, MANOBRAS E DESCARGA DE AREIA, BRITA, PEDRA DE MAO E SOLOS COM CAMINHAO BASCULANTE 6 M3 (DESCARGA LIVRE)","m³",98.5,0.78,0.97242600000000001,76.83,95.78,"72888","SINAPI"]
["CARGA, MANOBRAS E DESCARGA DE AREIA, BRITA, PEDRA DE MAO E SOLOS COM CAMINHAO BASCULANTE 6 M3 (DESCARGA LIVRE)","m³",132.69999999999999,0.78,0.97242600000000001,103.51,129.04,"72888","SINAPI"]
["CARGA, MANOBRAS E DESCARGA DE AREIA, BRITA, PEDRA DE MAO E SOLOS COM CAMINHAO BASCULANTE 6 M3 (DESCARGA LIVRE)","m³",67,0.78,0.97242600000000001,52.26,65.150000000000006,"72888","SINAPI"]
["CARGA, MANOBRAS E DESCARGA DE AREIA, BRITA, PEDRA DE MAO E SOLOS COM CAMINHAO BASCULANTE 6 M3 (DESCARGA LIVRE)","m³",90.25,0.78,0.97242600000000001,70.400000000000006,87.76,"72888","SINAPI"]
["CARGA, MANOBRAS E DESCARGA DE AREIA, BRITA, PEDRA DE MAO E SOLOS COM CAMINHAO BASCULANTE 6 M3 (DESCARGA LIVRE)","m³",551.1,0.78,0.97242600000000001,429.86,535.9,"72888","SINAPI"]
["CARGA, MANOBRAS E DESCARGA DE AREIA, BRITA, PEDRA DE MAO E SOLOS COM CAMINHAO BASCULANTE 6 M3 (DESCARGA LIVRE)","m³",742.73,0.78,0.97242600000000001,579.33000000000004,722.25,"72888","SINAPI"]
["CARGA, MANOBRAS E DESCARGA DE AREIA, BRITA, PEDRA DE MAO E SOLOS COM CAMINHAO BASCULANTE 6 M3 (DESCARGA LIVRE)","m³",null,0.78,0.97242600000000001,0,0,"72888","SINAPI"]
["CARGA, MANOBRAS E DESCARGA DE AREIA, BRITA, PEDRA DE MAO E SOLOS COM CAMINHAO BASCULANTE 6 M3 (DESCARGA LIVRE)","m³",null,0.78,0.97242600000000001,0,0,"72888","SINAPI"]
["CARGA, MANOBRAS E DESCARGA DE AREIA, BRITA, PEDRA DE MAO E SOLOS COM CAMINHAO BASCULANTE 6 M3 (DESCARGA LIVRE)","m³",null,0.78,0.97242600000000001,0,0,"72888","SINAPI"]
["CARGA, MANOBRAS E DESCARGA DE AREIA, BRITA, PEDRA DE MAO E SOLOS COM CAMINHAO BASCULANTE 6 M3 (DESCARGA LIVRE)","m³",null,0.78,0.97242600000000001,0,0,"72888","SINAPI"]
["CARGA, MANOBRAS E DESCARGA DE MISTURAS DE SOLOS E AGREGADOS (BASES ESTABILIZADAS EM USINA) COM CAMINHAO BASCULANTE 6 M3","t",22.1,1.79,2.2315929999999997,39.56,49.32,"72849","SINAPI","SERVIÇOS SEMELHANTES AO 72888"]
["CARGA, MANOBRAS E DESCARGA DE MISTURAS DE SOLOS E AGREGADOS (BASES ESTABILIZADAS EM USINA) COM CAMINHAO BASCULANTE 6 M3","t",15,1.79,2.2315929999999997,26.85,33.47,"72849","SINAPI"]
["CARGA, MANOBRAS E DESCARGA DE MISTURAS DE SOLOS E AGREGADOS (BASES ESTABILIZADAS EM USINA) COM CAMINHAO BASCULANTE 6 M3","t",123.53,1.79,2.2315929999999997,221.12,275.67,"72849","SINAPI"]
["CARGA, MANOBRAS E DESCARGA DE MISTURAS DE SOLOS E AGREGADOS (BASES ESTABILIZADAS EM USINA) COM CAMINHAO BASCULANTE 6 M3","t",null,1.79,2.2315929999999997,0,0,"72849","SINAPI"]
["CARGA, MANOBRAS E DESCARGA DE MISTURAS DE SOLOS E AGREGADOS (BASES ESTABILIZADAS EM USINA) COM CAMINHAO BASCULANTE 6 M3","t",null,1.79,{"$f":"D74*(1+$G$5)","v":2.2315929999999997},{"$f":"ROUND(C74*D74,2)","v":0},{"$f":"ROUND(C74*E74,2)","v":0},"72849","SINAPI"]
["CERCA COM MOUROES DE MADEIRA ROLICA, DIAMETRO 11CM, ESPACAMENTO DE 2M, ALTURA LIVRE DE 1M, CRAVADOS 0,5M, COM 5 FIOS DE ARAME FARPADO Nº 14 CLASSE 250","m",490,26.27,32.750808999999997,12872.3,16047.9,"74039/001","SINAPI"]
["CERCA COM MOUROES DE MADEIRA ROLICA, DIAMETRO 11CM, ESPACAMENTO DE 2M, ALTURA LIVRE DE 1M, CRAVADOS 0,5M, COM 5 FIOS DE ARAME FARPADO Nº 14 CLASSE 250","m",189.75,26.27,32.750808999999997,4984.7299999999996,6214.47,"74039/001","SINAPI"]
["CERCA COM MOUROES DE MADEIRA ROLICA, DIAMETRO 11CM, ESPACAMENTO DE 2M, ALTURA LIVRE DE 1M, CRAVADOS 0,5M, COM 5 FIOS DE ARAME FARPADO Nº 14 CLASSE 250","m",3642.23,26.27,32.750808999999997,95681.38,119285.98,"74039/001","SINAPI"]
["COLOCAÇÃO DE PLACAS","m²",16.670000000000002,65.77,81.995458999999997,1096.3900000000001,1366.86,"RO-43226","DEER/MG"]
["COLOCAÇÃO DE PLACAS","m²",1.39,65.77,81.995458999999997,91.42,113.97,"RO-43226","DEER/MG"]
["COLOCAÇÃO DE PLACAS","m²",16.670000000000002,65.77,81.995458999999997,1096.3900000000001,1366.86,"RO-43226","DEER/MG"]
["COLOCAÇÃO DE PLACAS","m²",1.39,65.77,81.995458999999997,91.42,113.97,"RO-43226","DEER/MG"]
["COLOCAÇÃO DE PLACAS","m²",28.45,65.77,81.995458999999997,1871.16,2332.77,"RO-43226","DEER/MG"]
["COLOCAÇÃO DE PLACAS","m²",1.39,65.77,81.995458999999997,91.42,113.97,"RO-43226","DEER/MG"]
["COLOCAÇÃO DE PLACAS","m²",16.670000000000002,65.77,81.995458999999997,1096.3900000000001,1366.86,"RO-43226","DEER/MG"]
["COLOCAÇÃO DE PLACAS","m²",5.2,65.77,81.995458999999997,342,426.38,"RO-43226","DEER/MG"]
["COLOCAÇÃO DE PLACAS","m²",16.670000000000002,65.77,81.995458999999997,1096.3900000000001,1366.86,"RO-43226","DEER/MG"]
["COLOCAÇÃO DE PLACAS","m²",5.2,65.77,81.995458999999997,342,426.38,"RO-43226","DEER/MG"]
["COMPACTAÇÃO DE ATERRO A 100% PROCTOR NORMAL","m³",7006.31,3.14,3.9146380000000001,21999.81,27427.17,"RO-40251","DEER/MG"]
["COMPACTAÇÃO DE ATERRO A 100% PROCTOR NORMAL","m³",807.09,3.14,3.9146380000000001,2534.2600000000002,3159.47,"RO-40251","DEER/MG"]
["COMPACTAÇÃO DE ATERRO A 100% PROCTOR NORMAL","m³",251888.76,3.14,3.9146380000000001,790930.71,986053.31,"RO-40251","DEER/MG"]
["COMPACTAÇÃO DE ATERRO A 100% PROCTOR NORMAL","m³",43934.45,3.14,3.9146380000000001,137954.17000000001,171987.47,"RO-40251","DEER/MG"]
["COMPACTAÇÃO DE ATERRO A 100% PROCTOR NORMAL","m³",16715.490000000002,3.14,3.9146380000000001,52486.64,65435.09,"RO-40251","DEER/MG"]
["COMPACTAÇÃO DE ATERRO A 100% PROCTOR NORMAL","m³",175.8,3.14,3.9146380000000001,552.01,688.19,"RO-40251","DEER/MG"]
["COMPACTAÇÃO DE ATERRO A 100% PROCTOR NORMAL","m³",4980.5600000000004,3.14,3.9146380000000001,15638.96,19497.09,"RO-40251","DEER/MG"]
["COMPACTAÇÃO DE ATERRO A 100% PROCTOR NORMAL","m³",144.24,3.14,3.9146380000000001,452.91,564.65,"RO-40251","DEER/MG"]
["COMPACTAÇÃO DE ATERRO A 100% PROCTOR NORMAL","m³",125.36,3.14,3.9146380000000001,393.63,490.74,"RO-40251","DEER/MG"]
["COMPACTAÇÃO DE ATERRO A 100% PROCTOR NORMAL","m³",122.08,3.14,3.9146380000000001,383.33,477.9,"RO-40251","DEER/MG"]
["COMPACTAÇÃO DE ATERRO A 100% PROCTOR NORMAL","m³",244.74,3.14,3.9146380000000001,768.48,958.07,"RO-40251","DEER/MG"]
["COMPACTAÇÃO DE ATERRO A 100% PROCTOR NORMAL","m³",60167.53,3.14,3.9146380000000001,188926.04,235534.1,"RO-40251","DEER/MG"]
["COMPACTAÇÃO DE ATERRO A 100% PROCTOR NORMAL","m³",28426.67,3.14,3.9146380000000001,89259.74,111280.12,"RO-40251","DEER/MG"]
["CONCRETO DE CIMENTO PORTLAND, FCK>=15,0MPA (EXECUÇÃO, INCLUINDO O FORNECIMENTO E TRANSPORTE DOS AGREGADOS)","m³",1.1519999999999999,365.06,455.12030199999998,420.55,524.29999999999995,"RO-41624","DEER/MG"]
["CONCRETO DE CIMENTO PORTLAND, FCK>=15,0MPA (EXECUÇÃO, INCLUINDO O FORNECIMENTO E TRANSPORTE DOS AGREGADOS)","m³",0.40200000000000002,365.06,455.12030199999998,146.75,182.96,"RO-41624","DEER/MG"]
["CONCRETO DE CIMENTO PORTLAND, FCK>=15,0MPA (EXECUÇÃO, INCLUINDO OFORNECIMENTO E TRANSPORTE DOS AGREGADOS)","m³",1.1519999999999999,365.06,455.12030199999998,420.55,524.29999999999995,"RO-41624","DEER/MG"]
["CONCRETO DE CIMENTO PORTLAND, FCK>=15,0MPA (EXECUÇÃO, INCLUINDO OFORNECIMENTO E TRANSPORTE DOS AGREGADOS)","m³",0.8,365.06,455.12030199999998,292.05,364.1,"RO-41624","DEER/MG"]
["CONCRETO PARA BOMBEAMENTO FCK = 25 MPA - CONFECÇÃO EM CENTRAL DOSADORA DE 30 M³/H - AREIA E BRITA COMERCIAIS","m³",12.71998,225.95,281.69186499999995,2874.08,3583.11,1116263,"DNIT/MG"]
["CONCRETO PARA BOMBEAMENTO FCK = 25 MPA - CONFECÇÃO EM CENTRAL DOSADORA DE 30 M³/H - AREIA E BRITA COMERCIAIS","m³",11,225.95,281.69186499999995,{"$f":"ROUND(C106*D106,2)","v":2485.4499999999998},3098.61,1116263,"DNIT/MG"]
["CONCRETO PARA BOMBEAMENTO FCK = 25 MPA - CONFECÇÃO EM CENTRAL DOSADORA DE 30 M³/H - AREIA E BRITA COMERCIAIS","m³",41.52,225.95,281.69186499999995,9381.44,11695.85,1116263,"DNIT/MG"]
["CONCRETO PARA BOMBEAMENTO FCK = 25 MPA - CONFECÇÃO EM CENTRAL DOSADORA DE 30 M³/H - AREIA E BRITA COMERCIAIS","m³",35,225.95,281.69186499999995,7908.25,9859.2199999999993,1116263,"DNIT/MG"]
["CONCRETO PARA BOMBEAMENTO FCK = 25 MPA - CONFECÇÃO EM CENTRAL DOSADORA DE 30 M³/H - AREIA E BRITA COMERCIAIS","m³",347.09999999999997,225.95,281.69186499999995,78427.25,97775.25,1116263,"DNIT/MG"]
["CONCRETO PARA BOMBEAMENTO FCK = 25 MPA - CONFECÇÃO EM CENTRAL DOSADORA DE 30 M³/H - AREIA E BRITA COMERCIAIS","m³",27.08,225.95,281.69186499999995,6118.73,7628.22,1116263,"DNIT/MG"]
["CONCRETO PARA BOMBEAMENTO FCK = 25 MPA - CONFECÇÃO EM CENTRAL DOSADORA DE 30 M³/H - AREIA E BRITA COMERCIAIS","m³",77.800000000000011,225.95,281.69186499999995,17578.91,21915.63,1116263,"DNIT/MG"]
["CONCRETO PARA BOMBEAMENTO FCK = 25 MPA - CONFECÇÃO EM CENTRAL DOSADORA DE 30 M³/H - AREIA E BRITA COMERCIAIS","m³",75.180000000000007,225.95,281.69186499999995,16986.919999999998,21177.59,1116263,"DNIT/MG"]
["CONCRETO PARA BOMBEAMENTO FCK = 25 MPA - CONFECÇÃO EM CENTRAL DOSADORA DE 30 M³/H - AREIA E BRITA COMERCIAIS","m³",110.28,225.95,281.69186499999995,24917.77,31064.98,1116263,"DNIT/MG"]
["CONCRETO PARA BOMBEAMENTO FCK = 25 MPA - CONFECÇÃO EM CENTRAL DOSADORA DE 30 M³/H - AREIA E BRITA COMERCIAIS","m³",54.97,225.95,281.69186499999995,12420.47,15484.6,1116263,"DNIT/MG"]
["CONCRETO PARA BOMBEAMENTO FCK = 25 MPA - CONFECÇÃO EM CENTRAL DOSADORA DE 30 M³/H - AREIA E BRITA COMERCIAIS","m³",76.38,225.95,281.69186499999995,17258.060000000001,21515.62,1116263,"DNIT/MG"]
["CONCRETO PARA BOMBEAMENTO FCK = 25 MPA - CONFECÇÃO EM CENTRAL DOSADORA DE 30 M³/H - AREIA E BRITA COMERCIAIS","m³",45.26,225.95,281.69186499999995,10226.5,12749.37,1116263,"DNIT/MG"]
["CONCRETO PARA BOMBEAMENTO FCK = 25 MPA - CONFECÇÃO EM CENTRAL DOSADORA DE 30 M³/H - AREIA E BRITA COMERCIAIS","m³",186.37,225.95,281.69186499999995,42110.3,52498.91,1116263,"DNIT/MG"]
["CONCRETO PARA BOMBEAMENTO FCK = 25 MPA - CONFECÇÃO EM CENTRAL DOSADORA DE 30 M³/H - AREIA E BRITA COMERCIAIS","m³",170.74,225.95,281.69186499999995,38578.699999999997,48096.07,1116263,"DNIT/MG"]
["CONCRETO PARA BOMBEAMENTO FCK = 25 MPA - CONFECÇÃO EM CENTRAL DOSADORA DE 30 M³/H - AREIA E BRITA COMERCIAIS","m³",83.03,225.95,281.69186499999995,18760.63,23388.880000000001,1116263,"DNIT/MG"]
["CONCRETO PARA BOMBEAMENTO FCK = 30 MPA - CONFECÇÃO EM CENTRAL DOSADORA DE 30 M³/H - AREIA E BRITA COMERCIAIS","m³",13.45,264.93,330.288231,3563.31,4442.38,1106280,"DNIT/MG"]
["CONCRETO PARA BOMBEAMENTO FCK = 30 MPA - CONFECÇÃO EM CENTRAL DOSADORA DE 30 M³/H - AREIA E BRITA COMERCIAIS","m³",98.265905000000018,264.93,330.288231,26033.59,32456.07,1106280,"DNIT/MG"]
["CONCRETO PARA BOMBEAMENTO FCK = 30 MPA - CONFECÇÃO EM CENTRAL DOSADORA DE 30 M³/H - AREIA E BRITA COMERCIAIS","m³",31.8,264.93,330.288231,8424.77,10503.17,1106280,"DNIT/MG"]
["CONCRETO PARA BOMBEAMENTO FCK = 30 MPA - CONFECÇÃO EM CENTRAL DOSADORA DE 30 M³/H - AREIA E BRITA COMERCIAIS","m³",97.15,264.93,330.288231,25737.95,32087.5,1106280,"DNIT/MG"]
["CONCRETO PARA BOMBEAMENTO FCK = 30 MPA - CONFECÇÃO EM CENTRAL DOSADORA DE 30 M³/H - AREIA E BRITA COMERCIAIS","m³",254.24,264.93,330.288231,67355.8,83972.479999999996,1106280,"DNIT/MG"]
["CONCRETO PARA BOMBEAMENTO FCK = 30 MPA - CONFECÇÃO EM CENTRAL DOSADORA DE 30 M³/H - AREIA E BRITA COMERCIAIS","m³",null,264.93,330.288231,0,0,1106280,"DNIT/MG"]
["CONCRETO PARA BOMBEAMENTO FCK = 30 MPA - CONFECÇÃO EM CENTRAL DOSADORA DE 30 M³/H - AREIA E BRITA COMERCIAIS","m³",0,264.93,330.288231,0,0,1106280,"DNIT/MG"]
["CONCRETO PARA BOMBEAMENTO FCK = 35 MPA - CONFECÇÃO EM CENTRAL DOSADORA DE 30 M³/H - AREIA E BRITA COMERCIAIS","m³",173.49720000000002,280.05,349.13833499999998,48587.89,60574.52,1106281,"DNIT/MG"]
["CONCRETO PARA BOMBEAMENTO FCK = 35 MPA - CONFECÇÃO EM CENTRAL DOSADORA DE 30 M³/H - AREIA E BRITA COMERCIAIS","m³",145.65,280.05,349.13833499999998,40789.279999999999,50852,1106281,"DNIT/MG"]
["CONCRETO PARA BOMBEAMENTO FCK = 35 MPA - CONFECÇÃO EM CENTRAL DOSADORA DE 30 M³/H - AREIA E BRITA COMERCIAIS","m³",607.67999999999995,280.05,349.13833499999998,170180.78,212164.38,1106281,"DNIT/MG"]
["CONCRETO PARA BOMBEAMENTO FCK = 35 MPA - CONFECÇÃO EM CENTRAL DOSADORA DE 30 M³/H - AREIA E BRITA COMERCIAIS","m³",null,280.05,349.13833499999998,0,0,1106281,"DNIT/MG"]
["CONCRETO PARA BOMBEAMENTO FCK = 35 MPA - CONFECÇÃO EM CENTRAL DOSADORA DE 30 M³/H - AREIA E BRITA COMERCIAIS","m³",0,280.05,349.13833499999998,0,0,1106281,"DNIT/MG"]
["CONSTRUÇÃO DE PAVIMENTO COM APLICAÇÃO DE CONCRETO BETUMINOSO USINADO A QUENTE (CBUQ), CAMADA DE ROLAMENTO, COM ESPESSURA DE 5,0 CM - EXCLUSIVE TRANSPORTE. AF_03/2017 (PAVIMENTAÇÃO ESTRADA)","m³",131.94999999999999,1021.43,1273.4167809999999,134777.69,168027.34,95995,"SINAPI"]
["CONSTRUÇÃO DE PAVIMENTO COM APLICAÇÃO DE CONCRETO BETUMINOSO USINADO A QUENTE (CBUQ), CAMADA DE ROLAMENTO, COM ESPESSURA DE 5,0 CM - EXCLUSIVE TRANSPORTE. AF_03/2017 (PAVIMENTAÇÃO ESTRADA)","m³",84.22,1021.43,1273.4167809999999,86024.83,107247.16,95995,"SINAPI"]
["CONSTRUÇÃO DE PAVIMENTO COM APLICAÇÃO DE CONCRETO BETUMINOSO USINADO A QUENTE (CBUQ), CAMADA DE ROLAMENTO, COM ESPESSURA DE 5,0 CM - EXCLUSIVE TRANSPORTE. AF_03/2017 (PAVIMENTAÇÃO ESTRADA)","m³",799.03,1021.43,1273.4167809999999,816153.21,1017498.21,95995,"SINAPI"]
["CONSTRUÇÃO DE PAVIMENTO COM APLICAÇÃO DE CONCRETO BETUMINOSO USINADO A QUENTE (CBUQ), CAMADA DE ROLAMENTO, COM ESPESSURA DE 5,0 CM - EXCLUSIVE TRANSPORTE. AF_03/2017 (PAVIMENTAÇÃO ESTRADA)","m³",null,1021.43,1273.4167809999999,0,0,95995,"SINAPI"]
["CONSTRUÇÃO DE PAVIMENTO COM APLICAÇÃO DE CONCRETO BETUMINOSO USINADO A QUENTE (CBUQ), CAMADA DE ROLAMENTO, COM ESPESSURA DE 5,0 CM - EXCLUSIVE TRANSPORTE. AF_03/2017 (PAVIMENTAÇÃO ESTRADA)","m³",null,1021.43,1273.4167809999999,0,0,95995,"SINAPI"]
["CONSTRUÇÃO DE PAVIMENTO COM APLICAÇÃO DE CONCRETO BETUMINOSO USINADO A QUENTE (CBUQ), CAMADA DE ROLAMENTO, COM ESPESSURA DE 5,0 CM - EXCLUSIVE TRANSPORTE. AF_03/2017 (PAVIMENTAÇÃO OAE)","m³",28,1021.43,1273.4167809999999,28600.04,35655.67,95995,"SINAPI"]
["CONSTRUÇÃO DE PAVIMENTO COM APLICAÇÃO DE CONCRETO BETUMINOSO USINADO A QUENTE (CBUQ), CAMADA DE ROLAMENTO, COM ESPESSURA DE 5,0 CM - EXCLUSIVE TRANSPORTE. AF_03/2017 (PAVIMENTAÇÃO OAE)","m³",24,1021.43,{"$f":"D138*(1+$G$5)","v":1273.4167809999999},{"$f":"ROUND(C138*D138,2)","v":24514.32},{"$f":"ROUND(C138*E138,2)","v":30562},95995,"SINAPI"]
["CONSTRUÇÃO DE PAVIMENTO COM APLICAÇÃO DE CONCRETO BETUMINOSO USINADO A QUENTE (CBUQ), CAMADA DE ROLAMENTO, COM ESPESSURA DE 5,0 CM - EXCLUSIVE TRANSPORTE. AF_03/2017 (PAVIMENTAÇÃO OAE)","m³",96.13,1021.43,1273.4167809999999,98190.07,122413.56,95995,"SINAPI"]
["CORDOALHA CP 190 RB D = 12,7 MM - FORNECIMENTO, PREPARO E COLOCAÇÃO ","Kg",5425.2,9.25,11.531974999999999,50183.1,62563.27,4507956,"DNIT/MG"]
["CORDOALHA CP 190 RB D = 12,7 MM - FORNECIMENTO, PREPARO E COLOCAÇÃO ","Kg",3903.2,9.25,11.531974999999999,36104.6,45011.6,4507956,"DNIT/MG"]
["CORDOALHA CP 190 RB D = 12,7 MM - FORNECIMENTO, PREPARO E COLOCAÇÃO ","Kg",23155.200000000001,9.25,11.531974999999999,214185.60000000001,267025.19,4507956,"DNIT/MG"]
["CORDOALHA CP 190 RB D = 12,7 MM - FORNECIMENTO, PREPARO E COLOCAÇÃO ","Kg",null,9.25,11.531974999999999,0,0,4507956,"DNIT/MG"]
["CORDOALHA CP 190 RB D = 12,7 MM - FORNECIMENTO, PREPARO E COLOCAÇÃO ","Kg",null,9.25,11.531974999999999,0,0,4507956,"DNIT/MG"]
["CORPO BSTC ø 100, AREIA, BRITA E PEDRA DE MÃO COMERCIAIS","m",63,525.29,654.87904299999991,33093.269999999997,41257.379999999997,"804037","DNIT/MG"]
["CORPO BSTC ø 80, AREIA, BRITA E PEDRA DE MÃO COMERCIAIS","m",11,380.71,474.63115699999992,4187.8100000000004,5220.9399999999996,"804029","DNIT/MG"]
["CORTE E DOBRA DE AÇO CA-25, DIÂMETRO DE 20,0 MM. AF_12/2015","kg",372,5.88,7.330595999999999,2187.36,2726.98,92880,"SINAPI"]
["CORTE E DOBRA DE AÇO CA-25, DIÂMETRO DE 20,0 MM. AF_12/2015","kg",448,5.88,7.330595999999999,2634.24,3284.11,92880,"SINAPI"]
["CORTE E DOBRA DE AÇO CA-25, DIÂMETRO DE 20,0 MM. AF_12/2015","kg",1105,5.88,7.330595999999999,6497.4,8100.31,92880,"SINAPI"]
["CORTE E DOBRA DE AÇO CA-25, DIÂMETRO DE 20,0 MM. AF_12/2015","kg",792.26824254881808,5.88,7.330595999999999,4658.54,5807.8,92880,"SINAPI"]
["CORTE E DOBRA DE AÇO CA-25, DIÂMETRO DE 25,0 MM. AF_12/2015","kg",415.58478931140803,100000,124669.99999999999,41558478.93,51810955.68,92881,"SINAPI"]
["CORTE E DOBRA DE AÇO CA-50, DIÂMETRO DE 10,0 MM, UTILIZADO EM ESTRUTURAS DIVERSAS","kg",10991,5.57,6.9441189999999997,61219.87,76322.81,92794,"SINAPI"]
["CORTE E DOBRA DE AÇO CA-50, DIÂMETRO DE 10,0 MM, UTILIZADO EM ESTRUTURAS DIVERSAS","kg",9471,5.57,6.9441189999999997,52753.47,65767.75,92794,"SINAPI"]
["CORTE E DOBRA DE AÇO CA-50, DIÂMETRO DE 10,0 MM, UTILIZADO EM ESTRUTURAS DIVERSAS","kg",21632,5.57,6.9441189999999997,120490.24000000001,150215.18,92794,"SINAPI"]
["CORTE E DOBRA DE AÇO CA-50, DIÂMETRO DE 10,0 MM, UTILIZADO EM ESTRUTURAS DIVERSAS","kg",23408.11896197328,5.57,6.9441189999999997,130383.22,162548.76,92794,"SINAPI"]
["CORTE E DOBRA DE AÇO CA-50, DIÂMETRO DE 10,0 MM, UTILIZADO EM ESTRUTURAS DIVERSAS","kg",12278.743062692703,5.57,6.9441189999999997,68392.600000000006,85265.05,92794,"SINAPI"]
["CORTE E DOBRA DE AÇO CA-50, DIÂMETRO DE 10,0 MM, UTILIZADO EM ESTRUTURAS DIVERSAS","KG",6173.1180256517118,5.57,6.9441189999999997,34384.269999999997,42866.87,92794,"SINAPI"]
["CORTE E DOBRA DE AÇO CA-50, DIÂMETRO DE 10,0 MM, UTILIZADO EM ESTRUTURAS DIVERSAS","KG",9557.3913043478278,5.57,6.9441189999999997,53234.67,66367.66,92794,"SINAPI"]
["CORTE E DOBRA DE AÇO CA-50, DIÂMETRO DE 10,0 MM, UTILIZADO EM ESTRUTURAS DIVERSAS","KG",2972.0535259526791,5.57,6.9441189999999997,16554.34,20638.29,92794,"SINAPI"]
["CORTE E DOBRA DE AÇO CA-50, DIÂMETRO DE 12,5 MM, UTILIZADO EM ESTRUTURAS DIVERSAS","kg",6416,4.74,5.9093580000000001,30411.84,37914.44,92795,"SINAPI"]
["CORTE E DOBRA DE AÇO CA-50, DIÂMETRO DE 12,5 MM, UTILIZADO EM ESTRUTURAS DIVERSAS","kg",7154,4.74,5.9093580000000001,33909.96,42275.55,92795,"SINAPI"]
["CORTE E DOBRA DE AÇO CA-50, DIÂMETRO DE 12,5 MM, UTILIZADO EM ESTRUTURAS DIVERSAS","kg",17666,4.74,5.9093580000000001,83736.84,104394.72,92795,"SINAPI"]
["CORTE E DOBRA DE AÇO CA-50, DIÂMETRO DE 12,5 MM, UTILIZADO EM ESTRUTURAS DIVERSAS","kg",13664.497430626927,4.74,5.9093580000000001,64769.72,80748.41,92795,"SINAPI"]
["CORTE E DOBRA DE AÇO CA-50, DIÂMETRO DE 12,5 MM, UTILIZADO EM ESTRUTURAS DIVERSAS","kg",7167.7204522096608,4.74,5.9093580000000001,33974.99,42356.63,92795,"SINAPI"]
["CORTE E DOBRA DE AÇO CA-50, DIÂMETRO DE 12,5 MM, UTILIZADO EM ESTRUTURAS DIVERSAS","KG",3603.5597536694918,4.74,5.9093580000000001,17080.87,21294.720000000001,92795,"SINAPI"]
["CORTE E DOBRA DE AÇO CA-50, DIÂMETRO DE 12,5 MM, UTILIZADO EM ESTRUTURAS DIVERSAS","KG",5579.1304347826099,4.74,5.9093580000000001,26445.08,32969.08,92795,"SINAPI"]
["CORTE E DOBRA DE AÇO CA-50, DIÂMETRO DE 12,5 MM, UTILIZADO EM ESTRUTURAS DIVERSAS","KG",1734.9372598046027,4.74,5.9093580000000001,8223.6,10252.370000000001,92795,"SINAPI"]
["CORTE E DOBRA DE AÇO CA-50, DIÂMETRO DE 16,0 MM, UTILIZADO EM ESTRUTURAS DIVERSAS","kg",10454,4.66,5.8096220000000001,48715.64,60733.79,92796,"SINAPI"]
["CORTE E DOBRA DE AÇO CA-50, DIÂMETRO DE 16,0 MM, UTILIZADO EM ESTRUTURAS DIVERSAS","kg",7751,4.66,5.8096220000000001,36119.660000000003,45030.38,92796,"SINAPI"]
["CORTE E DOBRA DE AÇO CA-50, DIÂMETRO DE 16,0 MM, UTILIZADO EM ESTRUTURAS DIVERSAS","kg",43652,4.66,5.8096220000000001,{"$f":"ROUND(C170*D170,2)","v":203418.32},253601.62,92796,"SINAPI"]
["CORTE E DOBRA DE AÇO CA-50, DIÂMETRO DE 16,0 MM, UTILIZADO EM ESTRUTURAS DIVERSAS","kg",22264.441418293936,4.66,5.8096220000000001,103752.3,129347.99,92796,"SINAPI"]
["CORTE E DOBRA DE AÇO CA-50, DIÂMETRO DE 16,0 MM, UTILIZADO EM ESTRUTURAS DIVERSAS","kg",11678.826310380267,4.66,5.8096220000000001,54423.33,67849.570000000007,92796,"SINAPI"]
["CORTE E DOBRA DE AÇO CA-50, DIÂMETRO DE 20,0 MM, UTILIZADO EM ESTRUTURAS DIVERSAS","kg",6163,5.47,6.8194489999999996,33711.61,42028.26,92797,"SINAPI"]
["CORTE E DOBRA DE AÇO CA-50, DIÂMETRO DE 20,0 MM, UTILIZADO EM ESTRUTURAS DIVERSAS","kg",4017,5.47,6.8194489999999996,21972.99,27393.73,92797,"SINAPI"]
["CORTE E DOBRA DE AÇO CA-50, DIÂMETRO DE 20,0 MM, UTILIZADO EM ESTRUTURAS DIVERSAS","kg",2791,5.47,6.8194489999999996,15266.77,19033.080000000002,92797,"SINAPI"]
["CORTE E DOBRA DE AÇO CA-50, DIÂMETRO DE 20,0 MM, UTILIZADO EM ESTRUTURAS DIVERSAS","kg",13125.669835560122,5.47,6.8194489999999996,71797.41,89509.84,92797,"SINAPI"]
["CORTE E DOBRA DE AÇO CA-50, DIÂMETRO DE 20,0 MM, UTILIZADO EM ESTRUTURAS DIVERSAS","kg",6885.0781089414177,5.47,6.8194489999999996,37661.379999999997,46952.44,92797,"SINAPI"]
["CORTE E DOBRA DE AÇO CA-50, DIÂMETRO DE 25,0 MM, UTILIZADO EM ESTRUTURAS DIVERSAS","kg",334,5.45,6.7945149999999996,1820.3,2269.37,92798,"SINAPI"]
["CORTE E DOBRA DE AÇO CA-50, DIÂMETRO DE 25,0 MM, UTILIZADO EM ESTRUTURAS DIVERSAS","kg",334,5.45,6.7945149999999996,1820.3,2269.37,92798,"SINAPI"]
["CORTE E DOBRA DE AÇO CA-50, DIÂMETRO DE 25,0 MM, UTILIZADO EM ESTRUTURAS DIVERSAS","kg",334,5.45,6.7945149999999996,1820.3,2269.37,92798,"SINAPI"]
["CORTE E DOBRA DE AÇO CA-50, DIÂMETRO DE 25,0 MM, UTILIZADO EM ESTRUTURAS DIVERSAS","kg",711.33761562178825,5.45,6.7945149999999996,3876.79,4833.1899999999996,92798,"SINAPI"]
["CORTE E DOBRA DE AÇO CA-50, DIÂMETRO DE 25,0 MM, UTILIZADO EM ESTRUTURAS DIVERSAS","kg",373.13257965056528,5.45,6.7945149999999996,2033.57,2535.25,92798,"SINAPI"]
["CORTE E DOBRA DE AÇO CA-50, DIÂMETRO DE 6,3 MM, UTILIZADO EM ESTRUTURA S DIVERSAS","kg",1778,6.34,7.9040779999999993,11272.52,14053.45,92792,"SINAPI"]
["CORTE E DOBRA DE AÇO CA-50, DIÂMETRO DE 6,3 MM, UTILIZADO EM ESTRUTURA S DIVERSAS","kg",1562,6.34,7.9040779999999993,9903.08,12346.17,92792,"SINAPI"]
["CORTE E DOBRA DE AÇO CA-50, DIÂMETRO DE 6,3 MM, UTILIZADO EM ESTRUTURA S DIVERSAS","kg",5728,6.34,7.9040779999999993,36315.519999999997,45274.559999999998,92792,"SINAPI"]
["CORTE E DOBRA DE AÇO CA-50, DIÂMETRO DE 6,3 MM, UTILIZADO EM ESTRUTURA S DIVERSAS","kg",3786.7014388489206,6.34,7.9040779999999993,24007.69,29930.38,92792,"SINAPI"]
["CORTE E DOBRA DE AÇO CA-50, DIÂMETRO DE 6,3 MM, UTILIZADO EM ESTRUTURA S DIVERSAS","kg",1986.3165467625897,6.34,7.9040779999999993,12593.25,15700,92792,"SINAPI"]
["CORTE E DOBRA DE AÇO CA-50, DIÂMETRO DE 6,3 MM, UTILIZADO EM ESTRUTURA S DIVERSAS","KG",998.61740056489316,6.34,7.9040779999999993,6331.23,7893.15,92792,"SINAPI"]
["CORTE E DOBRA DE AÇO CA-50, DIÂMETRO DE 6,3 MM, UTILIZADO EM ESTRUTURA S DIVERSAS","KG",1546.086956521739,6.34,7.9040779999999993,9802.19,12220.39,92792,"SINAPI"]
["CORTE E DOBRA DE AÇO CA-50, DIÂMETRO DE 6,3 MM, UTILIZADO EM ESTRUTURA S DIVERSAS","KG",480.78529425383152,6.34,7.9040779999999993,3048.18,3800.16,92792,"SINAPI"]
["CORTE E DOBRA DE AÇO CA-50, DIÂMETRO DE 8,0 MM, UTILIZADO EM ESTRUTURA S DIVERSAS","kg",2412,6.12,7.629804,14761.44,18403.09,92793,"SINAPI"]
["CORTE E DOBRA DE AÇO CA-50, DIÂMETRO DE 8,0 MM, UTILIZADO EM ESTRUTURA S DIVERSAS","kg",2991,6.12,7.629804,18304.919999999998,22820.74,92793,"SINAPI"]
["CORTE E DOBRA DE AÇO CA-50, DIÂMETRO DE 8,0 MM, UTILIZADO EM ESTRUTURA S DIVERSAS","kg",7062,6.12,7.629804,43219.44,53881.68,92793,"SINAPI"]
["CORTE E DOBRA DE AÇO CA-50, DIÂMETRO DE 8,0 MM, UTILIZADO EM ESTRUTURA S DIVERSAS","kg",5136.9650565262073,6.12,7.629804,31438.23,39194.04,92793,"SINAPI"]
["CORTE E DOBRA DE AÇO CA-50, DIÂMETRO DE 8,0 MM, UTILIZADO EM ESTRUTURA S DIVERSAS","kg",2694.5981500513872,6.12,7.629804,16490.939999999999,20559.259999999998,92793,"SINAPI"]
["CORTE E DOBRA DE AÇO CA-50, DIÂMETRO DE 8,0 MM, UTILIZADO EM ESTRUTURA S DIVERSAS","KG",1354.7048201139048,6.12,7.629804,8290.7900000000009,10336.129999999999,92793,"SINAPI"]
["CORTE E DOBRA DE AÇO CA-50, DIÂMETRO DE 8,0 MM, UTILIZADO EM ESTRUTURA S DIVERSAS","KG",2097.391304347826,6.12,7.629804,12836.03,16002.68,92793,"SINAPI"]
["CORTE E DOBRA DE AÇO CA-50, DIÂMETRO DE 8,0 MM, UTILIZADO EM ESTRUTURA S DIVERSAS","KG",652.22391998888736,6.12,7.629804,3991.61,4976.34,92793,"SINAPI"]
["DEFENSA SINGELA SEMI-MALEÁVEL SV-DSM-02 (EXECUÇÃO, INCLUINDO FORNECIMENTO, COLOCAÇÃO E TRANSPORTE DE TODOS OS MATERIAIS)","m",275,265.94,331.54739799999999,73133.5,91175.53,"RO-41763","DEER/MG"]
["DEFENSA SINGELA SEMI-MALEÁVEL SV-DSM-02 (EXECUÇÃO, INCLUINDO FORNECIMENTO, COLOCAÇÃO E TRANSPORTE DE TODOS OS MATERIAIS)","m",19,265.94,331.54739799999999,5052.8599999999997,6299.4,"RO-41763","DEER/MG"]
["DEFENSA SINGELA SEMI-MALEÁVEL SV-DSM-02 (EXECUÇÃO, INCLUINDO FORNECIMENTO, COLOCAÇÃO E TRANSPORTE DE TODOS OS MATERIAIS)","m",2466,265.94,331.54739799999999,655808.04,817595.88,"RO-41763","DEER/MG"]
["DEFENSA SINGELA SEMI-MALEÁVEL SV-DSM-02 (EXECUÇÃO, INCLUINDO FORNECIMENTO, COLOCAÇÃO E TRANSPORTE DE TODOS OS MATERIAIS)","m",560,265.94,{"$f":"D202*(1+$G$5)","v":331.54739799999999},{"$f":"ROUND(C202*D202,2)","v":148926.39999999999},{"$f":"ROUND(C202*E202,2)","v":185666.54},"RO-41763","DEER/MG"]
["DEFENSA SINGELA SEMI-MALEÁVEL SV-DSM-02 (EXECUÇÃO, INCLUINDO FORNECIMENTO, COLOCAÇÃO E TRANSPORTE DE TODOS OS MATERIAIS)","m",560,265.94,331.54739799999999,148926.39999999999,185666.54,"RO-41763","DEER/MG"]
["DESCIDA D´ÁGUA TIPO CALHA DN 500, EXCLUSIVE BOTA FORA","m",40,289.51,360.93211699999995,11580.4,14437.28,"ED-48598","DEER/MG"]
["DESCIDA D´ÁGUA TIPO CALHA DN 500, EXCLUSIVE BOTA FORA","m",30,289.51,360.93211699999995,8685.2999999999993,10827.96,"ED-48598","DEER/MG"]
["DESCIDA D´ÁGUA TIPO CALHA DN 500, EXCLUSIVE BOTA FORA","m",29,289.51,360.93211699999995,8395.7900000000009,10467.030000000001,"ED-48598","DEER/MG"]
["DESCIDA D´ÁGUA TIPO CALHA DN 500, EXCLUSIVE BOTA FORA","m",10,289.51,360.93211699999995,2895.1,3609.32,"ED-48598","DEER/MG"]
["DESCIDA D´ÁGUA TIPO CALHA DN 500, EXCLUSIVE BOTA FORA","m",77,289.51,360.93211699999995,22292.27,27791.77,"ED-48598","DEER/MG"]
["DESMOBILIZAÇÃO DE PESSOAL E EQUIPAMENTOS","un.",1,14222.072,17730.657162399999,{"$f":"SUM(C209*D209,2)","v":14224.072},17730.66,"C9","CPU"]
["DISSIPADOR DE ENERGIA DE 501 - AREIA E PEDRA DE MÃO COMERCIAIS","und",8,127.8,159.32826,{"$f":"ROUND(C210*D210,2)","v":1022.4},1274.6300000000001,"2003441","DNIT/MG"]
["DISSIPADOR DE ENERGIA DE 501 - AREIA E PEDRA DE MÃO COMERCIAIS","und",4,127.8,159.32826,511.2,637.30999999999995,"2003441","DNIT/MG"]
["DISSIPADOR DE ENERGIA DE 501 - AREIA E PEDRA DE MÃO COMERCIAIS","und",6,127.8,159.32826,766.8,955.97,"2003441","DNIT/MG"]
["DISSIPADOR DE ENERGIA DE 501 - AREIA E PEDRA DE MÃO COMERCIAIS","und",8,127.8,159.32826,1022.4,1274.6300000000001,"2003441","DNIT/MG"]
["EMBOÇO COM ARGAMASSA, TRAÇO 1:6 (CIMENTO E AREIA), ESP. 20MM, APLICAÇÃO MANUAL, PREPARO MECÂNICO","m²",3.03,22.84,28.474627999999999,69.209999999999994,86.28,"ED-50732","DEER/MG"]
["EMBOÇO COM MARGAMASSA, TRAÇO 1:6 (CIMENTO E AREIA), ESP. 20MM, APLICAÇÃO MANUAL, PREPARO MECÂNICO","m²",76.8,22.84,28.474627999999999,1754.11,2186.85,"ED-50732","DEER/MG"]
["EMBOÇO COM MARGAMASSA, TRAÇO 1:6 (CIMENTO E AREIA), ESP. 20MM, APLICAÇÃO MANUAL, PREPARO MECÂNICO","m²",76.8,22.84,28.474627999999999,1754.11,2186.85,"ED-50732","DEER/MG"]
["EMBOÇO COM MARGAMASSA, TRAÇO 1:6 (CIMENTO E AREIA), ESP. 20MM, APLICAÇÃO MANUAL, PREPARO MECÂNICO","m²",6.06,22.84,28.474627999999999,138.41,172.56,"ED-50732","DEER/MG"]
["ENROCAMENTO MANUAL, COM ARRUMACAO DO MATERIAL","m³",3169.8,228.86,285.31976200000003,725440.43,904406.58,"73698","SINAPI"]
["ENROCAMENTO MANUAL, COM ARRUMACAO DO MATERIAL","m³",null,228.86,285.31976200000003,0,0,"73698","SINAPI"]
["ENROCAMENTO MANUAL, COM ARRUMACAO DO MATERIAL","m³",431.7,228.86,285.31976200000003,98798.86,123172.54,"73698","SINAPI"]
["ENROCAMENTO MANUAL, COM ARRUMACAO DO MATERIAL","m³",4812.3599999999997,228.86,285.31976200000003,1101356.71,1373061.41,"73698","SINAPI"]
["ENROCAMENTO MANUAL, COM ARRUMACAO DO MATERIAL","m³",1659.66,228.86,285.31976200000003,379829.79,473533.8,"73698","SINAPI"]
["ENSAIO  DE MASSA ESPECIFICA - IN SITU - METODO FRASCO DE AREIA - SOLOS","unid.",71,35.03,43.671900999999998,2487.13,3100.7,"ED-49559","DEER/MG"]
["ENSAIO DE COMPACTAÇÃO - AMOSTRAS NÃO TRABALHADAS - ENERGIA NORMAL - SOLOS","unid.",61,95.08,118.53623599999999,5799.88,7230.71,"ED-49555","DEER/MG"]
["ENSAIO DE RESISTENCIA A COMPRESSÃO SIMPLES - CONCRETO","unid.",41,90.07,112.29026899999998,3692.87,4603.8999999999996,"ED-49546","DEER/MG"]
["ENSAIO DE TEOR DE UMIDADE - PROCESSO SPEEDY - SOLOS E AGREGADOS MIUDOS","unid.",299,30.02,37.425933999999998,8975.98,11190.35,"ED-49564","DEER/MG"]
["ENSAIOS DE LABORATÓRIO - ADESIVIDADE","unid.",195,247.19,308.17177299999997,48202.05,60093.5,"02-06-14","SIURB"]
["ENSAIOS DE LABORATÓRIO - DURABILIDADE","unid.",3,490.46,611.45648199999994,1471.38,1834.37,"02-06-13","SIURB"]
["ENSAIOS DE LABORATÓRIO - LOS ANGELES","unid.",3,454.15,566.18880499999989,1362.45,1698.57,"02-06-11","SIURB"]
["ENSAIOS DE LABORATÓRIO - PENETRAÇÃO","unid.",195,204.85,255.38649499999997,39945.75,49800.37,"02-06-18","SIURB"]
["ENSAIOS DE LABORATÓRIO - PONTO DE AMOLECIMENTO","unid.",195,123.59,154.07965300000001,24100.05,30045.53,"02-06-19","SIURB"]
["ENSAIOS DE LABORATÓRIO - PONTO DE FULGOR","unid.",195,141.58000000000001,176.50778600000001,27608.1,34419.019999999997,"02-06-17","SIURB"]
["ENSAIOS DE LABORATÓRIO - VISCOSIDADE","unid.",195,164.14,204.63333799999998,32007.3,39903.5,"02-06-15","SIURB"]
["ENSECADEIRA COM SACOS DE AREIA","m³",14.57,462.72,576.87302399999999,6741.83,8405.0400000000009,"25.03.04.01","DER/SP"]
["ENSECADEIRA COM SACOS DE AREIA","m³",25.64,462.72,576.87302399999999,11864.14,14791.02,"25.03.04.01","DER/SP"]
["ENSECADEIRA COM SACOS DE AREIA","m³",16.22,462.72,576.87302399999999,7505.32,9356.8799999999992,"25.03.04.01","DER/SP"]
["ESCAVACAO MECANICA DE VALA EM MATERIAL 2A CATEGORIA COM UTILIZACAO DE ESCAVADEIRA HIDRAULICA","m³",51.2,10.01,12.479467,512.51,638.95000000000005,"72917","SINAPI","VERIFICAR EXCESSO DE ESCAVAÇÃO DE VALA EM MATERIAL DE 2A CATEGORIA E NADA EM 1A CATEGORIA"]
["ESCAVACAO MECANICA DE VALA EM MATERIAL 2A CATEGORIA COM UTILIZACAO DE ESCAVADEIRA HIDRAULICA","m³",112.32,10.01,12.479467,1124.32,1401.69,"72917","SINAPI"]
["ESCAVACAO MECANICA DE VALA EM MATERIAL 2A CATEGORIA COM UTILIZACAO DE ESCAVADEIRA HIDRAULICA","m³",726.54,10.01,12.479467,7272.67,9066.83,"72917","SINAPI"]
["ESCAVACAO MECANICA DE VALA EM MATERIAL 2A CATEGORIA COM UTILIZACAO DE ESCAVADEIRA HIDRAULICA","m³",853.73,10.01,12.479467,8545.84,10654.1,"72917","SINAPI"]
["ESCAVACAO MECANICA DE VALA EM MATERIAL 2A CATEGORIA COM UTILIZACAO DE ESCAVADEIRA HIDRAULICA","m³",1127.51,10.01,12.479467,11286.38,14070.72,"72917","SINAPI"]
["ESCAVACAO MECANICA DE VALA EM MATERIAL 2A CATEGORIA COM UTILIZACAO DE ESCAVADEIRA HIDRAULICA","m³",334.8,10.01,12.479467,{"$f":"ROUND(C242*D242,2)","v":3351.35},4178.13,"72917","SINAPI"]
["ESCAVACAO MECANICA, A CEU ABERTO, EM MATERIAL DE 1A CATEGORIA, COM ESCAVADEIRA HIDRAULICA, CAPACIDADE DE 0,78 M3 - CORTE","m³",464.7,2.0499999999999998,2.5557349999999994,952.64,1187.6500000000001,"83338","SINAPI"]
["ESCAVACAO MECANICA, A CEU ABERTO, EM MATERIAL DE 1A CATEGORIA, COM ESCAVADEIRA HIDRAULICA, CAPACIDADE DE 0,78 M3 - CORTE","m³",202.8,2.0499999999999998,2.5557349999999994,415.74,518.29999999999995,"83338","SINAPI"]
["ESCAVACAO MECANICA, A CEU ABERTO, EM MATERIAL DE 1A CATEGORIA, COM ESCAVADEIRA HIDRAULICA, CAPACIDADE DE 0,78 M3 - CORTE","m³",365.65,2.0499999999999998,2.5557349999999994,749.58,934.5,"83338","SINAPI"]
["ESCAVACAO MECANICA, A CEU ABERTO, EM MATERIAL DE 1A CATEGORIA, COM ESCAVADEIRA HIDRAULICA, CAPACIDADE DE 0,78 M3 - CORTE JAZIDA","m³",7006.31,2.0499999999999998,2.5557349999999994,14362.94,17906.27,"83338","SINAPI"]
["ESCAVACAO MECANICA, A CEU ABERTO, EM MATERIAL DE 1A CATEGORIA, COM ESCAVADEIRA HIDRAULICA, CAPACIDADE DE 0,78 M3 - CORTE JAZIDA","m³",807.09,2.0499999999999998,2.5557349999999994,1654.53,2062.71,"83338","SINAPI"]
["ESCAVACAO MECANICA, A CEU ABERTO, EM MATERIAL DE 1A CATEGORIA, COM ESCAVADEIRA HIDRAULICA, CAPACIDADE DE 0,78 M3 - CORTE JAZIDA","m³",251888.76,2.0499999999999998,2.5557349999999994,516371.96,643760.92000000004,"83338","SINAPI"]
["ESCAVACAO MECANICA, A CEU ABERTO, EM MATERIAL DE 1A CATEGORIA, COM ESCAVADEIRA HIDRAULICA, CAPACIDADE DE 0,78 M3 - CORTE JAZIDA","m³",54918.06,2.0499999999999998,2.5557349999999994,112582.02,140356.01,"83338","SINAPI"]
["ESCAVACAO MECANICA, A CEU ABERTO, EM MATERIAL DE 1A CATEGORIA, COM ESCAVADEIRA HIDRAULICA, CAPACIDADE DE 0,78 M3 - CORTE JAZIDA","m³",20894.36,2.0499999999999998,2.5557349999999994,42833.440000000002,53400.45,"83338","SINAPI"]
["ESCAVACAO MECANICA, A CEU ABERTO, EM MATERIAL DE 1A CATEGORIA, COM ESCAVADEIRA HIDRAULICA, CAPACIDADE DE 0,78 M3 - CORTE JAZIDA","m³",6230.94,2.0499999999999998,2.5557349999999994,12773.43,15924.63,"83338","SINAPI"]
["ESCAVACAO MECANICA, A CEU ABERTO, EM MATERIAL DE 1A CATEGORIA, COM ESCAVADEIRA HIDRAULICA, CAPACIDADE DE 0,78 M3 - CORTE JAZIDA","m³",75209.41,2.0499999999999998,2.5557349999999994,154179.29,192215.32,"83338","SINAPI"]
["ESCAVACAO MECANICA, A CEU ABERTO, EM MATERIAL DE 1A CATEGORIA, COM ESCAVADEIRA HIDRAULICA, CAPACIDADE DE 0,78 M3 - CORTE JAZIDA","m³",44483.519999999997,2.0499999999999998,2.5557349999999994,91191.22,113688.09,"83338","SINAPI"]
["ESCAVAÇÃO, CARGA, DESCARGA, ESPALHAMENTO E TRANSPORTE DE MATERIAL DE 1ª CATEGORIA, COMCAMINHÃO. DISTÂNCIA MÉDIA DE TRANSPORTE DE 3.001 A 4.000 M","m³",18,7.44,9.275447999999999,133.91999999999999,166.96,"RO-40160","DEER/MG"]
["ESCAVAÇÃO, CARGA, DESCARGA, ESPALHAMENTO E TRANSPORTE DE MATERIAL DE 1ª CATEGORIA, COMCAMINHÃO. DISTÂNCIA MÉDIA DE TRANSPORTE DE 3.001 A 4.000 M","m³",18,7.44,9.275447999999999,133.91999999999999,166.96,"RO-40160","DEER/MG"]
["ESCAVAÇÃO, CARGA, DESCARGA, ESPALHAMENTO E TRANSPORTE DE MATERIAL DE 1ª CATEGORIA, COMCAMINHÃO. DISTÂNCIA MÉDIA DE TRANSPORTE DE 3.001 A 4.000 M","m³",8.98,7.44,9.275447999999999,66.81,83.29,"RO-40160","DEER/MG"]
["ESCAVAÇÃO, CARGA, DESCARGA, ESPALHAMENTO E TRANSPORTE DE MATERIAL DE 1ª CATEGORIA, COMCAMINHÃO. DISTÂNCIA MÉDIA DE TRANSPORTE DE 3.001 A 4.000 M","m³",17.96,7.44,9.275447999999999,133.62,166.59,"RO-40160","DEER/MG"]
["ESCAVAÇÃO, CARGA, DESCARGA, ESPALHAMENTO E TRANSPORTE DE MATERIAL DE 3ª CATEGORIA. DISTÂNCIA MÉDIA DE TRANSPORTE ATÉ 200 M","m³",2440.75,26.31,32.800676999999993,64216.13,80058.25,"RO-40182","DEER/MG","VERIFICAR APLICAÇÃO DESSES SERVIÇOS (EXPLORAÇÃO LOCAL DE ROCHA???)"]
["ESCAVAÇÃO, CARGA, DESCARGA, ESPALHAMENTO E TRANSPORTE DE MATERIAL DE 3ª CATEGORIA. DISTÂNCIA MÉDIA DE TRANSPORTE ATÉ 200 M","m³",null,26.31,32.800676999999993,0,0,"RO-40182","DEER/MG"]
["ESCAVAÇÃO, CARGA, DESCARGA, ESPALHAMENTO E TRANSPORTE DE MATERIAL DE 3ª CATEGORIA. DISTÂNCIA MÉDIA DE TRANSPORTE ATÉ 200 M","m³",332.41,26.31,32.800676999999993,8745.7099999999991,10903.27,"RO-40182","DEER/MG"]
["ESCAVAÇÃO, CARGA, DESCARGA, ESPALHAMENTO E TRANSPORTE DE MATERIAL DE 3ª CATEGORIA. DISTÂNCIA MÉDIA DE TRANSPORTE ATÉ 200 M","m³",3705.52,26.31,32.800676999999993,97492.23,121543.56,"RO-40182","DEER/MG"]
["ESGOTAMENTO DE ÁGUA COM BOMBA SUBMERSA","h",298.04666666666668,11.87,14.798328999999999,3537.81,4410.59,2003864,"DNIT/MG"]
["ESGOTAMENTO DE ÁGUA COM BOMBA SUBMERSA","h",null,11.87,14.798328999999999,0,0,2003864,"DNIT/MG"]
["ESPALHAMENTO DE MATERIAL EM BOTA-FORA","m³",55195.99,0.18,0.22440599999999997,9935.2800000000007,12386.31,"RO-42263","DEER/MG"]
["ESPALHAMENTO DE MATERIAL EM BOTA-FORA","m³",12236.34,0.18,0.22440599999999997,2202.54,2745.91,"RO-42263","DEER/MG"]
["ESPALHAMENTO DE MATERIAL EM BOTA-FORA","m³",728,0.18,{"$f":"D266*(1+$G$5)","v":0.22440599999999997},131.04,{"$f":"ROUND(C266*E266,2)","v":163.37},"RO-42263","DEER/MG"]
["ESPALHAMENTO DE MATERIAL EM BOTA-FORA","m³",5600,0.18,0.22440599999999997,1008,1256.67,"RO-42263","DEER/MG"]
["ESPALHAMENTO DE MATERIAL EM BOTA-FORA","m³",7560,0.18,0.22440599999999997,1360.8,1696.51,"RO-42263","DEER/MG"]
["ESTACA RAIZ Ø 41 cm EM SOLO","m",115.28,318.76,397.39809199999996,36746.65,45812.05,96162,"SINAPI"]
["ESTACA RAIZ Ø 41 cm EM SOLO","m",null,318.76,397.39809199999996,0,0,96162,"SINAPI"]
["EXECUÇÃO DE ALMOXARIFADO EM CANTEIRO DE OBRA EM ALVENARIA, INCLUSO PRA TELEIRAS","m²",24.200000000000003,592.44000000000005,738.59494800000004,14337.05,17874,"93208","SINAPI"]
["EXECUÇÃO DE CENTRAL DE ARMADURA EM CANTEIRO DE OBRA, NÃO INCLUSO MOBILIÁRIO E EQUIPAMENTOS","m²",20,184.24,229.69200799999999,3684.8,4593.84,"93582","SINAPI"]
["EXECUÇÃO DE CENTRAL DE FÔRMAS, PRODUÇÃO DE ARGAMASSA OU CONCRETO EM CANTEIRO DE OBRA, NÃO INCLUSO MOBILIÁRIO E EQUIPAMENTOS","m²",20,299.06,372.83810199999999,5981.2,7456.76,"93583","SINAPI"]
["EXECUCAO DE DRENO COM MANTA GEOTEXTIL 200 G/M2","m²",2016,5.64,7.0313879999999989,{"$f":"ROUND(C274*D274,2)","v":11370.24},14175.28,"73881/001","SINAPI"]
["EXECUCAO DE DRENO COM MANTA GEOTEXTIL 200 G/M2","m²",801.9,5.64,7.0313879999999989,4522.72,5638.47,"73881/001","SINAPI"]
["EXECUÇÃO DE ESCRITÓRIO EM CANTEIRO DE OBRA EM CHAPA DE MADEIRA COMPENSADA, NÃO INCLUSO MOBILIÁRIO E EQUIPAMENTOS","m²",21.779999999999998,751.29,936.63324299999988,16363.1,20399.87,"93207","SINAPI"]
["EXECUÇÃO DE IMPRIMAÇÃO COM ASFALTO DILUÍDO CM-30. AF_09/2017","m²",2919.04,6.24,7.7794080000000001,18214.810000000001,22708.400000000001,"96401","SINAPI"]
["EXECUÇÃO DE IMPRIMAÇÃO COM ASFALTO DILUÍDO CM-30. AF_09/2017","m²",1924.22,6.24,7.7794080000000001,12007.13,14969.29,"96401","SINAPI"]
["EXECUÇÃO DE IMPRIMAÇÃO COM ASFALTO DILUÍDO CM-30. AF_09/2017","m²",16941.740000000002,6.24,7.7794080000000001,105716.46,131796.71,"96401","SINAPI"]
["EXECUÇÃO DE IMPRIMAÇÃO COM ASFALTO DILUÍDO CM-30. AF_09/2017","m²",null,6.24,7.7794080000000001,0,0,"96401","SINAPI"]
["EXECUÇÃO DE IMPRIMAÇÃO COM ASFALTO DILUÍDO CM-30. AF_09/2017","m²",null,6.24,7.7794080000000001,0,0,"96401","SINAPI"]
["EXECUÇÃO DE REFEITÓRIO EM CANTEIRO DE OBRA EM CHAPA DE MADEIRA COMPENSADA, NÃO INCLUSO MOBILIÁRIO E EQUIPAMENTOS","m²",29.04,383.42,478.00971399999997,11134.52,13881.4,"93210","SINAPI"]
["EXECUÇÃO DE RESERVATÓRIO ELEVADO DE ÁGUA (2000 LITROS) EM CANTEIRO DE OBRA, APOIADO EM ESTRUTURA DE MADEIRA","unid.",1,7200.75,8977.1750249999986,7200.75,8977.18,"93243","SINAPI"]
["EXECUÇÃO DE SANITÁRIO E VESTIÁRIO EM CANTEIRO DE OBRA EM CHAPA DE MADEIRA COMPENSADA, NÃO INCLUSO MOBILIÁRIO","m²",18.149999999999999,672.06,837.85720199999992,12197.89,15207.11,"93212","SINAPI"]
["FABRICAÇÃO DE FÔRMA PARA PILARES E ESTRUTURAS SIMILARES, EM CHAPA DE MADEIRA COMPENSADA RESINADA, E = 17 MM. AF_12/2015","m²",1819.4582197756699,89.05,111.01863499999999,162022.75,201993.77,92263,"SINAPI"]
["FABRICAÇÃO DE FÔRMA PARA PILARES E ESTRUTURAS SIMILARES, EM CHAPA DE MADEIRA COMPENSADA RESINADA, E = 17 MM. AF_12/2015","m²",1572.2940000000001,89.05,111.01863499999999,140012.78,174553.93,92263,"SINAPI"]
["FABRICAÇÃO DE FÔRMA PARA PILARES E ESTRUTURAS SIMILARES, EM CHAPA DE MADEIRA COMPENSADA RESINADA, E = 17 MM. AF_12/2015","m²",5975.81,89.05,111.01863499999999,532145.88,663426.27,92263,"SINAPI"]
["FABRICAÇÃO DE FÔRMA PARA PILARES E ESTRUTURAS SIMILARES, EM CHAPA DE MADEIRA COMPENSADA RESINADA, E = 17 MM. AF_12/2015","m²",1765.49,89.05,111.01863499999999,157216.88,196002.29,92263,"SINAPI"]
["FABRICAÇÃO DE FÔRMA PARA PILARES E ESTRUTURAS SIMILARES, EM CHAPA DE MADEIRA COMPENSADA RESINADA, E = 17 MM. AF_12/2015","m²",232.96,89.05,111.01863499999999,20745.09,25862.9,92263,"SINAPI"]
["FABRICAÇÃO DE FÔRMA PARA PILARES E ESTRUTURAS SIMILARES, EM CHAPA DE MADEIRA COMPENSADA RESINADA, E = 17 MM. AF_12/2015","m²",38.520000000000003,89.05,111.01863499999999,3430.21,4276.4399999999996,92263,"SINAPI"]
["FABRICAÇÃO DE FÔRMA PARA PILARES E ESTRUTURAS SIMILARES, EM CHAPA DE MADEIRA COMPENSADA RESINADA, E = 17 MM. AF_12/2015","m²",604.02,89.05,111.01863499999999,53787.98,67057.48,92263,"SINAPI"]
["FABRICAÇÃO DE FÔRMA PARA PILARES E ESTRUTURAS SIMILARES, EM CHAPA DE MADEIRA COMPENSADA RESINADA, E = 17 MM. AF_12/2015","m²",30.4,89.05,111.01863499999999,2707.12,3374.97,92263,"SINAPI"]
["FABRICAÇÃO DE FÔRMA PARA PILARES E ESTRUTURAS SIMILARES, EM CHAPA DE MADEIRA COMPENSADA RESINADA, E = 17 MM. AF_12/2015","m²",53.37,89.05,111.01863499999999,4752.6000000000004,5925.06,92263,"SINAPI"]
["FABRICAÇÃO DE FÔRMA PARA PILARES E ESTRUTURAS SIMILARES, EM CHAPA DE MADEIRA COMPENSADA RESINADA, E = 17 MM. AF_12/2015","m²",50.24,89.05,111.01863499999999,4473.87,5577.58,92263,"SINAPI"]
["FABRICAÇÃO DE FÔRMA PARA PILARES E ESTRUTURAS SIMILARES, EM CHAPA DE MADEIRA COMPENSADA RESINADA, E = 17 MM. AF_12/2015","m²",53.14,89.05,111.01863499999999,4732.12,5899.53,92263,"SINAPI"]
["FABRICAÇÃO DE FÔRMA PARA PILARES E ESTRUTURAS SIMILARES, EM CHAPA DE MADEIRA COMPENSADA RESINADA, E = 17 MM. AF_12/2015","m²",1190.58,89.05,111.01863499999999,106021.15,132176.57,92263,"SINAPI"]
["FABRICAÇÃO DE FÔRMA PARA PILARES E ESTRUTURAS SIMILARES, EM CHAPA DE MADEIRA COMPENSADA RESINADA, E = 17 MM. AF_12/2015","m³",419.8,89.05,111.01863499999999,37383.19,46605.62,92263,"SINAPI"]
["FABRICAÇÃO DE FÔRMA PARA VIGAS, COM MADEIRA SERRADA, E = 25 MM. AF_12/2015","m²",7.32,78.23,97.529341000000002,572.64,713.91,"92270","SINAPI"]
["FABRICAÇÃO DE FÔRMA PARA VIGAS, COM MADEIRA SERRADA, E = 25 MM. AF_12/2015","m²",9.6,78.23,97.529341000000002,751.01,936.28,"92270","SINAPI"]
["FABRICAÇÃO DE FÔRMA PARA VIGAS, COM MADEIRA SERRADA, E = 25 MM. AF_12/2015","m²",18.899999999999999,78.23,97.529341000000002,1478.55,1843.3,"92270","SINAPI"]
["FABRICAÇÃO DE FÔRMA PARA VIGAS, COM MADEIRA SERRADA, E = 25 MM. AF_12/2015","m²",54.88,78.23,97.529341000000002,4293.26,5352.41,"92270","SINAPI"]
["FABRICAÇÃO DE FÔRMA PARA VIGAS, COM MADEIRA SERRADA, E = 25 MM. AF_12/2015","m²",67.08,78.23,97.529341000000002,5247.67,6542.27,"92270","SINAPI"]
["FORN./INSTAL. BALIZ.(CATADIOPTRICO) P/DEF. MET. C/PELICULA GT+GT, CONF.OP-06-05","un.",34,29.93,37.313730999999997,1017.62,1268.67,"28.10.01.99","DER/SP"]
["FORN./INSTAL. BALIZ.(CATADIOPTRICO) P/DEF. MET. C/PELICULA GT+GT, CONF.OP-06-05","un.",2,29.93,37.313730999999997,59.86,74.63,"28.10.01.99","DER/SP"]
["FORN./INSTAL. BALIZ.(CATADIOPTRICO) P/DEF. MET. C/PELICULA GT+GT, CONF.OP-06-05","un.",308,29.93,37.313730999999997,9218.44,11492.63,"28.10.01.99","DER/SP"]
["FORN./INSTAL. BALIZ.(CATADIOPTRICO) P/DEF. MET. C/PELICULA GT+GT, CONF.OP-06-05","un.",210,29.93,37.313730999999997,{"$f":"ROUND(C306*D306,2)","v":6285.3},7835.88,"28.10.01.99","DER/SP"]
["FORN./INSTAL. BALIZ.(CATADIOPTRICO) P/DEF. MET. C/PELICULA GT+GT, CONF.OP-06-05","un.",210,29.93,37.313730999999997,6285.3,7835.88,"28.10.01.99","DER/SP"]
["FORNECIMENTO DE CONCRETO ESTRUTURAL, USINADO, COM FCK 30MPA","m³",35.9,346.25,431.66987499999999,12430.38,15496.95,"ED-49799","DEER/MG","VER ESSE CONCRETO ISOLADO",null,null,"OK"]
["FORNECIMENTO E APLICAÇÃO DE GROUT PARA ANCORAGENS","m³",0.28800000000000003,272.01,339.11486699999995,78.34,97.67,"ED-50430","DEER/MG"]
["FORNECIMENTO E APLICAÇÃO DE GROUT PARA ANCORAGENS","m³",0.28800000000000003,272.01,339.11486699999995,78.34,97.67,"ED-50430","DEER/MG"]
["FORNECIMENTO E APLICAÇÃO DE GROUT PARA ANCORAGENS","m³",0.28800000000000003,272.01,339.11486699999995,78.34,97.67,"ED-50430","DEER/MG"]
["FORNECIMENTO E APLICAÇÃO DE GROUT PARA ANCORAGENS","m³",null,272.01,339.11486699999995,0,0,"ED-50430","DEER/MG"]
["FORNECIMENTO E APLICAÇÃO DE GROUT PARA ANCORAGENS","m³",null,272.01,339.11486699999995,0,0,"ED-50430","DEER/MG"]
["FORNECIMENTO, ASSENTAMENTO E  REJUNTAMENTO DE TUBO DE CONCRETO SIMPLES PS1 D = 400 MM","m",32,86.76,108.163692,2776.32,3461.24,"ED-48676","DEER/MG"]
["FORNECIMENTO, ASSENTAMENTO E  REJUNTAMENTO DE TUBO DE CONCRETO SIMPLES PS1 D = 400 MM","m",32,86.76,108.163692,2776.32,3461.24,"ED-48676","DEER/MG"]
["FORNECIMENTO, ASSENTAMENTO E  REJUNTAMENTO DE TUBO DE CONCRETO SIMPLES PS1 D = 400 MM","m",10,86.76,108.163692,867.6,1081.6400000000001,"ED-48676","DEER/MG"]
["FORNECIMENTO, ASSENTAMENTO E  REJUNTAMENTO DE TUBO DE CONCRETO SIMPLES PS1 D = 400 MM","m",10,86.76,108.163692,867.6,1081.6400000000001,"ED-48676","DEER/MG"]
["ISOLAMENTO DE OBRA COM TELA PLASTICA COM MALHA DE 5MM E ESTRUTURA DE MADEIRA PONTALETEADA","m",794.2,20.83,25.968760999999997,16543.189999999999,20624.39,"85424","SINAPI"]
["ISOLAMENTO DE OBRA COM TELA PLASTICA COM MALHA DE 5MM E ESTRUTURA DE MADEIRA PONTALETEADA","m",584,20.83,25.968760999999997,12164.72,15165.76,"85424","SINAPI"]
["ISOLAMENTO DE OBRA COM TELA PLASTICA COM MALHA DE 5MM E ESTRUTURA DE MADEIRA PONTALETEADA","m",2908.64,20.83,25.968760999999997,60586.97,75533.78,"85424","SINAPI"]
["ISOLAMENTO DE OBRA COM TELA PLASTICA COM MALHA DE 5MM E ESTRUTURA DE MADEIRA PONTALETEADA","m",840,20.83,25.968760999999997,17497.2,21813.759999999998,"85424","SINAPI"]
["ISOLAMENTO DE OBRA COM TELA PLASTICA COM MALHA DE 5MM E ESTRUTURA DE MADEIRA PONTALETEADA","m",800,20.83,25.968760999999997,16664,20775.009999999998,"85424","SINAPI"]
["JUNTA DE DILATAÇÃO EM PERFIL EXTRUDADO DE BORRACHA VULCANIZADA DE 40 X 70 MM - FORNECIMENTO E INSTALAÇÃO","m",20.6,1031.49,1285.9585829999999,21248.69,26490.75,307736,"DNIT/MG"]
["JUNTA DE DILATAÇÃO EM PERFIL EXTRUDADO DE BORRACHA VULCANIZADA DE 40 X 70 MM - FORNECIMENTO E INSTALAÇÃO","m",20.6,1031.49,1285.9585829999999,21248.69,26490.75,307736,"DNIT/MG"]
["JUNTA DE DILATAÇÃO EM PERFIL EXTRUDADO DE BORRACHA VULCANIZADA DE 40 X 70 MM - FORNECIMENTO E INSTALAÇÃO","m",20.6,1031.49,1285.9585829999999,21248.69,26490.75,307736,"DNIT/MG"]
["JUNTA DE DILATAÇÃO EM PERFIL EXTRUDADO DE BORRACHA VULCANIZADA DE 40 X 70 MM - FORNECIMENTO E INSTALAÇÃO","m",30.8,1031.49,1285.9585829999999,31769.89,39607.519999999997,307736,"DNIT/MG"]
["JUNTA DE DILATAÇÃO EM PERFIL EXTRUDADO DE BORRACHA VULCANIZADA DE 40 X 70 MM - FORNECIMENTO E INSTALAÇÃO","m",22.8,1031.49,1285.9585829999999,23517.97,29319.86,307736,"DNIT/MG"]
["LANÇAMENTO DE TABULEIRO PRÉ-MOLDADO","unid.",360,63.14,78.716637999999989,22730.400000000001,28337.99,"ED-50429","DEER/MG"]
["LANÇAMENTO DE TABULEIRO PRÉ-MOLDADO","unid.",310,63.14,78.716637999999989,19573.400000000001,24402.16,"ED-50429","DEER/MG"]
["LANÇAMENTO DE TABULEIRO PRÉ-MOLDADO","unid.",1198,63.14,{"$f":"D330*(1+$G$5)","v":78.716637999999989},75641.72,{"$f":"ROUND(C330*E330,2)","v":94302.53},"ED-50429","DEER/MG"]
["LANÇAMENTO DE TABULEIRO PRÉ-MOLDADO","unid.",null,63.14,78.716637999999989,0,0,"ED-50429","DEER/MG"]
["LANÇAMENTO DE TABULEIRO PRÉ-MOLDADO","unid.",null,63.14,78.716637999999989,0,0,"ED-50429","DEER/MG"]
["LANÇAMENTO MECÂNICO DE CONCRETO COM BOMBA LANÇA SOBRE CHASSI COM CAPACIDADE DE 45 M³/H - CONFECÇÃO EM CENTRAL DOSADORA DE 40 M³/H","m³",13.45,31.77,39.607658999999998,427.31,532.72,1107860,"DNIT/MG"]
["LANÇAMENTO MECÂNICO DE CONCRETO COM BOMBA LANÇA SOBRE CHASSI COM CAPACIDADE DE 45 M³/H - CONFECÇÃO EM CENTRAL DOSADORA DE 40 M³/H","m³",284.48308500000007,31.77,39.607658999999998,9038.0300000000007,11267.71,1107860,"DNIT/MG"]
["LANÇAMENTO MECÂNICO DE CONCRETO COM BOMBA LANÇA SOBRE CHASSI COM CAPACIDADE DE 45 M³/H - CONFECÇÃO EM CENTRAL DOSADORA DE 40 M³/H","m³",31.8,31.77,39.607658999999998,1010.29,1259.52,1107860,"DNIT/MG"]
["LANÇAMENTO MECÂNICO DE CONCRETO COM BOMBA LANÇA SOBRE CHASSI COM CAPACIDADE DE 45 M³/H - CONFECÇÃO EM CENTRAL DOSADORA DE 40 M³/H","m³",253.8,31.77,39.607658999999998,8063.23,10052.42,1107860,"DNIT/MG"]
["LANÇAMENTO MECÂNICO DE CONCRETO COM BOMBA LANÇA SOBRE CHASSI COM CAPACIDADE DE 45 M³/H - CONFECÇÃO EM CENTRAL DOSADORA DE 40 M³/H","m³",35.9,31.77,39.607658999999998,1140.54,1421.91,1107860,"DNIT/MG"]
["LANÇAMENTO MECÂNICO DE CONCRETO COM BOMBA LANÇA SOBRE CHASSI COM CAPACIDADE DE 45 M³/H - CONFECÇÃO EM CENTRAL DOSADORA DE 40 M³/H","m³",903.43999999999994,31.77,39.607658999999998,{"$f":"ROUND(C338*D338,2)","v":28702.29},35783.14,1107860,"DNIT/MG"]
["LANÇAMENTO MECÂNICO DE CONCRETO COM BOMBA LANÇA SOBRE CHASSI COM CAPACIDADE DE 45 M³/H - CONFECÇÃO EM CENTRAL DOSADORA DE 40 M³/H","m³",35,31.77,39.607658999999998,1111.95,1386.27,1107860,"DNIT/MG"]
["LANÇAMENTO MECÂNICO DE CONCRETO COM BOMBA LANÇA SOBRE CHASSI COM CAPACIDADE DE 45 M³/H - CONFECÇÃO EM CENTRAL DOSADORA DE 40 M³/H","m³",347.09999999999997,31.77,39.607658999999998,11027.37,13747.82,1107860,"DNIT/MG"]
["LANÇAMENTO MECÂNICO DE CONCRETO COM BOMBA LANÇA SOBRE CHASSI COM CAPACIDADE DE 45 M³/H - CONFECÇÃO EM CENTRAL DOSADORA DE 40 M³/H","m³",27.08,31.77,39.607658999999998,860.33,1072.58,1107860,"DNIT/MG"]
["LANÇAMENTO MECÂNICO DE CONCRETO COM BOMBA LANÇA SOBRE CHASSI COM CAPACIDADE DE 45 M³/H - CONFECÇÃO EM CENTRAL DOSADORA DE 40 M³/H","m³",77.800000000000011,31.77,39.607658999999998,2471.71,3081.48,1107860,"DNIT/MG"]
["LANÇAMENTO MECÂNICO DE CONCRETO COM BOMBA LANÇA SOBRE CHASSI COM CAPACIDADE DE 45 M³/H - CONFECÇÃO EM CENTRAL DOSADORA DE 40 M³/H","m³",75.180000000000007,31.77,39.607658999999998,2388.4699999999998,2977.7,1107860,"DNIT/MG"]
["LANÇAMENTO MECÂNICO DE CONCRETO COM BOMBA LANÇA SOBRE CHASSI COM CAPACIDADE DE 45 M³/H - CONFECÇÃO EM CENTRAL DOSADORA DE 40 M³/H","m³",110.28,31.77,39.607658999999998,3503.6,4367.93,1107860,"DNIT/MG"]
["LANÇAMENTO MECÂNICO DE CONCRETO COM BOMBA LANÇA SOBRE CHASSI COM CAPACIDADE DE 45 M³/H - CONFECÇÃO EM CENTRAL DOSADORA DE 40 M³/H","m³",54.97,31.77,39.607658999999998,1746.4,2177.23,1107860,"DNIT/MG"]
["LANÇAMENTO MECÂNICO DE CONCRETO COM BOMBA LANÇA SOBRE CHASSI COM CAPACIDADE DE 45 M³/H - CONFECÇÃO EM CENTRAL DOSADORA DE 40 M³/H","m³",76.38,31.77,39.607658999999998,2426.59,3025.23,1107860,"DNIT/MG"]
["LANÇAMENTO MECÂNICO DE CONCRETO COM BOMBA LANÇA SOBRE CHASSI COM CAPACIDADE DE 45 M³/H - CONFECÇÃO EM CENTRAL DOSADORA DE 40 M³/H","m³",45.26,31.77,39.607658999999998,1437.91,1792.64,1107860,"DNIT/MG"]
["LANÇAMENTO MECÂNICO DE CONCRETO COM BOMBA LANÇA SOBRE CHASSI COM CAPACIDADE DE 45 M³/H - CONFECÇÃO EM CENTRAL DOSADORA DE 40 M³/H","m³",186.37,31.77,39.607658999999998,5920.97,7381.68,1107860,"DNIT/MG"]
["LANÇAMENTO MECÂNICO DE CONCRETO COM BOMBA LANÇA SOBRE CHASSI COM CAPACIDADE DE 45 M³/H - CONFECÇÃO EM CENTRAL DOSADORA DE 40 M³/H","m³",170.74,31.77,39.607658999999998,5424.41,6762.61,1107860,"DNIT/MG"]
["LANÇAMENTO MECÂNICO DE CONCRETO COM BOMBA LANÇA SOBRE CHASSI COM CAPACIDADE DE 45 M³/H - CONFECÇÃO EM CENTRAL DOSADORA DE 40 M³/H","m³",83.03,31.77,39.607658999999998,2637.86,3288.62,1107860,"DNIT/MG"]
["LANCAMENTO VIGA P<=50T-GUINDASTE AUTO PROPULSADO      ","unid.",4,9649.41,12029.919446999998,38597.64,48119.68,"26.13.01.99","DER/SP"]
["LANCAMENTO VIGA P<=50T-GUINDASTE AUTO PROPULSADO      ","unid.",4,9649.41,12029.919446999998,38597.64,48119.68,"26.13.01.99","DER/SP"]
["LANCAMENTO VIGA P<=50T-GUINDASTE AUTO PROPULSADO      ","unid.",12,9649.41,12029.919446999998,115792.92,144359.03,"26.13.01.99","DER/SP"]
["LASTRO COM MATERIAL GRANULAR (AREIA)","m³",7,110.47,137.722949,773.29,964.06,96622,"SINAPI"]
["LASTRO COM MATERIAL GRANULAR (AREIA)","m³",10.23,110.47,137.722949,1130.1099999999999,1408.91,96622,"SINAPI"]
["LASTRO COM MATERIAL GRANULAR (AREIA)","m³",7.25,110.47,137.722949,800.91,998.49,96622,"SINAPI"]
["LASTRO COM MATERIAL GRANULAR (AREIA)","m³",7.72,110.47,137.722949,852.83,1063.22,96622,"SINAPI"]
["LASTRO COM MATERIAL GRANULAR (AREIA)","m³",5.74,110.47,137.722949,634.1,790.53,96622,"SINAPI"]
["LASTRO COM MATERIAL GRANULAR (AREIA)","m³",12.46,110.47,137.722949,1376.46,1716.03,96622,"SINAPI"]
["LASTRO COM MATERIAL GRANULAR (AREIA)","m³",18.52,110.47,137.722949,2045.9,2550.63,96622,"SINAPI"]
["LASTRO COM MATERIAL GRANULAR (AREIA)","m³",6.01,110.47,137.722949,663.92,827.71,96622,"SINAPI"]
["LASTRO COM MATERIAL GRANULAR (PEDRA BRITADA)","m³",10.23,105.83,131.93826099999998,1082.6400000000001,1349.73,96624,"SINAPI"]
["LASTRO COM MATERIAL GRANULAR (PEDRA BRITADA)","m³",18.52,105.83,131.93826099999998,1959.97,2443.5,96624,"SINAPI"]
["LASTRO COM MATERIAL GRANULAR (PEDRA BRITADA)","m³",6.01,105.83,131.93826099999998,636.04,792.95,96624,"SINAPI"]
["LASTRO DE CONCRETO, PREPARO MECÂNICO, INCLUSOS ADITIVO IMPERMEABILIZANTE, LANÇAMENTO E ADENSAMENTO","m³",1.94,424.53,529.26155099999994,823.59,1026.77,"83534","SINAPI"]
["LASTRO DE CONCRETO, PREPARO MECÂNICO, INCLUSOS ADITIVO IMPERMEABILIZANTE, LANÇAMENTO E ADENSAMENTO","m³",5.3420750000000004,424.53,529.26155099999994,2267.87,2827.35,"83534","SINAPI"]
["LASTRO DE CONCRETO, PREPARO MECÂNICO, INCLUSOS ADITIVO IMPERMEABILIZANTE, LANÇAMENTO E ADENSAMENTO","m³",3.31,424.53,529.26155099999994,1405.19,1751.86,"83534","SINAPI"]
["LASTRO DE CONCRETO, PREPARO MECÂNICO, INCLUSOS ADITIVO IMPERMEABILIZANTE, LANÇAMENTO E ADENSAMENTO","m³",5.35,424.53,529.26155099999994,2271.2399999999998,2831.55,"83534","SINAPI"]
["LASTRO DE CONCRETO, PREPARO MECÂNICO, INCLUSOS ADITIVO IMPERMEABILIZANTE, LANÇAMENTO E ADENSAMENTO","m³",5.22,424.53,529.26155099999994,2216.0500000000002,2762.75,"83534","SINAPI"]
["LASTRO DE CONCRETO, PREPARO MECÂNICO, INCLUSOS ADITIVO IMPERMEABILIZANTE, LANÇAMENTO E ADENSAMENTO","m³",5.3420750000000004,424.53,529.26155099999994,{"$f":"ROUND(C370*D370,2)","v":2267.87},2827.35,"83534","SINAPI"]
["LASTRO DE CONCRETO, PREPARO MECÂNICO, INCLUSOS ADITIVO IMPERMEABILIZANTE, LANÇAMENTO E ADENSAMENTO","m³",1.1200000000000001,424.53,529.26155099999994,475.47,592.77,"83534","SINAPI"]
["LASTRO DE CONCRETO, PREPARO MECÂNICO, INCLUSOS ADITIVO IMPERMEABILIZANTE, LANÇAMENTO E ADENSAMENTO","m³",null,424.53,529.26155099999994,0,0,"83534","SINAPI"]
["LASTRO DE CONCRETO, PREPARO MECÂNICO, INCLUSOS ADITIVO IMPERMEABILIZANTE, LANÇAMENTO E ADENSAMENTO","m³",2.8079999999999998,424.53,529.26155099999994,1192.08,1486.17,"83534","SINAPI"]
["LASTRO DE CONCRETO, PREPARO MECÂNICO, INCLUSOS ADITIVO IMPERMEABILIZANTE, LANÇAMENTO E ADENSAMENTO","m³",null,424.53,529.26155099999994,0,0,"83534","SINAPI"]
["LASTRO DE CONCRETO, PREPARO MECÂNICO, INCLUSOS ADITIVO IMPERMEABILIZANTE, LANÇAMENTO E ADENSAMENTO","m³",3.85,424.53,529.26155099999994,1634.44,2037.66,"83534","SINAPI"]
["LASTRO DE CONCRETO, PREPARO MECÂNICO, INCLUSOS ADITIVO IMPERMEABILIZANTE, LANÇAMENTO E ADENSAMENTO","m³",9.31,424.53,529.26155099999994,3952.37,4927.43,"83534","SINAPI"]
["LASTRO DE CONCRETO, PREPARO MECÂNICO, INCLUSOS ADITIVO IMPERMEABILIZANTE, LANÇAMENTO E ADENSAMENTO","m³",3.04,424.53,529.26155099999994,1290.57,1608.96,"83534","SINAPI"]
["LASTRO DE CONCRETO, PREPARO MECÂNICO, INCLUSOS ADITIVO IMPERMEABILIZANTE, LANÇAMENTO E ADENSAMENTO","m³",6.12,424.53,529.26155099999994,2598.12,3239.08,"83534","SINAPI"]
["LASTRO DE CONCRETO, PREPARO MECÂNICO, INCLUSOS ADITIVO IMPERMEABILIZANTE, LANÇAMENTO E ADENSAMENTO","m³",2.87,424.53,529.26155099999994,1218.4000000000001,1518.98,"83534","SINAPI"]
["LASTRO DE CONCRETO, PREPARO MECÂNICO, INCLUSOS ADITIVO IMPERMEABILIZANTE, LANÇAMENTO E ADENSAMENTO","m³",9.2530000000000001,424.53,529.26155099999994,3928.18,4897.26,"83534","SINAPI"]
["LASTRO DE CONCRETO, PREPARO MECÂNICO, INCLUSOS ADITIVO IMPERMEABILIZANTE, LANÇAMENTO E ADENSAMENTO","m³",16.14,424.53,529.26155099999994,6851.91,8542.2800000000007,"83534","SINAPI"]
["LASTRO DE CONCRETO, PREPARO MECÂNICO, INCLUSOS ADITIVO IMPERMEABILIZANTE, LANÇAMENTO E ADENSAMENTO","m³",10.129999999999999,424.53,529.26155099999994,4300.49,5361.42,"83534","SINAPI"]
["LIMPEZA MECANIZADA DE CAMADA VEGETAL, VEGETAÇÃO E PEQUENAS ÁRVORES (DIÂMETRO DE TRONCO MENOR QUE 0,20 M), COM TRATOR DE ESTEIRAS","m²",5600.0000000000009,0.26,0.32414199999999999,1456,1815.2,98525,"SINAPI"]
["LIMPEZA MECANIZADA DE CAMADA VEGETAL, VEGETAÇÃO E PEQUENAS ÁRVORES (DIÂMETRO DE TRONCO MENOR QUE 0,20 M), COM TRATOR DE ESTEIRAS","m²",3600,0.26,0.32414199999999999,936,1166.9100000000001,98525,"SINAPI"]
["LIMPEZA MECANIZADA DE CAMADA VEGETAL, VEGETAÇÃO E PEQUENAS ÁRVORES (DIÂMETRO DE TRONCO MENOR QUE 0,20 M), COM TRATOR DE ESTEIRAS","m²",3900,0.26,0.32414199999999999,1014,1264.1500000000001,98525,"SINAPI"]
["LIMPEZA MECANIZADA DE CAMADA VEGETAL, VEGETAÇÃO E PEQUENAS ÁRVORES (DIÂMETRO DE TRONCO MENOR QUE 0,20 M), COM TRATOR DE ESTEIRAS","m²",3400.0000000000005,0.26,0.32414199999999999,884,1102.08,98525,"SINAPI"]
["LIMPEZA MECANIZADA DE CAMADA VEGETAL, VEGETAÇÃO E PEQUENAS ÁRVORES (DIÂMETRO DE TRONCO MENOR QUE 0,20 M), COM TRATOR DE ESTEIRAS","m²",5300,0.26,0.32414199999999999,1378,1717.95,98525,"SINAPI"]
["LIMPEZA MECANIZADA DE TERRENO COM REMOCAO DE CAMADA VEGETAL, UTILIZANDO MOTONIVELADORA","m²",275980.02,0.26,0.32414199999999999,71754.81,89456.72,98525,"SINAPI"]
["LIMPEZA MECANIZADA DE TERRENO COM REMOCAO DE CAMADA VEGETAL, UTILIZANDO MOTONIVELADORA","m²",3640,0.26,0.32414199999999999,946.4,1179.8800000000001,98525,"SINAPI"]
["LIMPEZA MECANIZADA DE TERRENO COM REMOCAO DE CAMADA VEGETAL, UTILIZANDO MOTONIVELADORA","m²",28000,0.26,0.32414199999999999,7280,9075.98,98525,"SINAPI"]
["LIMPEZA MECANIZADA DE TERRENO COM REMOCAO DE CAMADA VEGETAL, UTILIZANDO MOTONIVELADORA","m²",37800,0.26,0.32414199999999999,9828,12252.57,98525,"SINAPI"]
["LIMPEZA MECANIZADA DE TERRENO COM REMOCAO DE CAMADA VEGETAL, UTILIZANDO MOTONIVELADORA (ESTRADA NOVA)","m²",58181.72,0.26,0.32414199999999999,15127.25,18859.14,98525,"SINAPI"]
["LIMPEZA MECANIZADA DE TERRENO COM REMOCAO DE CAMADA VEGETAL, UTILIZANDO MOTONIVELADORA (JAZIDA)","m²",3000,0.26,0.32414199999999999,780,972.43,98525,"SINAPI"]
["LINHAS DE RESINA ACRILICA 0,6MM DE ESPESSURA E LARGURA = 0,10M (EXECUÇÃO, INCLUSIVE PRÉ-MARCAÇÃO, FORNECIMENTO E TRANSPORTE DE TODOS OS MATERIAIS) - LINHAS AMARELAS","m²",120,1.73,{"$f":"D394*(1+$G$5)","v":2.1567909999999997},207.6,{"$f":"ROUND(C394*E394,2)","v":258.81},"RO-41237               OBR-VIA-245","DEER/MG"]
["LINHAS DE RESINA ACRILICA 0,6MM DE ESPESSURA E LARGURA = 0,10M (EXECUÇÃO, INCLUSIVE PRÉ-MARCAÇÃO, FORNECIMENTO E TRANSPORTE DE TODOS OS MATERIAIS) - LINHAS AMARELAS","m²",80,1.73,2.1567909999999997,138.4,172.54,"RO-41237               OBR-VIA-245","DEER/MG"]
["LINHAS DE RESINA ACRILICA 0,6MM DE ESPESSURA E LARGURA = 0,10M (EXECUÇÃO, INCLUSIVE PRÉ-MARCAÇÃO, FORNECIMENTO E TRANSPORTE DE TODOS OS MATERIAIS) - LINHAS AMARELAS","m²",139.5,1.73,2.1567909999999997,241.34,300.87,"RO-41237               OBR-VIA-245","DEER/MG"]
["LINHAS DE RESINA ACRILICA 0,6MM DE ESPESSURA E LARGURA = 0,10M (EXECUÇÃO, INCLUSIVE PRÉ-MARCAÇÃO, FORNECIMENTO E TRANSPORTE DE TODOS OS MATERIAIS) - LINHAS AMARELAS","m²",80,1.73,2.1567909999999997,138.4,172.54,"RO-41237               OBR-VIA-245","DEER/MG"]
["LINHAS DE RESINA ACRILICA 0,6MM DE ESPESSURA E LARGURA = 0,10M (EXECUÇÃO, INCLUSIVE PRÉ-MARCAÇÃO, FORNECIMENTO E TRANSPORTE DE TODOS OS MATERIAIS) - LINHAS AMARELAS","m²",80,1.73,2.1567909999999997,138.4,172.54,"RO-41237               OBR-VIA-245","DEER/MG"]
["LINHAS DE RESINA ACRILICA 0,6MM DE ESPESSURA E LARGURA = 0,10M (EXECUÇÃO, INCLUSIVE PRÉ-MARCAÇÃO, FORNECIMENTO E TRANSPORTE DE TODOS OS MATERIAIS) - LINHAS BRANCAS","m²",59.99,1.73,2.1567909999999997,103.78,129.38999999999999,"RO-41237               OBR-VIA-245","DEER/MG"]
["LINHAS DE RESINA ACRILICA 0,6MM DE ESPESSURA E LARGURA = 0,10M (EXECUÇÃO, INCLUSIVE PRÉ-MARCAÇÃO, FORNECIMENTO E TRANSPORTE DE TODOS OS MATERIAIS) - LINHAS BRANCAS","m²",40,1.73,2.1567909999999997,69.2,86.27,"RO-41237               OBR-VIA-245","DEER/MG"]
["LINHAS DE RESINA ACRILICA 0,6MM DE ESPESSURA E LARGURA = 0,10M (EXECUÇÃO, INCLUSIVE PRÉ-MARCAÇÃO, FORNECIMENTO E TRANSPORTE DE TODOS OS MATERIAIS) - LINHAS BRANCAS","m²",344,1.73,2.1567909999999997,595.12,741.94,"RO-41237               OBR-VIA-245","DEER/MG"]
["LINHAS DE RESINA ACRILICA 0,6MM DE ESPESSURA E LARGURA = 0,10M (EXECUÇÃO, INCLUSIVE PRÉ-MARCAÇÃO, FORNECIMENTO E TRANSPORTE DE TODOS OS MATERIAIS) - LINHAS BRANCAS","m²",80,1.73,2.1567909999999997,138.4,172.54,"RO-41237               OBR-VIA-245","DEER/MG"]
["LINHAS DE RESINA ACRILICA 0,6MM DE ESPESSURA E LARGURA = 0,10M (EXECUÇÃO, INCLUSIVE PRÉ-MARCAÇÃO, FORNECIMENTO E TRANSPORTE DE TODOS OS MATERIAIS) - LINHAS BRANCAS","m²",80,1.73,2.1567909999999997,138.4,172.54,"RO-41237               OBR-VIA-245","DEER/MG"]
["LOCAÇÃO DE PAVIMENTAÇÃO. AF_10/2018","m",2220,0.57999999999999996,0.7230859999999999,1287.5999999999999,1605.25,"99064","SINAPI"]
["MOBILIZAÇÃO DE PESSOAL E EQUIPAMENTOS","unid",1,13157.8,16403.829259999999,13157.8,16403.830000000002,"C2","CPU"]
["MOBILIZAÇÃO/DESMOBILIZAÇÃO DE EQUIPAMENTOS ESPECIAIS (VIBROACABADORA, ESCAVADEIRA HIDRÁULICA, ROLO COMPACTADOR, MOTONIVELADORA, ETC.)","EQUIP.",12,1985.5919999999999,2475.4375463999995,{"$f":"SUM(C406*D406,2)","v":23829.103999999999},29705.25,"C10","CPU"]
["MOBILIZAÇÃO/DESMOBILIZAÇÃO DE EQUIPAMENTOS ESPECIAIS (VIBROACABADORA, ESCAVADEIRA HIDRÁULICA, ROLO COMPACTADOR, MOTONIVELADORA, ETC.)","EQUIP.",12,1985.5919999999999,2475.4375463999995,{"$f":"ROUND(C407*D407,2)","v":23827.1},29705.25,"C10","CPU"]
["MONTAGEM DAS ESTRUTURAS PRÉ-MOLDADAS (LAJES E LONGARINAS)","m³",138.68,197.607888,246.3577539696,27404.26,34164.89,"C3","CPU"]
["MONTAGEM DAS ESTRUTURAS PRÉ-MOLDADAS (LAJES E LONGARINAS)","m³",66.069999999999993,197.607888,246.3577539696,13055.95,16276.86,"C3"]
["MURO DE ESCAMA DE CONCRETO ARMADO EM SOLO REFORÇADO COM FITA METÁLICA COM ALTURA ATÉ 4 M - TIPO 1 - AREIA E BRITA COMERCIAIS","m²",3915.7,348.62,434.62455399999999,1365091.33,1701859.37,5406023,"(DNIT/MG)"]
["MURO DE ESCAMA DE CONCRETO ARMADO EM SOLO REFORÇADO COM FITA METÁLICA COM ALTURA DE 4 A 6M - TIPO 1 - AREIA E BRITA COMERCIAIS","m²",1313.24,322.25,401.74907499999995,423191.59,527592.95999999996,5406025,"(DNIT/MG)"]
["MURO DE ESCAMA DE CONCRETO ARMADO EM SOLO REFORÇADO COM FITA METÁLICA COM ALTURA DE 6 A 8M - TIPO 1 - AREIA E BRITA COMERCIAIS","m²",716.59,317.22000000000003,395.47817400000002,227316.68,283395.7,5406027,"(DNIT/MG)"]
["MURO DE ESCAMA DE CONCRETO ARMADO EM SOLO REFORÇADO COM FITA METÁLICA COM ALTURA DE 6 A 8M - TIPO 1 - AREIA E BRITA COMERCIAIS","m²",null,317.22000000000003,395.47817400000002,0,0,5406027,"DNIT/MG"]
["MURO DE ESCAMA DE CONCRETO ARMADO EM SOLO REFORÇADO COM FITA METÁLICA COM ALTURA DE 6 A 8M - TIPO 1 - AREIA E BRITA COMERCIAIS","m²",null,317.22000000000003,395.47817400000002,0,0,5406027,"(DNIT/MG)"]
["MURO DE ESCAMA DE CONCRETO ARMADO EM SOLO REFORÇADO COM FITA METÁLICA COM ALTURA DE 8 A 10M - TIPO 1 - AREIA E BRITA COMERCIAIS","m²",198.44,314.43,391.99988099999996,62395.49,77788.460000000006,5406029,"(DNIT/MG)"]
["MURO DE ESCAMA DE CONCRETO ARMADO EM SOLO REFORÇADO COM FITA METÁLICA COM ALTURA DE 8 A 10M - TIPO 1 - AREIA E BRITA COMERCIAIS","m²",null,314.43,391.99988099999996,0,0,5406029,"DNIT/MG"]
["MURO DE ESCAMA DE CONCRETO ARMADO EM SOLO REFORÇADO COM FITA METÁLICA COM ALTURA DE 8 A 10M - TIPO 1 - AREIA E BRITA COMERCIAIS","m²",null,314.43,391.99988099999996,0,0,5406029,"(DNIT/MG)"]
["MURO DE GABIÃO, ENCHIMENTO COM PEDRA DE MÃO TIPO RACHÃO, DE GRAVIDADE, COM GAIOLAS DE COMPRIMENTO MENOR OU IGUAL A 2 M","m³",144,434.78,542.04022599999996,62608.32,78053.789999999994,"92743","SINAPI"]
["MURO DE GABIÃO, ENCHIMENTO COM PEDRA DE MÃO TIPO RACHÃO, DE GRAVIDADE, COM GAIOLAS DE COMPRIMENTO MENOR OU IGUAL A 2 M","m³",72,434.78,542.04022599999996,31304.16,39026.9,"92743","SINAPI"]
["PAVIMENTO RÍGIDO DE CONCRETO, ESPESSURA DE 12CM, COM AGENTE DE CURA E TELA SOLDADA","m²",295.25,56.77,70.775159000000002,16761.34,20896.37,4011520,"DNIT/MG"]
["PAVIMENTO RÍGIDO DE CONCRETO, ESPESSURA DE 12CM, COM AGENTE DE CURA E TELA SOLDADA","m²",111.16666666666667,56.77,70.775159000000002,6310.93,7867.84,4011520,"DNIT/MG"]
["PINTURA DE LIGACAO COM EMULSAO RR-1C","m²",2919.04,1.65,2.0570549999999996,4816.42,6004.63,"72942","SINAPI"]
["PINTURA DE LIGACAO COM EMULSAO RR-1C","m²",1924.22,1.65,2.0570549999999996,3174.96,3958.23,"72942","SINAPI"]
["PINTURA DE LIGACAO COM EMULSAO RR-1C","m²",16941.740000000002,1.65,2.0570549999999996,27953.87,34850.089999999997,"72942","SINAPI"]
["PINTURA DE LIGACAO COM EMULSAO RR-1C","m²",null,1.65,2.0570549999999996,0,0,"72942","SINAPI"]
["PINTURA DE LIGACAO COM EMULSAO RR-1C","m²",null,1.65,2.0570549999999996,0,0,"72942","SINAPI"]
["PLACA DE AÇO CARBONO COM PELÍCULA REFLETIVA GRAU TÉCNICO TIPO I DA ABNT - PLACA CIRCULAR (EXECUÇÃO, INCLUINDO FORNECIMENTO E TRANSPORTE DE TODOS OS MATERIAIS, INCLUSIVE POSTE DE SUSTENTAÇÃO)","m²",0.78,341.61,425.88518699999997,266.45999999999998,332.19,"RO-41841","DEER/MG"]
["PLACA DE AÇO CARBONO COM PELÍCULA REFLETIVA GRAU TÉCNICO TIPO I DA ABNT - PLACA CIRCULAR (EXECUÇÃO, INCLUINDO FORNECIMENTO E TRANSPORTE DE TODOS OS MATERIAIS, INCLUSIVE POSTE DE SUSTENTAÇÃO)","m²",0.39,341.61,425.88518699999997,133.22999999999999,166.1,"RO-41841","DEER/MG"]
["PLACA DE AÇO CARBONO COM PELÍCULA REFLETIVA GRAU TÉCNICO TIPO I DA ABNT - PLACA CIRCULAR (EXECUÇÃO, INCLUINDO FORNECIMENTO E TRANSPORTE DE TODOS OS MATERIAIS, INCLUSIVE POSTE DE SUSTENTAÇÃO)","m²",0.78,341.61,425.88518699999997,266.45999999999998,332.19,"RO-41841","DEER/MG"]
["PLACA DE AÇO CARBONO COM PELÍCULA REFLETIVA GRAU TÉCNICO TIPO I DA ABNT - PLACA CIRCULAR (EXECUÇÃO, INCLUINDO FORNECIMENTO E TRANSPORTE DE TODOS OS MATERIAIS, INCLUSIVE POSTE DE SUSTENTAÇÃO)","m²",0.39,341.61,425.88518699999997,133.22999999999999,166.1,"RO-41841","DEER/MG"]
["PLACA DE AÇO CARBONO COM PELÍCULA REFLETIVA GRAU TÉCNICO TIPO I DA ABNT - PLACA CIRCULAR (EXECUÇÃO, INCLUINDO FORNECIMENTO E TRANSPORTE DE TODOS OS MATERIAIS, INCLUSIVE POSTE DE SUSTENTAÇÃO)","m²",1.57,341.61,425.88518699999997,536.33000000000004,668.64,"RO-41841","DEER/MG"]
["PLACA DE AÇO CARBONO COM PELÍCULA REFLETIVA GRAU TÉCNICO TIPO I DA ABNT - PLACA CIRCULAR (EXECUÇÃO, INCLUINDO FORNECIMENTO E TRANSPORTE DE TODOS OS MATERIAIS, INCLUSIVE POSTE DE SUSTENTAÇÃO)","m²",1.18,341.61,425.88518699999997,403.1,502.54,"RO-41841","DEER/MG"]
["PLACA DE AÇO CARBONO COM PELÍCULA REFLETIVA GRAU TÉCNICO TIPO I DA ABNT - PLACA CIRCULAR (EXECUÇÃO, INCLUINDO FORNECIMENTO E TRANSPORTE DE TODOS OS MATERIAIS, INCLUSIVE POSTE DE SUSTENTAÇÃO)","m²",0.78,341.61,425.88518699999997,266.45999999999998,332.19,"RO-41841","DEER/MG"]
["PLACA DE AÇO CARBONO COM PELÍCULA REFLETIVA GRAU TÉCNICO TIPO I DA ABNT - PLACA CIRCULAR (EXECUÇÃO, INCLUINDO FORNECIMENTO E TRANSPORTE DE TODOS OS MATERIAIS, INCLUSIVE POSTE DE SUSTENTAÇÃO)","m²",2.6,341.61,425.88518699999997,888.19,1107.3,"RO-41841","DEER/MG"]
["PLACA DE AÇO CARBONO COM PELÍCULA REFLETIVA GRAU TÉCNICO TIPO I DA ABNT - PLACA CIRCULAR (EXECUÇÃO, INCLUINDO FORNECIMENTO E TRANSPORTE DE TODOS OS MATERIAIS, INCLUSIVE POSTE DE SUSTENTAÇÃO)","m²",0.78,341.61,425.88518699999997,266.45999999999998,332.19,"RO-41841","DEER/MG"]
["PLACA DE AÇO CARBONO COM PELÍCULA REFLETIVA GRAU TÉCNICO TIPO I DA ABNT - PLACA CIRCULAR (EXECUÇÃO, INCLUINDO FORNECIMENTO E TRANSPORTE DE TODOS OS MATERIAIS, INCLUSIVE POSTE DE SUSTENTAÇÃO)","m²",2.6,341.61,425.88518699999997,888.19,1107.3,"RO-41841","DEER/MG"]
["PLACA DE AÇO CARBONO COM PELÍCULA REFLETIVA GRAU TÉCNICO TIPO I DA ABNT - PLACA QUADRADA (EXECUÇÃO, INCLUINDO FORNECIMENTO E TRANSPORTE DE TODOS OS MATERIAIS, INCLUSIVE POSTE DE SUSTENTAÇÃO)","m²",15.89,331.13,412.81977099999995,5261.66,6559.71,"RO-41844","DEER/MG"]
["PLACA DE AÇO CARBONO COM PELÍCULA REFLETIVA GRAU TÉCNICO TIPO I DA ABNT - PLACA QUADRADA (EXECUÇÃO, INCLUINDO FORNECIMENTO E TRANSPORTE DE TODOS OS MATERIAIS, INCLUSIVE POSTE DE SUSTENTAÇÃO)","m²",1,331.13,412.81977099999995,331.13,412.82,"RO-41844","DEER/MG"]
["PLACA DE AÇO CARBONO COM PELÍCULA REFLETIVA GRAU TÉCNICO TIPO I DA ABNT - PLACA QUADRADA (EXECUÇÃO, INCLUINDO FORNECIMENTO E TRANSPORTE DE TODOS OS MATERIAIS, INCLUSIVE POSTE DE SUSTENTAÇÃO)","m²",15.89,331.13,412.81977099999995,5261.66,6559.71,"RO-41844","DEER/MG"]
["PLACA DE AÇO CARBONO COM PELÍCULA REFLETIVA GRAU TÉCNICO TIPO I DA ABNT - PLACA QUADRADA (EXECUÇÃO, INCLUINDO FORNECIMENTO E TRANSPORTE DE TODOS OS MATERIAIS, INCLUSIVE POSTE DE SUSTENTAÇÃO)","m²",1,331.13,412.81977099999995,331.13,412.82,"RO-41844","DEER/MG"]
["PLACA DE AÇO CARBONO COM PELÍCULA REFLETIVA GRAU TÉCNICO TIPO I DA ABNT - PLACA QUADRADA (EXECUÇÃO, INCLUINDO FORNECIMENTO E TRANSPORTE DE TODOS OS MATERIAIS, INCLUSIVE POSTE DE SUSTENTAÇÃO)","m²",26.88,331.13,412.81977099999995,8900.77,11096.6,"RO-41844","DEER/MG"]
["PLACA DE AÇO CARBONO COM PELÍCULA REFLETIVA GRAU TÉCNICO TIPO I DA ABNT - PLACA QUADRADA (EXECUÇÃO, INCLUINDO FORNECIMENTO E TRANSPORTE DE TODOS OS MATERIAIS, INCLUSIVE POSTE DE SUSTENTAÇÃO)","m²",1,331.13,412.81977099999995,331.13,412.82,"RO-41844","DEER/MG"]
["PLACA DE AÇO CARBONO COM PELÍCULA REFLETIVA GRAU TÉCNICO TIPO I DA ABNT - PLACA QUADRADA (EXECUÇÃO, INCLUINDO FORNECIMENTO E TRANSPORTE DE TODOS OS MATERIAIS, INCLUSIVE POSTE DE SUSTENTAÇÃO)","m²",15.89,331.13,412.81977099999995,5261.66,6559.71,"RO-41844","DEER/MG"]
["PLACA DE AÇO CARBONO COM PELÍCULA REFLETIVA GRAU TÉCNICO TIPO I DA ABNT - PLACA QUADRADA (EXECUÇÃO, INCLUINDO FORNECIMENTO E TRANSPORTE DE TODOS OS MATERIAIS, INCLUSIVE POSTE DE SUSTENTAÇÃO)","m²",2.6,331.13,412.81977099999995,860.94,1073.33,"RO-41844","DEER/MG"]
["PLACA DE AÇO CARBONO COM PELÍCULA REFLETIVA GRAU TÉCNICO TIPO I DA ABNT - PLACA QUADRADA (EXECUÇÃO, INCLUINDO FORNECIMENTO E TRANSPORTE DE TODOS OS MATERIAIS, INCLUSIVE POSTE DE SUSTENTAÇÃO)","m²",15.89,331.13,412.81977099999995,5261.66,6559.71,"RO-41844","DEER/MG"]
["PLACA DE AÇO CARBONO COM PELÍCULA REFLETIVA GRAU TÉCNICO TIPO I DA ABNT - PLACA QUADRADA (EXECUÇÃO, INCLUINDO FORNECIMENTO E TRANSPORTE DE TODOS OS MATERIAIS, INCLUSIVE POSTE DE SUSTENTAÇÃO)","m²",2.6,331.13,412.81977099999995,860.94,1073.33,"RO-41844","DEER/MG"]
["PLACA DE OBRA EM CHAPA DE ACO GALVANIZADO","m²",36,306.88,382.58729599999998,11047.68,13773.14,"74209/001","SINAPI"]
["PROTEÇÃO DE TALUDE REVESTIMENTO VEGETAL","m²",3360,18.3142,22.832313139999997,61535.71,76716.570000000007,"C4","CPU"]
["PROTEÇÃO DE TALUDE REVESTIMENTO VEGETAL","m²",99200,18.3142,22.832313139999997,1816768.64,2264965.46,"C4","CPU"]
["PROTEÇÃO DE TALUDE REVESTIMENTO VEGETAL","m²",2080,18.3142,22.832313139999997,38093.54,47491.21,"C4","CPU"]
["PROTEÇÃO DE TALUDE REVESTIMENTO VEGETAL","m²",11200,18.3142,22.832313139999997,205119.04,255721.91,"C4","CPU"]
["PROTEÇÃO DE TALUDE REVESTIMENTO VEGETAL","m²",21600,18.3142,22.832313139999997,395586.72,493177.96,"C4","CPU"]
["PROTEÇÃO SUPERFICIAL DE CANAL EM GABIÃO TIPO COLCHÃO, ALTURA DE 17 CENTÍMETROS, ENCHIMENTO COM PEDRA DE MÃO TIPO RACHÃO - FORNECIMENTO E EXECUÇÃO","m²",1584,152.38999999999999,189.98461299999997,241385.76,300935.63,"92755","SINAPI"]
["PROTEÇÃO SUPERFICIAL DE CANAL EM GABIÃO TIPO COLCHÃO, ALTURA DE 17 CENTÍMETROS, ENCHIMENTO COM PEDRA DE MÃO TIPO RACHÃO - FORNECIMENTO E EXECUÇÃO","m²",769.76470588235293,152.38999999999999,189.98461299999997,117304.44,146243.45000000001,"92755","SINAPI"]
["PROTEÇÃO SUPERFICIAL DE CANAL EM GABIÃO TIPO COLCHÃO, ALTURA DE 30 CENTÍMETROS, ENCHIMENTO COM PEDRA DE MÃO TIPO RACHÃO - FORNECIMENTO E EXECUÇÃO","m²",1281.3499999999999,200.7,250.21268999999998,257166.95,320610.03000000003,"92757","SINAPI"]
["REATERRO MANUAL DE VALAS COM COMPACTAÇÃO MECANIZADA. AF_04/2016","m³",17.600000000000001,24.04,29.970667999999996,423.1,527.48,"93382","SINAPI"]
["REATERRO MANUAL DE VALAS COM COMPACTAÇÃO MECANIZADA. AF_04/2016","m³",50.54399999999999,24.04,29.970667999999996,1215.08,1514.84,"93382","SINAPI"]
["REATERRO MANUAL DE VALAS COM COMPACTAÇÃO MECANIZADA. AF_04/2016","m³",699.08,24.04,{"$f":"D458*(1+$G$5)","v":29.970667999999996},16805.88,{"$f":"ROUND(C458*E458,2)","v":20951.89},"93382","SINAPI"]
["REATERRO MANUAL DE VALAS COM COMPACTAÇÃO MECANIZADA. AF_04/2016","m³",810.16,24.04,29.970667999999996,19476.25,24281.040000000001,"93382","SINAPI"]
["REATERRO MANUAL DE VALAS COM COMPACTAÇÃO MECANIZADA. AF_04/2016","m³",1084.03,24.04,29.970667999999996,26060.080000000002,32489.1,"93382","SINAPI"]
["REATERRO MANUAL DE VALAS COM COMPACTAÇÃO MECANIZADA. AF_04/2016","m³",24.02,24.04,29.970667999999996,577.44000000000005,719.9,"93382","SINAPI"]
["RECOMPOSIÇÃO DE ÁREA EXPLORADA DE JAZIDA / EMPRESTIMO","m²",6530.77,2.4826000000000001,3.0950574199999998,16213.29,20213.11,"C8","CPU"]
["RECOMPOSIÇÃO DE ÁREA EXPLORADA DE JAZIDA / EMPRESTIMO","m²",5147.97,2.4826000000000001,3.0950574199999998,12780.35,15933.26,"C8","CPU"]
["RECOMPOSIÇÃO DE ÁREA EXPLORADA DE JAZIDA / EMPRESTIMO","m²",12168.84,2.4826000000000001,3.0950574199999998,30210.36,37663.26,"C8"]
["REMOÇÃO DE CERCA DE ARAME LISO (4 FIOS), MOURÃO DE MADEIRA TRATADA","m",180,6.6436912599999998,8.2826898938419991,1195.8599999999999,1490.88,"C5","CPU","ACERTAR DESCRIÇÃO (PADRONIZAR)",null,null,"OK"]
["REMOÇÃO DE CERCAS","m",4400.84,6.64,8.2780879999999986,29221.58,36430.54,"RO-41291","DEER/MG",null,null,null,"OK"]
["REMOÇÃO E CONSTRUÇÃO DE NOVA CERCA DE ARAME LISO (4 FIOS), MOURÃO DE MADEIRA TRATADA","m",520,6.6436912599999998,8.2826898938419991,3454.72,4307,"C5","CPU"]
["REMOÇÃO E RELOCAÇÃO DE CERCA DE ARAME FARPADO (4 FIOS), MOURÃO DE MADEIRA TRATADA","m",560,6.6436912599999998,8.2826898938419991,3720.47,4638.3100000000004,"C5","CPU"]
["REMOÇÃO E RELOCAÇÃO DE CERCA DE ARAME FARPADO (4 FIOS), MOURÃO DE MADEIRA TRATADA","m³",760,6.6436912599999998,8.2826898938419991,5049.21,6294.84,"C5"]
["SARJETA DE CONCRETO EM ATERRO,TIPO DR.SCA- X/Y. LARGURA=60CM TIPO 30/10 (EXECUÇÃO, INCLUINDO ESCAVAÇÃO, FORNECIMENTO, TRANSPORTE E PLANTIO DA GRAMA)","m",560,29.3,36.528309999999998,16408,20455.849999999999,"RO-40613","DEER/MG"]
["SARJETA DE CONCRETO EM ATERRO,TIPO DR.SCA- X/Y. LARGURA=60CM TIPO 30/10 (EXECUÇÃO, INCLUINDO ESCAVAÇÃO, FORNECIMENTO, TRANSPORTE E PLANTIO DA GRAMA)","m",640,29.3,36.528309999999998,{"$f":"ROUND(C471*D471,2)","v":18752},23378.12,"RO-40613","DEER/MG"]
["SARJETA DE CONCRETO EM ATERRO,TIPO DR.SCA- X/Y. LARGURA=60CM TIPO 30/10 (EXECUÇÃO, INCLUINDO ESCAVAÇÃO, FORNECIMENTO, TRANSPORTE E PLANTIO DA GRAMA)","m",309,29.3,36.528309999999998,9053.7000000000007,11287.25,"RO-40613","DEER/MG"]
["SARJETA DE CONCRETO EM ATERRO,TIPO DR.SCA- X/Y. LARGURA=60CM TIPO 30/10 (EXECUÇÃO, INCLUINDO ESCAVAÇÃO, FORNECIMENTO, TRANSPORTE E PLANTIO DA GRAMA)","m",64,29.3,36.528309999999998,1875.2,2337.81,"RO-40613","DEER/MG"]
["SARJETA DE CONCRETO EM ATERRO,TIPO DR.SCA- X/Y. LARGURA=60CM TIPO 30/10 (EXECUÇÃO, INCLUINDO ESCAVAÇÃO, FORNECIMENTO, TRANSPORTE E PLANTIO DA GRAMA)","m",2725,29.3,36.528309999999998,79842.5,99539.64,"RO-40613","DEER/MG"]
["SARJETA DE CONCRETO EM CORTE TIPO DR.SCC-X/Y. LARGURA=90CM TIPO 80/10 (EXECUÇÃO, INCLUINDO ESCAVAÇÃO, FORNECIMENTO E TRANSPORTE DE TODOS OS MATERIAIS)","m",169,45.05,56.163834999999992,7613.45,9491.69,"RO-40661","DEER/MG"]
["SARJETA DE CONCRETO EM CORTE TIPO DR.SCC-X/Y. LARGURA=90CM TIPO80/10 (EXECUÇÃO, INCLUINDOESCAVAÇÃO, FORNECIMENTO E TRANSPORTE DE TODOS OS MATERIAIS)","m",40,45.05,56.163834999999992,1802,2246.5500000000002,"RO-40661","DEER/MG"]
["SARJETA DE CONCRETO EM CORTE TIPO DR.SCC-X/Y. LARGURA=90CM TIPO80/10 (EXECUÇÃO, INCLUINDOESCAVAÇÃO, FORNECIMENTO E TRANSPORTE DE TODOS OS MATERIAIS)","m",40,45.05,56.163834999999992,1802,2246.5500000000002,"RO-40661","DEER/MG"]
["SARJETA DE CONCRETO EM CORTE TIPO DR.SCC-X/Y. LARGURA=90CM TIPO80/10 (EXECUÇÃO, INCLUINDOESCAVAÇÃO, FORNECIMENTO E TRANSPORTE DE TODOS OS MATERIAIS)","m",228,45.05,56.163834999999992,10271.4,12805.35,"RO-40661","DEER/MG"]
["SARJETA DE CONCRETO EM CORTE TIPO DR.SCC-X/Y. LARGURA=90CM TIPO80/10 (EXECUÇÃO, INCLUINDOESCAVAÇÃO, FORNECIMENTO E TRANSPORTE DE TODOS OS MATERIAIS)","m",396,45.05,56.163834999999992,17839.8,22240.880000000001,"RO-40661","DEER/MG"]
["SINALIZAÇÃO COM FITA FIXADA NA ESTRUTURA. AF_11/2017","m",3000,0.5,0.62334999999999996,1500,1870.05,97051,"SINAPI"]
["SINALIZAÇÃO COM FITA FIXADA NA ESTRUTURA. AF_11/2017","m",3000,0.5,0.62334999999999996,1500,1870.05,97051,"SINAPI"]
["SINALIZAÇÃO COM FITA FIXADA NA ESTRUTURA. AF_11/2017","m",6000,0.5,0.62334999999999996,3000,3740.1,97051,"SINAPI"]
["SINALIZAÇÃO COM FITA FIXADA NA ESTRUTURA. AF_11/2017","m",3000,0.5,0.62334999999999996,1500,1870.05,97051,"SINAPI"]
["SINALIZAÇÃO COM FITA FIXADA NA ESTRUTURA. AF_11/2017","m",3000,0.5,0.62334999999999996,1500,1870.05,97051,"SINAPI"]
["SOLO CIMENTO PARA ANCORAGEM, (6% DE CIMENTO NA MISTURA EM PESO, RESISTÊNCIA A COMPRESSÃO SIMPLES 20kgf/cm²)","m³",34,62.66,78.118221999999989,2130.44,2656.02,"96391","SINAPI"]
["SOLO CIMENTO PARA ANCORAGEM, (6% DE CIMENTO NA MISTURA EM PESO, RESISTÊNCIA A COMPRESSÃO SIMPLES 20kgf/cm²)","m³",15.26,62.66,78.118221999999989,956.19,1192.08,"96391","SINAPI"]
["SUB-BASE, SEM MISTURA, COMPACTADA NA ENERGIA DO PROCTOR INTERMEDIÁRIO (EXECUÇÃO, INCLUINDO ESCAVAÇÃO, CARGA, DESCARGA, ESPALHAMENTO, UMIDECIMENTO E COMPACTAÇÃO DO MATERIAL; EXCLUI AQUISIÇÃO E TRANSPORTE DO MATERIAL)","m³",1299.83,14.05,17.516134999999998,18262.61,22768,"RO-43112","DEER/MG"]
["SUB-BASE, SEM MISTURA, COMPACTADA NA ENERGIA DO PROCTOR INTERMEDIÁRIO (EXECUÇÃO, INCLUINDO ESCAVAÇÃO, CARGA, DESCARGA, ESPALHAMENTO, UMIDECIMENTO E COMPACTAÇÃO DO MATERIAL; EXCLUI AQUISIÇÃO E TRANSPORTE DO MATERIAL)","m³",395.85,14.05,17.516134999999998,5561.69,6933.76,"RO-43112","DEER/MG"]
["SUB-BASE, SEM MISTURA, COMPACTADA NA ENERGIA DO PROCTOR INTERMEDIÁRIO (EXECUÇÃO, INCLUINDO ESCAVAÇÃO, CARGA, DESCARGA, ESPALHAMENTO, UMIDECIMENTO E COMPACTAÇÃO DO MATERIAL; EXCLUI AQUISIÇÃO E TRANSPORTE DO MATERIAL)","m³",null,14.05,17.516134999999998,0,0,"RO-43112","DEER/MG"]
["SUB-BASE, SEM MISTURA, COMPACTADA NA ENERGIA DO PROCTOR INTERMEDIÁRIO (EXECUÇÃO, INCLUINDO ESCAVAÇÃO, CARGA, DESCARGA, ESPALHAMENTO, UMIDECIMENTO E COMPACTAÇÃO DO MATERIAL; EXCLUI AQUISIÇÃO E TRANSPORTE DO MATERIAL)","m³",null,14.05,17.516134999999998,0,0,"RO-43112","DEER/MG"]
["SUB-BASE, SEMMISTURA, COMPACTADA NA ENERGIA DO PROCTOR INTERMEDIÁRIO (EXECUÇÃO, INCLUINDO ESCAVAÇÃO, CARGA, DESCARGA, ESPALHAMENTO, UMIDECIMENTO E COMPACTAÇÃO DO MATERIAL; EXCLUI AQUISIÇÃO E TRANSPORTE DO MATERIAL)","m³",252.67,14.05,17.516134999999998,3550.01,4425.8,"RO-43112","DEER/MG"]
["SUB-BASE, SEMMISTURA, COMPACTADA NA ENERGIA DO PROCTOR INTERMEDIÁRIO (EXECUÇÃO, INCLUINDO ESCAVAÇÃO, CARGA, DESCARGA, ESPALHAMENTO, UMIDECIMENTO E COMPACTAÇÃO DO MATERIAL; EXCLUI AQUISIÇÃO E TRANSPORTE DO MATERIAL)","m³",2397.0700000000002,14.05,17.516134999999998,33678.83,41987.4,"RO-43112","DEER/MG"]
["TRANSIÇÃO COMPACTADA, INCLUSIVE CARGA, TRANSP. E FORNEC. DE MATERIAL (DMT = 1,00 km)","m",430.8,4.8167202685986927,6.0050051588619899,2075.04,2586.96,"C6","CPU"]
["TRANSIÇÃO COMPACTADA, INCLUSIVE CARGA, TRANSP. E FORNEC. DE MATERIAL (DMT = 1,00 km)","m³",145.44,4.8167202685986927,6.0050051588619899,700.54,873.37,"C6","CPU"]
["TRANSIÇÃO COMPACTADA, INCLUSIVE CARGA, TRANSP. E FORNEC. DE MATERIAL (DMT = 1,00 km)","m³",36.590000000000003,4.8167202685986927,6.0050051588619899,176.24,219.72,"C6","CPU"]
["TRANSIÇÃO COMPACTADA, INCLUSIVE CARGA, TRANSP. E FORNEC. DE MATERIAL (DMT = 1,00 km)","m³",13.38,4.8167202685986927,6.0050051588619899,64.45,80.349999999999994,"C6","CPU"]
["TRANSPORTE COM CAMINHÃO BASCULANTE DE 6 M3, EM VIA URBANA EM LEITO NATURAL TXKM (UNIDADE: TXKM). AF_01/2018","txkm",98746.880000000005,1.04,1.2965679999999999,102696.76,128032.04,"97916","SINAPI"]
["TRANSPORTE COM CAMINHÃO BASCULANTE DE 6 M3, EM VIA URBANA EM LEITO NATURAL TXKM (UNIDADE: TXKM). AF_01/2018","txkm",296462,1.04,1.2965679999999999,308320.48,384383.14,"97916","SINAPI"]
["TRANSPORTE COM CAMINHÃO BASCULANTE DE 6 M3, EM VIA URBANA EM LEITO NATURAL TXKM (UNIDADE: TXKM). AF_01/2018","m³xkm",7280,1.04,1.2965679999999999,7571.2,9439.02,"97916","SINAPI"]
["TRANSPORTE COM CAMINHÃO BASCULANTE DE 6 M3, EM VIA URBANA EM LEITO NATURAL TXKM (UNIDADE: TXKM). AF_01/2018","m³xkm",56000,1.04,1.2965679999999999,58240,72607.81,"97916","SINAPI"]
["TRANSPORTE COM CAMINHÃO BASCULANTE DE 6 M3, EM VIA URBANA EM LEITO NATURAL TXKM (UNIDADE: TXKM). AF_01/2018","m³xkm",75600,1.04,1.2965679999999999,78624,98020.54,"97916","SINAPI"]
["TRANSPORTE COM CAMINHÃO BETONEIRA - RODOVIA EM LEITO NATURAL (Entre Francisco Dumont/MG e Área A - 15,00km)","txkm",484.19999999999993,0.55000000000000004,0.68568499999999999,266.31,332.01,"5914539","DNIT/MG"]
["TRANSPORTE COM CAMINHÃO BETONEIRA - RODOVIA EM LEITO NATURAL (Entre Francisco Dumont/MG e Área A - 15,00km)","txkm",10241.391060000002,0.55000000000000004,0.68568499999999999,5632.77,7022.37,"5914539","DNIT/MG"]
["TRANSPORTE COM CAMINHÃO BETONEIRA - RODOVIA EM LEITO NATURAL (Entre Francisco Dumont/MG e Área B - 9,00km)","txkm",686.87999999999988,0.55000000000000004,0.68568499999999999,377.78,470.98,"5914539","DNIT/MG"]
["TRANSPORTE COM CAMINHÃO BETONEIRA - RODOVIA EM LEITO NATURAL (Entre Francisco Dumont/MG e Área B - 9,00km)","txkm",5482.08,0.55000000000000004,0.68568499999999999,3015.14,3758.98,"5914539","DNIT/MG"]
["TRANSPORTE COM CAMINHÃO BETONEIRA - RODOVIA EM LEITO NATURAL (Entre Francisco Dumont/MG e Área C - 6,00km)","txkm",516.96,0.55000000000000004,0.68568499999999999,284.33,354.47,"5914539","DNIT/MG"]
["TRANSPORTE COM CAMINHÃO BETONEIRA - RODOVIA EM LEITO NATURAL (Entre Francisco Dumont/MG e Área C - 6,00km)","txkm",13009.536,0.55000000000000004,0.68568499999999999,7155.24,8920.44,"5914539","DNIT/MG"]
["TRANSPORTE COM CAMINHÃO BETONEIRA - RODOVIA EM LEITO NATURAL (Entre Francisco Dumont/MG e Área C - 6,00km)","txkm",504,0.55000000000000004,0.68568499999999999,277.2,345.59,"5914539","DNIT/MG"]
["TRANSPORTE COM CAMINHÃO BETONEIRA - RODOVIA EM LEITO NATURAL (Entre Francisco Dumont/MG e Área C - 6,00km)","txkm",4998.2399999999989,0.55000000000000004,0.68568499999999999,2749.03,3427.22,"5914539","DNIT/MG"]
["TRANSPORTE COM CAMINHÃO BETONEIRA - RODOVIA EM LEITO NATURAL (Entre Francisco Dumont/MG e Área C - 6,00km)","txkm",4251.6000000000004,0.55000000000000004,0.68568499999999999,2338.38,2915.26,"5914539","DNIT/MG"]
["TRANSPORTE COM CAMINHÃO BETONEIRA - RODOVIA EM LEITO NATURAL (Entre Francisco Dumont/MG e Área C - 6,00km)","txkm",389.95199999999994,0.55000000000000004,0.68568499999999999,214.47,267.38,"5914539","DNIT/MG"]
["TRANSPORTE COM CAMINHÃO BETONEIRA - RODOVIA EM LEITO NATURAL (Entre Francisco Dumont/MG e Área C - 6,00km)","txkm",1120.3200000000002,0.55000000000000004,0.68568499999999999,616.17999999999995,768.19,"5914539","DNIT/MG"]
["TRANSPORTE COM CAMINHÃO BETONEIRA - RODOVIA EM LEITO NATURAL (Entre Francisco Dumont/MG e Área C - 6,00km)","txkm",1600.8000000000002,0.55000000000000004,0.68568499999999999,880.44,1097.6400000000001,"5914539","DNIT/MG"]
["TRANSPORTE COM CAMINHÃO BETONEIRA - RODOVIA EM LEITO NATURAL (Entre Francisco Dumont/MG e Área C - 6,00km)","txkm",1082.5920000000001,0.55000000000000004,0.68568499999999999,595.42999999999995,742.32,"5914539","DNIT/MG"]
["TRANSPORTE COM CAMINHÃO BETONEIRA - RODOVIA EM LEITO NATURAL (Entre Francisco Dumont/MG e Área C - 6,00km)","txkm",1588.0319999999997,0.55000000000000004,0.68568499999999999,873.42,1088.8900000000001,"5914539","DNIT/MG"]
["TRANSPORTE COM CAMINHÃO BETONEIRA - RODOVIA EM LEITO NATURAL (Entre Francisco Dumont/MG e Área C - 6,00km)","txkm",791.56799999999998,0.55000000000000004,0.68568499999999999,435.36,542.77,"5914539","DNIT/MG"]
["TRANSPORTE COM CAMINHÃO BETONEIRA - RODOVIA EM LEITO NATURAL (Entre Francisco Dumont/MG e Área C - 6,00km)","txkm",1099.8719999999998,0.55000000000000004,0.68568499999999999,604.92999999999995,754.17,"5914539","DNIT/MG"]
["TRANSPORTE COM CAMINHÃO BETONEIRA - RODOVIA EM LEITO NATURAL (Entre Francisco Dumont/MG e Área C - 6,00km)","txkm",651.74399999999991,0.55000000000000004,0.68568499999999999,358.46,446.89,"5914539","DNIT/MG"]
["TRANSPORTE COM CAMINHÃO BETONEIRA - RODOVIA EM LEITO NATURAL (Entre Francisco Dumont/MG e Área C - 6,00km)","txkm",2683.7280000000001,0.55000000000000004,0.68568499999999999,1476.05,1840.19,"5914539","DNIT/MG"]
["TRANSPORTE COM CAMINHÃO BETONEIRA - RODOVIA EM LEITO NATURAL (Entre Francisco Dumont/MG e Área C - 6,00km)","txkm",2458.6559999999999,0.55000000000000004,0.68568499999999999,1352.26,1685.86,"5914539","DNIT/MG"]
["TRANSPORTE COM CAMINHÃO BETONEIRA - RODOVIA EM LEITO NATURAL (Entre Francisco Dumont/MG e Área C - 6,00km)","txkm",1195.6320000000001,0.55000000000000004,0.68568499999999999,657.6,819.83,"5914539","DNIT/MG"]
["TRANSPORTE COM CAMINHÃO BETONEIRA - RODOVIA PAVIMENTADA (Entre Bocaiúva/MG e Francisco Dumont/MG - 69,00km)","txkm",2227.3199999999997,0.36,{"$f":"D522*(1+$G$5)","v":0.44881199999999993},801.84,{"$f":"ROUND(C522*E522,2)","v":999.65},"5914569","DNIT/MG"]
["TRANSPORTE COM CAMINHÃO BETONEIRA - RODOVIA PAVIMENTADA (Entre Bocaiúva/MG e Francisco Dumont/MG - 69,00km)","txkm",47110.398876000007,0.36,0.44881199999999993,16959.740000000002,21143.71,"5914569","DNIT/MG"]
["TRANSPORTE COM CAMINHÃO BETONEIRA - RODOVIA PAVIMENTADA (Entre Bocaiúva/MG e Francisco Dumont/MG - 69,00km)","txkm",5266.08,0.36,0.44881199999999993,1895.79,2363.48,"5914569","DNIT/MG"]
["TRANSPORTE COM CAMINHÃO BETONEIRA - RODOVIA PAVIMENTADA (Entre Bocaiúva/MG e Francisco Dumont/MG - 69,00km)","txkm",42029.279999999999,0.36,0.44881199999999993,15130.54,18863.25,"5914569","DNIT/MG"]
["TRANSPORTE COM CAMINHÃO BETONEIRA - RODOVIA PAVIMENTADA (Entre Bocaiúva/MG e Francisco Dumont/MG - 69,00km)","txkm",5945.04,0.36,0.44881199999999993,2140.21,2668.21,"5914569","DNIT/MG"]
["TRANSPORTE COM CAMINHÃO BETONEIRA - RODOVIA PAVIMENTADA (Entre Bocaiúva/MG e Francisco Dumont/MG - 69,00km)","txkm",149609.66399999999,0.36,0.44881199999999993,53859.48,67146.61,"5914569","DNIT/MG"]
["TRANSPORTE COM CAMINHÃO BETONEIRA - RODOVIA PAVIMENTADA (Entre Bocaiúva/MG e Francisco Dumont/MG - 69,00km)","txkm",5796,0.36,0.44881199999999993,2086.56,2601.31,"5914569","DNIT/MG"]
["TRANSPORTE COM CAMINHÃO BETONEIRA - RODOVIA PAVIMENTADA (Entre Bocaiúva/MG e Francisco Dumont/MG - 69,00km)","txkm",57479.759999999987,0.36,0.44881199999999993,20692.71,25797.61,"5914569","DNIT/MG"]
["TRANSPORTE COM CAMINHÃO BETONEIRA - RODOVIA PAVIMENTADA (Entre Bocaiúva/MG e Francisco Dumont/MG - 69,00km)","txkm",5867.2079999999996,0.36,0.44881199999999993,2112.19,2633.27,"5914569","DNIT/MG"]
["TRANSPORTE COM CAMINHÃO BETONEIRA - RODOVIA PAVIMENTADA (Entre Bocaiúva/MG e Francisco Dumont/MG - 69,00km)","txkm",4484.4479999999994,0.36,0.44881199999999993,1614.4,2012.67,"5914569","DNIT/MG"]
["TRANSPORTE COM CAMINHÃO BETONEIRA - RODOVIA PAVIMENTADA (Entre Bocaiúva/MG e Francisco Dumont/MG - 69,00km)","txkm",12883.680000000002,0.36,0.44881199999999993,4638.12,5782.35,"5914569","DNIT/MG"]
["TRANSPORTE COM CAMINHÃO BETONEIRA - RODOVIA PAVIMENTADA (Entre Bocaiúva/MG e Francisco Dumont/MG - 69,00km)","txkm",18409.2,0.36,0.44881199999999993,6627.31,8262.27,"5914569","DNIT/MG"]
["TRANSPORTE COM CAMINHÃO BETONEIRA - RODOVIA PAVIMENTADA (Entre Bocaiúva/MG e Francisco Dumont/MG - 69,00km)","txkm",12449.808000000001,0.36,0.44881199999999993,4481.93,5587.62,"5914569","DNIT/MG"]
["TRANSPORTE COM CAMINHÃO BETONEIRA - RODOVIA PAVIMENTADA (Entre Bocaiúva/MG e Francisco Dumont/MG - 69,00km)","txkm",18262.367999999999,0.36,0.44881199999999993,{"$f":"ROUND(C535*D535,2)","v":6574.45},8196.3700000000008,"5914569","DNIT/MG"]
["TRANSPORTE COM CAMINHÃO BETONEIRA - RODOVIA PAVIMENTADA (Entre Bocaiúva/MG e Francisco Dumont/MG - 69,00km)","txkm",9103.0319999999992,0.36,0.44881199999999993,3277.09,4085.55,"5914569","DNIT/MG"]
["TRANSPORTE COM CAMINHÃO BETONEIRA - RODOVIA PAVIMENTADA (Entre Bocaiúva/MG e Francisco Dumont/MG - 69,00km)","txkm",12648.527999999998,0.36,0.44881199999999993,4553.47,5676.81,"5914569","DNIT/MG"]
["TRANSPORTE COM CAMINHÃO BETONEIRA - RODOVIA PAVIMENTADA (Entre Bocaiúva/MG e Francisco Dumont/MG - 69,00km)","txkm",7495.0559999999996,0.36,0.44881199999999993,2698.22,3363.87,"5914569","DNIT/MG"]
["TRANSPORTE COM CAMINHÃO BETONEIRA - RODOVIA PAVIMENTADA (Entre Bocaiúva/MG e Francisco Dumont/MG - 69,00km)","txkm",30862.871999999999,0.36,0.44881199999999993,11110.63,13851.63,"5914569","DNIT/MG"]
["TRANSPORTE COM CAMINHÃO BETONEIRA - RODOVIA PAVIMENTADA (Entre Bocaiúva/MG e Francisco Dumont/MG - 69,00km)","txkm",28274.544000000002,0.36,0.44881199999999993,10178.84,12689.95,"5914569","DNIT/MG"]
["TRANSPORTE COM CAMINHÃO BETONEIRA - RODOVIA PAVIMENTADA (Entre Bocaiúva/MG e Francisco Dumont/MG - 69,00km)","txkm",13749.768,0.36,0.44881199999999993,4949.92,6171.06,"5914569","DNIT/MG"]
["TRANSPORTE COMERCIAL COM CAMINHAO CARROCERIA 9 T (10KM)","m³*km",902.5,0.71,0.88515699999999986,640.78,798.85,"72884","SINAPI"]
["TRANSPORTE COMERCIAL COM CAMINHAO CARROCERIA 9 T (10KM)","m³*km",7427.3,0.71,0.88515699999999986,5273.38,6574.33,"72884","SINAPI"]
["TRANSPORTE COMERCIAL COM CAMINHAO CARROCERIA 9 T (10KM)","m³*km",null,0.71,0.88515699999999986,0,0,"72884","SINAPI"]
["TRANSPORTE COMERCIAL COM CAMINHAO CARROCERIA 9 T (10KM)","m³*km",null,0.71,0.88515699999999986,0,0,"72884","SINAPI"]
["TRANSPORTE COMERCIAL COM CAMINHAO CARROCERIA 9 T (145KM)","m³*km",9715,0.71,0.88515699999999986,6897.65,8599.2999999999993,"72884","SINAPI"]
["TRANSPORTE COMERCIAL COM CAMINHAO CARROCERIA 9 T (145KM)","m³*km",79909.5,0.71,0.88515699999999986,56735.75,70732.45,"72884","SINAPI"]
["TRANSPORTE COMERCIAL COM CAMINHAO CARROCERIA 9 T (145KM)","m³*km",null,0.71,0.88515699999999986,0,0,"72884","SINAPI"]
["TRANSPORTE COMERCIAL COM CAMINHAO CARROCERIA 9 T (145KM)","m³*km",null,0.71,0.88515699999999986,0,0,"72884","SINAPI"]
["TRANSPORTE COMERCIAL COM CAMINHAO CARROCERIA 9 T (435KM)","m³*km",6525,0.71,0.88515699999999986,4632.75,5775.65,"72884","SINAPI"]
["TRANSPORTE COMERCIAL COM CAMINHAO CARROCERIA 9 T (435KM)","m³*km",53735.55,0.71,0.88515699999999986,38152.239999999998,47564.4,"72884","SINAPI"]
["TRANSPORTE COMERCIAL COM CAMINHAO CARROCERIA 9 T (435KM)","m³*km",null,0.71,0.88515699999999986,0,0,"72884","SINAPI"]
["TRANSPORTE COMERCIAL COM CAMINHAO CARROCERIA 9 T (435KM)","m³*km",null,0.71,0.88515699999999986,0,0,"72884","SINAPI"]
["TRANSPORTE COMERCIAL COM CAMINHAO CARROCERIA 9 T (DA CIDADE DE BARRA DO GUAICUÍ/MG ATÉ MONTES CLAROS/MG = 145KM)","m³*km",14282.5,0.71,0.88515699999999986,10140.58,12642.25,"72884","SINAPI"]
["TRANSPORTE COMERCIAL COM CAMINHAO CARROCERIA 9 T (DE JAZIDA DISTANTE 10KM DE MONTES CLAROS/MG) ","m³*km",1327,0.71,0.88515699999999986,942.17,1174.5999999999999,"72884","SINAPI"]
["TRANSPORTE DE 1/2 CATEGORIA ATÉ 10KM (BASE E SUB BASE)","m³xkm",38512.425999999999,2.13,2.6554709999999999,82031.47,102268.63,"22.03.04.99","DER/SP","PADRONIZAR",null,null,"OK"]
["TRANSPORTE DE MATERIAL ASFALTICO, COM CAMINHÃO COM CAPACIDADE DE 20000 L EM RODOVIA PAVIMENTADA. AF_02/2016 (P/ ITEM 2.1.12) (DE MONTES CLAROS/MG ATÉ JEQUITAÍ/MG - DIST. 111KM)","txkm",28904.400000000001,1.59,1.982253,45958,57295.83,93177,"SINAPI","PADRONIZAR",null,null,"OK"]
["TRANSPORTE DE MATERIAL ASFALTICO, COM CAMINHÃO COM CAPACIDADE DE 30000 L EM RODOVIA PAVIMENTADA. AF_02/2016 (P/ ITEM 2.1.12) (ORIUNDO D MONTES CLAROS/MG DIST. 111KM)","txkm",42610.679999999993,0.45,0.56101499999999993,19174.810000000001,23905.23,93176,"SINAPI"]
["TRANSPORTE DE MATERIAL ASFALTICO, COM CAMINHÃO COM CAPACIDADE DE 30000 L EM RODOVIA PAVIMENTADA. AF_02/2016 (P/ ITEM 2.1.12) (ORIUNDO D MONTES CLAROS/MG DIST. 111KM)","txkm",238470.62400000001,0.45,0.56101499999999993,107311.78,133785.60000000001,93176,"SINAPI"]
["TRANSPORTE DE MATERIAL ASFALTICO, COM CAMINHÃO COM CAPACIDADE DE 30000 L EM RODOVIA PAVIMENTADA. AF_02/2016 (P/ ITEM 6.1.6) (ORIUNDO DE BETIM/MG DISTANTE 377KM DIRETO PARA OBRA B)","txkm",870.52,0.45,0.56101499999999993,391.73,488.37,93176,"SINAPI"]
["TRANSPORTE DE MATERIAL ASFALTICO, COM CAMINHÃO COM CAPACIDADE DE 30000 L EM RODOVIA PAVIMENTADA. AF_02/2016 (P/ ITEM 6.1.6) (ORIUNDO DE BETIM/MG DISTANTE 377KM DIRETO PARA OBRA C)","txkm",7664.44,0.45,0.56101499999999993,3449,4299.87,93176,"SINAPI"]
["TRANSPORTE DE MATERIAL ASFALTICO, COM CAMINHÃO COM CAPACIDADE DE 30000 L EM RODOVIA PAVIMENTADA. AF_02/2016 (P/ ITEM 6.1.6) (ORIUNDO DE BETIM/MG DISTANTE 377KM DIRETO PARA OBRA C)","txkm",2554.81,0.45,0.56101499999999993,1149.6600000000001,1433.29,93176,"SINAPI"]
["TRANSPORTE DE MATERIAL ASFALTICO, COM CAMINHÃO COM CAPACIDADE DE 30000 L EM RODOVIA PAVIMENTADA. AF_02/2016 (P/ ITEM 6.1.6) (ORIUNDO DE BETIM/MG DISTANTE 377KM DIRETO PARA OBRA C)","txkm",null,0.45,0.56101499999999993,0,0,93176,"SINAPI"]
["TRANSPORTE DE MATERIAL ASFALTICO, COM CAMINHÃO COM CAPACIDADE DE 30000 L EM RODOVIA PAVIMENTADA. AF_02/2016 (P/ ITEM 6.1.6) (ORIUNDO DE BETIM/MG DISTANTE 377KM DIRETO PARA OBRA C)","txkm",null,0.45,0.56101499999999993,0,0,93176,"SINAPI"]
["TRANSPORTE DE MATERIAL ASFALTICO, COM CAMINHÃO COM CAPACIDADE DE 30000 L EM RODOVIA PAVIMENTADA. AF_02/2016 (P/ ITEM 6.1.6) (ORIUNDO DE BETIM/MG DISTANTE 377KM DIRETO PARA OBRA C)","txkm",null,0.45,0.56101499999999993,0,0,93176,"SINAPI"]
["TRANSPORTE DE MATERIAL ASFALTICO, COM CAMINHÃO COM CAPACIDADE DE 30000 L EM RODOVIA PAVIMENTADA. AF_02/2016 (P/ ITEM 6.1.6) (ORIUNDO DE BETIM/MG DISTANTE 377KM DIRETO PARA OBRA C)","txkm",null,0.45,0.56101499999999993,0,0,93176,"SINAPI"]
["TRANSPORTE DE MATERIAL ASFALTICO, COM CAMINHÃO COM CAPACIDADE DE 30000 L EM RODOVIA PAVIMENTADA. AF_02/2016 (P/ ITEM 6.1.9) (ORIUNDO DE BETIM/MG DISTANTE 377KM DIRETO FCO DUMONT)","txkm",1320.5736959999999,0.45,0.56101499999999993,594.26,740.86,93176,"SINAPI"]
["TRANSPORTE DE MATERIAL ASFALTICO, COM CAMINHÃO COM CAPACIDADE DE 30000 L EM RODOVIA PAVIMENTADA. AF_02/2016 (P/ ITEM 6.1.9) (ORIUNDO DE BETIM/MG DISTANTE 377KM DIRETO FCO DUMONT)","txkm",440.19123200000001,0.45,0.56101499999999993,198.09,246.95,93176,"SINAPI"]
["TRANSPORTE DE MATERIAL ASFALTICO, COM CAMINHÃO COM CAPACIDADE DE 30000 L EM RODOVIA PAVIMENTADA. AF_02/2016 (P/ ITEM 6.1.9) (ORIUNDO DE BETIM/MG DISTANTE 377KM DIRETO PARA OBRA B)","txkm",290.29000000000002,0.45,0.56101499999999993,130.63,162.86000000000001,93176,"SINAPI"]
["TRANSPORTE DE MATERIAL ASFALTICO, COM CAMINHÃO COM CAPACIDADE DE 30000 L EM RODOVIA PAVIMENTADA. AF_02/2016 (P/ ITEM 6.1.9) (ORIUNDO DE BETIM/MG DISTANTE 435KM DE MONTES CLAROS/MG)","txkm",9613.5,0.45,0.56101499999999993,4326.08,5393.32,93176,"SINAPI"]
["TRANSPORTE DE MATERIAL ASFALTICO, COM CAMINHÃO COM CAPACIDADE DE 30000 TXKM L EM RODOVIA NÃO PAVIMENTADA PARA DISTÂNCIAS MÉDIAS DE TRANSPORTE SUPERIORES A 100 KM. AF_02/2016  (9KM EM TERRA) B)","txkm",20.78,0.51,0.63581699999999997,10.6,13.21,93178,"SINAPI"]
["TRANSPORTE DE MATERIAL ASFALTICO, COM CAMINHÃO COM CAPACIDADE DE 30000 TXKM L EM RODOVIA NÃO PAVIMENTADA PARA DISTÂNCIAS MÉDIAS DE TRANSPORTE SUPERIORES A 100 KM. AF_02/2016  (ORIUNDO DE FCO DUMONT DISTANTE 15KM DIRETO PARA OBRA A)","txkm",52.542719999999996,0.51,0.63581699999999997,26.8,33.409999999999997,93178,"SINAPI"]
["TRANSPORTE DE MATERIAL ASFALTICO, COM CAMINHÃO COM CAPACIDADE DE 30000 TXKM L EM RODOVIA NÃO PAVIMENTADA PARA DISTÂNCIAS MÉDIAS DE TRANSPORTE SUPERIORES A 100 KM. AF_02/2016  (ORIUNDO DE FCO DUMONT DISTANTE 15KM DIRETO PARA OBRA A)","txkm",17.514240000000001,0.51,0.63581699999999997,8.93,11.14,93178,"SINAPI"]
["TRANSPORTE DE MATERIAL ASFALTICO, COM CAMINHÃO COM CAPACIDADE DE 30000 TXKM L EM RODOVIA NÃO PAVIMENTADA PARA DISTÂNCIAS MÉDIAS DE TRANSPORTE SUPERIORES A 100 KM. AF_02/2016  (ORIUNDO DE FRANCISCO DUMONT/MG DISTANTE 6KM DIRETO PARA OBRA C)","txkm",122,0.51,0.63581699999999997,62.22,77.569999999999993,93178,"SINAPI"]
["TRANSPORTE DE MATERIAL ASFALTICO, COM CAMINHÃO COM CAPACIDADE DE 30000 TXKM L EM RODOVIA NÃO PAVIMENTADA PARA DISTÂNCIAS MÉDIAS DE TRANSPORTE SUPERIORES A 100 KM. AF_02/2016  (ORIUNDO DE FRANCISCO DUMONT/MG DISTANTE 6KM DIRETO PARA OBRA C)","txkm",40.659999999999997,0.51,0.63581699999999997,20.74,25.85,93178,"SINAPI"]
["TRANSPORTE DE MATERIAL ASFALTICO, COM CAMINHÃO COM CAPACIDADE DE 30000 TXKM L EM RODOVIA NÃO PAVIMENTADA PARA DISTÂNCIAS MÉDIAS DE TRANSPORTE SUPERIORES A 100 KM. AF_02/2016  (ORIUNDO DE FRANCISCO DUMONT/MG DISTANTE 6KM DIRETO PARA OBRA C)","txkm",null,0.51,0.63581699999999997,0,0,93178,"SINAPI"]
["TRANSPORTE DE MATERIAL ASFALTICO, COM CAMINHÃO COM CAPACIDADE DE 30000 TXKM L EM RODOVIA NÃO PAVIMENTADA PARA DISTÂNCIAS MÉDIAS DE TRANSPORTE SUPERIORES A 100 KM. AF_02/2016  (ORIUNDO DE FRANCISCO DUMONT/MG DISTANTE 6KM DIRETO PARA OBRA C)","txkm",null,0.51,0.63581699999999997,0,0,93178,"SINAPI"]
["TRANSPORTE DE MATERIAL ASFALTICO, COM CAMINHÃO COM CAPACIDADE DE 30000 TXKM L EM RODOVIA NÃO PAVIMENTADA PARA DISTÂNCIAS MÉDIAS DE TRANSPORTE SUPERIORES A 100 KM. AF_02/2016  (ORIUNDO DE FRANCISCO DUMONT/MG DISTANTE 6KM DIRETO PARA OBRA C)","txkm",null,0.51,0.63581699999999997,0,0,93178,"SINAPI"]
["TRANSPORTE DE MATERIAL ASFALTICO, COM CAMINHÃO COM CAPACIDADE DE 30000 TXKM L EM RODOVIA NÃO PAVIMENTADA PARA DISTÂNCIAS MÉDIAS DE TRANSPORTE SUPERIORES A 100 KM. AF_02/2016  (ORIUNDO DE FRANCISCO DUMONT/MG DISTANTE 6KM DIRETO PARA OBRA C)","txkm",null,0.51,0.63581699999999997,0,0,93178,"SINAPI"]
["TRANSPORTE DE MATERIAL ASFALTICO, COM CAMINHÃO COM CAPACIDADE DE 30000 TXKM L EM RODOVIA NÃO PAVIMENTADA PARA DISTÂNCIAS MÉDIAS DE TRANSPORTE SUPERIORES A 100 KM. AF_02/2016 (9KM EM TERRA) B)","txkm",6.93,0.51,0.63581699999999997,3.53,4.41,93178,"SINAPI"]
["TRANSPORTE DE MATERIAL ASFALTICO, COM CAMINHÃO COM CAPACIDADE DE 30000 TXKM L EM RODOVIA NÃO PAVIMENTADA PARA DISTÂNCIAS MÉDIAS DE TRANSPORTE SUPERIORES A 100 KM. AF_02/2016 (DE JEQUITAÍ ATÉ ÁREA B)","txkm",5468.4,0.51,0.63581699999999997,2788.88,3476.9,93178,"SINAPI"]
["TRANSPORTE DE MATERIAL ASFALTICO, COM CAMINHÃO COM CAPACIDADE DE 30000 TXKM L EM RODOVIA NÃO PAVIMENTADA PARA DISTÂNCIAS MÉDIAS DE TRANSPORTE SUPERIORES A 100 KM. AF_02/2016 (JEQUITAÍ P/ ÁREA A - 15KM)","txkm",5758.1999999999989,0.51,0.63581699999999997,2936.68,3661.16,93178,"SINAPI"]
["TRANSPORTE DE MATERIAL ASFALTICO, COM CAMINHÃO COM CAPACIDADE DE 30000 TXKM L EM RODOVIA NÃO PAVIMENTADA PARA DISTÂNCIAS MÉDIAS DE TRANSPORTE SUPERIORES A 100 KM. AF_02/2016 (JEQUITAÍ P/ ÁREA C - 24KM)","txkm",51561.120000000003,1.59,1.982253,81982.179999999993,102207.18,93177,"SINAPI","IDENTIFICAR E CORRIGIR CÓDIGO",null,null,"OK"]
["TRANSPORTE DE MATERIAL DE JAZIDA PARA CONSERVAÇÃO. DISTÂNCIA MÉDIA DE TRANSPORTE > 50,10 KM (ESCAVAÇÃO+BASE E SUB BASE) ","m³xkm",1253.5999999999999,0.78,0.97242600000000001,977.81,1219.03,"RO-41344","DEER/MG"]
["TRANSPORTE DE MATERIAL DE JAZIDA PARA CONSERVAÇÃO. DISTÂNCIA MÉDIA DE TRANSPORTE > 50,10 KM (ESCAVAÇÃO+BASE E SUB BASE) - 13,10KM.","m³xkm",17192.832999999999,0.78,0.97242600000000001,13410.41,16718.759999999998,"RO-41344","DEER/MG"]
["TRANSPORTE DE MATERIAL DE JAZIDA PARA CONSERVAÇÃO. DISTÂNCIA MÉDIA DE TRANSPORTE > 50,10 KM (ESCAVAÇÃO+BASE E SUB BASE) - 17,10KM","m³xkm",4389277.5900000008,0.78,{"$f":"D586*(1+$G$5)","v":0.97242600000000001},3423636.52,{"$f":"ROUND(C586*E586,2)","v":4268247.6500000004},"RO-41344","DEER/MG"]
["TRANSPORTE DE MATERIAL DE JAZIDA PARA CONSERVAÇÃO. DISTÂNCIA MÉDIA DE TRANSPORTE > 50,10 KM (ESCAVAÇÃO+BASE E SUB BASE) - 17,10KM","m³xkm",65901.671999999991,0.78,0.97242600000000001,51403.3,64084.5,"RO-41344","DEER/MG"]
["TRANSPORTE DE MATERIAL DE JAZIDA PARA CONSERVAÇÃO. DISTÂNCIA MÉDIA DE TRANSPORTE > 50,10 KM (ESCAVAÇÃO+BASE E SUB BASE) - 17,10KM","m³xkm",38442.639999999999,0.78,0.97242600000000001,29985.26,37382.620000000003,"RO-41344","DEER/MG"]
["TRANSPORTE DE MATERIAL DE JAZIDA PARA CONSERVAÇÃO. DISTÂNCIA MÉDIA DE TRANSPORTE > 50,10 KM (ESCAVAÇÃO+BASE E SUB BASE) - 17,10KM","m³xkm",25073.232,0.78,0.97242600000000001,19557.12,24381.86,"RO-41344","DEER/MG"]
["TRANSPORTE DE MATERIAL DE JAZIDA PARA CONSERVAÇÃO. DISTÂNCIA MÉDIA DE TRANSPORTE > 50,10 KM (ESCAVAÇÃO+BASE E SUB BASE) - 17,10KM","m³xkm",null,0.78,0.97242600000000001,0,0,"RO-41344","DEER/MG"]
["TRANSPORTE DE MATERIAL DE JAZIDA PARA CONSERVAÇÃO. DISTÂNCIA MÉDIA DE TRANSPORTE > 50,10 KM (ESCAVAÇÃO+BASE E SUB BASE) - 17,10KM","m³xkm",45664.800000000003,0.78,0.97242600000000001,35618.54,44405.64,"RO-41344","DEER/MG"]
["TRANSPORTE DE MATERIAL DE JAZIDA PARA CONSERVAÇÃO. DISTÂNCIA MÉDIA DE TRANSPORTE > 50,10 KM (ESCAVAÇÃO+BASE E SUB BASE) - 17,10KM","m³xkm",4361.66,0.78,0.97242600000000001,3402.09,4241.3900000000003,"RO-41344","DEER/MG"]
["TRANSPORTE DE MATERIAL DE JAZIDA PARA CONSERVAÇÃO. DISTÂNCIA MÉDIA DE TRANSPORTE > 50,10 KM (ESCAVAÇÃO+BASE E SUB BASE) - 17,10KM","m³xkm",1442.4,0.78,0.97242600000000001,1125.07,1402.63,"RO-41344","DEER/MG"]
["TRANSPORTE DE MATERIAL DE JAZIDA PARA CONSERVAÇÃO. DISTÂNCIA MÉDIA DE TRANSPORTE > 50,10 KM (ESCAVAÇÃO+BASE E SUB BASE) - 17,10KM","m³xkm",52646.59,0.78,0.97242600000000001,41064.339999999997,51194.91,"RO-41344","DEER/MG"]
["TRANSPORTE DE MATERIAL DE JAZIDA PARA CONSERVAÇÃO. DISTÂNCIA MÉDIA DE TRANSPORTE > 50,10 KM (ESCAVAÇÃO+BASE E SUB BASE) - 17,10KM","m³",31138.46,0.78,0.97242600000000001,24288,30279.85,"RO-41344","DEER/MG"]
["TRANSPORTE DE MATERIAL DE JAZIDA PARA CONSERVAÇÃO. DISTÂNCIA MÉDIA DE TRANSPORTE > 50,10 KM (ESCAVAÇÃO+BASE E SUB BASE) - 8,10KM","m³xkm",63163.881000000008,0.78,0.97242600000000001,49267.83,61422.2,"RO-41344","DEER/MG"]
["TRANSPORTE DE ROCHAS E MATERIAL DE 3A CATEGORIA, DISTÂNCIA MÉDIA DE TRANSPORTE > 50,10 KM","m³*km",48819.434999999998,0.73,0.91009099999999987,35638.19,44430.13,"RO-41352   OBR-VIA-370","DEER/MG"]
["TRANSPORTE DE ROCHAS E MATERIAL DE 3A CATEGORIA, DISTÂNCIA MÉDIA DE TRANSPORTE > 50,10 KM","m³xkm",60202.44000000001,0.73,0.91009099999999987,43947.78,54789.7,"RO-41352   OBR-VIA-370","DEER/MG"]
["TRANSPORTE DE ROCHAS E MATERIAL DE 3A CATEGORIA, DISTÂNCIA MÉDIA DE TRANSPORTE > 50,10 KM","m³xkm",116163.5294117647,0.73,0.91009099999999987,{"$f":"ROUND(C599*D599,2)","v":84799.38},105719.38,"RO-41352   OBR-VIA-370","DEER/MG"]
["TRANSPORTE DE ROCHAS E MATERIAL DE 3A CATEGORIA, DISTÂNCIA MÉDIA DE TRANSPORTE > 50,10 KM","m³xkm",431.7,0.73,0.91009099999999987,315.14,392.89,"RO-41352   OBR-VIA-370","DEER/MG"]
["TRANSPORTE DE ROCHAS E MATERIAL DE 3A CATEGORIA, DISTÂNCIA MÉDIA DE TRANSPORTE > 50,10 KM","m³xkm",13016.88,0.73,0.91009099999999987,9502.32,11846.55,"RO-41352   OBR-VIA-370","DEER/MG"]
["TRANSPORTE DE ROCHAS E MATERIAL DE 3A CATEGORIA, DISTÂNCIA MÉDIA DE TRANSPORTE > 50,10 KM","m³xkm",3000.22,0.73,0.91009099999999987,2190.16,2730.47,"RO-41352   OBR-VIA-370","DEER/MG"]
["TRANSPORTE DE ROCHAS E MATERIAL DE 3A CATEGORIA, DISTÂNCIA MÉDIA DE TRANSPORTE > 50,10 KM","m³xkm",961.21,0.73,0.91009099999999987,701.68,874.79,"RO-41352   OBR-VIA-370","DEER/MG"]
["TRANSPORTE DE ROCHAS E MATERIAL DE 3A CATEGORIA, DISTÂNCIA MÉDIA DE TRANSPORTE > 50,10 KM","m³xkm",30080.68,0.73,0.91009099999999987,21958.9,27376.16,"RO-41352   OBR-VIA-370","DEER/MG"]
["TRANSPORTE DE ROCHAS E MATERIAL DE 3A CATEGORIA, DISTÂNCIA MÉDIA DE TRANSPORTE > 50,10 KM","m³xkm",4812.3599999999997,0.73,0.91009099999999987,3513.02,4379.6899999999996,"RO-41352   OBR-VIA-370","DEER/MG"]
["TRANSPORTE DE ROCHAS E MATERIAL DE 3A CATEGORIA, DISTÂNCIA MÉDIA DE TRANSPORTE > 50,10 KM","m³xkm",229033.08000000002,0.73,0.91009099999999987,167194.15,208440.94,"RO-41352   OBR-VIA-370","DEER/MG"]
["VALETA DE PROTEÇÃO DE ATERRO TIPO DR.VPA (EXECUÇÃO,INCLUINDO ESCAVAÇÃO)","m",480,25.49,31.778382999999994,12235.2,15253.62,"RO-40514","DEER/MG"]
["VALETA DE PROTEÇÃO DE ATERRO TIPO DR.VPA (EXECUÇÃO,INCLUINDO ESCAVAÇÃO)","m",560,25.49,31.778382999999994,14274.4,17795.89,"RO-40514","DEER/MG"]
["VALETA DE PROTEÇÃO DE ATERRO TIPO DR.VPA (EXECUÇÃO,INCLUINDO ESCAVAÇÃO)","m",79,25.49,31.778382999999994,2013.71,2510.4899999999998,"RO-40514","DEER/MG"]
["VALETA DE PROTEÇÃO DE ATERRO TIPO DR.VPA (EXECUÇÃO,INCLUINDO ESCAVAÇÃO)","m",74,25.49,31.778382999999994,1886.26,2351.6,"RO-40514","DEER/MG"]
["VALETA DE PROTEÇÃO DE ATERRO TIPO DR.VPA (EXECUÇÃO,INCLUINDO ESCAVAÇÃO)","m",1628,25.49,31.778382999999994,41497.72,51735.21,"RO-40514","DEER/MG"]
[]
[{"$nulls":5},{"$f":"SUM(F614:F615)","v":0},0,"AREIA"]
[{"$nulls":5},0,0,"BRITA"]
[{"$nulls":5},0,0,"DISPOSITIVOS DE SEGURANÇA"]

{"sheet":"BDI","index":11,"n_rows":36,"n_cols":23,"rows_kept":36,"cut":false,"hidden":false,"merged":[[1,1,2,20],[4,1,4,8],[6,1,6,8],[8,1,8,2],[8,3,8,5],[8,6,8,8],[8,9,8,11],[8,12,8,14],[8,15,8,17],[8,18,8,20],[15,3,15,20],[16,3,16,20],[18,1,18,4],[18,6,18,14],[19,1,19,4],[19,6,19,11],[24,6,24,11],[25,6,25,11],[32,1,32,14],[20,1,20,4],[20,6,20,11],[21,1,21,4],[21,6,21,11],[22,6,22,11],[23,1,23,4],[23,6,23,11]]}
[]
[null,"COMPOSIÇÃO DE B.D.I."]
[]
[]
[null,"OBRA: CODEVASF - ÁREA A"]
[null,"CIDADE: Rodovia MG208 entre Jequitaí/MG e Francisco Dumont/MG"]
[]
[null,"74209/001"]
[null,"CÁLCULO DE BDI",null,"Construção de Edifícios",null,null,"Rodovias e Ferrovias - Infra Urbana, praças, calçadas, etc. ",null,null,"Abastecimento de Água, Coleta de Esgoto",null,null,"Fornecimento de materiais e equipamentos",null,null,"Construção e Manutenção de Estações e Redes de Distribuição de Energia Elétrica",null,null,"Portuárias, Marítimas e Fluviais",null,null,null,{"$f":"'PL-ORÇ-DEF.A'!$J$189","v":0}]
[null,"Item componente do BDI","% Informado","1ºQ","Médio","3º Q","1ºQ","Médio","3º Q","1ºQ","Médio","3º Q","1ºQ","Médio","3º Q","1ºQ","Médio","3º Q","1ºQ","Médio","3º Q"]
[null,"Administração Central ( AC )",4.01,3,4,5.5,3.8,4.01,4.67,3.43,4.93,6.71,1.5,3.45,4.49,5.29,5.92,7.93,4,5.52,"7.85",null,{"$f":"SUM(W9*C11%)","v":0}]
[null,"Seguro (S) e Garantia (G)",0.4,0.8,0.8,1,0.32,0.4,0.74,0.28000000000000003,0.49,0.75,0.3,0.48,0.82,0.25,0.51,0.56000000000000005,0.81,1.22,1.99,null,{"$f":"SUM(W9*C12%)","v":0}]
[null,"Risco",0.56000000000000005,0.97,1.27,1.27,0.5,0.56000000000000005,0.97,1,1.39,1.74,0.56000000000000005,0.85,0.89,1,1.48,1.97,1.46,2.3199999999999998,3.16,null,{"$f":"SUM(W9*C13%)","v":0}]
[null,"Despesas Financeiras (DF)",1.1100000000000001,0.59,1.23,1.39,1.02,1.1100000000000001,1.21,0.94,0.99,1.17,0.85,0.85,1.1100000000000001,1.01,1.07,1.1100000000000001,0.94,1.02,1.33,null,{"$f":"SUM(W9*0.0102)","v":0}]
[null,"Lucro (L)",7.3,6.16,7.4,8.9600000000000009,6.64,7.3,8.69,6.74,8.0399999999999991,9.4,3.5,5.1100000000000003,6.22,8,8.31,9.51,7.14,8.4,10.43,null,{"$f":"SUM(W9*0.0705)","v":0}]
[null,"Impostos (I) - PIS, COFINS, ISSQN",{"$f":"5+0.65+3","v":8.65},"Conforme Legislação Específica",{"$nulls":18},{"$f":"SUM(W9*0.0865)","v":0}]
[null,"Contribuição Previdênciária (I) - CPRB",null,"Alíquota definida pela lei 12.844/13 (CPRB – contribuição previdenciária sobre a receita bruta).",{"$nulls":18},{"$f":"SUM(W11:W16)","v":0}]
[]
[null,"Observações",{"$nulls":4},"VALORES DE BDI POR TIPO DE OBRA"]
[null,"1) Preencher apenas a coluna % Informado (Coluna B)",{"$nulls":4},"Tipo de Obra",{"$nulls":5},"1ºQ","Médio","3º Q",{"$nulls":7},{"$f":"SUM(C11:C17)","v":22.03}]
[null,"2) Os Tributos normalmente aplicáveis são: PIS (O,65%), COFINS (3,00%) e ISS (variável até 5,00% conforme o município).",{"$nulls":4},"Construção de Edifícios",{"$nulls":5},20.34,22.12,25,null,"PIS",6.4999999999999997E-3]
[null,"3) O cálculo do BDI se baseia na fórmula abaixo utilizada pelo Acórdão 2622/13 do TCU.",{"$nulls":4},"Construção de Rodovias e Ferrovias - Infra Urbana, praças, etc.",{"$nulls":5},19.600000000000001,20.97,24.23,null,"COFINS",0.03]
[null,"B.D.I  =",{"$f":"ROUND(((1+(C11+C12+C13)/100)*((1+C14/100)*(1+C15/100))/(1-(C16+C17)/100))-1,4)","v":0.2467},null,null,null,"Rede de Abastecimento de Água, Coleta de Esgotos",{"$nulls":5},20.76,24.18,26.44,null,"ISS Fco DUM",0.05]
[null,"Fórmula Utilizada:",{"$nulls":4},"Estações e Redes de Distribuição de Energia Elétrica",{"$nulls":5},24,25.84,27.86,null,null,{"$f":"SUM(R21:R23)","v":8.6499999999999994E-2},8.6499999999999994E-2,"C/ ISS MOC"]
[{"$nulls":6},"Obras Portuárias, Marítimas e Fluviais",{"$nulls":5},22.8,27.48,30.95]
[{"$nulls":6},"Fornecimento de Materiais e Equipamentos",{"$nulls":5},11.1,14.02,16.8]
[]
[]
[]
[null,"Prencher as células 16 a 22 da coluna C com os percentuais"]
[null,"Indicar nas céluas 35 a 40 conforme os percentuais indicados na coluna C e os padrões do Acordão do TCU"]
[]
[null,"Acórdão: \n64.1. para alguns tipos de obras como construção e reforma de edifícios, ou saneamento e obras hídricas, ou ainda, rodoviárias e ferroviárias, não há aparente vantagem em se desagregar em dois tipos distintos de obras com BDIs específicos, tendo em vista que cada agrupamento desses possui mais características gerais comuns que diferenciadas;"]
[]
[null,"Na composição do item Impostos (I) - PIS, COFINS, ISSQN, foram utilizados os seguintes percentuais: PIS = 0,65%, COFINS = 3,00% e ISSQN = 5,00% da cidade de Francisco Dumont/MG."]
[null,"Lei Complementar 1065/2017, de 14 de novembro de 2017."]

{"sheet":"CURVA ABC","index":12,"n_rows":542,"n_cols":15,"rows_kept":542,"cut":false,"hidden":false,"merged":[[0,0,0,9],[3,7,4,8],[3,9,4,9],[5,0,5,9],[6,0,7,0],[6,1,7,1],[6,2,7,2],[6,3,7,3],[6,4,7,4],[6,5,7,5],[7,13,8,13],[7,14,8,14],[1,7,1,8],[2,7,2,8],[7,12,8,12],[6,6,6,7],[6,8,6,9]]}
["PLANILHA DE CUSTOS – PONTES E GALERIAS – PROJETO JEQUITAÍ – OAE E PAVIMENTAÇÃO",{"$nulls":10},"CLASSE","CORTE","PROP          ITENS","PROP VALOR"]
["OBRA:",null,"OBRAS DE ARTE ESPECIAIS E PAVIMENTAÇÃO (PONTES E GALERIAS)",{"$nulls":4},"DATA:",null,"SETEMBRO.2020 ",null,"A",0.8,{"$f":"COUNTIF($O$10:$O$535,L2)/COUNTA($O$10:$O$535)","v":0.13878326996197718},{"$f":"SUMIF($O$10:$O$535,L2,$M$10:$M$535)","v":0.7994754068705886}]
["LOCAL:",null,"ÁREA DE INTERFERÊNCIA DIRETA DA BARRAGEM JEQUITAÍ I - MUNICÍPIO DE FRANCISCO DUMONT/MG",{"$nulls":4},"VALOR TOTAL C/BDI (R$):",null,{"$f":"'PLANILHA UNIFICADA'!J3","v":30440349.109999999},null,"B",0.95,{"$f":"COUNTIF($O$10:$O$535,L3)/COUNTA($O$10:$O$535)","v":0.22053231939163498},{"$f":"SUMIF($O$10:$O$535,L3,$M$10:$M$535)","v":0.14994599744917322}]
["DATA BASE TABELAS:",null,"SINAPI JUL2020  /  DEER-MG ABR2020 / SICRO-MG JAN2020 / SIURB JAN2020 / DER-SP-JUN2020 / ORSE MAI2020",{"$nulls":4},"BDI (%):",null,{"$f":"BDI!$C$23","v":0.2467},null,"C",1,0.64068441064638781,5.0578595680238571E-2]
["PRAZO EXECUÇÃO:",null,"18 (DEZOITO) MESES",{"$nulls":10},{"$f":"SUM(N2:N4)","v":1},{"$f":"SUM(O2:O4)","v":1.0000000000000004}]
[]
["Item","Código","Fonte","Especificação","Unidade","Quantidade","Preço Unitário (R$)",null,"Preço Total"]
[{"$nulls":6},"Sem BDI","Com BDI","Sem BDI","Com BDI",null,null,"% INDIV.","%ACUM.","CLASSIF."]
[]
["1.1.1","C1","CPU","ADMINISTRAÇÃO LOCAL E MANUTENÇÃO DO CANTEIRO DE OBRAS - PRAZO DE OBRA IGUAL A 18 MESES","gl",1,{"$f":"VLOOKUP(B10,'PREÇO UNITÁRIO'!$B$4:$F$124,5,0)","v":2476647.04},{"$f":"G10*(1+$J$4)","v":3087635.8647679999},{"$f":"ROUND(F10*G10,2)","v":2476647.04},{"$f":"ROUND(F10*H10,2)","v":3087635.86},null,null,{"$f":"SUM(J10/$J$3)","v":0.10143234063585942},{"$f":"M10","v":0.10143234063585942},{"$f":"IF(N10<=$M$2,\"A\",IF(N10<=$M$3,\"B\",\"C\"))","v":"A"}]
["1.2.2","98529","SINAPI","CORTE RASO E RECORTE DE ÁRVORE COM DIÂMETRO DE TRONCO MAIOR OU IGUAL A 0,20 M E MENOR QUE 0,40","unid.",30515,{"$f":"VLOOKUP(B11,'PREÇO UNITÁRIO'!$B$4:$F$124,5,0)","v":53.77},67.035059000000004,1640791.55,2045574.83,null,null,{"$f":"SUM(J11/$J$3)","v":6.7199453679327406E-2},{"$f":"N10+M11","v":0.16863179431518682},{"$f":"IF(N11<=$M$2,\"A\",IF(N11<=$M$3,\"B\",\"C\"))","v":"A"}]
["6.2.1.8",5406023,"(DNIT/MG)","MURO DE ESCAMA DE CONCRETO ARMADO EM SOLO REFORÇADO COM FITA METÁLICA COM ALTURA ATÉ 4 M - TIPO 1 - AREIA E BRITA COMERCIAIS","m²",3915.7,{"$f":"VLOOKUP(B12,'PREÇO UNITÁRIO'!$B$4:$F$124,5,0)","v":340.3},424.25200999999998,1332512.71,1661243.6,null,null,{"$f":"SUM(J12/$J$3)","v":5.4573736785898518E-2},{"$f":"N11+M12","v":0.22320553110108535},"A"]
["6.4.1.16","RO-41344","DEER/MG","TRANSPORTE DE MATERIAL DE JAZIDA PARA CONSERVAÇÃO. DISTÂNCIA MÉDIA DE TRANSPORTE > 50,10 KM (ESCAVAÇÃO+BASE E SUB BASE) - 17,10KM","m³xkm",1283414.49,{"$f":"VLOOKUP(B13,'PREÇO UNITÁRIO'!$B$4:$F$124,5,0)","v":0.78},0.97242600000000001,1001063.3,1248025.6200000001,null,null,4.0999057385646395E-2,{"$f":"N12+M13","v":0.26420458848673173},"A"]
["6.4.1.12",95995,"SINAPI","CONSTRUÇÃO DE PAVIMENTO COM APLICAÇÃO DE CONCRETO BETUMINOSO USINADO A QUENTE (CBUQ), CAMADA DE ROLAMENTO, COM ESPESSURA DE 5,0 CM - EXCLUSIVE TRANSPORTE. AF_03/2017 (PAVIMENTAÇÃO ESTRADA)","m³",799.02300000000002,{"$f":"VLOOKUP(B14,'PREÇO UNITÁRIO'!$B$4:$F$124,5,0)","v":997.69},1243.820123,797177.26,993840.89,null,null,3.2648800656281306E-2,0.29685338914301301,"A"]
["6.4.1.3","RO-40251","DEER/MG","COMPACTAÇÃO DE ATERRO A 100% PROCTOR NORMAL","m³",251888.76,{"$f":"VLOOKUP(B15,'PREÇO UNITÁRIO'!$B$4:$F$124,5,0)","v":3.14},3.9146380000000001,790930.71,986053.31,null,null,3.2392969818998245E-2,0.32924635896201127,"A"]
["6.6.4.1","RO-41763","DEER/MG","DEFENSA SINGELA SEMI-MALEÁVEL SV-DSM-02 (EXECUÇÃO, INCLUINDO FORNECIMENTO, COLOCAÇÃO E TRANSPORTE DE TODOS OS MATERIAIS)","m",2466,{"$f":"VLOOKUP(B16,'PREÇO UNITÁRIO'!$B$4:$F$124,5,0)","v":265.94},331.54739799999999,655808.04,817595.88,null,null,2.6858952144258111E-2,0.35610531110626936,"A"]
["6.4.1.2","83338","SINAPI","ESCAVACAO MECANICA, A CEU ABERTO, EM MATERIAL DE 1A CATEGORIA, COM ESCAVADEIRA HIDRAULICA, CAPACIDADE DE 0,78 M3 - CORTE JAZIDA","m³",251888.76,{"$f":"VLOOKUP(B17,'PREÇO UNITÁRIO'!$B$4:$F$124,5,0)","v":2.12},2.6430039999999999,534004.17000000004,665743,null,null,2.1870412773331037E-2,0.37797572387960038,"A"]
["6.2.2.1",92263,"SINAPI","FABRICAÇÃO DE FÔRMA PARA PILARES E ESTRUTURAS SIMILARES, EM CHAPA DE MADEIRA COMPENSADA RESINADA, E = 17 MM. AF_12/2015","m²",5975.81,{"$f":"VLOOKUP(B18,'PREÇO UNITÁRIO'!$B$4:$F$124,5,0)","v":89.2},111.20564,533042.25,664543.78,null,null,2.1831017035927814E-2,0.3998067409155282,"A"]
["9.7.1.7","73698","SINAPI","ENROCAMENTO MANUAL, COM ARRUMACAO DO MATERIAL","m³",4812.3599999999997,{"$f":"VLOOKUP(B19,'PREÇO UNITÁRIO'!$B$4:$F$124,5,0)","v":89.82},111.97859399999999,432246.18,538881.31000000006,null,null,1.7702862344077763E-2,0.41750960325960595,"A"]
["6.2.1.9",5406025,"(DNIT/MG)","MURO DE ESCAMA DE CONCRETO ARMADO EM SOLO REFORÇADO COM FITA METÁLICA COM ALTURA DE 4 A 6M - TIPO 1 - AREIA E BRITA COMERCIAIS","m²",1313.24,{"$f":"VLOOKUP(B20,'PREÇO UNITÁRIO'!$B$4:$F$124,5,0)","v":310.44},387.02554799999996,407682.23,508257.43,null,null,1.6696833146142589E-2,0.43420643640574852,"A"]
["1.2.8","97916","SINAPI","TRANSPORTE COM CAMINHÃO BASCULANTE DE 6 M3, EM VIA URBANA EM LEITO NATURAL TXKM (UNIDADE: TXKM). AF_01/2018","txkm",296462,{"$f":"VLOOKUP(B21,'PREÇO UNITÁRIO'!$B$4:$F$124,5,0)","v":1.35},1.6830449999999999,400223.7,498958.89,null,null,1.6391365558816352E-2,0.45059780196456489,"A"]
["9.8.1.13","C4","CPU","PROTEÇÃO DE TALUDE REVESTIMENTO VEGETAL","m²",21600,{"$f":"VLOOKUP(B22,'PREÇO UNITÁRIO'!$B$4:$F$124,5,0)","v":18.217180000000003},22.711358306000001,393491.09,490565.34,null,null,1.6115627919616852E-2,0.46671342988418174,"A"]
["9.7.1.10","RO-41352   OBR-VIA-370","DEER/MG","TRANSPORTE DE ROCHAS E MATERIAL DE 3A CATEGORIA, DISTÂNCIA MÉDIA DE TRANSPORTE > 50,10 KM","m³xkm",496539.68,{"$f":"VLOOKUP(B23,'PREÇO UNITÁRIO'!$B$4:$F$124,5,0)","v":0.73},0.91009099999999987,362473.97,451896.29,null,null,1.4845305760686789E-2,0.48155873564486851,"A"]
["9.7.1.9","RO-41344","DEER/MG","TRANSPORTE DE MATERIAL DE JAZIDA PARA CONSERVAÇÃO. DISTÂNCIA MÉDIA DE TRANSPORTE > 50,10 KM (ESCAVAÇÃO+BASE E SUB BASE) - 5,00KM","m³xkm",376047.05000000005,{"$f":"VLOOKUP(B24,'PREÇO UNITÁRIO'!$B$4:$F$124,5,0)","v":0.78},0.97242600000000001,293316.7,365677.93,null,null,1.2012934828000072E-2,0.4935716704728686,"A"]
["7.4.1.1","73698","SINAPI","ENROCAMENTO MANUAL, COM ARRUMACAO DO MATERIAL","m³",3169.8,{"$f":"VLOOKUP(B25,'PREÇO UNITÁRIO'!$B$4:$F$124,5,0)","v":89.82},111.97859399999999,284711.44,354949.75,null,null,1.1660501944880618E-2,0.5052321724177492,"A"]
["4.1.8.1","92757","SINAPI","PROTEÇÃO SUPERFICIAL DE CANAL EM GABIÃO TIPO COLCHÃO, ALTURA DE 30 CENTÍMETROS, ENCHIMENTO COM PEDRA DE MÃO TIPO RACHÃO - FORNECIMENTO E EXECUÇÃO","m²",1281.3499999999999,{"$f":"VLOOKUP(B26,'PREÇO UNITÁRIO'!$B$4:$F$124,5,0)","v":182.17},227.11133899999996,233423.53,291009.11,null,null,9.5599793861891099E-3,0.51479215180393834,"A"]
["6.2.1.10",5406027,"(DNIT/MG)","MURO DE ESCAMA DE CONCRETO ARMADO EM SOLO REFORÇADO COM FITA METÁLICA COM ALTURA DE 6 A 8M - TIPO 1 - AREIA E BRITA COMERCIAIS","m²",716.59,{"$f":"VLOOKUP(B27,'PREÇO UNITÁRIO'!$B$4:$F$124,5,0)","v":304.75},379.931825,218380.79999999999,272255.34999999998,null,null,8.9438970957977943E-3,0.52373604889973613,"A"]
["7.3.1.8","RO-41344","DEER/MG","TRANSPORTE DE MATERIAL DE JAZIDA PARA CONSERVAÇÃO. DISTÂNCIA MÉDIA DE TRANSPORTE > 50,10 KM (ESCAVAÇÃO+BASE E SUB BASE) - 5,0KM","m³xkm",278550.3,{"$f":"VLOOKUP(B28,'PREÇO UNITÁRIO'!$B$4:$F$124,5,0)","v":0.78},0.97242600000000001,217269.23,270869.55,null,null,8.8983719937369664E-3,0.53263442089347313,"A"]
["7.4.1.5","92755","SINAPI","PROTEÇÃO SUPERFICIAL DE CANAL EM GABIÃO TIPO COLCHÃO, ALTURA DE 17 CENTÍMETROS, ENCHIMENTO COM PEDRA DE MÃO TIPO RACHÃO - FORNECIMENTO E EXECUÇÃO","m²",1584,{"$f":"VLOOKUP(B29,'PREÇO UNITÁRIO'!$B$4:$F$124,5,0)","v":136.43},170.08728099999999,216105.12,269418.25,null,null,8.8506951423724979E-3,0.54148511603584559,"A"]
["6.2.2.23",4507956,"DNIT/MG","CORDOALHA CP 190 RB D = 12,7 MM - FORNECIMENTO, PREPARO E COLOCAÇÃO ","Kg",23155.200000000001,{"$f":"VLOOKUP(B30,'PREÇO UNITÁRIO'!$B$4:$F$124,5,0)","v":9.19},11.457172999999999,212796.29,265293.13,null,null,8.7151802708086614E-3,0.55020029630665424,"A"]
["6.2.2.14",92796,"SINAPI","CORTE E DOBRA DE AÇO CA-50, DIÂMETRO DE 16,0 MM, UTILIZADO EM ESTRUTURAS DIVERSAS","kg",43652,{"$f":"VLOOKUP(B31,'PREÇO UNITÁRIO'!$B$4:$F$124,5,0)","v":4.87},6.0714289999999993,212585.24,265030.02,null,null,8.7065368088349113E-3,0.55890683311548917,"A"]
["9.7.1.14","C4","CPU","PROTEÇÃO DE TALUDE REVESTIMENTO VEGETAL","m²",11200,{"$f":"VLOOKUP(B32,'PREÇO UNITÁRIO'!$B$4:$F$124,5,0)","v":18.217180000000003},22.711358306000001,204032.42,254367.21,null,null,8.3562514043716233E-3,0.56726308451986074,"A"]
["7.2.2.16",92798,"SINAPI","CORTE E DOBRA DE AÇO CA-50, DIÂMETRO DE 25,0 MM, UTILIZADO EM ESTRUTURAS DIVERSAS","kg",34516,{"$f":"VLOOKUP(B33,'PREÇO UNITÁRIO'!$B$4:$F$124,5,0)","v":5.7},7.1061899999999998,196741.2,245277.25,null,null,8.0576359066599421E-3,0.57532072042652072,"A"]
["9.7.1.5","RO-40251","DEER/MG","COMPACTAÇÃO DE ATERRO A 100% PROCTOR NORMAL","m³",60167.53,{"$f":"VLOOKUP(B34,'PREÇO UNITÁRIO'!$B$4:$F$124,5,0)","v":3.14},3.9146380000000001,188926.04,235534.1,null,null,7.7375623764651368E-3,0.58305828280298588,"A"]
["6.2.2.25",4507755,"DNIT/MG","ANCORAGEM ATIVA PARA 12 CORDOALHAS D = 12,7 MM COM PLACA DE ANCORAGEM, BLOCO, CUNHAS TRIPARTIDAS, TROMBETA E PROTENSÃO","unid.",120,{"$f":"VLOOKUP(B35,'PREÇO UNITÁRIO'!$B$4:$F$124,5,0)","v":1458},1817.6886,174960,218122.63,null,null,7.1655758352766148E-3,0.59022385863826254,"A"]
["9.8.1.8","RO-41344","DEER/MG","TRANSPORTE DE MATERIAL DE JAZIDA PARA CONSERVAÇÃO. DISTÂNCIA MÉDIA DE TRANSPORTE > 50,10 KM (ESCAVAÇÃO+BASE E SUB BASE) - 5,0KM","m³",222417.59999999998,{"$f":"VLOOKUP(B36,'PREÇO UNITÁRIO'!$B$4:$F$124,5,0)","v":0.78},0.97242600000000001,173485.73,216284.66,null,null,7.1051964357711009E-3,0.59732905507403367,"A"]
["6.2.2.7",1106281,"DNIT/MG","CONCRETO PARA BOMBEAMENTO FCK = 35 MPA - CONFECÇÃO EM CENTRAL DOSADORA DE 30 M³/H - AREIA E BRITA COMERCIAIS","m³",607.67999999999995,{"$f":"VLOOKUP(B37,'PREÇO UNITÁRIO'!$B$4:$F$124,5,0)","v":285.42},355.83311400000002,173444.03,216232.67,null,null,7.1034885052932957E-3,0.60443254357932696,"A"]
["9.8.1.9","RO-41352   OBR-VIA-370","DEER/MG","TRANSPORTE DE ROCHAS E MATERIAL DE 3A CATEGORIA, DISTÂNCIA MÉDIA DE TRANSPORTE > 50,10 KM - 138KM","m³xkm",224054.1,{"$f":"VLOOKUP(B38,'PREÇO UNITÁRIO'!$B$4:$F$124,5,0)","v":0.73},0.91009099999999987,163559.49,203909.62,null,null,6.698662333442601E-3,0.61113120591276959,"A"]
["6.2.2.24",4508176,"DNIT/MG","BAINHA METÁLICA DIÂMETRO 95 MM PARA 19 CORDOALHAS D = 15,2 MM, SEMI-RÍGIDA, REDONDA, COM MONTAGEM E INJEÇÃO DE NATA DE CIMENTO","m",2381.7600000000002,{"$f":"VLOOKUP(B39,'PREÇO UNITÁRIO'!$B$4:$F$124,5,0)","v":68.38},85.249345999999989,162864.75,203043.48,null,null,6.6702086518875678E-3,0.6178014145646572,"A"]
["4.2.2.1",92263,"SINAPI","FABRICAÇÃO DE FÔRMA PARA PILARES E ESTRUTURAS SIMILARES, EM CHAPA DE MADEIRA COMPENSADA RESINADA, E = 17 MM. AF_12/2015","m²",1819.4582197756699,{"$f":"VLOOKUP(B40,'PREÇO UNITÁRIO'!$B$4:$F$124,5,0)","v":89.2},111.20564,162295.67000000001,202334.02,null,null,6.6469020860713771E-3,0.62444831665072853,"A"]
["9.7.1.6","83338","SINAPI","ESCAVACAO MECANICA, A CEU ABERTO, EM MATERIAL DE 1A CATEGORIA, COM ESCAVADEIRA HIDRAULICA, CAPACIDADE DE 0,78 M3 - CORTE JAZIDA","m³",75209.41,{"$f":"VLOOKUP(B41,'PREÇO UNITÁRIO'!$B$4:$F$124,5,0)","v":2.12},2.6430039999999999,159443.95000000001,198778.77,null,null,6.5301080904718962E-3,0.63097842474120047,"A"]
["7.2.2.1",92263,"SINAPI","FABRICAÇÃO DE FÔRMA PARA PILARES E ESTRUTURAS SIMILARES, EM CHAPA DE MADEIRA COMPENSADA RESINADA, E = 17 MM. AF_12/2015","m²",1765.49,{"$f":"VLOOKUP(B42,'PREÇO UNITÁRIO'!$B$4:$F$124,5,0)","v":89.2},111.20564,{"$f":"ROUND(F42*G42,2)","v":157481.71},196332.45,null,null,6.449743703350057E-3,0.63742816844455052,"A"]
["9.8.1.7","73698","SINAPI","ENROCAMENTO MANUAL, COM ARRUMACAO DO MATERIAL","m³",1659.66,{"$f":"VLOOKUP(B43,'PREÇO UNITÁRIO'!$B$4:$F$124,5,0)","v":89.82},111.97859399999999,149070.66,185846.39,null,null,6.1052647368931576E-3,0.64353343318144374,"A"]
["7.5.4.1","RO-41763","DEER/MG","DEFENSA SINGELA SEMI-MALEÁVEL SV-DSM-02 (EXECUÇÃO, INCLUINDO FORNECIMENTO, COLOCAÇÃO E TRANSPORTE DE TODOS OS MATERIAIS)","m",560,{"$f":"VLOOKUP(B44,'PREÇO UNITÁRIO'!$B$4:$F$124,5,0)","v":265.94},331.54739799999999,148926.39999999999,185666.54,null,null,6.0993564603701094E-3,0.64963278964181381,"A"]
["8.5.4.1","RO-41763","DEER/MG","DEFENSA SINGELA SEMI-MALEÁVEL SV-DSM-02 (EXECUÇÃO, INCLUINDO FORNECIMENTO, COLOCAÇÃO E TRANSPORTE DE TODOS OS MATERIAIS)","m",560,{"$f":"VLOOKUP(B45,'PREÇO UNITÁRIO'!$B$4:$F$124,5,0)","v":265.94},331.54739799999999,148926.39999999999,185666.54,null,null,6.0993564603701094E-3,0.65573214610218389,"A"]
["5.2.2.1",92263,"SINAPI","FABRICAÇÃO DE FÔRMA PARA PILARES E ESTRUTURAS SIMILARES, EM CHAPA DE MADEIRA COMPENSADA RESINADA, E = 17 MM. AF_12/2015","m²",1572.2940000000001,{"$f":"VLOOKUP(B46,'PREÇO UNITÁRIO'!$B$4:$F$124,5,0)","v":89.2},111.20564,140248.62,174847.96,null,null,5.7439538347002876E-3,0.66147609993688417,"A"]
["7.3.1.2","RO-40251","DEER/MG","COMPACTAÇÃO DE ATERRO A 100% PROCTOR NORMAL","m³",43934.45,{"$f":"VLOOKUP(B47,'PREÇO UNITÁRIO'!$B$4:$F$124,5,0)","v":3.14},3.9146380000000001,137954.17000000001,171987.47,null,null,5.6499834932412177E-3,0.66712608343012536,"A"]
["8.4.1.2","92755","SINAPI","PROTEÇÃO SUPERFICIAL DE CANAL EM GABIÃO TIPO COLCHÃO, ALTURA DE 17 CENTÍMETROS, ENCHIMENTO COM PEDRA DE MÃO TIPO RACHÃO - FORNECIMENTO E EXECUÇÃO","m²",1008,{"$f":"VLOOKUP(B48,'PREÇO UNITÁRIO'!$B$4:$F$124,5,0)","v":136.43},170.08728099999999,137521.44,171447.98,null,null,5.632260634740139E-3,0.67275834406486545,"A"]
["3.1.3","97916","SINAPI","TRANSPORTE COM CAMINHÃO BASCULANTE DE 6 M3, EM VIA URBANA EM LEITO NATURAL TXKM (UNIDADE: TXKM). AF_01/2018","txkm",98746.880000000005,{"$f":"VLOOKUP(B49,'PREÇO UNITÁRIO'!$B$4:$F$124,5,0)","v":1.35},1.6830449999999999,133308.29,166195.44,null,null,5.4597087372234808E-3,0.67821805280208891,"A"]
["4.4.1.12",95995,"SINAPI","CONSTRUÇÃO DE PAVIMENTO COM APLICAÇÃO DE CONCRETO BETUMINOSO USINADO A QUENTE (CBUQ), CAMADA DE ROLAMENTO, COM ESPESSURA DE 5,0 CM - EXCLUSIVE TRANSPORTE. AF_03/2017 (PAVIMENTAÇÃO ESTRADA)","m³",131.94999999999999,{"$f":"VLOOKUP(B50,'PREÇO UNITÁRIO'!$B$4:$F$124,5,0)","v":997.69},1243.820123,131645.20000000001,164122.07,null,null,5.3915961806786259E-3,0.68360964898276755,"A"]
["6.2.2.12",92794,"SINAPI","CORTE E DOBRA DE AÇO CA-50, DIÂMETRO DE 10,0 MM, UTILIZADO EM ESTRUTURAS DIVERSAS","kg",21632,{"$f":"VLOOKUP(B51,'PREÇO UNITÁRIO'!$B$4:$F$124,5,0)","v":5.82},7.2557939999999999,125898.24000000001,156957.34,null,null,5.1562266724607874E-3,0.68876587565522829,"A"]
["6.2.2.21","73770/001","SINAPI","BARREIRA PRE-MOLDADA EXTERNA CONCRETO ARMADO 0,25X0,40X1,14M FCK=25MPA ACO CA-50 INCL VIGOTA HORIZONTAL MONTANTE A CADA 1,00M FERROS DE LIGACAO E MATERIAIS.","m",256.24,{"$f":"VLOOKUP(B52,'PREÇO UNITÁRIO'!$B$4:$F$124,5,0)","v":468.97},584.66489899999999,120168.87,149814.53,null,null,4.9215772611091455E-3,0.69368745291633749,"A"]
["7.3.1.1","83338","SINAPI","ESCAVACAO MECANICA, A CEU ABERTO, EM MATERIAL DE 1A CATEGORIA, COM ESCAVADEIRA HIDRAULICA, CAPACIDADE DE 0,78 M3 - CORTE JAZIDA","m³",54918.06,{"$f":"VLOOKUP(B53,'PREÇO UNITÁRIO'!$B$4:$F$124,5,0)","v":2.12},2.6430039999999999,116426.29,145148.65,null,null,4.7682978101035323E-3,0.69845575072644106,"A"]
["6.2.2.26","26.13.01.99","DER/SP","LANCAMENTO VIGA P<=50T-GUINDASTE AUTO PROPULSADO      ","unid.",12,{"$f":"VLOOKUP(B54,'PREÇO UNITÁRIO'!$B$4:$F$124,5,0)","v":9481.2000000000007},11820.21204,113774.39999999999,141842.54,null,null,4.6596883461301414E-3,0.70311543907257124,"A"]
["8.4.1.1","RO-41352   OBR-VIA-370","DEER/MG","TRANSPORTE DE ROCHAS E MATERIAL DE 3A CATEGORIA, DISTÂNCIA MÉDIA DE TRANSPORTE > 50,10 KM","m³xkm",154560,{"$f":"VLOOKUP(B55,'PREÇO UNITÁRIO'!$B$4:$F$124,5,0)","v":0.73},0.91009099999999987,112828.8,140663.66,null,null,4.6209608008007507E-3,0.707736399873372,"A"]
["6.4.1.6","96401","SINAPI","EXECUÇÃO DE IMPRIMAÇÃO COM ASFALTO DILUÍDO CM-30. AF_09/2017","m²",16941.739999999998,{"$f":"VLOOKUP(B56,'PREÇO UNITÁRIO'!$B$4:$F$124,5,0)","v":6.65},8.2905549999999995,112662.57,140456.43,null,null,4.6141530602176462E-3,0.71235055293358962,"A"]
["6.4.1.14",93176,"SINAPI","TRANSPORTE DE MATERIAL ASFALTICO, COM CAMINHÃO COM CAPACIDADE DE 30000 L EM RODOVIA PAVIMENTADA. AF_02/2016 (P/ ITEM 2.1.12) (ORIUNDO D MONTES CLAROS/MG DIST. 111KM)","txkm",238468.22639999999,{"$f":"VLOOKUP(B57,'PREÇO UNITÁRIO'!$B$4:$F$124,5,0)","v":0.47},0.58594899999999994,112080.07,139730.22,null,null,4.5902962379001438E-3,0.71694084917148981,"A"]
["9.7.2.11",92263,"SINAPI","FABRICAÇÃO DE FÔRMA PARA PILARES E ESTRUTURAS SIMILARES, EM CHAPA DE MADEIRA COMPENSADA RESINADA, E = 17 MM. AF_12/2015","m²",1190.58,{"$f":"VLOOKUP(B58,'PREÇO UNITÁRIO'!$B$4:$F$124,5,0)","v":89.2},111.20564,106199.74,132399.21,null,null,4.3494642430531574E-3,0.72129031341454297,"A"]
["7.1.6.1","ED-14723","DEER/MG","CANALETA PARA DRENAGEM, EM CONCRETO COM FCK 15MPA, MOLDADA IN LOCO, SEÇÃO 60X60CM, FORMA EM CONTRA BARRANCO, EXCLUSIVE TAMPA, INCLUSIVE ESCAVAÇÃO, REATERRO COM TRANSPORTE E RETIRADA DO MATERIAL ESCAVADO (EM CAÇAMBA)","m",440,{"$f":"VLOOKUP(B59,'PREÇO UNITÁRIO'!$B$4:$F$124,5,0)","v":236.98},295.44296599999996,104271.2,129994.91,null,null,4.2704802605990876E-3,0.72556079367514204,"A"]
["9.7.1.8","RO-40182","DEER/MG","ESCAVAÇÃO, CARGA, DESCARGA, ESPALHAMENTO E TRANSPORTE DE MATERIAL DE 3ª CATEGORIA. DISTÂNCIA MÉDIA DE TRANSPORTE ATÉ 200 M","m³",3705.52,{"$f":"VLOOKUP(B60,'PREÇO UNITÁRIO'!$B$4:$F$124,5,0)","v":26.31},32.800676999999993,97492.23,121543.56,null,null,3.9928438258308796E-3,0.72955363750097291,"A"]
["6.4.1.13",95995,"SINAPI","CONSTRUÇÃO DE PAVIMENTO COM APLICAÇÃO DE CONCRETO BETUMINOSO USINADO A QUENTE (CBUQ), CAMADA DE ROLAMENTO, COM ESPESSURA DE 5,0 CM - EXCLUSIVE TRANSPORTE. AF_03/2017 (PAVIMENTAÇÃO OAE)","m³",96.128,{"$f":"VLOOKUP(B61,'PREÇO UNITÁRIO'!$B$4:$F$124,5,0)","v":997.69},1243.820123,95905.94,119565.94,null,null,3.9278767654054676E-3,0.73348151426637842,"A"]
["6.5.1.1","74039/001","SINAPI","CERCA COM MOUROES DE MADEIRA ROLICA, DIAMETRO 11CM, ESPACAMENTO DE 2M, ALTURA LIVRE DE 1M, CRAVADOS 0,5M, COM 5 FIOS DE ARAME FARPADO Nº 14 CLASSE 250","m",3642.23,{"$f":"VLOOKUP(B62,'PREÇO UNITÁRIO'!$B$4:$F$124,5,0)","v":26.27},32.750808999999997,95681.38,119285.98,null,null,3.9186797618169632E-3,0.73740019402819534,"A"]
["9.8.1.5","83338","SINAPI","ESCAVACAO MECANICA, A CEU ABERTO, EM MATERIAL DE 1A CATEGORIA, COM ESCAVADEIRA HIDRAULICA, CAPACIDADE DE 0,78 M3 - CORTE JAZIDA","m³",44483.519999999997,{"$f":"VLOOKUP(B63,'PREÇO UNITÁRIO'!$B$4:$F$124,5,0)","v":2.12},2.6430039999999999,94305.06,117570.12,null,null,3.8623118143338532E-3,0.74126250584252917,"A"]
["7.2.2.13",92795,"SINAPI","CORTE E DOBRA DE AÇO CA-50, DIÂMETRO DE 12,5 MM, UTILIZADO EM ESTRUTURAS DIVERSAS","kg",18964,{"$f":"VLOOKUP(B64,'PREÇO UNITÁRIO'!$B$4:$F$124,5,0)","v":4.95},6.1711650000000002,93871.8,117029.97,null,null,3.8445672740840655E-3,0.74510707311661328,"A"]
["9.8.1.6","RO-40251","DEER/MG","COMPACTAÇÃO DE ATERRO A 100% PROCTOR NORMAL","m³",28426.67,{"$f":"VLOOKUP(B65,'PREÇO UNITÁRIO'!$B$4:$F$124,5,0)","v":3.14},3.9146380000000001,89259.74,111280.12,null,null,3.6556781789156031E-3,0.74876275129552894,"A"]
["6.2.2.13",92795,"SINAPI","CORTE E DOBRA DE AÇO CA-50, DIÂMETRO DE 12,5 MM, UTILIZADO EM ESTRUTURAS DIVERSAS","kg",17666,{"$f":"VLOOKUP(B66,'PREÇO UNITÁRIO'!$B$4:$F$124,5,0)","v":4.95},6.1711650000000002,87446.7,109019.8,null,null,3.5814241027934124E-3,0.75234417539832232,"A"]
["8.2.2.12",92798,"SINAPI","CORTE E DOBRA DE AÇO CA-50, DIÂMETRO DE 25,0 MM, UTILIZADO EM ESTRUTURAS DIVERSAS","kg",15268,{"$f":"VLOOKUP(B67,'PREÇO UNITÁRIO'!$B$4:$F$124,5,0)","v":5.7},7.1061899999999998,87027.6,108497.31,null,null,3.5642597135772469E-3,0.75590843511189953,"A"]
["7.2.1.10",96162,"SINAPI","ESTACA RAIZ Ø 41 cm EM SOLO","m",115.28,{"$f":"VLOOKUP(B68,'PREÇO UNITÁRIO'!$B$4:$F$124,5,0)","v":751.3},936.64570999999989,86609.86,107976.52,null,null,3.5471511712895729E-3,0.7594555862831891,"A"]
["8.3.1.8","RO-41344","DEER/MG","TRANSPORTE DE MATERIAL DE JAZIDA PARA CONSERVAÇÃO. DISTÂNCIA MÉDIA DE TRANSPORTE > 50,10 KM (ESCAVAÇÃO+BASE E SUB BASE)","m³xkm",107831.8,{"$f":"VLOOKUP(B69,'PREÇO UNITÁRIO'!$B$4:$F$124,5,0)","v":0.78},0.97242600000000001,84108.800000000003,104858.45,null,null,3.4447190346300204E-3,0.76290030531781916,"A"]
["5.4.1.12",95995,"SINAPI","CONSTRUÇÃO DE PAVIMENTO COM APLICAÇÃO DE CONCRETO BETUMINOSO USINADO A QUENTE (CBUQ), CAMADA DE ROLAMENTO, COM ESPESSURA DE 5,0 CM - EXCLUSIVE TRANSPORTE. AF_03/2017 (PAVIMENTAÇÃO ESTRADA)","m³",84.22,{"$f":"VLOOKUP(B70,'PREÇO UNITÁRIO'!$B$4:$F$124,5,0)","v":997.69},1243.820123,84025.45,104754.53,null,null,3.4413051447424745E-3,0.76634161046256166,"A"]
["7.2.2.5",1116263,"DNIT/MG","CONCRETO PARA BOMBEAMENTO FCK = 25 MPA - CONFECÇÃO EM CENTRAL DOSADORA DE 30 M³/H - AREIA E BRITA COMERCIAIS","m³",347.09999999999997,{"$f":"VLOOKUP(B71,'PREÇO UNITÁRIO'!$B$4:$F$124,5,0)","v":231.5},288.61104999999998,80353.649999999994,100176.9,null,null,3.290924806348254E-3,0.76963253526890996,"A"]
["6.1.3.1","RO-40613","DEER/MG","SARJETA DE CONCRETO EM ATERRO,TIPO DR.SCA- X/Y. LARGURA=60CM TIPO 30/10 (EXECUÇÃO, INCLUINDO ESCAVAÇÃO, FORNECIMENTO, TRANSPORTE E PLANTIO DA GRAMA)","m",2725,{"$f":"VLOOKUP(B72,'PREÇO UNITÁRIO'!$B$4:$F$124,5,0)","v":29.3},36.528309999999998,79842.5,99539.64,null,null,3.2699900924362296E-3,0.77290252536134618,"A"]
["6.2.2.22","ED-50429","DEER/MG","LANÇAMENTO DE TABULEIRO PRÉ-MOLDADO","unid.",1198,{"$f":"VLOOKUP(B73,'PREÇO UNITÁRIO'!$B$4:$F$124,5,0)","v":63.14},78.716637999999989,75641.72,94302.53,null,null,3.0979450879234675E-3,0.77600047044926967,"A"]
["4.6.4.1","RO-41763","DEER/MG","DEFENSA SINGELA SEMI-MALEÁVEL SV-DSM-02 (EXECUÇÃO, INCLUINDO FORNECIMENTO, COLOCAÇÃO E TRANSPORTE DE TODOS OS MATERIAIS)","m",275,{"$f":"VLOOKUP(B74,'PREÇO UNITÁRIO'!$B$4:$F$124,5,0)","v":265.94},{"$f":"G74*(1+$J$4)","v":331.54739799999999},{"$f":"ROUND(F74*G74,2)","v":73133.5},{"$f":"ROUND(F74*H74,2)","v":91175.53},null,null,2.9952195906336634E-3,0.77899569003990332,"A"]
["6.2.2.6",1106280,"DNIT/MG","CONCRETO PARA BOMBEAMENTO FCK = 30 MPA - CONFECÇÃO EM CENTRAL DOSADORA DE 30 M³/H - AREIA E BRITA COMERCIAIS","m³",254.24,{"$f":"VLOOKUP(B75,'PREÇO UNITÁRIO'!$B$4:$F$124,5,0)","v":270.39999999999998},337.10767999999996,68746.5,85706.26,null,null,2.8155478667570379E-3,0.78181123790666041,{"$f":"IF(N75<=$M$2,\"A\",IF(N75<=$M$3,\"B\",\"C\"))","v":"A"}]
["7.4.1.2","RO-40182","DEER/MG","ESCAVAÇÃO, CARGA, DESCARGA, ESPALHAMENTO E TRANSPORTE DE MATERIAL DE 3ª CATEGORIA. DISTÂNCIA MÉDIA DE TRANSPORTE ATÉ 200 M","m³",2440.75,{"$f":"VLOOKUP(B76,'PREÇO UNITÁRIO'!$B$4:$F$124,5,0)","v":26.31},32.800676999999993,64216.13,80058.25,null,null,{"$f":"SUM(J76/$J$3)","v":2.6300043311165561E-3},{"$f":"N75+M76","v":0.784441242237777},"A"]
["4.2.2.12",92794,"SINAPI","CORTE E DOBRA DE AÇO CA-50, DIÂMETRO DE 10,0 MM, UTILIZADO EM ESTRUTURAS DIVERSAS","kg",10991,{"$f":"VLOOKUP(B77,'PREÇO UNITÁRIO'!$B$4:$F$124,5,0)","v":5.82},7.2557939999999999,63967.62,79748.429999999993,null,null,2.6198263926546666E-3,0.78706106863043168,"A"]
["1.2.7","72898","SINAPI","CARGA E DESCARGA MECANIZADAS DE ENTULHO EM CAMINHAO BASCULANTE 6 M3 ","m³",12236.34,{"$f":"VLOOKUP(B78,'PREÇO UNITÁRIO'!$B$4:$F$124,5,0)","v":5.16},6.4329719999999995,63139.51,78716.03,null,null,2.5859108814931722E-3,0.78964697951192486,"A"]
["7.4.1.9","C4","CPU","PROTEÇÃO DE TALUDE REVESTIMENTO VEGETAL","m²",3360,{"$f":"VLOOKUP(B79,'PREÇO UNITÁRIO'!$B$4:$F$124,5,0)","v":18.217180000000003},22.711358306000001,61209.72,76310.16,null,null,2.5068753227580841E-3,0.79215385483468292,"A"]
["6.6.1.5","85424","SINAPI","ISOLAMENTO DE OBRA COM TELA PLASTICA COM MALHA DE 5MM E ESTRUTURA DE MADEIRA PONTALETEADA","m",2908.64,{"$f":"VLOOKUP(B80,'PREÇO UNITÁRIO'!$B$4:$F$124,5,0)","v":20.83},25.968760999999997,60586.97,75533.78,null,null,2.4813703590273969E-3,0.79463522519371033,"A"]
["6.2.1.11",5406029,"(DNIT/MG)","MURO DE ESCAMA DE CONCRETO ARMADO EM SOLO REFORÇADO COM FITA METÁLICA COM ALTURA DE 8 A 10M - TIPO 1 - AREIA E BRITA COMERCIAIS","m²",198.44,{"$f":"VLOOKUP(B81,'PREÇO UNITÁRIO'!$B$4:$F$124,5,0)","v":301.58999999999997},375.99225299999995,59847.519999999997,74611.899999999994,null,null,2.4510855552405324E-3,0.79708631074895087,"A"]
["6.3.2.2","72884","SINAPI","TRANSPORTE COMERCIAL COM CAMINHAO CARROCERIA 9 T (145KM)","m³*km",79909.5,{"$f":"VLOOKUP(B82,'PREÇO UNITÁRIO'!$B$4:$F$124,5,0)","v":0.73},0.91009099999999987,58333.94,72724.92,null,null,2.3890961216377457E-3,0.7994754068705886,"A"]
["7.4.1.6","92743","SINAPI","MURO DE GABIÃO, ENCHIMENTO COM PEDRA DE MÃO TIPO RACHÃO, DE GRAVIDADE, COM GAIOLAS DE COMPRIMENTO MENOR OU IGUAL A 2 M","m³",144,{"$f":"VLOOKUP(B83,'PREÇO UNITÁRIO'!$B$4:$F$124,5,0)","v":401.37},500.38797899999997,57797.279999999999,72055.87,null,null,2.3671170701629312E-3,0.80184252394075151,"B"]
["7.2.2.21","73770/001","SINAPI","BARREIRA PRE-MOLDADA EXTERNA CONCRETO ARMADO 0,25X0,40X1,14M FCK=25MPA ACO CA-50 INCL VIGOTA HORIZONTAL MONTANTE A CADA 1,00M FERROS DE LIGACAO E MATERIAIS.","m",120,{"$f":"VLOOKUP(B84,'PREÇO UNITÁRIO'!$B$4:$F$124,5,0)","v":468.97},584.66489899999999,56276.4,70159.789999999994,null,null,2.3048286912370434E-3,0.80414735263198855,"B"]
["5.2.2.12",92794,"SINAPI","CORTE E DOBRA DE AÇO CA-50, DIÂMETRO DE 10,0 MM, UTILIZADO EM ESTRUTURAS DIVERSAS","kg",9471,{"$f":"VLOOKUP(B85,'PREÇO UNITÁRIO'!$B$4:$F$124,5,0)","v":5.82},7.2557939999999999,55121.22,68719.62,null,null,2.2575174729985215E-3,0.80640487010498707,"B"]
["9.2.2.11",92263,"SINAPI","FABRICAÇÃO DE FÔRMA PARA PILARES E ESTRUTURAS SIMILARES, EM CHAPA DE MADEIRA COMPENSADA RESINADA, E = 17 MM. AF_12/2015","m²",604.02,{"$f":"VLOOKUP(B86,'PREÇO UNITÁRIO'!$B$4:$F$124,5,0)","v":89.2},111.20564,53878.58,67170.429999999993,null,null,2.2066248240869796E-3,0.80861149492907403,"B"]
["6.2.2.3","5914569","DNIT/MG","TRANSPORTE COM CAMINHÃO BETONEIRA - RODOVIA PAVIMENTADA (Entre Bocaiúva/MG e Francisco Dumont/MG - 69,00km)","txkm",149609.66399999999,{"$f":"VLOOKUP(B87,'PREÇO UNITÁRIO'!$B$4:$F$124,5,0)","v":0.36},0.44881199999999993,53859.48,67146.61,null,null,2.2058423100654117E-3,0.8108173372391394,"B"]
["8.2.2.9",92795,"SINAPI","CORTE E DOBRA DE AÇO CA-50, DIÂMETRO DE 12,5 MM, UTILIZADO EM ESTRUTURAS DIVERSAS","kg",10630,{"$f":"VLOOKUP(B88,'PREÇO UNITÁRIO'!$B$4:$F$124,5,0)","v":4.95},6.1711650000000002,52618.5,65599.48,null,null,2.1550173344907476E-3,0.81297235457363015,"B"]
["8.3.1.2","RO-40251","DEER/MG","COMPACTAÇÃO DE ATERRO A 100% PROCTOR NORMAL","m³",16715.490000000002,{"$f":"VLOOKUP(B89,'PREÇO UNITÁRIO'!$B$4:$F$124,5,0)","v":3.14},3.9146380000000001,52486.64,65435.09,null,null,2.1496169365056274E-3,0.81512197151013577,"B"]
["9.7.2.7",92793,"SINAPI","CORTE E DOBRA DE AÇO CA-50, DIÂMETRO DE 8,0 MM, UTILIZADO EM ESTRUTURA S DIVERSAS","KG",8028.68,{"$f":"VLOOKUP(B90,'PREÇO UNITÁRIO'!$B$4:$F$124,5,0)","v":6.38},7.9539459999999993,51222.98,63859.69,null,null,2.0978632593612852E-3,0.817219834769497,"B"]
["9.8.1.3","97916","SINAPI","TRANSPORTE COM CAMINHÃO BASCULANTE DE 6 M3, EM VIA URBANA EM LEITO NATURAL TXKM (UNIDADE: TXKM). AF_01/2018","m³xkm",37800,{"$f":"VLOOKUP(B91,'PREÇO UNITÁRIO'!$B$4:$F$124,5,0)","v":1.35},1.6830449999999999,51030,63619.1,null,null,2.0899596049343732E-3,0.81930979437443141,"B"]
["4.2.2.14",92796,"SINAPI","CORTE E DOBRA DE AÇO CA-50, DIÂMETRO DE 16,0 MM, UTILIZADO EM ESTRUTURAS DIVERSAS","kg",10454,{"$f":"VLOOKUP(B92,'PREÇO UNITÁRIO'!$B$4:$F$124,5,0)","v":4.87},6.0714289999999993,50910.98,63470.720000000001,null,null,2.0850851536111047E-3,0.82139487952804247,"B"]
["7.2.2.12",92794,"SINAPI","CORTE E DOBRA DE AÇO CA-50, DIÂMETRO DE 10,0 MM, UTILIZADO EM ESTRUTURAS DIVERSAS","kg",8696,{"$f":"VLOOKUP(B93,'PREÇO UNITÁRIO'!$B$4:$F$124,5,0)","v":5.82},7.2557939999999999,50610.720000000001,63096.38,null,null,2.0727876599572941E-3,0.8234676671879998,"B"]
["4.2.2.23",4507956,"DNIT/MG","CORDOALHA CP 190 RB D = 12,7 MM - FORNECIMENTO, PREPARO E COLOCAÇÃO ","Kg",5425.2,{"$f":"VLOOKUP(B94,'PREÇO UNITÁRIO'!$B$4:$F$124,5,0)","v":9.19},11.457172999999999,49857.59,62157.45,null,null,2.0419427443287954E-3,0.82550960993232858,"B"]
["4.2.2.7",1106281,"DNIT/MG","CONCRETO PARA BOMBEAMENTO FCK = 35 MPA - CONFECÇÃO EM CENTRAL DOSADORA DE 30 M³/H - AREIA E BRITA COMERCIAIS","m³",173.49720000000002,{"$f":"VLOOKUP(B95,'PREÇO UNITÁRIO'!$B$4:$F$124,5,0)","v":285.42},355.83311400000002,49519.57,61736.05,null,null,2.0280992762898046E-3,0.82753770920861836,"B"]
["2.3.3","02-06-14","SIURB","ENSAIOS DE LABORATÓRIO - ADESIVIDADE","unid.",195,{"$f":"VLOOKUP(B96,'PREÇO UNITÁRIO'!$B$4:$F$124,5,0)","v":247.19},308.17177299999997,48202.05,60093.5,null,null,1.9741396454700517E-3,0.82951184885408835,"B"]
["4.2.2.25",4507755,"DNIT/MG","ANCORAGEM ATIVA PARA 12 CORDOALHAS D = 12,7 MM COM PLACA DE ANCORAGEM, BLOCO, CUNHAS TRIPARTIDAS, TROMBETA E PROTENSÃO","unid.",32,{"$f":"VLOOKUP(B97,'PREÇO UNITÁRIO'!$B$4:$F$124,5,0)","v":1458},1817.6886,46656,58166.04,null,null,1.9108203979464808E-3,0.83142266925203479,"B"]
["5.2.2.25",4507755,"DNIT/MG","ANCORAGEM ATIVA PARA 12 CORDOALHAS D = 12,7 MM COM PLACA DE ANCORAGEM, BLOCO, CUNHAS TRIPARTIDAS, TROMBETA E PROTENSÃO","unid.",32,{"$f":"VLOOKUP(B98,'PREÇO UNITÁRIO'!$B$4:$F$124,5,0)","v":1458},1817.6886,46656,58166.04,null,null,1.9108203979464808E-3,0.83333348964998122,"B"]
["6.2.2.11",92793,"SINAPI","CORTE E DOBRA DE AÇO CA-50, DIÂMETRO DE 8,0 MM, UTILIZADO EM ESTRUTURA S DIVERSAS","kg",7062,{"$f":"VLOOKUP(B99,'PREÇO UNITÁRIO'!$B$4:$F$124,5,0)","v":6.38},7.9539459999999993,45055.56,56170.77,null,null,1.8452735149987903E-3,0.83517876316497996,"B"]
["8.3.1.1","83338","SINAPI","ESCAVACAO MECANICA, A CEU ABERTO, EM MATERIAL DE 1A CATEGORIA, COM ESCAVADEIRA HIDRAULICA, CAPACIDADE DE 0,78 M3 - CORTE JAZIDA","m³",20894.36,{"$f":"VLOOKUP(B100,'PREÇO UNITÁRIO'!$B$4:$F$124,5,0)","v":2.12},2.6430039999999999,44296.04,55223.88,null,null,1.8141671043404139E-3,0.83699293026932042,"B"]
["8.4.1.6","C4","CPU","PROTEÇÃO DE TALUDE REVESTIMENTO VEGETAL","m²",2400,{"$f":"VLOOKUP(B101,'PREÇO UNITÁRIO'!$B$4:$F$124,5,0)","v":18.217180000000003},22.711358306000001,43721.23,54507.26,null,null,1.7906253244018727E-3,0.83878355559372231,"B"]
["7.4.1.4","RO-41352   OBR-VIA-370","DEER/MG","TRANSPORTE DE ROCHAS E MATERIAL DE 3A CATEGORIA, DISTÂNCIA MÉDIA DE TRANSPORTE > 50,10 KM","m³xkm",58136.040000000008,{"$f":"VLOOKUP(B102,'PREÇO UNITÁRIO'!$B$4:$F$124,5,0)","v":0.73},0.91009099999999987,42439.31,52909.09,null,null,1.7381236269270893E-3,0.84052167922064935,"B"]
["5.2.2.7",1106281,"DNIT/MG","CONCRETO PARA BOMBEAMENTO FCK = 35 MPA - CONFECÇÃO EM CENTRAL DOSADORA DE 30 M³/H - AREIA E BRITA COMERCIAIS","m³",145.65,{"$f":"VLOOKUP(B103,'PREÇO UNITÁRIO'!$B$4:$F$124,5,0)","v":285.42},355.83311400000002,41571.42,51827.09,null,null,1.7025786994990216E-3,0.84222425792014832,"B"]
["6.1.1.1","RO-40514","DEER/MG","VALETA DE PROTEÇÃO DE ATERRO TIPO DR.VPA (EXECUÇÃO,INCLUINDO ESCAVAÇÃO)","m",1628,{"$f":"VLOOKUP(B104,'PREÇO UNITÁRIO'!$B$4:$F$124,5,0)","v":25.49},31.778382999999994,41497.72,51735.21,null,null,1.6995603372697325E-3,0.84392381825741802,"B"]
["1.2.3","98530","SINAPI","CORTE RASO E RECORTE DE ÁRVORE COM DIÂMETRO DE TRONCO MAIOR OU IGUAL A 0,40 M E MENOR QUE 0,60","unid.",426,{"$f":"VLOOKUP(B105,'PREÇO UNITÁRIO'!$B$4:$F$124,5,0)","v":95.78},119.40892599999999,40802.28,50868.2,null,null,1.6710780752277647E-3,0.84559489633264584,"B"]
["4.2.2.21","73770/001","SINAPI","BARREIRA PRE-MOLDADA EXTERNA CONCRETO ARMADO 0,25X0,40X1,14M FCK=25MPA ACO CA-50 INCL VIGOTA HORIZONTAL MONTANTE A CADA 1,00M FERROS DE LIGACAO E MATERIAIS.","m",86.24,{"$f":"VLOOKUP(B106,'PREÇO UNITÁRIO'!$B$4:$F$124,5,0)","v":468.97},584.66489899999999,{"$f":"ROUND(F106*G106,2)","v":40443.97},50421.5,null,null,1.6564034734882843E-3,0.84725129980613412,"B"]
["9.7.2.8",92794,"SINAPI","CORTE E DOBRA DE AÇO CA-50, DIÂMETRO DE 10,0 MM, UTILIZADO EM ESTRUTURAS DIVERSAS","KG",6903.2250000000004,{"$f":"VLOOKUP(B107,'PREÇO UNITÁRIO'!$B$4:$F$124,5,0)","v":5.82},7.2557939999999999,40176.769999999997,50088.38,null,null,1.6454601035947186E-3,0.84889675990972879,"B"]
["2.2.3","02-06-18","SIURB","ENSAIOS DE LABORATÓRIO - PENETRAÇÃO","unid.",195,{"$f":"VLOOKUP(B108,'PREÇO UNITÁRIO'!$B$4:$F$124,5,0)","v":204.85},255.38649499999997,39945.75,49800.37,null,null,1.6359986483742402E-3,0.85053275855810306,"B"]
["9.7.2.2",1116263,"DNIT/MG","CONCRETO PARA BOMBEAMENTO FCK = 25 MPA - CONFECÇÃO EM CENTRAL DOSADORA DE 30 M³/H - AREIA E BRITA COMERCIAIS","m³",170.74,{"$f":"VLOOKUP(B109,'PREÇO UNITÁRIO'!$B$4:$F$124,5,0)","v":231.5},288.61104999999998,39526.31,49277.45,null,null,1.6188201331702795E-3,0.85215157869127334,"B"]
["6.3.1.2","72884","SINAPI","TRANSPORTE COMERCIAL COM CAMINHAO CARROCERIA 9 T (435KM)","m³*km",53735.55,{"$f":"VLOOKUP(B110,'PREÇO UNITÁRIO'!$B$4:$F$124,5,0)","v":0.73},0.91009099999999987,39226.949999999997,48904.24,null,null,1.6065597612983486E-3,0.85375813845257165,"B"]
["9.8.1.2","72898","SINAPI","CARGA E DESCARGA MECANIZADAS DE ENTULHO EM CAMINHAO BASCULANTE 6 M3 ","m³",7560,{"$f":"VLOOKUP(B111,'PREÇO UNITÁRIO'!$B$4:$F$124,5,0)","v":5.16},6.4329719999999995,39009.599999999999,48633.27,null,null,1.5976580894081604E-3,0.8553557965419798,"B"]
["9.2.1.7","73698","SINAPI","ENROCAMENTO MANUAL, COM ARRUMACAO DO MATERIAL","m³",431.7,{"$f":"VLOOKUP(B112,'PREÇO UNITÁRIO'!$B$4:$F$124,5,0)","v":89.82},111.97859399999999,38775.29,48341.16,null,null,1.5880619445366145E-3,0.85694385848651644,"B"]
["8.4.1.3","92743","SINAPI","MURO DE GABIÃO, ENCHIMENTO COM PEDRA DE MÃO TIPO RACHÃO, DE GRAVIDADE, COM GAIOLAS DE COMPRIMENTO MENOR OU IGUAL A 2 M","m³",96,{"$f":"VLOOKUP(B113,'PREÇO UNITÁRIO'!$B$4:$F$124,5,0)","v":401.37},500.38797899999997,38531.519999999997,48037.25,null,null,1.578078156279069E-3,0.85852193664279552,"B"]
["4.2.2.26","26.13.01.99","DER/SP","LANCAMENTO VIGA P<=50T-GUINDASTE AUTO PROPULSADO      ","unid.",4,{"$f":"VLOOKUP(B114,'PREÇO UNITÁRIO'!$B$4:$F$124,5,0)","v":9481.2000000000007},11820.21204,37924.800000000003,47280.85,null,null,1.5532295582138282E-3,0.86007516620100932,"B"]
["5.2.2.26","26.13.01.99","DER/SP","LANCAMENTO VIGA P<=50T-GUINDASTE AUTO PROPULSADO      ","unid.",4,{"$f":"VLOOKUP(B115,'PREÇO UNITÁRIO'!$B$4:$F$124,5,0)","v":9481.2000000000007},11820.21204,37924.800000000003,47280.85,null,null,1.5532295582138282E-3,0.86162839575922312,"B"]
["4.2.2.24",4508176,"DNIT/MG","BAINHA METÁLICA DIÂMETRO 95 MM PARA 19 CORDOALHAS D = 15,2 MM, SEMI-RÍGIDA, REDONDA, COM MONTAGEM E INJEÇÃO DE NATA DE CIMENTO","m",554.4,{"$f":"VLOOKUP(B116,'PREÇO UNITÁRIO'!$B$4:$F$124,5,0)","v":68.38},85.249345999999989,37909.870000000003,47262.239999999998,null,null,1.5526181986025192E-3,0.86318101395782565,"B"]
["9.2.1.14","C4","CPU","PROTEÇÃO DE TALUDE REVESTIMENTO VEGETAL","m²",2080,{"$f":"VLOOKUP(B117,'PREÇO UNITÁRIO'!$B$4:$F$124,5,0)","v":18.217180000000003},22.711358306000001,37891.730000000003,47239.63,null,null,1.5518754344535832E-3,0.86473288939227921,"B"]
["9.7.1.3","97916","SINAPI","TRANSPORTE COM CAMINHÃO BASCULANTE DE 6 M3, EM VIA URBANA EM LEITO NATURAL TXKM (UNIDADE: TXKM). AF_01/2018","m³xkm",28000,{"$f":"VLOOKUP(B118,'PREÇO UNITÁRIO'!$B$4:$F$124,5,0)","v":1.35},1.6830449999999999,37800,47125.26,null,null,1.5481182502114872E-3,0.86628100764249072,"B"]
["5.2.2.14",92796,"SINAPI","CORTE E DOBRA DE AÇO CA-50, DIÂMETRO DE 16,0 MM, UTILIZADO EM ESTRUTURAS DIVERSAS","kg",7751,{"$f":"VLOOKUP(B119,'PREÇO UNITÁRIO'!$B$4:$F$124,5,0)","v":4.87},6.0714289999999993,37747.370000000003,47059.65,null,null,1.5459628872830625E-3,0.86782697052977376,"B"]
["6.2.2.10",92792,"SINAPI","CORTE E DOBRA DE AÇO CA-50, DIÂMETRO DE 6,3 MM, UTILIZADO EM ESTRUTURA S DIVERSAS","kg",5728,{"$f":"VLOOKUP(B120,'PREÇO UNITÁRIO'!$B$4:$F$124,5,0)","v":6.58},8.2032860000000003,37690.239999999998,46988.42,null,null,1.543622900979272E-3,0.86937059343075307,"B"]
["8.2.2.17","73770/001","SINAPI","BARREIRA PRE-MOLDADA EXTERNA CONCRETO ARMADO 0,25X0,40X1,14M FCK=25MPA ACO CA-50 INCL VIGOTA HORIZONTAL MONTANTE A CADA 1,00M FERROS DE LIGACAO E MATERIAIS.","m",80,{"$f":"VLOOKUP(B121,'PREÇO UNITÁRIO'!$B$4:$F$124,5,0)","v":468.97},584.66489899999999,37517.599999999999,46773.19,null,null,1.5365523513209145E-3,0.87090714578207395,"B"]
["9.8.2.10",92263,"SINAPI","FABRICAÇÃO DE FÔRMA PARA PILARES E ESTRUTURAS SIMILARES, EM CHAPA DE MADEIRA COMPENSADA RESINADA, E = 17 MM. AF_12/2015","m³",419.8,{"$f":"VLOOKUP(B122,'PREÇO UNITÁRIO'!$B$4:$F$124,5,0)","v":89.2},111.20564,37446.160000000003,46684.13,null,null,1.5336266292906521E-3,0.87244077241136464,"B"]
["5.2.2.23",4507956,"DNIT/MG","CORDOALHA CP 190 RB D = 12,7 MM - FORNECIMENTO, PREPARO E COLOCAÇÃO ","Kg",3903.2,{"$f":"VLOOKUP(B123,'PREÇO UNITÁRIO'!$B$4:$F$124,5,0)","v":9.19},11.457172999999999,35870.410000000003,44719.64,null,null,1.4690909042600004E-3,0.87390986331562459,"B"]
["5.2.2.21","73770/001","SINAPI","BARREIRA PRE-MOLDADA EXTERNA CONCRETO ARMADO 0,25X0,40X1,14M FCK=25MPA ACO CA-50 INCL VIGOTA HORIZONTAL MONTANTE A CADA 1,00M FERROS DE LIGACAO E MATERIAIS.","m",76.23,{"$f":"VLOOKUP(B124,'PREÇO UNITÁRIO'!$B$4:$F$124,5,0)","v":468.97},584.66489899999999,35749.58,44569.01,null,null,1.4641425378843168E-3,0.87537400585350889,"B"]
["5.2.2.13",92795,"SINAPI","CORTE E DOBRA DE AÇO CA-50, DIÂMETRO DE 12,5 MM, UTILIZADO EM ESTRUTURAS DIVERSAS","kg",7154,{"$f":"VLOOKUP(B125,'PREÇO UNITÁRIO'!$B$4:$F$124,5,0)","v":4.95},6.1711650000000002,35412.300000000003,44148.51,null,null,1.4503286358662922E-3,0.87682433448937513,"B"]
["4.1.8.2","RO-41352   OBR-VIA-370","DEER/MG","TRANSPORTE DE ROCHAS E MATERIAL DE 3A CATEGORIA, DISTÂNCIA MÉDIA DE TRANSPORTE > 50,10 KM","m³*km",48435.03,{"$f":"VLOOKUP(B126,'PREÇO UNITÁRIO'!$B$4:$F$124,5,0)","v":0.73},0.91009099999999987,35357.57,44080.28,null,null,1.4480872029657217E-3,0.87827242169234088,"B"]
["4.2.2.15",92797,"SINAPI","CORTE E DOBRA DE AÇO CA-50, DIÂMETRO DE 20,0 MM, UTILIZADO EM ESTRUTURAS DIVERSAS","kg",6163,{"$f":"VLOOKUP(B127,'PREÇO UNITÁRIO'!$B$4:$F$124,5,0)","v":5.72},7.1311239999999989,35252.36,43949.120000000003,null,null,1.4437784481769369E-3,0.87971620014051777,"B"]
["3.1.2","72898","SINAPI","CARGA E DESCARGA MECANIZADAS DE ENTULHO EM CAMINHAO BASCULANTE 6 M3 ","m³",6547.9980000000005,{"$f":"VLOOKUP(B128,'PREÇO UNITÁRIO'!$B$4:$F$124,5,0)","v":5.16},6.4329719999999995,33787.67,42123.09,null,null,1.3837912912162392E-3,0.88109999143173401,"B"]
["6.4.1.4","RO-43112","DEER/MG","SUB-BASE, SEM MISTURA, COMPACTADA NA ENERGIA DO PROCTOR INTERMEDIÁRIO (EXECUÇÃO, INCLUINDO ESCAVAÇÃO, CARGA, DESCARGA, ESPALHAMENTO, UMIDECIMENTO E COMPACTAÇÃO DO MATERIAL; EXCLUI AQUISIÇÃO E TRANSPORTE DO MATERIAL)","m³",2397.069,{"$f":"VLOOKUP(B129,'PREÇO UNITÁRIO'!$B$4:$F$124,5,0)","v":14.05},17.516134999999998,33678.82,41987.38,null,null,1.3793330637659037E-3,0.88247932449549993,"B"]
["6.4.1.5","RO-43113","DEER/MG","BASE DE SOLO SEM MISTURA, COMPACTADA NA ENERGIA DO PROCTOR INTERMEDIÁRIO (EXECUÇÃO, INCLUINDO ESCAVAÇÃO, CARGA, DESCARGA, ESPALHAMENTO, UMIDECIMENTO E COMPACTAÇÃO DO MATERIAL; EXCLUI AQUISIÇÃO E TRANSPORTEDO MATERIAL)","m³",2397.069,{"$f":"VLOOKUP(B130,'PREÇO UNITÁRIO'!$B$4:$F$124,5,0)","v":14.05},17.516134999999998,33678.82,41987.38,null,null,1.3793330637659037E-3,0.88385865755926585,"B"]
["1.3.1","C10","CPU","MOBILIZAÇÃO/DESMOBILIZAÇÃO DE EQUIPAMENTOS ESPECIAIS (VIBROACABADORA, ESCAVADEIRA HIDRÁULICA, ROLO COMPACTADOR, MOTONIVELADORA, ETC.)","EQUIP.",12,{"$f":"VLOOKUP(B131,'PREÇO UNITÁRIO'!$B$4:$F$124,5,0)","v":2762.2342400000002},3443.677427008,33146.81,41324.129999999997,null,null,1.3575445488706486E-3,0.88521620210813645,"B"]
["10.1.2","C10","CPU","MOBILIZAÇÃO/DESMOBILIZAÇÃO DE EQUIPAMENTOS ESPECIAIS (VIBROACABADORA, ESCAVADEIRA HIDRÁULICA, ROLO COMPACTADOR, MOTONIVELADORA, ETC.)","EQUIP.",12,{"$f":"VLOOKUP(B132,'PREÇO UNITÁRIO'!$B$4:$F$124,5,0)","v":2762.2342400000002},3443.677427008,{"$f":"SUM(F132*G132,2)","v":33148.810880000005},41324.129999999997,null,null,1.3575445488706486E-3,0.88657374665700706,"B"]
["9.8.2.15","804037","DNIT/MG","CORPO BSTC ø 100, AREIA, BRITA E PEDRA DE MÃO COMERCIAIS","m",63,{"$f":"VLOOKUP(B133,'PREÇO UNITÁRIO'!$B$4:$F$124,5,0)","v":525.1},654.64216999999996,{"$f":"ROUND(F133*G133,2)","v":33081.300000000003},41242.46,null,null,1.354861596723652E-3,0.88792860825373066,"B"]
["9.2.1.10","RO-41352   OBR-VIA-370","DEER/MG","TRANSPORTE DE ROCHAS E MATERIAL DE 3A CATEGORIA, DISTÂNCIA MÉDIA DE TRANSPORTE > 50,10 KM","m³xkm",45207.76,{"$f":"VLOOKUP(B134,'PREÇO UNITÁRIO'!$B$4:$F$124,5,0)","v":0.73},0.91009099999999987,33001.660000000003,41143.18,null,null,1.3516001360997531E-3,0.88928020838983046,"B"]
["5.2.2.24",4508176,"DNIT/MG","BAINHA METÁLICA DIÂMETRO 95 MM PARA 19 CORDOALHAS D = 15,2 MM, SEMI-RÍGIDA, REDONDA, COM MONTAGEM E INJEÇÃO DE NATA DE CIMENTO","m",474.88,{"$f":"VLOOKUP(B135,'PREÇO UNITÁRIO'!$B$4:$F$124,5,0)","v":68.38},85.249345999999989,32472.29,40483.21,null,null,1.329919372925352E-3,0.89061012776275583,"B"]
["2.2.1","02-06-15","SIURB","ENSAIOS DE LABORATÓRIO - VISCOSIDADE","unid.",195,{"$f":"VLOOKUP(B136,'PREÇO UNITÁRIO'!$B$4:$F$124,5,0)","v":164.14},204.63333799999998,32007.3,39903.5,null,null,1.3108752417984341E-3,0.89192100300455424,"B"]
["4.2.2.13",92795,"SINAPI","CORTE E DOBRA DE AÇO CA-50, DIÂMETRO DE 12,5 MM, UTILIZADO EM ESTRUTURAS DIVERSAS","kg",6416,{"$f":"VLOOKUP(B137,'PREÇO UNITÁRIO'!$B$4:$F$124,5,0)","v":4.95},6.1711650000000002,31759.200000000001,39594.19,null,null,1.3007140574150926E-3,0.89322171706196929,"B"]
["8.2.2.10",92796,"SINAPI","CORTE E DOBRA DE AÇO CA-50, DIÂMETRO DE 16,0 MM, UTILIZADO EM ESTRUTURAS DIVERSAS","kg",6493,{"$f":"VLOOKUP(B138,'PREÇO UNITÁRIO'!$B$4:$F$124,5,0)","v":4.87},{"$f":"G138*(1+$J$4)","v":6.0714289999999993},31620.91,{"$f":"ROUND(F138*H138,2)","v":39421.79},null,null,1.2950505218433746E-3,0.89451676758381271,"B"]
["7.2.2.14",92796,"SINAPI","CORTE E DOBRA DE AÇO CA-50, DIÂMETRO DE 16,0 MM, UTILIZADO EM ESTRUTURAS DIVERSAS","kg",6448,{"$f":"VLOOKUP(B139,'PREÇO UNITÁRIO'!$B$4:$F$124,5,0)","v":4.87},6.0714289999999993,31401.759999999998,39148.57,null,null,1.2860749349007713E-3,0.89580284251871345,{"$f":"IF(N139<=$M$2,\"A\",IF(N139<=$M$3,\"B\",\"C\"))","v":"B"}]
["7.2.2.18",307736,"DNIT/MG","JUNTA DE DILATAÇÃO EM PERFIL EXTRUDADO DE BORRACHA VULCANIZADA DE 40 X 70 MM - FORNECIMENTO E INSTALAÇÃO (JEENE JJ3550 OU SIMILAR)","m",30.8,{"$f":"VLOOKUP(B140,'PREÇO UNITÁRIO'!$B$4:$F$124,5,0)","v":1014.24},1264.453008,31238.59,38945.15,null,null,{"$f":"SUM(J140/$J$3)","v":1.2793923571397569E-3},{"$f":"N139+M140","v":0.89708223487585326},"B"]
["4.4.1.16","RO-41344","DEER/MG","TRANSPORTE DE MATERIAL DE JAZIDA PARA CONSERVAÇÃO. DISTÂNCIA MÉDIA DE TRANSPORTE > 50,10 KM (ESCAVAÇÃO+BASE E SUB BASE) - 5,00KM","m³xkm",38990.050000000003,{"$f":"VLOOKUP(B141,'PREÇO UNITÁRIO'!$B$4:$F$124,5,0)","v":0.78},0.97242600000000001,30412.240000000002,37914.94,null,null,1.2455487899626131E-3,0.89832778366581589,"B"]
["9.6.1.6","C8","CPU","RECOMPOSIÇÃO DE ÁREA EXPLORADA DE JAZIDA / EMPRESTIMO","m²",12168.84,{"$f":"VLOOKUP(B142,'PREÇO UNITÁRIO'!$B$4:$F$124,5,0)","v":2.4832000000000001},3.0958054399999999,30217.66,37672.36,null,null,1.2375797617782316E-3,0.89956536342759408,"B"]
["1.2.1","RO-41291","DEER/MG","REMOÇÃO DE CERCAS","m",4400.84,{"$f":"VLOOKUP(B143,'PREÇO UNITÁRIO'!$B$4:$F$124,5,0)","v":6.64},8.2780879999999986,29221.58,36430.54,null,null,1.1967845660492821E-3,0.9007621479936434,"B"]
["9.7.1.2","72898","SINAPI","CARGA E DESCARGA MECANIZADAS DE ENTULHO EM CAMINHAO BASCULANTE 6 M3 ","m³",5600,{"$f":"VLOOKUP(B144,'PREÇO UNITÁRIO'!$B$4:$F$124,5,0)","v":5.16},6.4329719999999995,28896,36024.639999999999,null,null,1.1834502905935956E-3,0.90194559828423704,"B"]
["9.2.2.7",92793,"SINAPI","CORTE E DOBRA DE AÇO CA-50, DIÂMETRO DE 8,0 MM, UTILIZADO EM ESTRUTURA S DIVERSAS","KG",4452.3519999999999,{"$f":"VLOOKUP(B145,'PREÇO UNITÁRIO'!$B$4:$F$124,5,0)","v":6.38},7.9539459999999993,28406.01,35413.769999999997,null,null,1.1633825181185642E-3,0.90310898080235558,"B"]
["6.2.2.8",1107860,"DNIT/MG","LANÇAMENTO MECÂNICO DE CONCRETO COM BOMBA LANÇA SOBRE CHASSI COM CAPACIDADE DE 45 M³/H - CONFECÇÃO EM CENTRAL DOSADORA DE 40 M³/H","m³",903.43999999999994,{"$f":"VLOOKUP(B146,'PREÇO UNITÁRIO'!$B$4:$F$124,5,0)","v":31.39},39.133913,28358.98,35355.14,null,null,1.1614564561082986E-3,0.9042704372584639,"B"]
["3.1.7","72884","SINAPI","TRANSPORTE COMERCIAL COM CAMINHAO CARROCERIA 9 T","m³xkm",38512.425999999999,{"$f":"VLOOKUP(B147,'PREÇO UNITÁRIO'!$B$4:$F$124,5,0)","v":0.73},0.91009099999999987,28114.07,35049.81,null,null,1.1514260192398956E-3,0.9054218632777038,"B"]
["7.2.2.22","C3","CPU","MONTAGEM DAS ESTRUTURAS PRÉ-MOLDADAS (LAJES E LONGARINAS)","m³",138.68,{"$f":"VLOOKUP(B148,'PREÇO UNITÁRIO'!$B$4:$F$124,5,0)","v":202.43912800000004},252.38086087760004,28074.26,35000.18,null,null,1.1497956174392903E-3,0.90657165889514313,"B"]
["4.4.1.13",95995,"SINAPI","CONSTRUÇÃO DE PAVIMENTO COM APLICAÇÃO DE CONCRETO BETUMINOSO USINADO A QUENTE (CBUQ), CAMADA DE ROLAMENTO, COM ESPESSURA DE 5,0 CM - EXCLUSIVE TRANSPORTE. AF_03/2017 (PAVIMENTAÇÃO OAE)","m³",28,{"$f":"VLOOKUP(B149,'PREÇO UNITÁRIO'!$B$4:$F$124,5,0)","v":997.69},1243.820123,27935.32,34826.959999999999,null,null,1.1441051439373586E-3,0.9077157640390805,"B"]
["9.7.2.9",92795,"SINAPI","CORTE E DOBRA DE AÇO CA-50, DIÂMETRO DE 12,5 MM, UTILIZADO EM ESTRUTURAS DIVERSAS","KG",5599.2,{"$f":"VLOOKUP(B150,'PREÇO UNITÁRIO'!$B$4:$F$124,5,0)","v":4.95},6.1711650000000002,27716.04,34553.589999999997,null,null,1.1351246293245943E-3,0.90885088866840513,"B"]
["2.2.2","02-06-17","SIURB","ENSAIOS DE LABORATÓRIO - PONTO DE FULGOR","unid.",195,{"$f":"VLOOKUP(B151,'PREÇO UNITÁRIO'!$B$4:$F$124,5,0)","v":141.58000000000001},176.50778600000001,27608.1,34419.019999999997,null,null,1.1307038521674825E-3,0.90998159252057265,"B"]
["6.4.1.15",93178,"SINAPI","TRANSPORTE DE MATERIAL ASFALTICO, COM CAMINHÃO COM CAPACIDADE DE 30000 TXKM L EM RODOVIA NÃO PAVIMENTADA PARA DISTÂNCIAS MÉDIAS DE TRANSPORTE SUPERIORES A 100 KM. AF_02/2016 (JEQUITAÍ P/ ÁREA C - 24KM)","txkm",51560.6976,{"$f":"VLOOKUP(B152,'PREÇO UNITÁRIO'!$B$4:$F$124,5,0)","v":0.53},0.66075099999999998,27327.17,34068.78,null,null,1.119198070852874E-3,0.91110079059142557,"B"]
["6.4.1.9","72942","SINAPI","PINTURA DE LIGACAO COM EMULSAO RR-1C","m²",16941.739999999998,{"$f":"VLOOKUP(B153,'PREÇO UNITÁRIO'!$B$4:$F$124,5,0)","v":1.6},1.99472,27106.78,33794.03,null,null,1.1101722216746285E-3,0.91221096281310021,"B"]
["8.2.2.8",92794,"SINAPI","CORTE E DOBRA DE AÇO CA-50, DIÂMETRO DE 10,0 MM, UTILIZADO EM ESTRUTURAS DIVERSAS","kg",4573,{"$f":"VLOOKUP(B154,'PREÇO UNITÁRIO'!$B$4:$F$124,5,0)","v":5.82},7.2557939999999999,26614.86,33180.75,null,null,1.0900252779656771E-3,0.91330098809106586,"B"]
["4.2.2.6",1106280,"DNIT/MG","CONCRETO PARA BOMBEAMENTO FCK = 30 MPA - CONFECÇÃO EM CENTRAL DOSADORA DE 30 M³/H - AREIA E BRITA COMERCIAIS","m³",98.265905000000018,{"$f":"VLOOKUP(B155,'PREÇO UNITÁRIO'!$B$4:$F$124,5,0)","v":270.39999999999998},337.10767999999996,26571.1,33126.19,null,null,1.0882329200724466E-3,0.91438922101113829,"B"]
["5.2.2.6",1106280,"DNIT/MG","CONCRETO PARA BOMBEAMENTO FCK = 30 MPA - CONFECÇÃO EM CENTRAL DOSADORA DE 30 M³/H - AREIA E BRITA COMERCIAIS","m³",97.15,{"$f":"VLOOKUP(B156,'PREÇO UNITÁRIO'!$B$4:$F$124,5,0)","v":270.39999999999998},337.10767999999996,26269.360000000001,32750.01,null,null,1.0758749803313277E-3,0.91546509599146964,"B"]
["6.2.1.2","93382","SINAPI","REATERRO MANUAL DE VALAS COM COMPACTAÇÃO MECANIZADA. AF_04/2016","m³",1084.03,{"$f":"VLOOKUP(B157,'PREÇO UNITÁRIO'!$B$4:$F$124,5,0)","v":24.07},30.008068999999999,26092.6,32529.65,null,null,1.0686359043534637E-3,0.9165337318958231,"B"]
["7.2.2.15",92797,"SINAPI","CORTE E DOBRA DE AÇO CA-50, DIÂMETRO DE 20,0 MM, UTILIZADO EM ESTRUTURAS DIVERSAS","kg",4533,{"$f":"VLOOKUP(B158,'PREÇO UNITÁRIO'!$B$4:$F$124,5,0)","v":5.72},7.1311239999999989,25928.76,32325.39,null,null,1.0619257316395476E-3,0.91759565762746265,"B"]
["9.2.2.2",1116263,"DNIT/MG","CONCRETO PARA BOMBEAMENTO FCK = 25 MPA - CONFECÇÃO EM CENTRAL DOSADORA DE 30 M³/H - AREIA E BRITA COMERCIAIS","m³",110.28,{"$f":"VLOOKUP(B159,'PREÇO UNITÁRIO'!$B$4:$F$124,5,0)","v":231.5},288.61104999999998,25529.82,31828.03,null,null,1.0455868914310228E-3,0.91864124451889362,"B"]
["2.2.4","02-06-19","SIURB","ENSAIOS DE LABORATÓRIO - PONTO DE AMOLECIMENTO","unid.",195,{"$f":"VLOOKUP(B160,'PREÇO UNITÁRIO'!$B$4:$F$124,5,0)","v":123.59},154.07965300000001,24100.05,30045.53,null,null,9.8702974435104949E-4,0.91962827426324467,"B"]
["5.4.1.13",95995,"SINAPI","CONSTRUÇÃO DE PAVIMENTO COM APLICAÇÃO DE CONCRETO BETUMINOSO USINADO A QUENTE (CBUQ), CAMADA DE ROLAMENTO, COM ESPESSURA DE 5,0 CM - EXCLUSIVE TRANSPORTE. AF_03/2017 (PAVIMENTAÇÃO OAE)","m³",24,{"$f":"VLOOKUP(B161,'PREÇO UNITÁRIO'!$B$4:$F$124,5,0)","v":997.69},1243.820123,23944.560000000001,29851.68,null,null,9.8066155194630753E-4,0.92060893581519099,"B"]
["8.2.2.14",307736,"DNIT/MG","JUNTA DE DILATAÇÃO EM PERFIL EXTRUDADO DE BORRACHA VULCANIZADA DE 40 X 70 MM - FORNECIMENTO E INSTALAÇÃO","m",22.8,{"$f":"VLOOKUP(B162,'PREÇO UNITÁRIO'!$B$4:$F$124,5,0)","v":1014.24},1264.453008,23124.67,28829.53,null,null,9.4708276491248158E-4,0.9215560185801035,"B"]
["5.2.2.15",92797,"SINAPI","CORTE E DOBRA DE AÇO CA-50, DIÂMETRO DE 20,0 MM, UTILIZADO EM ESTRUTURAS DIVERSAS","kg",4017,{"$f":"VLOOKUP(B163,'PREÇO UNITÁRIO'!$B$4:$F$124,5,0)","v":5.72},7.1311239999999989,22977.24,28645.73,null,null,9.4104472640852701E-4,0.92249706330651204,"B"]
["4.2.2.22","ED-50429","DEER/MG","LANÇAMENTO DE TABULEIRO PRÉ-MOLDADO","unid.",360,{"$f":"VLOOKUP(B164,'PREÇO UNITÁRIO'!$B$4:$F$124,5,0)","v":63.14},78.716637999999989,22730.400000000001,28337.99,null,null,9.3093511830620406E-4,0.92342799842481826,"B"]
["6.1.6.1","ED-48598","DEER/MG","DESCIDA D´ÁGUA TIPO CALHA DN 500, EXCLUSIVE BOTA FORA","m",77,{"$f":"VLOOKUP(B165,'PREÇO UNITÁRIO'!$B$4:$F$124,5,0)","v":289.51},360.93211699999995,{"$f":"ROUND(F165*G165,2)","v":22292.27},27791.77,null,null,9.1299117167056702E-4,0.9243409895964888,"B"]
["4.4.1.3","RO-40251","DEER/MG","COMPACTAÇÃO DE ATERRO A 100% PROCTOR NORMAL","m³",7006.31,{"$f":"VLOOKUP(B166,'PREÇO UNITÁRIO'!$B$4:$F$124,5,0)","v":3.14},3.9146380000000001,21999.81,27427.17,null,null,9.0101364806587786E-4,0.92524200324455463,"B"]
["9.6.1.1","RO-41352   OBR-VIA-370","DEER/MG","TRANSPORTE DE ROCHAS E MATERIAL DE 3A CATEGORIA, DISTÂNCIA MÉDIA DE TRANSPORTE > 50,10 KM","m³xkm",30080.68,{"$f":"VLOOKUP(B167,'PREÇO UNITÁRIO'!$B$4:$F$124,5,0)","v":0.73},0.91009099999999987,21958.9,27376.16,null,null,8.9933791169979134E-4,0.92614134115625446,"B"]
["6.2.2.19",91790,"SINAPI","(COMPOSIÇÃO REPRESENTATIVA) DO SERVIÇO DE INSTALAÇÃO DE TUBOS DE PVC, SÉRIE R, ÁGUA PLUVIAL, DN 100 MM (INSTALADO EM RAMAL DE ENCAMINHAMENTO , OU CONDUTORES VERTICAIS), INCLUSIVE  CONEXÕES, CORTES E FIXAÇÕES, PARA PRÉDIOS. AF_10/2015 ","m",512.48,{"$f":"VLOOKUP(B168,'PREÇO UNITÁRIO'!$B$4:$F$124,5,0)","v":42.45},52.922415000000001,21754.78,27121.68,null,null,8.9097795501597E-4,0.92703231911127038,"B"]
["1.2.4","98531","SINAPI","CORTE RASO E RECORTE DE ÁRVORE COM DIÂMETRO DE TRONCO MAIOR OU IGUAL A 0,60 M","unid.",111,{"$f":"VLOOKUP(B169,'PREÇO UNITÁRIO'!$B$4:$F$124,5,0)","v":192.46},239.93988199999998,21363.06,26633.33,null,null,8.7493510352844967E-4,0.9279072542147988,"B"]
["4.2.2.18",307736,"DNIT/MG","JUNTA DE DILATAÇÃO EM PERFIL EXTRUDADO DE BORRACHA VULCANIZADA DE 40 X 70 MM - FORNECIMENTO E INSTALAÇÃO","m",20.6,{"$f":"VLOOKUP(B170,'PREÇO UNITÁRIO'!$B$4:$F$124,5,0)","v":1014.24},1264.453008,20893.34,26047.73,null,null,8.5569747921987612E-4,0.92876295169401868,"B"]
["5.2.2.18",307736,"DNIT/MG","JUNTA DE DILATAÇÃO EM PERFIL EXTRUDADO DE BORRACHA VULCANIZADA DE 40 X 70 MM - FORNECIMENTO E INSTALAÇÃO","m",20.6,{"$f":"VLOOKUP(B171,'PREÇO UNITÁRIO'!$B$4:$F$124,5,0)","v":1014.24},1264.453008,20893.34,26047.73,null,null,8.5569747921987612E-4,0.92961864917323855,"B"]
["6.2.2.18",307736,"DNIT/MG","JUNTA DE DILATAÇÃO EM PERFIL EXTRUDADO DE BORRACHA VULCANIZADA DE 40 X 70 MM - FORNECIMENTO E INSTALAÇÃO","m",20.6,{"$f":"VLOOKUP(B172,'PREÇO UNITÁRIO'!$B$4:$F$124,5,0)","v":1014.24},1264.453008,20893.34,26047.73,null,null,8.5569747921987612E-4,0.93047434665245843,"B"]
["8.2.2.1",92263,"SINAPI","FABRICAÇÃO DE FÔRMA PARA PILARES E ESTRUTURAS SIMILARES, EM CHAPA DE MADEIRA COMPENSADA RESINADA, E = 17 MM. AF_12/2015","m²",232.96,{"$f":"VLOOKUP(B173,'PREÇO UNITÁRIO'!$B$4:$F$124,5,0)","v":89.2},111.20564,20780.03,25906.47,null,null,8.5105692797358338E-4,0.93132540358043203,"B"]
["7.2.2.3","5914569","DNIT/MG","TRANSPORTE COM CAMINHÃO BETONEIRA - RODOVIA PAVIMENTADA (Entre Bocaiúva/MG e Francisco Dumont/MG - 69,00km)","txkm",57479.759999999987,{"$f":"VLOOKUP(B174,'PREÇO UNITÁRIO'!$B$4:$F$124,5,0)","v":0.36},0.44881199999999993,20692.71,25797.61,null,null,8.4748075348206814E-4,0.9321728843339141,"B"]
["5.2.2.22","ED-50429","DEER/MG","LANÇAMENTO DE TABULEIRO PRÉ-MOLDADO","unid.",310,{"$f":"VLOOKUP(B175,'PREÇO UNITÁRIO'!$B$4:$F$124,5,0)","v":63.14},78.716637999999989,19573.400000000001,24402.16,null,null,8.0163863797421471E-4,0.93297452297188832,"B"]
["5.2.1.2","93382","SINAPI","REATERRO MANUAL DE VALAS COM COMPACTAÇÃO MECANIZADA. AF_04/2016","m³",810.16,{"$f":"VLOOKUP(B176,'PREÇO UNITÁRIO'!$B$4:$F$124,5,0)","v":24.07},30.008068999999999,19500.55,24311.34,null,null,7.9865509794739672E-4,0.93377317806983573,"B"]
["4.4.1.6","96401","SINAPI","EXECUÇÃO DE IMPRIMAÇÃO COM ASFALTO DILUÍDO CM-30. AF_09/2017","m²",2919.04,{"$f":"VLOOKUP(B177,'PREÇO UNITÁRIO'!$B$4:$F$124,5,0)","v":6.65},8.2905549999999995,19411.62,24200.46,null,null,7.9501256416437992E-4,0.9345681906340001,"B"]
["9.8.2.2",1116263,"DNIT/MG","CONCRETO PARA BOMBEAMENTO FCK = 25 MPA - CONFECÇÃO EM CENTRAL DOSADORA DE 30 M³/H - AREIA E BRITA COMERCIAIS","m³",83.03,{"$f":"VLOOKUP(B178,'PREÇO UNITÁRIO'!$B$4:$F$124,5,0)","v":231.5},288.61104999999998,19221.45,23963.38,null,null,7.8722421721923543E-4,0.93535541485121931,"B"]
["5.2.2.11",92793,"SINAPI","CORTE E DOBRA DE AÇO CA-50, DIÂMETRO DE 8,0 MM, UTILIZADO EM ESTRUTURA S DIVERSAS","kg",2991,{"$f":"VLOOKUP(B179,'PREÇO UNITÁRIO'!$B$4:$F$124,5,0)","v":6.38},7.9539459999999993,19082.580000000002,23790.25,null,null,7.8153670031940055E-4,0.93613695155153875,"B"]
["8.1.3.1","RO-40613","DEER/MG","SARJETA DE CONCRETO EM ATERRO,TIPO DR.SCA- X/Y. LARGURA=60CM TIPO 30/10 (EXECUÇÃO, INCLUINDO ESCAVAÇÃO, FORNECIMENTO, TRANSPORTE E PLANTIO DA GRAMA)","m",640,{"$f":"VLOOKUP(B180,'PREÇO UNITÁRIO'!$B$4:$F$124,5,0)","v":29.3},36.528309999999998,18752,23378.12,null,null,7.6799776229636023E-4,0.93690494931383517,"B"]
["4.4.1.14",93176,"SINAPI","TRANSPORTE DE MATERIAL ASFALTICO, COM CAMINHÃO COM CAPACIDADE DE 30000 L EM RODOVIA PAVIMENTADA. AF_02/2016 (P/ ITEM 2.1.12) (ORIUNDO D MONTES CLAROS/MG DIST. 111KM)","txkm",39817.273535999993,{"$f":"VLOOKUP(B181,'PREÇO UNITÁRIO'!$B$4:$F$124,5,0)","v":0.47},0.58594899999999994,18714.12,23330.89,null,null,7.66446203218331E-4,0.93767139551705347,"B"]
["7.3.1.7",4011520,"DNIT/MG","PAVIMENTO RÍGIDO DE CONCRETO, ESPESSURA DE 12CM, COM AGENTE DE CURA E TELA SOLDADA","m²",316.76666666666671,{"$f":"VLOOKUP(B182,'PREÇO UNITÁRIO'!$B$4:$F$124,5,0)","v":57.9},72.183929999999989,18340.79,22865.46,null,null,7.5115629973141265E-4,0.93842255181678491,"B"]
["3.1.5","RO-43112","DEER/MG","SUB-BASE, SEM MISTURA, COMPACTADA NA ENERGIA DO PROCTOR INTERMEDIÁRIO (EXECUÇÃO, INCLUINDO ESCAVAÇÃO, CARGA, DESCARGA, ESPALHAMENTO, UMIDECIMENTO E COMPACTAÇÃO DO MATERIAL; EXCLUI AQUISIÇÃO E TRANSPORTE DO MATERIAL)","m³",1299.83,{"$f":"VLOOKUP(B183,'PREÇO UNITÁRIO'!$B$4:$F$124,5,0)","v":14.05},17.516134999999998,18262.61,22768,null,null,7.4795462817213399E-4,0.93917050644495703,"B"]
["3.1.6","RO-43113","DEER/MG","BASE DE SOLO SEM MISTURA, COMPACTADA NA ENERGIA DO PROCTOR INTERMEDIÁRIO (EXECUÇÃO, INCLUINDO ESCAVAÇÃO, CARGA, DESCARGA, ESPALHAMENTO, UMIDECIMENTO E COMPACTAÇÃO DO MATERIAL; EXCLUI AQUISIÇÃO E TRANSPORTE DO MATERIAL)","m³",1299.83,{"$f":"VLOOKUP(B184,'PREÇO UNITÁRIO'!$B$4:$F$124,5,0)","v":14.05},17.516134999999998,18262.61,22768,null,null,7.4795462817213399E-4,0.93991846107312915,"B"]
["8.2.2.4",1116263,"DNIT/MG","CONCRETO PARA BOMBEAMENTO FCK = 25 MPA - CONFECÇÃO EM CENTRAL DOSADORA DE 30 M³/H - AREIA E BRITA COMERCIAIS","m³",77.800000000000011,{"$f":"VLOOKUP(B185,'PREÇO UNITÁRIO'!$B$4:$F$124,5,0)","v":231.5},288.61104999999998,18010.7,22453.94,null,null,7.3763740090036041E-4,0.94065609847402953,"B"]
["6.1.4.1","RO-40661","DEER/MG","SARJETA DE CONCRETO EM CORTE TIPO DR.SCC-X/Y. LARGURA=90CM TIPO80/10 (EXECUÇÃO, INCLUINDOESCAVAÇÃO, FORNECIMENTO E TRANSPORTE DE TODOS OS MATERIAIS)","m",396,{"$f":"VLOOKUP(B186,'PREÇO UNITÁRIO'!$B$4:$F$124,5,0)","v":45.05},56.163834999999992,17839.8,22240.880000000001,null,null,7.3063813820366534E-4,0.94138673661223315,"B"]
["7.5.1.5","85424","SINAPI","ISOLAMENTO DE OBRA COM TELA PLASTICA COM MALHA DE 5MM E ESTRUTURA DE MADEIRA PONTALETEADA","m",840,{"$f":"VLOOKUP(B187,'PREÇO UNITÁRIO'!$B$4:$F$124,5,0)","v":20.83},25.968760999999997,17497.2,21813.759999999998,null,null,7.1660676167586827E-4,0.942103343373909,"B"]
["4.2.2.3","5914569","DNIT/MG","TRANSPORTE COM CAMINHÃO BETONEIRA - RODOVIA PAVIMENTADA (Entre Bocaiúva/MG e Francisco Dumont/MG - 69,00km)","txkm",47110.398876000007,{"$f":"VLOOKUP(B188,'PREÇO UNITÁRIO'!$B$4:$F$124,5,0)","v":0.36},0.44881199999999993,16959.740000000002,21143.71,null,null,6.9459485906664755E-4,0.94279793823297564,"B"]
["4.2.1.2","93382","SINAPI","REATERRO MANUAL DE VALAS COM COMPACTAÇÃO MECANIZADA. AF_04/2016","m³",699.08,{"$f":"VLOOKUP(B189,'PREÇO UNITÁRIO'!$B$4:$F$124,5,0)","v":24.07},30.008068999999999,16826.86,20978.04,null,null,6.8915241162948674E-4,0.94348709064460512,"B"]
["8.5.1.5","85424","SINAPI","ISOLAMENTO DE OBRA COM TELA PLASTICA COM MALHA DE 5MM E ESTRUTURA DE MADEIRA PONTALETEADA","m",800,{"$f":"VLOOKUP(B190,'PREÇO UNITÁRIO'!$B$4:$F$124,5,0)","v":20.83},25.968760999999997,16664,20775.009999999998,null,null,6.8248264581089097E-4,0.94416957329041606,"B"]
["4.6.1.5","85424","SINAPI","ISOLAMENTO DE OBRA COM TELA PLASTICA COM MALHA DE 5MM E ESTRUTURA DE MADEIRA PONTALETEADA","m",794.2,{"$f":"VLOOKUP(B191,'PREÇO UNITÁRIO'!$B$4:$F$124,5,0)","v":20.83},25.968760999999997,16543.189999999999,20624.39,null,null,6.7753460794655121E-4,0.94484710789836257,"B"]
["7.1.3.1","RO-40613","DEER/MG","SARJETA DE CONCRETO EM ATERRO,TIPO DR.SCA- X/Y. LARGURA=60CM TIPO 30/10 (EXECUÇÃO, INCLUINDO ESCAVAÇÃO, FORNECIMENTO, TRANSPORTE E PLANTIO DA GRAMA)","m",560,{"$f":"VLOOKUP(B192,'PREÇO UNITÁRIO'!$B$4:$F$124,5,0)","v":29.3},36.528309999999998,16408,20455.849999999999,null,null,6.7199787775364312E-4,0.9455191057761162,"B"]
["1.1.3","93207","SINAPI","EXECUÇÃO DE ESCRITÓRIO EM CANTEIRO DE OBRA EM CHAPA DE MADEIRA COMPENSADA, NÃO INCLUSO MOBILIÁRIO E EQUIPAMENTOS","m²",21.779999999999998,751.29,936.63324299999988,16363.1,20399.87,null,null,6.7015887124955516E-4,0.94618926464736575,"B"]
["9.3.1.7","C8","CPU","RECOMPOSIÇÃO DE ÁREA EXPLORADA DE JAZIDA / EMPRESTIMO","m²",6530.77,{"$f":"VLOOKUP(B194,'PREÇO UNITÁRIO'!$B$4:$F$124,5,0)","v":2.4832000000000001},3.0958054399999999,16217.21,20217.990000000002,null,null,6.6418390692366154E-4,0.94685344855428943,"B"]
["6.2.2.15",92797,"SINAPI","CORTE E DOBRA DE AÇO CA-50, DIÂMETRO DE 20,0 MM, UTILIZADO EM ESTRUTURAS DIVERSAS","kg",2791,{"$f":"VLOOKUP(B195,'PREÇO UNITÁRIO'!$B$4:$F$124,5,0)","v":5.72},7.1311239999999989,15964.52,19902.97,null,null,6.5383514256285742E-4,0.94750728369685233,"B"]
["1.2.6",98525,"SINAPI","LIMPEZA MECANIZADA DE CAMADA VEGETAL, VEGETAÇÃO E PEQUENAS ÁRVORES (DIÂMETRO DE TRONCO MENOR QUE 0,20 M), COM TRATOR DE ESTEIRAS (ESTRADA NOVA)","m²",58181.72,{"$f":"VLOOKUP(B196,'PREÇO UNITÁRIO'!$B$4:$F$124,5,0)","v":0.27},0.33660899999999999,15709.06,19584.490000000002,null,null,6.4337271327700627E-4,0.9481506564101293,"B"]
["9.2.1.6","RO-40251","DEER/MG","COMPACTAÇÃO DE ATERRO A 100% PROCTOR NORMAL","m³",4980.5600000000004,{"$f":"VLOOKUP(B197,'PREÇO UNITÁRIO'!$B$4:$F$124,5,0)","v":3.14},3.9146380000000001,15638.96,19497.09,null,null,6.4050152412985911E-4,0.94879115793425917,"B"]
["4.2.2.11",92793,"SINAPI","CORTE E DOBRA DE AÇO CA-50, DIÂMETRO DE 8,0 MM, UTILIZADO EM ESTRUTURA S DIVERSAS","kg",2412,{"$f":"VLOOKUP(B198,'PREÇO UNITÁRIO'!$B$4:$F$124,5,0)","v":6.38},7.9539459999999993,15388.56,19184.919999999998,null,null,6.3024638550211417E-4,0.9494214043197613,"B"]
["5.2.2.3","5914569","DNIT/MG","TRANSPORTE COM CAMINHÃO BETONEIRA - RODOVIA PAVIMENTADA (Entre Bocaiúva/MG e Francisco Dumont/MG - 69,00km)","txkm",42029.279999999999,{"$f":"VLOOKUP(B199,'PREÇO UNITÁRIO'!$B$4:$F$124,5,0)","v":0.36},0.44881199999999993,15130.54,18863.25,null,null,6.196791610975056E-4,0.95004108348085881,"C"]
["4.4.1.2","83338","SINAPI","ESCAVACAO MECANICA, A CEU ABERTO, EM MATERIAL DE 1A CATEGORIA, COM ESCAVADEIRA HIDRAULICA, CAPACIDADE DE 0,78 M3 - CORTE JAZIDA","m³",7006.31,{"$f":"VLOOKUP(B200,'PREÇO UNITÁRIO'!$B$4:$F$124,5,0)","v":2.12},2.6430039999999999,14853.38,18517.71,null,null,6.0832778011460852E-4,0.95064941126097346,"C"]
["6.2.2.20",84154,"SINAPI","APARELHO APOIO NEOPRENE FRETADO ","dm³",135.56,{"$f":"VLOOKUP(B201,'PREÇO UNITÁRIO'!$B$4:$F$124,5,0)","v":109.31},136.27677699999998,14818.06,18473.68,null,null,6.0688134466668081E-4,0.95125629260564015,"C"]
["10.1.1","C9","CPU","DESMOBILIZAÇÃO DE PESSOAL E EQUIPAMENTOS","un.",1,{"$f":"VLOOKUP(B202,'PREÇO UNITÁRIO'!$B$4:$F$124,5,0)","v":14578.664000000001},{"$f":"G202*(1+$J$4)","v":18175.2204088},{"$f":"SUM(F202*G202,2)","v":14580.664000000001},{"$f":"ROUND(F202*H202,2)","v":18175.22},null,null,5.9707659509165205E-4,0.95185336920073182,"C"]
["1.1.4","93208","SINAPI","EXECUÇÃO DE ALMOXARIFADO EM CANTEIRO DE OBRA EM ALVENARIA, INCLUSO PRA TELEIRAS","m²",24.200000000000003,592.44000000000005,738.59494800000004,{"$f":"ROUND(F203*G203,2)","v":14337.05},17874,null,null,5.8718117638566073E-4,0.9524405503771175,{"$f":"IF(N203<=$M$2,\"A\",IF(N203<=$M$3,\"B\",\"C\"))","v":"C"}]
["8.1.1.1","RO-40514","DEER/MG","VALETA DE PROTEÇÃO DE ATERRO TIPO DR.VPA (EXECUÇÃO,INCLUINDO ESCAVAÇÃO)","m",560,{"$f":"VLOOKUP(B204,'PREÇO UNITÁRIO'!$B$4:$F$124,5,0)","v":25.49},31.778382999999994,14274.4,17795.89,null,null,{"$f":"SUM(J204/$J$3)","v":5.8461517427715198E-4},{"$f":"N203+M204","v":0.9530251655513946},"C"]
["9.3.1.6","C5b","CPU","REMOÇÃO E CONSTRUÇÃO DE NOVA CERCA DE ARAME LISO (4 FIOS), MOURÃO DE MADEIRA TRATADA","m",520,{"$f":"VLOOKUP(B205,'PREÇO UNITÁRIO'!$B$4:$F$124,5,0)","v":26.922033603999999},33.563699294106797,13999.46,17453.12,null,null,5.7335479093656157E-4,0.95359852034233117,"C"]
["7.2.2.20",84154,"SINAPI","APARELHO APOIO NEOPRENE FRETADO ","dm³",126,{"$f":"VLOOKUP(B206,'PREÇO UNITÁRIO'!$B$4:$F$124,5,0)","v":109.31},136.27677699999998,13773.06,17170.87,null,null,5.6408255825026571E-4,0.95416260290058141,"C"]
["5.4.1.14",93176,"SINAPI","TRANSPORTE DE MATERIAL ASFALTICO, COM CAMINHÃO COM CAPACIDADE DE 30000 L EM RODOVIA PAVIMENTADA. AF_02/2016 (P/ ITEM 2.1.12) (DE MONTES CLAROS/MG ATÉ JEQUITAÍ/MG - DIST. 111KM)","txkm",28829.808000000001,{"$f":"VLOOKUP(B207,'PREÇO UNITÁRIO'!$B$4:$F$124,5,0)","v":0.47},0.58594899999999994,13550.01,16892.8,null,null,5.549476433057899E-4,0.95471755054388718,"C"]
["8.2.2.18","C3",null,"MONTAGEM DAS ESTRUTURAS PRÉ-MOLDADAS (LAJES E LONGARINAS)","m³",66.069999999999993,{"$f":"VLOOKUP(B208,'PREÇO UNITÁRIO'!$B$4:$F$124,5,0)","v":202.43912800000004},252.38086087760004,13375.15,16674.8,null,null,5.4778609600512559E-4,0.95526533663989233,"C"]
["9.4.1.6","C5a","CPU","REMOÇÃO E RELOCAÇÃO DE CERCA DE ARAME FARPADO (4 FIOS), MOURÃO DE MADEIRA TRATADA","m",560,{"$f":"VLOOKUP(B209,'PREÇO UNITÁRIO'!$B$4:$F$124,5,0)","v":23.861197950000001},29.747755484264999,13362.27,16658.740000000002,null,null,5.4725850678655381E-4,0.95581259514667893,"C"]
["1.1.2","C2","CPU","MOBILIZAÇÃO DE PESSOAL E EQUIPAMENTOS","unid",1,{"$f":"VLOOKUP(B210,'PREÇO UNITÁRIO'!$B$4:$F$124,5,0)","v":13361.400000000001},16657.657380000001,13361.4,16657.66,null,null,5.4722302756139447E-4,0.95635981817424032,"C"]
["9.2.1.5","83338","SINAPI","ESCAVACAO MECANICA, A CEU ABERTO, EM MATERIAL DE 1A CATEGORIA, COM ESCAVADEIRA HIDRAULICA, CAPACIDADE DE 0,78 M3 - CORTE JAZIDA","m³",6230.94,{"$f":"VLOOKUP(B211,'PREÇO UNITÁRIO'!$B$4:$F$124,5,0)","v":2.12},2.6430039999999999,13209.59,16468.400000000001,null,null,5.410056218635793E-4,0.95690082379610386,"C"]
["4.5.1.1","74039/001","SINAPI","CERCA COM MOUROES DE MADEIRA ROLICA, DIAMETRO 11CM, ESPACAMENTO DE 2M, ALTURA LIVRE DE 1M, CRAVADOS 0,5M, COM 5 FIOS DE ARAME FARPADO Nº 14 CLASSE 250","m",490,{"$f":"VLOOKUP(B212,'PREÇO UNITÁRIO'!$B$4:$F$124,5,0)","v":26.27},32.750808999999997,12872.3,16047.9,null,null,5.2719171984555468E-4,0.95742801551594947,"C"]
["9.2.2.8",92794,"SINAPI","CORTE E DOBRA DE AÇO CA-50, DIÂMETRO DE 10,0 MM, UTILIZADO EM ESTRUTURAS DIVERSAS","KG",2207.52,{"$f":"VLOOKUP(B213,'PREÇO UNITÁRIO'!$B$4:$F$124,5,0)","v":5.82},7.2557939999999999,12847.77,16017.31,null,null,5.2618680364405321E-4,0.9579542023195935,"C"]
["9.2.2.6",92792,"SINAPI","CORTE E DOBRA DE AÇO CA-50, DIÂMETRO DE 6,3 MM, UTILIZADO EM ESTRUTURA S DIVERSAS","KG",1949.85,{"$f":"VLOOKUP(B214,'PREÇO UNITÁRIO'!$B$4:$F$124,5,0)","v":6.58},8.2032860000000003,12830.01,15995.18,null,null,5.2545980803963253E-4,0.95847966212763314,"C"]
["9.1.1.6","C6","CPU","TRANSIÇÃO COMPACTADA, INCLUSIVE CARGA, TRANSP. E FORNEC. DE MATERIAL (DMT = 1,00 km)","m³",2584.8000000000002,{"$f":"VLOOKUP(B215,'PREÇO UNITÁRIO'!$B$4:$F$124,5,0)","v":4.9565426753843438},6.1793217534016609,12811.67,15972.31,null,null,5.2470850259575097E-4,0.95900437063022892,"C"]
["5.4.1.6","96401","SINAPI","EXECUÇÃO DE IMPRIMAÇÃO COM ASFALTO DILUÍDO CM-30. AF_09/2017","m²",1924.22,{"$f":"VLOOKUP(B216,'PREÇO UNITÁRIO'!$B$4:$F$124,5,0)","v":6.65},8.2905549999999995,12796.06,15952.85,null,null,5.2406921952019624E-4,0.95952843984974912,"C"]
["9.4.1.7","C8","CPU","RECOMPOSIÇÃO DE ÁREA EXPLORADA DE JAZIDA / EMPRESTIMO","m²",5147.97,{"$f":"VLOOKUP(B217,'PREÇO UNITÁRIO'!$B$4:$F$124,5,0)","v":2.4832000000000001},3.0958054399999999,12783.44,15937.11,null,null,5.2355214266463449E-4,0.96005199199241376,"C"]
["9.7.1.11","25.03.04.01","DER/SP","ENSECADEIRA COM SACOS DE AREIA","m³",25.64,{"$f":"VLOOKUP(B218,'PREÇO UNITÁRIO'!$B$4:$F$124,5,0)","v":490.84},611.93022799999994,12585.14,15689.89,null,null,5.1543068521660588E-4,0.9605674226776304,"C"]
["7.1.1.1","RO-40514","DEER/MG","VALETA DE PROTEÇÃO DE ATERRO TIPO DR.VPA (EXECUÇÃO,INCLUINDO ESCAVAÇÃO)","m",480,{"$f":"VLOOKUP(B219,'PREÇO UNITÁRIO'!$B$4:$F$124,5,0)","v":25.49},31.778382999999994,12235.2,15253.62,null,null,5.0109872080898754E-4,0.96106852139843935,"C"]
["1.1.6","93212","SINAPI","EXECUÇÃO DE SANITÁRIO E VESTIÁRIO EM CANTEIRO DE OBRA EM CHAPA DE MADEIRA COMPENSADA, NÃO INCLUSO MOBILIÁRIO","m²",18.149999999999999,672.06,837.85720199999992,12197.89,15207.11,null,null,4.9957081454773109E-4,0.96156809221298711,"C"]
["5.6.1.5","85424","SINAPI","ISOLAMENTO DE OBRA COM TELA PLASTICA COM MALHA DE 5MM E ESTRUTURA DE MADEIRA PONTALETEADA","m",584,{"$f":"VLOOKUP(B221,'PREÇO UNITÁRIO'!$B$4:$F$124,5,0)","v":20.83},25.968760999999997,12164.72,15165.76,null,null,4.9821242014001332E-4,0.96206630463312715,"C"]
["4.2.2.10",92792,"SINAPI","CORTE E DOBRA DE AÇO CA-50, DIÂMETRO DE 6,3 MM, UTILIZADO EM ESTRUTURA S DIVERSAS","kg",1778,{"$f":"VLOOKUP(B222,'PREÇO UNITÁRIO'!$B$4:$F$124,5,0)","v":6.58},8.2032860000000003,11699.24,14585.44,null,null,4.7914824982110731E-4,0.96254545288294824,"C"]
["6.2.1.1","72917","SINAPI","ESCAVACAO MECANICA DE VALA EM MATERIAL 2A CATEGORIA COM UTILIZACAO DE ESCAVADEIRA HIDRAULICA","m³",1127.51,{"$f":"VLOOKUP(B223,'PREÇO UNITÁRIO'!$B$4:$F$124,5,0)","v":10.35},12.903344999999998,11669.73,14548.65,null,null,4.7793965658628413E-4,0.96302339253953451,"C"]
["7.1.7.1","ED-48598","DEER/MG","DESCIDA D´ÁGUA TIPO CALHA DN 500, EXCLUSIVE BOTA FORA","m",40,{"$f":"VLOOKUP(B224,'PREÇO UNITÁRIO'!$B$4:$F$124,5,0)","v":289.51},360.93211699999995,11580.4,14437.28,null,null,4.7428102574740807E-4,0.96349767356528193,"C"]
["1.1.5","93210","SINAPI","EXECUÇÃO DE REFEITÓRIO EM CANTEIRO DE OBRA EM CHAPA DE MADEIRA COMPENSADA, NÃO INCLUSO MOBILIÁRIO E EQUIPAMENTOS","m²",29.04,383.42,478.00971399999997,11134.52,13881.4,null,null,4.5601973715340217E-4,0.9639536933024353,"C"]
["7.2.2.8",1107860,"DNIT/MG","LANÇAMENTO MECÂNICO DE CONCRETO COM BOMBA LANÇA SOBRE CHASSI COM CAPACIDADE DE 45 M³/H - CONFECÇÃO EM CENTRAL DOSADORA DE 40 M³/H","m³",347.09999999999997,{"$f":"VLOOKUP(B226,'PREÇO UNITÁRIO'!$B$4:$F$124,5,0)","v":31.39},39.133913,10895.47,13583.38,null,null,4.4622944207751232E-4,0.96439992274451281,"C"]
["9.7.2.10",92796,"SINAPI","CORTE E DOBRA DE AÇO CA-50, DIÂMETRO DE 16,0 MM, UTILIZADO EM ESTRUTURAS DIVERSAS","KG",2218.752,{"$f":"VLOOKUP(B227,'PREÇO UNITÁRIO'!$B$4:$F$124,5,0)","v":4.87},6.0714289999999993,10805.32,13471,null,null,4.4253763159288553E-4,0.96484246037610566,"C"]
["8.2.2.16",84154,"SINAPI","APARELHO APOIO NEOPRENE FRETADO ","dm³",98,{"$f":"VLOOKUP(B228,'PREÇO UNITÁRIO'!$B$4:$F$124,5,0)","v":109.31},136.27677699999998,10712.38,13355.12,null,null,4.3873084213783518E-4,0.96528119121824352,"C"]
["7.4.1.7","73881/001","SINAPI","EXECUCAO DE DRENO COM MANTA GEOTEXTIL 200 G/M2","m²",2016,{"$f":"VLOOKUP(B229,'PREÇO UNITÁRIO'!$B$4:$F$124,5,0)","v":5.22},6.5077739999999995,10523.52,13119.67,null,null,4.309960425417736E-4,0.96571218726078534,"C"]
["4.3.2.2","72884","SINAPI","TRANSPORTE COMERCIAL COM CAMINHAO CARROCERIA 9 T (DA CIDADE DE BARRA DO GUAICUÍ/MG ATÉ MONTES CLAROS/MG = 145KM)","m³*km",14282.5,{"$f":"VLOOKUP(B230,'PREÇO UNITÁRIO'!$B$4:$F$124,5,0)","v":0.73},0.91009099999999987,10426.23,12998.37,null,null,4.2701119993823885E-4,0.9661391984607236,"C"]
["5.2.2.10",92792,"SINAPI","CORTE E DOBRA DE AÇO CA-50, DIÂMETRO DE 6,3 MM, UTILIZADO EM ESTRUTURA S DIVERSAS","kg",1562,{"$f":"VLOOKUP(B231,'PREÇO UNITÁRIO'!$B$4:$F$124,5,0)","v":6.58},8.2032860000000003,10277.959999999999,12813.53,null,null,4.2093899625450125E-4,0.96656013745697811,"C"]
["5.1.4.1","RO-40661","DEER/MG","SARJETA DE CONCRETO EM CORTE TIPO DR.SCC-X/Y. LARGURA=90CM TIPO80/10 (EXECUÇÃO, INCLUINDOESCAVAÇÃO, FORNECIMENTO E TRANSPORTE DE TODOS OS MATERIAIS)","m",228,{"$f":"VLOOKUP(B232,'PREÇO UNITÁRIO'!$B$4:$F$124,5,0)","v":45.05},56.163834999999992,10271.4,12805.35,null,null,4.2067027397505434E-4,0.96698080773095318,"C"]
["9.8.1.1",98525,"SINAPI","LIMPEZA MECANIZADA DE CAMADA VEGETAL, VEGETAÇÃO E PEQUENAS ÁRVORES (DIÂMETRO DE TRONCO MENOR QUE 0,20 M), COM TRATOR DE ESTEIRAS","m²",37800,{"$f":"VLOOKUP(B233,'PREÇO UNITÁRIO'!$B$4:$F$124,5,0)","v":0.27},0.33660899999999999,10206,12723.82,null,null,4.1799192098687464E-4,0.96739879965194009,"C"]
["7.2.2.19",91790,"SINAPI","(COMPOSIÇÃO REPRESENTATIVA) DO SERVIÇO DE INSTALAÇÃO DE TUBOS DE PVC, SÉRIE R, ÁGUA PLUVIAL, DN 100 MM (INSTALADO EM RAMAL DE ENCAMINHAMENTO , OU CONDUTORES VERTICAIS), INCLUSIVE  CONEXÕES, CORTES E FIXAÇÕES, PARA PRÉDIOS. AF_10/2015 ","m",240,{"$f":"VLOOKUP(B234,'PREÇO UNITÁRIO'!$B$4:$F$124,5,0)","v":42.45},52.922415000000001,10188,12701.38,null,null,4.1725474153078788E-4,0.96781605439347085,"C"]
["9.7.2.3","5914569","DNIT/MG","TRANSPORTE COM CAMINHÃO BETONEIRA - RODOVIA PAVIMENTADA (Entre Bocaiúva/MG e Francisco Dumont/MG - 69,00km)","txkm",28274.544000000002,{"$f":"VLOOKUP(B235,'PREÇO UNITÁRIO'!$B$4:$F$124,5,0)","v":0.36},0.44881199999999993,10178.84,12689.95,null,null,4.1687925306451915E-4,0.9682329336465354,"C"]
["6.2.1.6",1106280,"DNIT/MG","CONCRETO PARA BOMBEAMENTO FCK = 30 MPA - CONFECÇÃO EM CENTRAL DOSADORA DE 30 M³/H - AREIA E BRITA COMERCIAIS","m³",35.9,{"$f":"VLOOKUP(B236,'PREÇO UNITÁRIO'!$B$4:$F$124,5,0)","v":270.39999999999998},337.10767999999996,9707.36,12102.17,null,null,3.9757001328293902E-4,0.96863050365981829,"C"]
["6.2.2.5",1116263,"DNIT/MG","CONCRETO PARA BOMBEAMENTO FCK = 25 MPA - CONFECÇÃO EM CENTRAL DOSADORA DE 30 M³/H - AREIA E BRITA COMERCIAIS","m³",41.52,{"$f":"VLOOKUP(B237,'PREÇO UNITÁRIO'!$B$4:$F$124,5,0)","v":231.5},288.61104999999998,9611.8799999999992,11983.13,null,null,3.9365941424316335E-4,0.96902416307406147,"C"]
["9.3.1.1","RO-41352   OBR-VIA-370","DEER/MG","TRANSPORTE DE ROCHAS E MATERIAL DE 3A CATEGORIA, DISTÂNCIA MÉDIA DE TRANSPORTE > 50,10 KM","m³xkm",13016.88,{"$f":"VLOOKUP(B238,'PREÇO UNITÁRIO'!$B$4:$F$124,5,0)","v":0.73},0.91009099999999987,9502.32,11846.55,null,null,3.8917260630589397E-4,0.96941333568036736,"C"]
["4.1.4.1","RO-40613","DEER/MG","SARJETA DE CONCRETO EM ATERRO,TIPO DR.SCA- X/Y. LARGURA=60CM TIPO 30/10 (EXECUÇÃO, INCLUINDO ESCAVAÇÃO, FORNECIMENTO, TRANSPORTE E PLANTIO DA GRAMA)","m",309,{"$f":"VLOOKUP(B239,'PREÇO UNITÁRIO'!$B$4:$F$124,5,0)","v":29.3},36.528309999999998,9053.7000000000007,11287.25,null,null,3.7079896683221713E-4,0.96978413464719959,"C"]
["2.1.1","ED-49564","DEER/MG","ENSAIO DE TEOR DE UMIDADE - PROCESSO SPEEDY - SOLOS E AGREGADOS MIUDOS","unid.",299,{"$f":"VLOOKUP(B240,'PREÇO UNITÁRIO'!$B$4:$F$124,5,0)","v":30.02},37.425933999999998,8975.98,11190.35,null,null,3.6761569190820625E-4,0.97015175033910783,"C"]
["4.2.2.8",1107860,"DNIT/MG","LANÇAMENTO MECÂNICO DE CONCRETO COM BOMBA LANÇA SOBRE CHASSI COM CAPACIDADE DE 45 M³/H - CONFECÇÃO EM CENTRAL DOSADORA DE 40 M³/H","m³",284.48308500000007,{"$f":"VLOOKUP(B241,'PREÇO UNITÁRIO'!$B$4:$F$124,5,0)","v":31.39},39.133913,8929.92,11132.94,null,null,3.6572970828191665E-4,0.9705174800473898,"C"]
["6.6.4.2","28.10.01.99","DER/SP","FORN./INSTAL. BALIZ.(CATADIOPTRICO) P/DEF. MET. C/PELICULA GT+GT, CONF.OP-06-05","un.",308,{"$f":"VLOOKUP(B242,'PREÇO UNITÁRIO'!$B$4:$F$124,5,0)","v":28.99},36.141832999999998,8928.92,11131.68,null,null,3.6568831585256418E-4,0.9708831683632424,"C"]
["9.7.2.6",92792,"SINAPI","CORTE E DOBRA DE AÇO CA-50, DIÂMETRO DE 6,3 MM, UTILIZADO EM ESTRUTURA S DIVERSAS","KG",1354.5,{"$f":"VLOOKUP(B243,'PREÇO UNITÁRIO'!$B$4:$F$124,5,0)","v":6.58},8.2032860000000003,8912.61,11111.35,null,null,3.6502045229007559E-4,0.97124818881553243,"C"]
["6.6.1.3","RO-41844","DEER/MG","PLACA DE AÇO CARBONO COM PELÍCULA REFLETIVA GRAU TÉCNICO TIPO I DA ABNT - PLACA QUADRADA (EXECUÇÃO, INCLUINDO FORNECIMENTO E TRANSPORTE DE TODOS OS MATERIAIS, INCLUSIVE POSTE DE SUSTENTAÇÃO)","m²",26.88,{"$f":"VLOOKUP(B244,'PREÇO UNITÁRIO'!$B$4:$F$124,5,0)","v":331.13},412.81977099999995,8900.77,11096.6,null,null,3.6453589805757652E-4,0.97161272471359006,"C"]
["3.1.1",98525,"SINAPI","LIMPEZA MECANIZADA DE CAMADA VEGETAL, VEGETAÇÃO E PEQUENAS ÁRVORES (DIÂMETRO DE TRONCO MENOR QUE 0,20 M), COM TRATOR DE ESTEIRAS","m²",32740.02,{"$f":"VLOOKUP(B245,'PREÇO UNITÁRIO'!$B$4:$F$124,5,0)","v":0.27},0.33660899999999999,8839.81,11020.59,null,null,3.6203888333132195E-4,0.97197476359692137,"C"]
["5.2.1.1","72917","SINAPI","ESCAVACAO MECANICA DE VALA EM MATERIAL 2A CATEGORIA COM UTILIZACAO DE ESCAVADEIRA HIDRAULICA","m³",853.73,{"$f":"VLOOKUP(B246,'PREÇO UNITÁRIO'!$B$4:$F$124,5,0)","v":10.35},12.903344999999998,8836.11,11015.97,null,null,3.618871110903629E-4,0.97233665070801167,"C"]
["9.8.2.9",92795,"SINAPI","CORTE E DOBRA DE AÇO CA-50, DIÂMETRO DE 12,5 MM, UTILIZADO EM ESTRUTURAS DIVERSAS","KG",1785.04,{"$f":"VLOOKUP(B247,'PREÇO UNITÁRIO'!$B$4:$F$124,5,0)","v":4.95},6.1711650000000002,8835.9500000000007,11015.78,null,null,3.6188086937482568E-4,0.9726985315773865,"C"]
["9.2.1.8","RO-40182","DEER/MG","ESCAVAÇÃO, CARGA, DESCARGA, ESPALHAMENTO E TRANSPORTE DE MATERIAL DE 3ª CATEGORIA. DISTÂNCIA MÉDIA DE TRANSPORTE ATÉ 200 M","m³",332.41,{"$f":"VLOOKUP(B248,'PREÇO UNITÁRIO'!$B$4:$F$124,5,0)","v":26.31},32.800676999999993,8745.7099999999991,10903.27,null,null,3.5818478824272592E-4,0.97305671636562918,"C"]
["8.1.7.1","ED-48598","DEER/MG","DESCIDA D´ÁGUA TIPO CALHA DN 500, EXCLUSIVE BOTA FORA","m",30,{"$f":"VLOOKUP(B249,'PREÇO UNITÁRIO'!$B$4:$F$124,5,0)","v":289.51},360.93211699999995,8685.2999999999993,10827.96,null,null,3.5571076931055604E-4,0.9734124271349397,"C"]
["5.2.1.6",1106280,"DNIT/MG","CONCRETO PARA BOMBEAMENTO FCK = 30 MPA - CONFECÇÃO EM CENTRAL DOSADORA DE 30 M³/H - AREIA E BRITA COMERCIAIS","m³",31.8,{"$f":"VLOOKUP(B250,'PREÇO UNITÁRIO'!$B$4:$F$124,5,0)","v":270.39999999999998},337.10767999999996,8598.7199999999993,10720.02,null,null,3.5216481786269502E-4,0.97376459195280241,"C"]
["4.1.7.1","ED-48598","DEER/MG","DESCIDA D´ÁGUA TIPO CALHA DN 500, EXCLUSIVE BOTA FORA","m",29,{"$f":"VLOOKUP(B251,'PREÇO UNITÁRIO'!$B$4:$F$124,5,0)","v":289.51},360.93211699999995,8395.7900000000009,10467.030000000001,null,null,3.4385380936913966E-4,0.97410844576217159,"C"]
["7.2.1.6",1116263,"DNIT/MG","CONCRETO PARA BOMBEAMENTO FCK = 25 MPA - CONFECÇÃO EM CENTRAL DOSADORA DE 30 M³/H - AREIA E BRITA COMERCIAIS","m³",34.72,{"$f":"VLOOKUP(B252,'PREÇO UNITÁRIO'!$B$4:$F$124,5,0)","v":231.5},288.61104999999998,8037.68,10020.58,null,null,3.2918742041326084E-4,0.97443763318258481,"C"]
["5.2.2.8",1107860,"DNIT/MG","LANÇAMENTO MECÂNICO DE CONCRETO COM BOMBA LANÇA SOBRE CHASSI COM CAPACIDADE DE 45 M³/H - CONFECÇÃO EM CENTRAL DOSADORA DE 40 M³/H","m³",253.8,{"$f":"VLOOKUP(B253,'PREÇO UNITÁRIO'!$B$4:$F$124,5,0)","v":31.39},39.133913,7966.78,9932.19,null,null,3.2628370864305111E-4,0.97476391689122788,"C"]
["9.8.1.10","25.03.04.01","DER/SP","ENSECADEIRA COM SACOS DE AREIA","m³",16.22,{"$f":"VLOOKUP(B254,'PREÇO UNITÁRIO'!$B$4:$F$124,5,0)","v":490.84},611.93022799999994,7961.42,9925.51,null,null,3.2606426306521424E-4,0.97508998115429313,"C"]
["7.2.2.11",92793,"SINAPI","CORTE E DOBRA DE AÇO CA-50, DIÂMETRO DE 8,0 MM, UTILIZADO EM ESTRUTURA S DIVERSAS","kg",1235,{"$f":"VLOOKUP(B255,'PREÇO UNITÁRIO'!$B$4:$F$124,5,0)","v":6.38},7.9539459999999993,7879.3,9823.1200000000008,null,null,3.2270063541331049E-4,0.97541268178970642,"C"]
["4.1.5.1","RO-40661","DEER/MG","SARJETA DE CONCRETO EM CORTE TIPO DR.SCC-X/Y. LARGURA=90CM TIPO 80/10 (EXECUÇÃO, INCLUINDO ESCAVAÇÃO, FORNECIMENTO E TRANSPORTE DE TODOS OS MATERIAIS)","m",169,{"$f":"VLOOKUP(B256,'PREÇO UNITÁRIO'!$B$4:$F$124,5,0)","v":45.05},56.163834999999992,7613.45,9491.69,null,null,3.1181278393689225E-4,0.9757244945736433,"C"]
["9.7.1.1",98525,"SINAPI","LIMPEZA MECANIZADA DE CAMADA VEGETAL, VEGETAÇÃO E PEQUENAS ÁRVORES (DIÂMETRO DE TRONCO MENOR QUE 0,20 M), COM TRATOR DE ESTEIRAS","m²",28000,{"$f":"VLOOKUP(B257,'PREÇO UNITÁRIO'!$B$4:$F$124,5,0)","v":0.27},0.33660899999999999,7560,9425.0499999999993,null,null,3.0962358434002859E-4,0.97603411815798335,"C"]
["4.2.1.1","72917","SINAPI","ESCAVACAO MECANICA DE VALA EM MATERIAL 2A CATEGORIA COM UTILIZACAO DE ESCAVADEIRA HIDRAULICA","m³",726.54,{"$f":"VLOOKUP(B258,'PREÇO UNITÁRIO'!$B$4:$F$124,5,0)","v":10.35},12.903344999999998,7519.69,9374.7999999999993,null,null,3.0797281483609107E-4,0.97634209097281943,"C"]
["4.2.2.19",91790,"SINAPI","(COMPOSIÇÃO REPRESENTATIVA) DO SERVIÇO DE INSTALAÇÃO DE TUBOS DE PVC, SÉRIE R, ÁGUA PLUVIAL, DN 100 MM (INSTALADO EM RAMAL DE ENCAMINHAMENTO , OU CONDUTORES VERTICAIS), INCLUSIVE  CONEXÕES, CORTES E FIXAÇÕES, PARA PRÉDIOS. AF_10/2015","m",172.48,{"$f":"VLOOKUP(B259,'PREÇO UNITÁRIO'!$B$4:$F$124,5,0)","v":42.45},52.922415000000001,7321.78,9128.06,null,null,2.9986712593257773E-4,0.97664195809875198,"C"]
["1.1.9","93243","SINAPI","EXECUÇÃO DE RESERVATÓRIO ELEVADO DE ÁGUA (2000 LITROS) EM CANTEIRO DE OBRA, APOIADO EM ESTRUTURA DE MADEIRA","unid.",1,7200.75,8977.1750249999986,7200.75,8977.18,null,null,2.9491054677329229E-4,0.97693686864552531,"C"]
["6.2.2.4","5914539","DNIT/MG","TRANSPORTE COM CAMINHÃO BETONEIRA - RODOVIA EM LEITO NATURAL (Entre Francisco Dumont/MG e Área C - 6,00km)","txkm",13009.536,{"$f":"VLOOKUP(B261,'PREÇO UNITÁRIO'!$B$4:$F$124,5,0)","v":0.55000000000000004},0.68568499999999999,7155.24,8920.44,null,null,2.9304657340705517E-4,0.97722991521893232,"C"]
["9.2.1.11","25.03.04.01","DER/SP","ENSECADEIRA COM SACOS DE AREIA","m³",14.57,{"$f":"VLOOKUP(B262,'PREÇO UNITÁRIO'!$B$4:$F$124,5,0)","v":490.84},611.93022799999994,7151.54,8915.82,null,null,2.9289480116609606E-4,0.97752281002009844,"C"]
["5.3.2.2","72884","SINAPI","TRANSPORTE COMERCIAL COM CAMINHAO CARROCERIA 9 T (145KM)","m³*km",9715,{"$f":"VLOOKUP(B263,'PREÇO UNITÁRIO'!$B$4:$F$124,5,0)","v":0.73},0.91009099999999987,7091.95,8841.5300000000007,null,null,2.9045429039102112E-4,0.97781326431048943,"C"]
["9.8.2.8",92794,"SINAPI","CORTE E DOBRA DE AÇO CA-50, DIÂMETRO DE 10,0 MM, UTILIZADO EM ESTRUTURAS DIVERSAS","KG",1194.3666000000001,{"$f":"VLOOKUP(B264,'PREÇO UNITÁRIO'!$B$4:$F$124,5,0)","v":5.82},7.2557939999999999,6951.21,8666.08,null,null,2.8469055885936258E-4,0.97809795486934881,"C"]
["9.7.2.1","83534","SINAPI","LASTRO DE CONCRETO, PREPARO MECÂNICO, INCLUSOS ADITIVO IMPERMEABILIZANTE, LANÇAMENTO E ADENSAMENTO","m³",16.14,{"$f":"VLOOKUP(B265,'PREÇO UNITÁRIO'!$B$4:$F$124,5,0)","v":427.75},533.27592499999992,6903.89,8607.07,null,null,2.8275201341802217E-4,0.97838070688276679,"C"]
["6.2.2.17",92880,"SINAPI","CORTE E DOBRA DE AÇO CA-25, DIÂMETRO DE 20,0 MM. AF_12/2015","kg",1105,{"$f":"VLOOKUP(B266,'PREÇO UNITÁRIO'!$B$4:$F$124,5,0)","v":6.16},{"$f":"G266*(1+$J$4)","v":7.6796720000000001},6806.8,{"$f":"ROUND(F266*H266,2)","v":8486.0400000000009},null,null,2.7877604062077725E-4,0.97865948292338756,"C"]
["8.2.2.15",91790,"SINAPI","(COMPOSIÇÃO REPRESENTATIVA) DO SERVIÇO DE INSTALAÇÃO DE TUBOS DE PVC, SÉRIE R, ÁGUA PLUVIAL, DN 100 MM (INSTALADO EM RAMAL DE ENCAMINHAMENTO , OU CONDUTORES VERTICAIS), INCLUSIVE  CONEXÕES, CORTES E FIXAÇÕES, PARA PRÉDIOS. AF_10/2015 ","m",160,{"$f":"VLOOKUP(B267,'PREÇO UNITÁRIO'!$B$4:$F$124,5,0)","v":42.45},52.922415000000001,{"$f":"ROUND(F267*G267,2)","v":6792},8467.59,null,null,2.781699371909733E-4,0.97893765286057854,{"$f":"IF(N267<=$M$2,\"A\",IF(N267<=$M$3,\"B\",\"C\"))","v":"C"}]
["8.4.1.4","73881/001","SINAPI","EXECUCAO DE DRENO COM MANTA GEOTEXTIL 200 G/M2","m²",1296,{"$f":"VLOOKUP(B268,'PREÇO UNITÁRIO'!$B$4:$F$124,5,0)","v":5.22},6.5077739999999995,6765.12,8434.08,null,null,{"$f":"SUM(J268/$J$3)","v":2.770690956770042E-4},{"$f":"N267+M268","v":0.97921472195625558},"C"]
["8.3.1.5","5914569","DNIT/MG","TRANSPORTE COM CAMINHÃO BETONEIRA - RODOVIA PAVIMENTADA (Entre Bocaiúva/MG e Francisco Dumont/MG - 69,00km)","txkm",18409.2,{"$f":"VLOOKUP(B269,'PREÇO UNITÁRIO'!$B$4:$F$124,5,0)","v":0.36},0.44881199999999993,6627.31,8262.27,null,null,2.7142494227458619E-4,0.9794861468985302,"C"]
["9.2.2.3","5914569","DNIT/MG","TRANSPORTE COM CAMINHÃO BETONEIRA - RODOVIA PAVIMENTADA (Entre Bocaiúva/MG e Francisco Dumont/MG - 69,00km)","txkm",18262.367999999999,{"$f":"VLOOKUP(B270,'PREÇO UNITÁRIO'!$B$4:$F$124,5,0)","v":0.36},0.44881199999999993,6574.45,8196.3700000000008,null,null,2.6926005251718353E-4,0.97975540695104735,"C"]
["8.2.2.7",92793,"SINAPI","CORTE E DOBRA DE AÇO CA-50, DIÂMETRO DE 8,0 MM, UTILIZADO EM ESTRUTURA S DIVERSAS","kg",1029,{"$f":"VLOOKUP(B271,'PREÇO UNITÁRIO'!$B$4:$F$124,5,0)","v":6.38},7.9539459999999993,6565.02,8184.61,null,null,2.688737231765605E-4,0.98002428067422387,"C"]
["5.2.2.19",91790,"SINAPI","(COMPOSIÇÃO REPRESENTATIVA) DO SERVIÇO DE INSTALAÇÃO DE TUBOS DE PVC, SÉRIE R, ÁGUA PLUVIAL, DN 100 MM (INSTALADO EM RAMAL DE ENCAMINHAMENTO , OU CONDUTORES VERTICAIS), INCLUSIVE  CONEXÕES, CORTES E FIXAÇÕES, PARA PRÉDIOS. AF_10/2015 ","m",152.46,{"$f":"VLOOKUP(B272,'PREÇO UNITÁRIO'!$B$4:$F$124,5,0)","v":42.45},52.922415000000001,6471.93,8068.55,null,null,2.6506102051731693E-4,0.98028934169474113,"C"]
["8.3.1.7",4011520,"DNIT/MG","PAVIMENTO RÍGIDO DE CONCRETO, ESPESSURA DE 12CM, COM AGENTE DE CURA E TELA SOLDADA","m²",111.16666666666667,{"$f":"VLOOKUP(B273,'PREÇO UNITÁRIO'!$B$4:$F$124,5,0)","v":57.9},72.183929999999989,6436.55,8024.45,null,null,2.6361228548998071E-4,0.98055295398023112,"C"]
["8.2.1.6",1116263,"DNIT/MG","CONCRETO PARA BOMBEAMENTO FCK = 25 MPA - CONFECÇÃO EM CENTRAL DOSADORA DE 30 M³/H - AREIA E BRITA COMERCIAIS","m³",27.08,{"$f":"VLOOKUP(B274,'PREÇO UNITÁRIO'!$B$4:$F$124,5,0)","v":231.5},288.61104999999998,6269.02,7815.59,null,null,2.5675099755779378E-4,0.98080970497778897,"C"]
["7.5.4.2","28.10.01.99","DER/SP","FORN./INSTAL. BALIZ.(CATADIOPTRICO) P/DEF. MET. C/PELICULA GT+GT, CONF.OP-06-05","un.",210,{"$f":"VLOOKUP(B275,'PREÇO UNITÁRIO'!$B$4:$F$124,5,0)","v":28.99},36.141832999999998,6087.9,7589.78,null,null,2.4933288289741301E-4,0.98105903786068638,"C"]
["8.5.4.2","28.10.01.99","DER/SP","FORN./INSTAL. BALIZ.(CATADIOPTRICO) P/DEF. MET. C/PELICULA GT+GT, CONF.OP-06-05","un.",210,{"$f":"VLOOKUP(B276,'PREÇO UNITÁRIO'!$B$4:$F$124,5,0)","v":28.99},36.141832999999998,6087.9,7589.78,null,null,2.4933288289741301E-4,0.98130837074358379,"C"]
["1.1.8","93583","SINAPI","EXECUÇÃO DE CENTRAL DE FÔRMAS, PRODUÇÃO DE ARGAMASSA OU CONCRETO EM CANTEIRO DE OBRA, NÃO INCLUSO MOBILIÁRIO E EQUIPAMENTOS","m²",20,299.06,372.83810199999999,5981.2,7456.76,null,null,2.4496302499863153E-4,0.98155333376858245,"C"]
["9.2.2.10",92796,"SINAPI","CORTE E DOBRA DE AÇO CA-50, DIÂMETRO DE 16,0 MM, UTILIZADO EM ESTRUTURAS DIVERSAS","KG",1217.152,{"$f":"VLOOKUP(B278,'PREÇO UNITÁRIO'!$B$4:$F$124,5,0)","v":4.87},6.0714289999999993,5927.53,7389.85,null,null,2.4276495559547807E-4,0.98179609872417795,"C"]
["2.1.2","ED-49555","DEER/MG","ENSAIO DE COMPACTAÇÃO - AMOSTRAS NÃO TRABALHADAS - ENERGIA NORMAL - SOLOS","unid.",61,{"$f":"VLOOKUP(B279,'PREÇO UNITÁRIO'!$B$4:$F$124,5,0)","v":95.08},118.53623599999999,5799.88,7230.71,null,null,2.375370260659931E-4,0.98203363575024394,"C"]
["1.1.10","74209/001","SINAPI","PLACA DE OBRA EM CHAPA DE ACO GALVANIZADO","m²",18,{"$f":"VLOOKUP(B280,'PREÇO UNITÁRIO'!$B$4:$F$124,5,0)","v":320.26},399.26814199999995,5764.68,7186.83,null,null,2.3609551828822635E-4,0.98226973126853212,"C"]
["4.2.2.4","5914539","DNIT/MG","TRANSPORTE COM CAMINHÃO BETONEIRA - RODOVIA EM LEITO NATURAL (Entre Francisco Dumont/MG e Área A - 15,00km)","txkm",10241.391060000002,{"$f":"VLOOKUP(B281,'PREÇO UNITÁRIO'!$B$4:$F$124,5,0)","v":0.55000000000000004},0.68568499999999999,5632.77,7022.37,null,null,2.3069282072369767E-4,0.98250042408925586,"C"]
["7.3.1.3","RO-43112","DEER/MG","SUB-BASE, SEM MISTURA, COMPACTADA NA ENERGIA DO PROCTOR INTERMEDIÁRIO (EXECUÇÃO, INCLUINDO ESCAVAÇÃO, CARGA, DESCARGA, ESPALHAMENTO, UMIDECIMENTO E COMPACTAÇÃO DO MATERIAL; EXCLUI AQUISIÇÃO E TRANSPORTE DO MATERIAL)","m³",396,{"$f":"VLOOKUP(B282,'PREÇO UNITÁRIO'!$B$4:$F$124,5,0)","v":14.05},17.516134999999998,5563.8,6936.39,null,null,2.2786828018740815E-4,0.98272829236944326,"C"]
["7.3.1.4","RO-43113","DEER/MG","BASE DE SOLO SEM MISTURA, COMPACTADA NA ENERGIA DO PROCTOR INTERMEDIÁRIO (EXECUÇÃO, INCLUINDO ESCAVAÇÃO, CARGA, DESCARGA, ESPALHAMENTO, UMIDECIMENTO E COMPACTAÇÃO DO MATERIAL; EXCLUI AQUISIÇÃO E TRANSPORTEDO MATERIAL)","m³",396,{"$f":"VLOOKUP(B283,'PREÇO UNITÁRIO'!$B$4:$F$124,5,0)","v":14.05},17.516134999999998,5563.8,6936.39,null,null,2.2786828018740815E-4,0.98295616064963065,"C"]
["4.4.1.4","RO-43112","DEER/MG","SUB-BASE, SEM MISTURA, COMPACTADA NA ENERGIA DO PROCTOR INTERMEDIÁRIO (EXECUÇÃO, INCLUINDO ESCAVAÇÃO, CARGA, DESCARGA, ESPALHAMENTO, UMIDECIMENTO E COMPACTAÇÃO DO MATERIAL; EXCLUI AQUISIÇÃO E TRANSPORTE DO MATERIAL)","m³",395.85,{"$f":"VLOOKUP(B284,'PREÇO UNITÁRIO'!$B$4:$F$124,5,0)","v":14.05},17.516134999999998,5561.69,6933.76,null,null,2.2778188170391849E-4,0.98318394253133456,"C"]
["4.4.1.5","RO-43113","DEER/MG","BASE DE SOLO SEM MISTURA, COMPACTADA NA ENERGIA DO PROCTOR INTERMEDIÁRIO (EXECUÇÃO, INCLUINDO ESCAVAÇÃO, CARGA, DESCARGA, ESPALHAMENTO, UMIDECIMENTO E COMPACTAÇÃO DO MATERIAL; EXCLUI AQUISIÇÃO E TRANSPORTEDO MATERIAL)","m³",395.85,{"$f":"VLOOKUP(B285,'PREÇO UNITÁRIO'!$B$4:$F$124,5,0)","v":14.05},17.516134999999998,5561.69,6933.76,null,null,2.2778188170391849E-4,0.98341172441303848,"C"]
["6.3.3.2","72884","SINAPI","TRANSPORTE COMERCIAL COM CAMINHAO CARROCERIA 9 T (10KM)","m³*km",7427.3,{"$f":"VLOOKUP(B286,'PREÇO UNITÁRIO'!$B$4:$F$124,5,0)","v":0.73},0.91009099999999987,5421.93,6759.52,null,null,2.2205790004489211E-4,0.9836337823130834,"C"]
["9.7.2.5",1107860,"DNIT/MG","LANÇAMENTO MECÂNICO DE CONCRETO COM BOMBA LANÇA SOBRE CHASSI COM CAPACIDADE DE 45 M³/H - CONFECÇÃO EM CENTRAL DOSADORA DE 40 M³/H","m³",170.74,{"$f":"VLOOKUP(B287,'PREÇO UNITÁRIO'!$B$4:$F$124,5,0)","v":31.39},39.133913,5359.53,6681.72,null,null,2.1950208178804953E-4,0.98385328439487141,"C"]
["9.8.2.6",92792,"SINAPI","CORTE E DOBRA DE AÇO CA-50, DIÂMETRO DE 6,3 MM, UTILIZADO EM ESTRUTURA S DIVERSAS","KG",810.77,{"$f":"VLOOKUP(B288,'PREÇO UNITÁRIO'!$B$4:$F$124,5,0)","v":6.58},8.2032860000000003,5334.87,6650.98,null,null,2.1849223791638701E-4,0.98407177663278778,"C"]
["8.2.1.8","92270","SINAPI","FABRICAÇÃO DE FÔRMA PARA VIGAS, COM MADEIRA SERRADA, E = 25 MM. AF_12/2015","m²",67.08,{"$f":"VLOOKUP(B289,'PREÇO UNITÁRIO'!$B$4:$F$124,5,0)","v":79.11},98.626436999999996,5306.7,6615.86,null,null,2.1733850607602313E-4,0.98428911513886375,"C"]
["4.6.1.3","RO-41844","DEER/MG","PLACA DE AÇO CARBONO COM PELÍCULA REFLETIVA GRAU TÉCNICO TIPO I DA ABNT - PLACA QUADRADA (EXECUÇÃO, INCLUINDO FORNECIMENTO E TRANSPORTE DE TODOS OS MATERIAIS, INCLUSIVE POSTE DE SUSTENTAÇÃO)","m²",15.89,{"$f":"VLOOKUP(B290,'PREÇO UNITÁRIO'!$B$4:$F$124,5,0)","v":331.13},412.81977099999995,5261.66,6559.71,null,null,2.1549391487908596E-4,0.98450460905374282,"C"]
["5.6.1.3","RO-41844","DEER/MG","PLACA DE AÇO CARBONO COM PELÍCULA REFLETIVA GRAU TÉCNICO TIPO I DA ABNT - PLACA QUADRADA (EXECUÇÃO, INCLUINDO FORNECIMENTO E TRANSPORTE DE TODOS OS MATERIAIS, INCLUSIVE POSTE DE SUSTENTAÇÃO)","m²",15.89,{"$f":"VLOOKUP(B291,'PREÇO UNITÁRIO'!$B$4:$F$124,5,0)","v":331.13},412.81977099999995,5261.66,6559.71,null,null,2.1549391487908596E-4,0.98472010296862189,"C"]
["7.5.1.3","RO-41844","DEER/MG","PLACA DE AÇO CARBONO COM PELÍCULA REFLETIVA GRAU TÉCNICO TIPO I DA ABNT - PLACA QUADRADA (EXECUÇÃO, INCLUINDO FORNECIMENTO E TRANSPORTE DE TODOS OS MATERIAIS, INCLUSIVE POSTE DE SUSTENTAÇÃO)","m²",15.89,{"$f":"VLOOKUP(B292,'PREÇO UNITÁRIO'!$B$4:$F$124,5,0)","v":331.13},412.81977099999995,5261.66,6559.71,null,null,2.1549391487908596E-4,0.98493559688350096,"C"]
["8.5.1.3","RO-41844","DEER/MG","PLACA DE AÇO CARBONO COM PELÍCULA REFLETIVA GRAU TÉCNICO TIPO I DA ABNT - PLACA QUADRADA (EXECUÇÃO, INCLUINDO FORNECIMENTO E TRANSPORTE DE TODOS OS MATERIAIS, INCLUSIVE POSTE DE SUSTENTAÇÃO)","m²",15.89,{"$f":"VLOOKUP(B293,'PREÇO UNITÁRIO'!$B$4:$F$124,5,0)","v":331.13},412.81977099999995,5261.66,6559.71,null,null,2.1549391487908596E-4,0.98515109079838004,"C"]
["5.4.1.16","RO-41344","DEER/MG","TRANSPORTE DE MATERIAL DE JAZIDA PARA CONSERVAÇÃO. DISTÂNCIA MÉDIA DE TRANSPORTE > 50,10 KM (ESCAVAÇÃO+BASE E SUB BASE) - 5,0KM.","m³xkm",6562.1500000000005,{"$f":"VLOOKUP(B294,'PREÇO UNITÁRIO'!$B$4:$F$124,5,0)","v":0.78},0.97242600000000001,5118.4799999999996,6381.21,null,null,2.0962998738748698E-4,0.98536072078576753,"C"]
["5.6.4.1","RO-41763","DEER/MG","DEFENSA SINGELA SEMI-MALEÁVEL SV-DSM-02 (EXECUÇÃO, INCLUINDO FORNECIMENTO, COLOCAÇÃO E TRANSPORTE DE TODOS OS MATERIAIS)","m",19,{"$f":"VLOOKUP(B295,'PREÇO UNITÁRIO'!$B$4:$F$124,5,0)","v":265.94},331.54739799999999,5052.8599999999997,6299.4,null,null,2.0694243608167343E-4,0.98556766322184919,"C"]
["5.5.1.1","74039/001","SINAPI","CERCA COM MOUROES DE MADEIRA ROLICA, DIAMETRO 11CM, ESPACAMENTO DE 2M, ALTURA LIVRE DE 1M, CRAVADOS 0,5M, COM 5 FIOS DE ARAME FARPADO Nº 14 CLASSE 250","m",189.75,{"$f":"VLOOKUP(B296,'PREÇO UNITÁRIO'!$B$4:$F$124,5,0)","v":26.27},32.750808999999997,4984.7299999999996,6214.47,null,null,2.0415238923651098E-4,0.98577181561108573,"C"]
["9.8.2.3","5914569","DNIT/MG","TRANSPORTE COM CAMINHÃO BETONEIRA - RODOVIA PAVIMENTADA (Entre Bocaiúva/MG e Francisco Dumont/MG - 69,00km)","txkm",13749.768,{"$f":"VLOOKUP(B297,'PREÇO UNITÁRIO'!$B$4:$F$124,5,0)","v":0.36},0.44881199999999993,4949.92,6171.06,null,null,2.0272632149191539E-4,0.98597454193257761,"C"]
["4.2.2.20",84154,"SINAPI","APARELHO APOIO NEOPRENE FRETADO ","dm³",45.12,{"$f":"VLOOKUP(B298,'PREÇO UNITÁRIO'!$B$4:$F$124,5,0)","v":109.31},136.27677699999998,4932.07,6148.81,null,null,2.0199538375136592E-4,0.98617653731632893,"C"]
["5.2.2.20",84154,"SINAPI","APARELHO APOIO NEOPRENE FRETADO ","dm³",45.12,{"$f":"VLOOKUP(B299,'PREÇO UNITÁRIO'!$B$4:$F$124,5,0)","v":109.31},136.27677699999998,4932.07,6148.81,null,null,2.0199538375136592E-4,0.98637853270008025,"C"]
["9.2.1.3","97916","SINAPI","TRANSPORTE COM CAMINHÃO BASCULANTE DE 6 M3, EM VIA URBANA EM LEITO NATURAL TXKM (UNIDADE: TXKM). AF_01/2018","m³xkm",3640,{"$f":"VLOOKUP(B300,'PREÇO UNITÁRIO'!$B$4:$F$124,5,0)","v":1.35},1.6830449999999999,4914,6126.28,null,null,2.0125524769318257E-4,0.98657978794777346,"C"]
["9.1.1.5","C5b","CPU","REMOÇÃO E CONSTRUÇÃO DE NOVA CERCA DE ARAME LISO (4 FIOS), MOURÃO DE MADEIRA TRATADA","m",180,{"$f":"VLOOKUP(B301,'PREÇO UNITÁRIO'!$B$4:$F$124,5,0)","v":26.922033603999999},33.563699294106797,4845.97,6041.47,null,null,1.9846914298414893E-4,0.98677825709075762,"C"]
["5.3.1.2","72884","SINAPI","TRANSPORTE COMERCIAL COM CAMINHAO CARROCERIA 9 T (435KM)","m³*km",6525,{"$f":"VLOOKUP(B302,'PREÇO UNITÁRIO'!$B$4:$F$124,5,0)","v":0.73},0.91009099999999987,4763.25,5938.34,null,null,1.9508120549278419E-4,0.98697333829625045,"C"]
["8.3.1.3","RO-43112","DEER/MG","SUB-BASE, SEM MISTURA, COMPACTADA NA ENERGIA DO PROCTOR INTERMEDIÁRIO (EXECUÇÃO, INCLUINDO ESCAVAÇÃO, CARGA, DESCARGA, ESPALHAMENTO, UMIDECIMENTO E COMPACTAÇÃO DO MATERIAL; EXCLUI AQUISIÇÃO E TRANSPORTE DO MATERIAL)","m³",336,{"$f":"VLOOKUP(B303,'PREÇO UNITÁRIO'!$B$4:$F$124,5,0)","v":14.05},17.516134999999998,4720.8,5885.42,null,null,1.9334272345998072E-4,0.98716668101971039,"C"]
["8.3.1.4","RO-43113","DEER/MG","BASE DE SOLO SEM MISTURA, COMPACTADA NA ENERGIA DO PROCTOR INTERMEDIÁRIO (EXECUÇÃO, INCLUINDO ESCAVAÇÃO, CARGA, DESCARGA, ESPALHAMENTO, UMIDECIMENTO E COMPACTAÇÃO DO MATERIAL; EXCLUI AQUISIÇÃO E TRANSPORTEDO MATERIAL)","m³",336,{"$f":"VLOOKUP(B304,'PREÇO UNITÁRIO'!$B$4:$F$124,5,0)","v":14.05},17.516134999999998,4720.8,5885.42,null,null,1.9334272345998072E-4,0.98736002374317033,"C"]
["8.2.2.11",92797,"SINAPI","CORTE E DOBRA DE AÇO CA-50, DIÂMETRO DE 20,0 MM, UTILIZADO EM ESTRUTURAS DIVERSAS","kg",818,{"$f":"VLOOKUP(B305,'PREÇO UNITÁRIO'!$B$4:$F$124,5,0)","v":5.72},7.1311239999999989,4678.96,5833.26,null,null,1.9162920828932637E-4,0.98755165295145964,"C"]
["4.4.1.9","72942","SINAPI","PINTURA DE LIGACAO COM EMULSAO RR-1C","m²",2919.04,{"$f":"VLOOKUP(B306,'PREÇO UNITÁRIO'!$B$4:$F$124,5,0)","v":1.6},1.99472,4670.46,5822.67,null,null,1.9128131477595922E-4,0.98774293426623561,"C"]
["8.2.2.2","5914569","DNIT/MG","TRANSPORTE COM CAMINHÃO BETONEIRA - RODOVIA PAVIMENTADA (Entre Bocaiúva/MG e Francisco Dumont/MG - 69,00km)","txkm",12883.680000000002,{"$f":"VLOOKUP(B307,'PREÇO UNITÁRIO'!$B$4:$F$124,5,0)","v":0.36},0.44881199999999993,4638.12,5782.35,null,null,1.8995675703668041E-4,0.98793289102327231,"C"]
["7.2.2.4","5914539","DNIT/MG","TRANSPORTE COM CAMINHÃO BETONEIRA - RODOVIA EM LEITO NATURAL (Entre Francisco Dumont/MG e Área N - 10,00km)","txkm",8330.3999999999978,{"$f":"VLOOKUP(B308,'PREÇO UNITÁRIO'!$B$4:$F$124,5,0)","v":0.55000000000000004},0.68568499999999999,4581.72,5712.03,null,null,1.8764666526520002E-4,0.98812053768853747,"C"]
["4.3.1.2",93176,"SINAPI","TRANSPORTE DE MATERIAL ASFALTICO, COM CAMINHÃO COM CAPACIDADE DE 30000 L EM RODOVIA PAVIMENTADA. AF_02/2016 (P/ ITEM 6.1.9) (ORIUNDO DE BETIM/MG DISTANTE 435KM DE MONTES CLAROS/MG)","txkm",9613.5,{"$f":"VLOOKUP(B309,'PREÇO UNITÁRIO'!$B$4:$F$124,5,0)","v":0.47},0.58594899999999994,4518.3500000000004,5633.02,null,null,1.8505109713572534E-4,0.98830558878567321,"C"]
["7.2.1.8","92270","SINAPI","FABRICAÇÃO DE FÔRMA PARA VIGAS, COM MADEIRA SERRADA, E = 25 MM. AF_12/2015","m²",54.88,{"$f":"VLOOKUP(B310,'PREÇO UNITÁRIO'!$B$4:$F$124,5,0)","v":79.11},98.626436999999996,4341.5600000000004,5412.62,null,null,1.7781070711248489E-4,0.98848339949278574,"C"]
["9.8.2.1","83534","SINAPI","LASTRO DE CONCRETO, PREPARO MECÂNICO, INCLUSOS ADITIVO IMPERMEABILIZANTE, LANÇAMENTO E ADENSAMENTO","m³",10.129999999999999,{"$f":"VLOOKUP(B311,'PREÇO UNITÁRIO'!$B$4:$F$124,5,0)","v":427.75},533.27592499999992,4333.1099999999997,5402.09,null,null,1.7746478466718218E-4,0.98866086427745292,"C"]
["9.3.1.8","C6","CPU","TRANSIÇÃO COMPACTADA, INCLUSIVE CARGA, TRANSP. E FORNEC. DE MATERIAL (DMT = 1,00 km)","m³",872.64,{"$f":"VLOOKUP(B312,'PREÇO UNITÁRIO'!$B$4:$F$124,5,0)","v":4.9565426753843438},6.1793217534016609,4325.28,5392.32,null,null,1.7714382908402853E-4,0.98883800810653699,"C"]
["9.8.2.13","804029","DNIT/MG","CORPO BSTC ø 80, AREIA, BRITA E PEDRA DE MÃO COMERCIAIS","m",11,{"$f":"VLOOKUP(B313,'PREÇO UNITÁRIO'!$B$4:$F$124,5,0)","v":380.56},474.44415199999997,4186.16,5218.8900000000003,null,null,1.7144645684387161E-4,0.98900945456338085,"C"]
["7.3.1.6","5914539","DNIT/MG","TRANSPORTE COM CAMINHÃO BETONEIRA - RODOVIA EM LEITO NATURAL (Entre Francisco Dumont/MG e Área N - 10,00km)","txkm",7602.4000000000015,{"$f":"VLOOKUP(B314,'PREÇO UNITÁRIO'!$B$4:$F$124,5,0)","v":0.55000000000000004},0.68568499999999999,4181.32,5212.8500000000004,null,null,1.7124803599205502E-4,0.98918070259937285,"C"]
["9.2.2.1","83534","SINAPI","LASTRO DE CONCRETO, PREPARO MECÂNICO, INCLUSOS ADITIVO IMPERMEABILIZANTE, LANÇAMENTO E ADENSAMENTO","m³",9.31,{"$f":"VLOOKUP(B315,'PREÇO UNITÁRIO'!$B$4:$F$124,5,0)","v":427.75},533.27592499999992,3982.35,4964.8,null,null,1.6309931210246886E-4,0.98934380191147531,"C"]
["7.2.2.17",92881,"SINAPI","CORTE E DOBRA DE AÇO CA-25, DIÂMETRO DE 25,0 MM. AF_12/2015","kg",640,{"$f":"VLOOKUP(B316,'PREÇO UNITÁRIO'!$B$4:$F$124,5,0)","v":6.14},7.6547379999999992,3929.6,4899.03,null,null,1.6093869299253907E-4,0.9895047406044678,"C"]
["9.2.1.2","72898","SINAPI","CARGA E DESCARGA MECANIZADAS DE ENTULHO EM CAMINHAO BASCULANTE 6 M3 ","m³",728,{"$f":"VLOOKUP(B317,'PREÇO UNITÁRIO'!$B$4:$F$124,5,0)","v":5.16},6.4329719999999995,3756.48,4683.2,null,null,1.5384843265353734E-4,0.98965858903712134,"C"]
["2.4.1","ED-49546","DEER/MG","ENSAIO DE RESISTENCIA A COMPRESSÃO SIMPLES - CONCRETO","unid.",41,{"$f":"VLOOKUP(B318,'PREÇO UNITÁRIO'!$B$4:$F$124,5,0)","v":90.07},112.29026899999998,3692.87,4603.8999999999996,null,null,1.5124333769508467E-4,0.98980983237481646,"C"]
["1.1.7","93582","SINAPI","EXECUÇÃO DE CENTRAL DE ARMADURA EM CANTEIRO DE OBRA, NÃO INCLUSO MOBILIÁRIO E EQUIPAMENTOS","m²",20,184.24,229.69200799999999,3684.8,4593.84,null,null,1.5091285528295311E-4,0.98996074523009936,"C"]
["4.2.1.6",1106280,"DNIT/MG","CONCRETO PARA BOMBEAMENTO FCK = 30 MPA - CONFECÇÃO EM CENTRAL DOSADORA DE 30 M³/H - AREIA E BRITA COMERCIAIS","m³",13.45,{"$f":"VLOOKUP(B320,'PREÇO UNITÁRIO'!$B$4:$F$124,5,0)","v":270.39999999999998},337.10767999999996,3636.88,4534.1000000000004,null,null,1.4895032851349583E-4,0.99010969555861283,"C"]
["6.4.1.7",93176,"SINAPI","TRANSPORTE DE MATERIAL ASFALTICO, COM CAMINHÃO COM CAPACIDADE DE 30000 L EM RODOVIA PAVIMENTADA. AF_02/2016 (P/ ITEM 6.1.6) (ORIUNDO DE BETIM/MG DISTANTE 377KM DIRETO PARA OBRA C)","txkm",7664.4431759999989,{"$f":"VLOOKUP(B321,'PREÇO UNITÁRIO'!$B$4:$F$124,5,0)","v":0.47},0.58594899999999994,3602.29,4490.97,null,null,1.4753345908653413E-4,0.99025722901769941,"C"]
["5.4.1.4","RO-43112","DEER/MG","SUB-BASE, SEMMISTURA, COMPACTADA NA ENERGIA DO PROCTOR INTERMEDIÁRIO (EXECUÇÃO, INCLUINDO ESCAVAÇÃO, CARGA, DESCARGA, ESPALHAMENTO, UMIDECIMENTO E COMPACTAÇÃO DO MATERIAL; EXCLUI AQUISIÇÃO E TRANSPORTE DO MATERIAL)","m³",252.67,{"$f":"VLOOKUP(B322,'PREÇO UNITÁRIO'!$B$4:$F$124,5,0)","v":14.05},17.516134999999998,3550.01,4425.8,null,null,1.4539255065724836E-4,0.99040262156835668,"C"]
["5.4.1.5","RO-43113","DEER/MG","BASE DE SOLO SEM MISTURA, COMPACTADA NA ENERGIA DO PROCTOR INTERMEDIÁRIO (EXECUÇÃO, INCLUINDO ESCAVAÇÃO, CARGA, DESCARGA, ESPALHAMENTO, UMIDECIMENTO E COMPACTAÇÃO DO MATERIAL; EXCLUI AQUISIÇÃO E TRANSPORTEDO MATERIAL)","m³",252.67,{"$f":"VLOOKUP(B323,'PREÇO UNITÁRIO'!$B$4:$F$124,5,0)","v":14.05},17.516134999999998,3550.01,4425.8,null,null,1.4539255065724836E-4,0.99054801411901394,"C"]
["7.2.1.9",2003864,"DNIT/MG","ESGOTAMENTO DE ÁGUA COM BOMBA SUBMERSA","h",298.04666666666668,{"$f":"VLOOKUP(B324,'PREÇO UNITÁRIO'!$B$4:$F$124,5,0)","v":11.84},14.760927999999998,3528.87,4399.45,null,null,1.4452692326563137E-4,0.99069254104227955,"C"]
["9.8.2.11","72917","SINAPI","ESCAVACAO MECANICA DE VALA EM MATERIAL 2A CATEGORIA COM UTILIZACAO DE ESCAVADEIRA HIDRAULICA","m³",334.8,{"$f":"VLOOKUP(B325,'PREÇO UNITÁRIO'!$B$4:$F$124,5,0)","v":10.35},12.903344999999998,3465.18,4320.04,null,null,1.4191821468239395E-4,0.9908344592569619,"C"]
["9.2.2.5",1107860,"DNIT/MG","LANÇAMENTO MECÂNICO DE CONCRETO COM BOMBA LANÇA SOBRE CHASSI COM CAPACIDADE DE 45 M³/H - CONFECÇÃO EM CENTRAL DOSADORA DE 40 M³/H","m³",110.28,{"$f":"VLOOKUP(B326,'PREÇO UNITÁRIO'!$B$4:$F$124,5,0)","v":31.39},39.133913,3461.69,4315.6899999999996,null,null,1.4177531224772474E-4,0.99097623456920958,"C"]
["9.2.1.9","RO-41344","DEER/MG","TRANSPORTE DE MATERIAL DE JAZIDA PARA CONSERVAÇÃO. DISTÂNCIA MÉDIA DE TRANSPORTE > 50,10 KM (ESCAVAÇÃO+BASE E SUB BASE)","m³xkm",4361.66,{"$f":"VLOOKUP(B327,'PREÇO UNITÁRIO'!$B$4:$F$124,5,0)","v":0.78},0.97242600000000001,3402.09,4241.3900000000003,null,null,1.3933447296130569E-4,0.99111556904217091,"C"]
["5.4.1.9","72942","SINAPI","PINTURA DE LIGACAO COM EMULSAO RR-1C","m²",1924.22,{"$f":"VLOOKUP(B328,'PREÇO UNITÁRIO'!$B$4:$F$124,5,0)","v":1.6},1.99472,3078.75,3838.28,null,null,1.2609185217061396E-4,0.99124166089434151,"C"]
["4.4.1.15",93178,"SINAPI","TRANSPORTE DE MATERIAL ASFALTICO, COM CAMINHÃO COM CAPACIDADE DE 30000 TXKM L EM RODOVIA NÃO PAVIMENTADA PARA DISTÂNCIAS MÉDIAS DE TRANSPORTE SUPERIORES A 100 KM. AF_02/2016 (JEQUITAÍ P/ ÁREA A - 15KM)","txkm",5758.1999999999989,{"$f":"VLOOKUP(B329,'PREÇO UNITÁRIO'!$B$4:$F$124,5,0)","v":0.53},0.66075099999999998,3051.85,3804.74,null,null,1.2499002512261266E-4,0.99136665091946408,"C"]
["5.2.2.4","5914539","DNIT/MG","TRANSPORTE COM CAMINHÃO BETONEIRA - RODOVIA EM LEITO NATURAL (Entre Francisco Dumont/MG e Área B - 9,00km)","txkm",5482.08,{"$f":"VLOOKUP(B330,'PREÇO UNITÁRIO'!$B$4:$F$124,5,0)","v":0.55000000000000004},{"$f":"G330*(1+$J$4)","v":0.68568499999999999},3015.14,{"$f":"ROUND(F330*H330,2)","v":3758.98},null,null,1.2348675721216129E-4,0.99149013767667626,"C"]
["6.6.1.1",97051,"SINAPI","SINALIZAÇÃO COM FITA FIXADA NA ESTRUTURA. AF_11/2017","m",6000,{"$f":"VLOOKUP(B331,'PREÇO UNITÁRIO'!$B$4:$F$124,5,0)","v":0.5},0.62334999999999996,{"$f":"ROUND(F331*G331,2)","v":3000},3740.1,null,null,1.2286652779456246E-4,0.99161300420447085,{"$f":"IF(N331<=$M$2,\"A\",IF(N331<=$M$3,\"B\",\"C\"))","v":"C"}]
["4.2.2.5",1116263,"DNIT/MG","CONCRETO PARA BOMBEAMENTO FCK = 25 MPA - CONFECÇÃO EM CENTRAL DOSADORA DE 30 M³/H - AREIA E BRITA COMERCIAIS","m³",12.71998,{"$f":"VLOOKUP(B332,'PREÇO UNITÁRIO'!$B$4:$F$124,5,0)","v":231.5},288.61104999999998,2944.68,3671.13,null,null,{"$f":"SUM(J332/$J$3)","v":1.2060078505453121E-4},{"$f":"N331+M332","v":0.99173360498952534},"C"]
["8.2.2.13",92881,"SINAPI","CORTE E DOBRA DE AÇO CA-25, DIÂMETRO DE 25,0 MM. AF_12/2015","kg",476,{"$f":"VLOOKUP(B333,'PREÇO UNITÁRIO'!$B$4:$F$124,5,0)","v":6.14},7.6547379999999992,2922.64,3643.66,null,null,1.1969836439237868E-4,0.99185330335391775,"C"]
["5.1.6.1","ED-48598","DEER/MG","DESCIDA D´ÁGUA TIPO CALHA DN 500, EXCLUSIVE BOTA FORA","m",10,{"$f":"VLOOKUP(B334,'PREÇO UNITÁRIO'!$B$4:$F$124,5,0)","v":289.51},360.93211699999995,2895.1,3609.32,null,null,1.1857025643685202E-4,0.99197187361035455,"C"]
["5.4.1.15",93178,"SINAPI","TRANSPORTE DE MATERIAL ASFALTICO, COM CAMINHÃO COM CAPACIDADE DE 30000 TXKM L EM RODOVIA NÃO PAVIMENTADA PARA DISTÂNCIAS MÉDIAS DE TRANSPORTE SUPERIORES A 100 KM. AF_02/2016 (DE JEQUITAÍ ATÉ ÁREA B - 21KM)","txkm",5454.2880000000005,{"$f":"VLOOKUP(B335,'PREÇO UNITÁRIO'!$B$4:$F$124,5,0)","v":0.53},0.66075099999999998,2890.77,3603.93,null,null,1.183931888223998E-4,0.992090266799177,"C"]
["4.1.6.1","ED-14723","DEER/MG","CANALETA PARA DRENAGEM, EM CONCRETO COM FCK 15MPA, MOLDADA IN LOCO, SEÇÃO 60X60CM, FORMA EM CONTRA BARRANCO, EXCLUSIVE TAMPA, INCLUSIVE ESCAVAÇÃO, REATERRO COM TRANSPORTE E RETIRADA DO MATERIAL ESCAVADO (EM CAÇAMBA)","m",12,{"$f":"VLOOKUP(B336,'PREÇO UNITÁRIO'!$B$4:$F$124,5,0)","v":236.98},295.44296599999996,2843.76,3545.32,null,null,1.1646778383482213E-4,0.99220673458301178,"C"]
["7.1.4.5","ED-48676","DEER/MG","FORNECIMENTO, ASSENTAMENTO E  REJUNTAMENTO DE TUBO DE CONCRETO SIMPLES PS1 D = 400 MM","m",32,{"$f":"VLOOKUP(B337,'PREÇO UNITÁRIO'!$B$4:$F$124,5,0)","v":86.76},108.163692,2776.32,3461.24,null,null,1.1370566045390535E-4,0.99232044024346566,"C"]
["8.1.4.5","ED-48676","DEER/MG","FORNECIMENTO, ASSENTAMENTO E  REJUNTAMENTO DE TUBO DE CONCRETO SIMPLES PS1 D = 400 MM","m",32,{"$f":"VLOOKUP(B338,'PREÇO UNITÁRIO'!$B$4:$F$124,5,0)","v":86.76},108.163692,2776.32,3461.24,null,null,1.1370566045390535E-4,0.99243414590391954,"C"]
["5.2.2.17",92880,"SINAPI","CORTE E DOBRA DE AÇO CA-25, DIÂMETRO DE 20,0 MM. AF_12/2015","kg",448,{"$f":"VLOOKUP(B339,'PREÇO UNITÁRIO'!$B$4:$F$124,5,0)","v":6.16},7.6796720000000001,2759.68,3440.49,null,null,1.1302399941496597E-4,0.99254716990333447,"C"]
["9.8.2.16","C7","CPU","BACIA DE DISSIPAÇÃO (PEDRA ARGAMASSADA e=25cm)","m³",12.64,{"$f":"VLOOKUP(B340,'PREÇO UNITÁRIO'!$B$4:$F$124,5,0)","v":211.714},263.94384379999997,2676.06,3336.25,null,null,1.0959959716440979E-4,0.99265676950049886,"C"]
["9.8.2.5",1107860,"DNIT/MG","LANÇAMENTO MECÂNICO DE CONCRETO COM BOMBA LANÇA SOBRE CHASSI COM CAPACIDADE DE 45 M³/H - CONFECÇÃO EM CENTRAL DOSADORA DE 40 M³/H","m³",83.03,{"$f":"VLOOKUP(B341,'PREÇO UNITÁRIO'!$B$4:$F$124,5,0)","v":31.39},39.133913,2606.31,3249.29,null,null,1.0674286251640167E-4,0.9927635123630153,"C"]
["9.2.2.12","C7","CPU","BACIA DE DISSIPAÇÃO (PEDRA ARGAMASSADA e=25cm)","m³",12.26,{"$f":"VLOOKUP(B342,'PREÇO UNITÁRIO'!$B$4:$F$124,5,0)","v":211.714},263.94384379999997,2595.61,3235.95,null,null,1.0630462838341607E-4,0.99286981699139876,"C"]
["5.2.2.5",1116263,"DNIT/MG","CONCRETO PARA BOMBEAMENTO FCK = 25 MPA - CONFECÇÃO EM CENTRAL DOSADORA DE 30 M³/H - AREIA E BRITA COMERCIAIS","m³",11,{"$f":"VLOOKUP(B343,'PREÇO UNITÁRIO'!$B$4:$F$124,5,0)","v":231.5},288.61104999999998,2546.5,3174.72,null,null,1.0429315342369278E-4,0.9929741101448224,"C"]
["5.4.1.3","RO-40251","DEER/MG","COMPACTAÇÃO DE ATERRO A 100% PROCTOR NORMAL","m³",807.09,{"$f":"VLOOKUP(B344,'PREÇO UNITÁRIO'!$B$4:$F$124,5,0)","v":3.14},3.9146380000000001,2534.2600000000002,3159.47,null,null,1.0379217362399035E-4,0.99307790231844639,"C"]
["2.1.3","ED-49559","DEER/MG","ENSAIO  DE MASSA ESPECIFICA - IN SITU - METODO FRASCO DE AREIA - SOLOS","unid.",71,{"$f":"VLOOKUP(B345,'PREÇO UNITÁRIO'!$B$4:$F$124,5,0)","v":35.03},43.671900999999998,2487.13,3100.7,null,null,1.0186151245490758E-4,0.99317976383090134,"C"]
["8.2.2.5",1107860,"DNIT/MG","LANÇAMENTO MECÂNICO DE CONCRETO COM BOMBA LANÇA SOBRE CHASSI COM CAPACIDADE DE 45 M³/H - CONFECÇÃO EM CENTRAL DOSADORA DE 40 M³/H","m³",77.800000000000011,{"$f":"VLOOKUP(B346,'PREÇO UNITÁRIO'!$B$4:$F$124,5,0)","v":31.39},39.133913,2442.14,3044.62,null,null,1.0001922083737889E-4,0.9932797830517387,"C"]
["9.7.2.12","C7","CPU","BACIA DE DISSIPAÇÃO (PEDRA ARGAMASSADA e=25cm)","m³",11.37,{"$f":"VLOOKUP(B347,'PREÇO UNITÁRIO'!$B$4:$F$124,5,0)","v":211.714},263.94384379999997,2407.19,3001.04,null,null,9.8587568399934158E-5,0.99337837062013867,"C"]
["4.2.2.17",92880,"SINAPI","CORTE E DOBRA DE AÇO CA-25, DIÂMETRO DE 20,0 MM. AF_12/2015","kg",372,{"$f":"VLOOKUP(B348,'PREÇO UNITÁRIO'!$B$4:$F$124,5,0)","v":6.16},7.6796720000000001,2291.52,2856.84,null,null,9.385043481848557E-5,0.99347222105495714,"C"]
["5.2.2.2","83534","SINAPI","LASTRO DE CONCRETO, PREPARO MECÂNICO, INCLUSOS ADITIVO IMPERMEABILIZANTE, LANÇAMENTO E ADENSAMENTO","m³",5.35,{"$f":"VLOOKUP(B349,'PREÇO UNITÁRIO'!$B$4:$F$124,5,0)","v":427.75},533.27592499999992,2288.46,2853.03,null,null,9.3725271996395975E-5,0.9935659463269535,"C"]
["4.2.2.2","83534","SINAPI","LASTRO DE CONCRETO, PREPARO MECÂNICO, INCLUSOS ADITIVO IMPERMEABILIZANTE, LANÇAMENTO E ADENSAMENTO","m³",5.3420750000000004,{"$f":"VLOOKUP(B350,'PREÇO UNITÁRIO'!$B$4:$F$124,5,0)","v":427.75},533.27592499999992,2285.0700000000002,2848.8,null,null,9.3586311697855563E-5,0.99365953263865137,"C"]
["6.2.2.2","83534","SINAPI","LASTRO DE CONCRETO, PREPARO MECÂNICO, INCLUSOS ADITIVO IMPERMEABILIZANTE, LANÇAMENTO E ADENSAMENTO","m³",5.3420750000000004,{"$f":"VLOOKUP(B351,'PREÇO UNITÁRIO'!$B$4:$F$124,5,0)","v":427.75},533.27592499999992,2285.0700000000002,2848.8,null,null,9.3586311697855563E-5,0.99375311895034923,"C"]
["7.3.1.5","5914569","DNIT/MG","TRANSPORTE COM CAMINHÃO BETONEIRA - RODOVIA PAVIMENTADA (Entre Bocaiúva/MG e Francisco Dumont/MG - 69,00km)","txkm",6294.7871999999998,{"$f":"VLOOKUP(B352,'PREÇO UNITÁRIO'!$B$4:$F$124,5,0)","v":0.36},0.44881199999999993,2266.12,2825.18,null,null,9.2810367903168895E-5,0.99384592931825244,"C"]
["9.7.2.4","5914539","DNIT/MG","TRANSPORTE COM CAMINHÃO BETONEIRA - RODOVIA EM LEITO NATURAL (Entre Francisco Dumont/MG e Área M - 10,00km)","txkm",4097.76,{"$f":"VLOOKUP(B353,'PREÇO UNITÁRIO'!$B$4:$F$124,5,0)","v":0.55000000000000004},0.68568499999999999,2253.77,2809.77,null,null,9.2304131921961395E-5,0.9939382334501744,"C"]
["6.2.1.3","83534","SINAPI","LASTRO DE CONCRETO, PREPARO MECÂNICO, INCLUSOS ADITIVO IMPERMEABILIZANTE, LANÇAMENTO E ADENSAMENTO","m³",5.22,{"$f":"VLOOKUP(B354,'PREÇO UNITÁRIO'!$B$4:$F$124,5,0)","v":427.75},533.27592499999992,2232.86,2783.7,null,null,9.1447702847978271E-5,0.99402968115302237,"C"]
["7.2.2.10",92792,"SINAPI","CORTE E DOBRA DE AÇO CA-50, DIÂMETRO DE 6,3 MM, UTILIZADO EM ESTRUTURA S DIVERSAS","kg",335,{"$f":"VLOOKUP(B355,'PREÇO UNITÁRIO'!$B$4:$F$124,5,0)","v":6.58},8.2032860000000003,2204.3000000000002,2748.1,null,null,9.0278202463099148E-5,0.99411995935548547,"C"]
["1.2.9","RO-42263","DEER/MG","ESPALHAMENTO DE MATERIAL EM BOTA-FORA","m³",12236.34,{"$f":"VLOOKUP(B356,'PREÇO UNITÁRIO'!$B$4:$F$124,5,0)","v":0.18},0.22440599999999997,2202.54,2745.91,null,null,9.0206258478748438E-5,0.99421016561396425,"C"]
["8.3.1.6","5914539","DNIT/MG","TRANSPORTE COM CAMINHÃO BETONEIRA - RODOVIA EM LEITO NATURAL (Entre Francisco Dumont/MG e Área R - 15,00km)","txkm",4002,{"$f":"VLOOKUP(B357,'PREÇO UNITÁRIO'!$B$4:$F$124,5,0)","v":0.55000000000000004},0.68568499999999999,2201.1,2744.11,null,null,9.0147126436816355E-5,0.99430031274040109,"C"]
["9.4.1.1","RO-41352   OBR-VIA-370","DEER/MG","TRANSPORTE DE ROCHAS E MATERIAL DE 3A CATEGORIA, DISTÂNCIA MÉDIA DE TRANSPORTE > 50,10 KM","m³xkm",3000.22,{"$f":"VLOOKUP(B358,'PREÇO UNITÁRIO'!$B$4:$F$124,5,0)","v":0.73},0.91009099999999987,2190.16,2730.47,null,null,8.969903696350872E-5,0.99439001177736464,"C"]
["7.4.1.8","96391","SINAPI","SOLO CIMENTO PARA ANCORAGEM, (6% DE CIMENTO NA MISTURA EM PESO, RESISTÊNCIA A COMPRESSÃO SIMPLES 20kgf/cm²)","m³",33.599999999999994,{"$f":"VLOOKUP(B359,'PREÇO UNITÁRIO'!$B$4:$F$124,5,0)","v":64.14},79.963337999999993,2155.1,2686.77,null,null,8.8263442389935196E-5,0.99447827521975452,"C"]
["8.4.1.5","96391","SINAPI","SOLO CIMENTO PARA ANCORAGEM, (6% DE CIMENTO NA MISTURA EM PESO, RESISTÊNCIA A COMPRESSÃO SIMPLES 20kgf/cm²)","m³",33.599999999999994,{"$f":"VLOOKUP(B360,'PREÇO UNITÁRIO'!$B$4:$F$124,5,0)","v":64.14},79.963337999999993,2155.1,2686.77,null,null,8.8263442389935196E-5,0.99456653866214439,"C"]
["6.2.1.4","5914569","DNIT/MG","TRANSPORTE COM CAMINHÃO BETONEIRA - RODOVIA PAVIMENTADA (Entre Bocaiúva/MG e Francisco Dumont/MG - 69,00km)","txkm",5945.04,{"$f":"VLOOKUP(B361,'PREÇO UNITÁRIO'!$B$4:$F$124,5,0)","v":0.36},0.44881199999999993,2140.21,2668.21,null,null,8.7653725335346523E-5,0.99465419238747976,"C"]
["9.7.1.13",96622,"SINAPI","LASTRO COM MATERIAL GRANULAR (AREIA)","m³",18.52,{"$f":"VLOOKUP(B362,'PREÇO UNITÁRIO'!$B$4:$F$124,5,0)","v":111.85},139.44339499999998,2071.46,2582.4899999999998,null,null,8.4837726094002727E-5,0.99473903011357379,"C"]
["7.2.1.4","5914569","DNIT/MG","TRANSPORTE COM CAMINHÃO BETONEIRA - RODOVIA PAVIMENTADA (Entre Bocaiúva/MG e Francisco Dumont/MG - 69,00km)","txkm",5749.6319999999996,{"$f":"VLOOKUP(B363,'PREÇO UNITÁRIO'!$B$4:$F$124,5,0)","v":0.36},0.44881199999999993,2069.87,2580.5,null,null,8.477235233653337E-5,0.99482380246591029,"C"]
["4.1.1.1","RO-40514","DEER/MG","VALETA DE PROTEÇÃO DE ATERRO TIPO DR.VPA (EXECUÇÃO,INCLUINDO ESCAVAÇÃO)","m",79,{"$f":"VLOOKUP(B364,'PREÇO UNITÁRIO'!$B$4:$F$124,5,0)","v":25.49},31.778382999999994,2013.71,2510.4899999999998,null,null,8.2472444416719102E-5,0.99490627491032702,"C"]
["9.7.1.12",96624,"SINAPI","LASTRO COM MATERIAL GRANULAR (PEDRA BRITADA)","m³",18.52,{"$f":"VLOOKUP(B365,'PREÇO UNITÁRIO'!$B$4:$F$124,5,0)","v":107.21},133.65870699999999,1985.53,2475.36,null,null,8.1318384065011141E-5,0.99498759329439201,"C"]
["4.2.2.16",92798,"SINAPI","CORTE E DOBRA DE AÇO CA-50, DIÂMETRO DE 25,0 MM, UTILIZADO EM ESTRUTURAS DIVERSAS","kg",334,{"$f":"VLOOKUP(B366,'PREÇO UNITÁRIO'!$B$4:$F$124,5,0)","v":5.7},7.1061899999999998,1903.8,2373.4699999999998,null,null,7.7971181980310733E-5,0.99506556447637229,"C"]
["5.2.2.16",92798,"SINAPI","CORTE E DOBRA DE AÇO CA-50, DIÂMETRO DE 25,0 MM, UTILIZADO EM ESTRUTURAS DIVERSAS","kg",334,{"$f":"VLOOKUP(B367,'PREÇO UNITÁRIO'!$B$4:$F$124,5,0)","v":5.7},7.1061899999999998,1903.8,2373.4699999999998,null,null,7.7971181980310733E-5,0.99514353565835256,"C"]
["6.2.2.16",92798,"SINAPI","CORTE E DOBRA DE AÇO CA-50, DIÂMETRO DE 25,0 MM, UTILIZADO EM ESTRUTURAS DIVERSAS","kg",334,{"$f":"VLOOKUP(B368,'PREÇO UNITÁRIO'!$B$4:$F$124,5,0)","v":5.7},7.1061899999999998,1903.8,2373.4699999999998,null,null,7.7971181980310733E-5,0.99522150684033284,"C"]
["5.2.1.4","5914569","DNIT/MG","TRANSPORTE COM CAMINHÃO BETONEIRA - RODOVIA PAVIMENTADA (Entre Bocaiúva/MG e Francisco Dumont/MG - 69,00km)","txkm",5266.08,{"$f":"VLOOKUP(B369,'PREÇO UNITÁRIO'!$B$4:$F$124,5,0)","v":0.36},0.44881199999999993,1895.79,2363.48,null,null,7.7642999147587636E-5,0.99529914983948042,"C"]
["5.1.1.1","RO-40514","DEER/MG","VALETA DE PROTEÇÃO DE ATERRO TIPO DR.VPA (EXECUÇÃO,INCLUINDO ESCAVAÇÃO)","m",74,{"$f":"VLOOKUP(B370,'PREÇO UNITÁRIO'!$B$4:$F$124,5,0)","v":25.49},31.778382999999994,1886.26,2351.6,null,null,7.7252727670835831E-5,0.99537640256715121,"C"]
["7.1.4.2","ED-48193","DEER/MG","ALVENARIA DE VEDAÇÃO COM BLOCO DE CONCRETO, ESP.19 CM, PARA REVESTIMENTO, INCLUSIVE ARGAMASSA PARA ASSENTAMENTO","m²",38.4,{"$f":"VLOOKUP(B371,'PREÇO UNITÁRIO'!$B$4:$F$124,5,0)","v":49.12},61.237903999999993,1886.21,2351.54,null,null,7.7250756602771436E-5,0.99545365332375402,"C"]
["8.1.4.2","ED-48193","DEER/MG","ALVENARIA DE VEDAÇÃO COM BLOCO DE CONCRETO, ESP.19 CM, PARA REVESTIMENTO, INCLUSIVE ARGAMASSA PARA ASSENTAMENTO","m²",38.4,{"$f":"VLOOKUP(B372,'PREÇO UNITÁRIO'!$B$4:$F$124,5,0)","v":49.12},61.237903999999993,1886.21,2351.54,null,null,7.7250756602771436E-5,0.99553090408035683,"C"]
["5.1.3.1","RO-40613","DEER/MG","SARJETA DE CONCRETO EM ATERRO,TIPO DR.SCA- X/Y. LARGURA=60CM TIPO 30/10 (EXECUÇÃO, INCLUINDO ESCAVAÇÃO, FORNECIMENTO, TRANSPORTE E PLANTIO DA GRAMA)","m",64,{"$f":"VLOOKUP(B373,'PREÇO UNITÁRIO'!$B$4:$F$124,5,0)","v":29.3},36.528309999999998,1875.2,2337.81,null,null,7.6799710527367202E-5,0.99560770379088415,"C"]
["6.6.1.4","RO-43226","DEER/MG","COLOCAÇÃO DE PLACAS","m²",28.45,{"$f":"VLOOKUP(B374,'PREÇO UNITÁRIO'!$B$4:$F$124,5,0)","v":65.77},81.995458999999997,1871.16,2332.77,null,null,7.6634140809957348E-5,0.99568433793169409,"C"]
["7.1.5.1","RO-40661","DEER/MG","SARJETA DE CONCRETO EM CORTE TIPO DR.SCC-X/Y. LARGURA=90CM TIPO80/10 (EXECUÇÃO, INCLUINDOESCAVAÇÃO, FORNECIMENTO E TRANSPORTE DE TODOS OS MATERIAIS)","m",40,{"$f":"VLOOKUP(B375,'PREÇO UNITÁRIO'!$B$4:$F$124,5,0)","v":45.05},56.163834999999992,1802,2246.5500000000002,null,null,7.3801716001410214E-5,0.99575813964769555,"C"]
["8.1.5.1","RO-40661","DEER/MG","SARJETA DE CONCRETO EM CORTE TIPO DR.SCC-X/Y. LARGURA=90CM TIPO80/10 (EXECUÇÃO, INCLUINDOESCAVAÇÃO, FORNECIMENTO E TRANSPORTE DE TODOS OS MATERIAIS)","m",40,{"$f":"VLOOKUP(B376,'PREÇO UNITÁRIO'!$B$4:$F$124,5,0)","v":45.05},56.163834999999992,1802,2246.5500000000002,null,null,7.3801716001410214E-5,0.99583194136369702,"C"]
["7.1.4.3","ED-50732","DEER/MG","EMBOÇO COM ARGAMASSA, TRAÇO 1:6 (CIMENTO E AREIA), ESP. 20MM, APLICAÇÃO MANUAL, PREPARO MECÂNICO","m²",76.8,{"$f":"VLOOKUP(B377,'PREÇO UNITÁRIO'!$B$4:$F$124,5,0)","v":22.84},28.474627999999999,1754.11,2186.85,null,null,7.1840503277329198E-5,0.99590378186697437,"C"]
["8.1.4.3","ED-50732","DEER/MG","EMBOÇO COM ARGAMASSA, TRAÇO 1:6 (CIMENTO E AREIA), ESP. 20MM, APLICAÇÃO MANUAL, PREPARO MECÂNICO","m²",76.8,{"$f":"VLOOKUP(B378,'PREÇO UNITÁRIO'!$B$4:$F$124,5,0)","v":22.84},28.474627999999999,1754.11,2186.85,null,null,7.1840503277329198E-5,0.99597562237025172,"C"]
["5.4.1.2","83338","SINAPI","ESCAVACAO MECANICA, A CEU ABERTO, EM MATERIAL DE 1A CATEGORIA, COM ESCAVADEIRA HIDRAULICA, CAPACIDADE DE 0,78 M3 - CORTE JAZIDA","m³",807.09,{"$f":"VLOOKUP(B379,'PREÇO UNITÁRIO'!$B$4:$F$124,5,0)","v":2.12},2.6430039999999999,1711.03,2133.14,null,null,7.0076068848344423E-5,0.99604569843910007,"C"]
["8.2.2.6",92792,"SINAPI","CORTE E DOBRA DE AÇO CA-50, DIÂMETRO DE 6,3 MM, UTILIZADO EM ESTRUTURA S DIVERSAS","kg",247,{"$f":"VLOOKUP(B380,'PREÇO UNITÁRIO'!$B$4:$F$124,5,0)","v":6.58},8.2032860000000003,1625.26,2026.21,null,null,6.6563297046234174E-5,0.99611226173614631,"C"]
["8.2.1.4","5914569","DNIT/MG","TRANSPORTE COM CAMINHÃO BETONEIRA - RODOVIA PAVIMENTADA (Entre Bocaiúva/MG e Francisco Dumont/MG - 69,00km)","txkm",4484.4479999999994,{"$f":"VLOOKUP(B381,'PREÇO UNITÁRIO'!$B$4:$F$124,5,0)","v":0.36},0.44881199999999993,1614.4,2012.67,null,null,6.6118492686367228E-5,0.99617838022883265,"C"]
["8.2.2.3","5914539","DNIT/MG","TRANSPORTE COM CAMINHÃO BETONEIRA - RODOVIA EM LEITO NATURAL (Entre Francisco Dumont/MG e Área R - 15,00km)","txkm",2800.8,{"$f":"VLOOKUP(B382,'PREÇO UNITÁRIO'!$B$4:$F$124,5,0)","v":0.55000000000000004},0.68568499999999999,1540.44,1920.47,null,null,6.3089618094067917E-5,0.99624146984692674,"C"]
["9.1.1.1",98525,"SINAPI","LIMPEZA MECANIZADA DE CAMADA VEGETAL, VEGETAÇÃO E PEQUENAS ÁRVORES (DIÂMETRO DE TRONCO MENOR QUE 0,20 M), COM TRATOR DE ESTEIRAS","m²",5600.0000000000009,{"$f":"VLOOKUP(B383,'PREÇO UNITÁRIO'!$B$4:$F$124,5,0)","v":0.27},0.33660899999999999,1512,1885.01,null,null,6.1924716868005724E-5,0.9963033945637948,"C"]
["4.6.1.1",97051,"SINAPI","SINALIZAÇÃO COM FITA FIXADA NA ESTRUTURA. AF_11/2017","m",3000,{"$f":"VLOOKUP(B384,'PREÇO UNITÁRIO'!$B$4:$F$124,5,0)","v":0.5},0.62334999999999996,1500,1870.05,null,null,6.1433263897281231E-5,0.99636482782769209,"C"]
["5.6.1.1",97051,"SINAPI","SINALIZAÇÃO COM FITA FIXADA NA ESTRUTURA. AF_11/2017","m",3000,{"$f":"VLOOKUP(B385,'PREÇO UNITÁRIO'!$B$4:$F$124,5,0)","v":0.5},0.62334999999999996,1500,1870.05,null,null,6.1433263897281231E-5,0.99642626109158938,"C"]
["7.5.1.1",97051,"SINAPI","SINALIZAÇÃO COM FITA FIXADA NA ESTRUTURA. AF_11/2017","m",3000,{"$f":"VLOOKUP(B386,'PREÇO UNITÁRIO'!$B$4:$F$124,5,0)","v":0.5},0.62334999999999996,1500,1870.05,null,null,6.1433263897281231E-5,0.99648769435548668,"C"]
["8.5.1.1",97051,"SINAPI","SINALIZAÇÃO COM FITA FIXADA NA ESTRUTURA. AF_11/2017","m",3000,{"$f":"VLOOKUP(B387,'PREÇO UNITÁRIO'!$B$4:$F$124,5,0)","v":0.5},0.62334999999999996,1500,1870.05,null,null,6.1433263897281231E-5,0.99654912761938397,"C"]
["6.2.1.7","92270","SINAPI","FABRICAÇÃO DE FÔRMA PARA VIGAS, COM MADEIRA SERRADA, E = 25 MM. AF_12/2015","m²",18.899999999999999,{"$f":"VLOOKUP(B388,'PREÇO UNITÁRIO'!$B$4:$F$124,5,0)","v":79.11},98.626436999999996,1495.18,1864.04,null,null,6.1235828579496863E-5,0.9966103634479635,"C"]
["2.3.2","02-06-13","SIURB","ENSAIOS DE LABORATÓRIO - DURABILIDADE","unid.",3,{"$f":"VLOOKUP(B389,'PREÇO UNITÁRIO'!$B$4:$F$124,5,0)","v":490.46},611.45648199999994,1471.38,1834.37,null,null,6.0261135421649566E-5,0.99667062458338518,"C"]
["9.6.1.2",98525,"SINAPI","LIMPEZA MECANIZADA DE CAMADA VEGETAL, VEGETAÇÃO E PEQUENAS ÁRVORES (DIÂMETRO DE TRONCO MENOR QUE 0,20 M), COM TRATOR DE ESTEIRAS","m²",5300,{"$f":"VLOOKUP(B390,'PREÇO UNITÁRIO'!$B$4:$F$124,5,0)","v":0.27},0.33660899999999999,1431,1784.03,null,null,5.8607409315615435E-5,0.9967292319927008,"C"]
["5.2.1.3","83534","SINAPI","LASTRO DE CONCRETO, PREPARO MECÂNICO, INCLUSOS ADITIVO IMPERMEABILIZANTE, LANÇAMENTO E ADENSAMENTO","m³",3.31,{"$f":"VLOOKUP(B391,'PREÇO UNITÁRIO'!$B$4:$F$124,5,0)","v":427.75},533.27592499999992,1415.85,1765.14,null,null,5.7986851386672551E-5,0.9967872188440875,"C"]
["9.6.1.3",96622,"SINAPI","LASTRO COM MATERIAL GRANULAR (AREIA)","m³",12.46,{"$f":"VLOOKUP(B392,'PREÇO UNITÁRIO'!$B$4:$F$124,5,0)","v":111.85},139.44339499999998,1393.65,1737.46,null,null,5.7077531986294625E-5,0.99684429637607375,"C"]
["2.3.1","02-06-11","SIURB","ENSAIOS DE LABORATÓRIO - LOS ANGELES","unid.",3,{"$f":"VLOOKUP(B393,'PREÇO UNITÁRIO'!$B$4:$F$124,5,0)","v":454.15},566.18880499999989,1362.45,1698.57,null,null,5.5799951369217393E-5,0.99690009632744292,"C"]
["9.8.1.4","RO-42263","DEER/MG","ESPALHAMENTO DE MATERIAL EM BOTA-FORA","m³",7560,{"$f":"VLOOKUP(B394,'PREÇO UNITÁRIO'!$B$4:$F$124,5,0)","v":0.18},{"$f":"G394*(1+$J$4)","v":0.22440599999999997},1360.8,{"$f":"ROUND(F394*H394,2)","v":1696.51},null,null,5.5732278032339557E-5,0.99695582860547527,"C"]
["9.2.2.4","5914539","DNIT/MG","TRANSPORTE COM CAMINHÃO BETONEIRA - RODOVIA EM LEITO NATURAL (Entre Francisco Dumont/MG e Área E - 0,00km)","txkm",2382.0479999999998,{"$f":"VLOOKUP(B395,'PREÇO UNITÁRIO'!$B$4:$F$124,5,0)","v":0.55000000000000004},0.68568499999999999,{"$f":"ROUND(F395*G395,2)","v":1310.1300000000001},1633.33,null,null,5.365674336052317E-5,0.99700948534883582,{"$f":"IF(N395<=$M$2,\"A\",IF(N395<=$M$3,\"B\",\"C\"))","v":"C"}]
["1.2.10","99064","SINAPI","LOCAÇÃO DE PAVIMENTAÇÃO. AF_10/2018","m",2220,{"$f":"VLOOKUP(B396,'PREÇO UNITÁRIO'!$B$4:$F$124,5,0)","v":0.55000000000000004},0.68568499999999999,1221,1522.22,null,null,{"$f":"SUM(J396/$J$3)","v":5.0006653816592841E-5},{"$f":"N395+M396","v":0.99705949200265243},"C"]
["8.2.1.2","93382","SINAPI","REATERRO MANUAL DE VALAS COM COMPACTAÇÃO MECANIZADA. AF_04/2016","m³",50.54399999999999,{"$f":"VLOOKUP(B397,'PREÇO UNITÁRIO'!$B$4:$F$124,5,0)","v":24.07},30.008068999999999,1216.5899999999999,1516.73,null,null,4.9826301088699966E-5,0.99710931830374117,"C"]
["8.2.1.3","83534","SINAPI","LASTRO DE CONCRETO, PREPARO MECÂNICO, INCLUSOS ADITIVO IMPERMEABILIZANTE, LANÇAMENTO E ADENSAMENTO","m³",2.8079999999999998,{"$f":"VLOOKUP(B398,'PREÇO UNITÁRIO'!$B$4:$F$124,5,0)","v":427.75},533.27592499999992,1201.1199999999999,1497.44,null,null,4.9192602705994399E-5,0.99715851090644714,"C"]
["6.4.1.10",93176,"SINAPI","TRANSPORTE DE MATERIAL ASFALTICO, COM CAMINHÃO COM CAPACIDADE DE 30000 L EM RODOVIA PAVIMENTADA. AF_02/2016 (P/ ITEM 6.1.6) (ORIUNDO DE BETIM/MG DISTANTE 377KM DIRETO PARA OBRA C)","txkm",2554.8143919999998,{"$f":"VLOOKUP(B399,'PREÇO UNITÁRIO'!$B$4:$F$124,5,0)","v":0.47},0.58594899999999994,1200.76,1496.99,null,null,4.9177819695511371E-5,0.99720768872614263,"C"]
["3.1.4","RO-42263","DEER/MG","ESPALHAMENTO DE MATERIAL EM BOTA-FORA","m³",6547.99,{"$f":"VLOOKUP(B400,'PREÇO UNITÁRIO'!$B$4:$F$124,5,0)","v":0.18},0.22440599999999997,1178.6400000000001,1469.41,null,null,4.8271785408574114E-5,0.99725596051155119,"C"]
["8.2.1.1","72917","SINAPI","ESCAVACAO MECANICA DE VALA EM MATERIAL 2A CATEGORIA COM UTILIZACAO DE ESCAVADEIRA HIDRAULICA","m³",112.32,{"$f":"VLOOKUP(B401,'PREÇO UNITÁRIO'!$B$4:$F$124,5,0)","v":10.35},12.903344999999998,1162.51,1449.3,null,null,4.7611149095655034E-5,0.99730357166064687,"C"]
["9.2.1.13",96622,"SINAPI","LASTRO COM MATERIAL GRANULAR (AREIA)","m³",10.23,{"$f":"VLOOKUP(B402,'PREÇO UNITÁRIO'!$B$4:$F$124,5,0)","v":111.85},139.44339499999998,1144.23,1426.51,null,null,4.6862471742525949E-5,0.99735043413238944,"C"]
["5.2.1.7",1107860,"DNIT/MG","LANÇAMENTO MECÂNICO DE CONCRETO COM BOMBA LANÇA SOBRE CHASSI COM CAPACIDADE DE 45 M³/H - CONFECÇÃO EM CENTRAL DOSADORA DE 40 M³/H","m³",35.9,{"$f":"VLOOKUP(B403,'PREÇO UNITÁRIO'!$B$4:$F$124,5,0)","v":31.39},39.133913,1126.9000000000001,1404.91,null,null,4.615288723934087E-5,0.99739658701962874,"C"]
["9.2.1.12",96624,"SINAPI","LASTRO COM MATERIAL GRANULAR (PEDRA BRITADA)","m³",10.23,{"$f":"VLOOKUP(B404,'PREÇO UNITÁRIO'!$B$4:$F$124,5,0)","v":107.21},133.65870699999999,1096.76,1367.33,null,null,4.4918341608336432E-5,0.9974415053612371,"C"]
["4.6.1.4","RO-43226","DEER/MG","COLOCAÇÃO DE PLACAS","m²",16.670000000000002,{"$f":"VLOOKUP(B405,'PREÇO UNITÁRIO'!$B$4:$F$124,5,0)","v":65.77},81.995458999999997,1096.3900000000001,1366.86,null,null,4.4902901575165278E-5,0.99748640826281232,"C"]
["5.6.1.4","RO-43226","DEER/MG","COLOCAÇÃO DE PLACAS","m²",16.670000000000002,{"$f":"VLOOKUP(B406,'PREÇO UNITÁRIO'!$B$4:$F$124,5,0)","v":65.77},81.995458999999997,1096.3900000000001,1366.86,null,null,4.4902901575165278E-5,0.99753131116438754,"C"]
["7.5.1.4","RO-43226","DEER/MG","COLOCAÇÃO DE PLACAS","m²",16.670000000000002,{"$f":"VLOOKUP(B407,'PREÇO UNITÁRIO'!$B$4:$F$124,5,0)","v":65.77},81.995458999999997,1096.3900000000001,1366.86,null,null,4.4902901575165278E-5,0.99757621406596275,"C"]
["8.5.1.4","RO-43226","DEER/MG","COLOCAÇÃO DE PLACAS","m²",16.670000000000002,{"$f":"VLOOKUP(B408,'PREÇO UNITÁRIO'!$B$4:$F$124,5,0)","v":65.77},81.995458999999997,1096.3900000000001,1366.86,null,null,4.4902901575165278E-5,0.99762111696753797,"C"]
["9.8.2.4","5914539","DNIT/MG","TRANSPORTE COM CAMINHÃO BETONEIRA - RODOVIA EM LEITO NATURAL (Entre Francisco Dumont/MG e Área O - 10,00km)","txkm",1992.7199999999998,{"$f":"VLOOKUP(B409,'PREÇO UNITÁRIO'!$B$4:$F$124,5,0)","v":0.55000000000000004},0.68568499999999999,1096,1366.38,null,null,4.4887133030650059E-5,0.9976660041005686,"C"]
["7.2.1.7",1107860,"DNIT/MG","LANÇAMENTO MECÂNICO DE CONCRETO COM BOMBA LANÇA SOBRE CHASSI COM CAPACIDADE DE 45 M³/H - CONFECÇÃO EM CENTRAL DOSADORA DE 40 M³/H","m³",34.72,{"$f":"VLOOKUP(B410,'PREÇO UNITÁRIO'!$B$4:$F$124,5,0)","v":31.39},39.133913,1089.8599999999999,1358.73,null,null,4.4635821852438672E-5,0.99771063992242104,"C"]
["9.4.1.8","C6","CPU","TRANSIÇÃO COMPACTADA, INCLUSIVE CARGA, TRANSP. E FORNEC. DE MATERIAL (DMT = 1,00 km)","m³",219.54000000000002,{"$f":"VLOOKUP(B411,'PREÇO UNITÁRIO'!$B$4:$F$124,5,0)","v":4.9565426753843438},6.1793217534016609,1088.1600000000001,1356.61,null,null,4.4566177447496428E-5,0.99775520609986856,"C"]
["9.8.2.14","ED-48572","DEER/MG","CAIXA BSTC ø 80 (1,00 x 1,00 x 1,40)","Unid",1,{"$f":"VLOOKUP(B412,'PREÇO UNITÁRIO'!$B$4:$F$124,5,0)","v":1083.53},1350.8368509999998,1083.53,1350.84,null,null,4.4376626401969672E-5,0.99779958272627056,"C"]
["9.4.1.2",98525,"SINAPI","LIMPEZA MECANIZADA DE CAMADA VEGETAL, VEGETAÇÃO E PEQUENAS ÁRVORES (DIÂMETRO DE TRONCO MENOR QUE 0,20 M), COM TRATOR DE ESTEIRAS","m²",3900,{"$f":"VLOOKUP(B413,'PREÇO UNITÁRIO'!$B$4:$F$124,5,0)","v":0.27},0.33660899999999999,1053,1312.78,null,null,4.3126312226450024E-5,0.99784270903849703,"C"]
["6.1.2.1","2003441","DNIT/MG","DISSIPADOR DE ENERGIA DE 501 - AREIA E PEDRA DE MÃO COMERCIAIS","und",8,{"$f":"VLOOKUP(B414,'PREÇO UNITÁRIO'!$B$4:$F$124,5,0)","v":128.18},159.80200600000001,1025.44,1278.42,null,null,4.1997547248235224E-5,0.99788470658574524,"C"]
["7.1.2.1","2003441","DNIT/MG","DISSIPADOR DE ENERGIA DE 501 - AREIA E PEDRA DE MÃO COMERCIAIS","und",8,{"$f":"VLOOKUP(B415,'PREÇO UNITÁRIO'!$B$4:$F$124,5,0)","v":128.18},159.80200600000001,1025.44,1278.42,null,null,4.1997547248235224E-5,0.99792670413299345,"C"]
["9.7.1.4","RO-42263","DEER/MG","ESPALHAMENTO DE MATERIAL EM BOTA-FORA","m³",5600,{"$f":"VLOOKUP(B416,'PREÇO UNITÁRIO'!$B$4:$F$124,5,0)","v":0.18},0.22440599999999997,1008,1256.67,null,null,4.1283035074889131E-5,0.99796798716806834,"C"]
["5.2.1.7",1107860,"DNIT/MG","LANÇAMENTO MECÂNICO DE CONCRETO COM BOMBA LANÇA SOBRE CHASSI COM CAPACIDADE DE 45 M³/H - CONFECÇÃO EM CENTRAL DOSADORA DE 40 M³/H","m³",31.8,{"$f":"VLOOKUP(B417,'PREÇO UNITÁRIO'!$B$4:$F$124,5,0)","v":31.39},39.133913,998.2,1244.46,null,null,4.0881922723783114E-5,0.99800886909079212,"C"]
["4.6.4.2","28.10.01.99","DER/SP","FORN./INSTAL. BALIZ.(CATADIOPTRICO) P/DEF. MET. C/PELICULA GT+GT, CONF.OP-06-05","un.",34,{"$f":"VLOOKUP(B418,'PREÇO UNITÁRIO'!$B$4:$F$124,5,0)","v":28.99},36.141832999999998,985.66,1228.82,null,null,4.0368130981662057E-5,0.99804923722177374,"C"]
["4.4.1.1","83338","SINAPI","ESCAVACAO MECANICA, A CEU ABERTO, EM MATERIAL DE 1A CATEGORIA, COM ESCAVADEIRA HIDRAULICA, CAPACIDADE DE 0,78 M3 - CORTE","m³",464.7,{"$f":"VLOOKUP(B419,'PREÇO UNITÁRIO'!$B$4:$F$124,5,0)","v":2.12},2.6430039999999999,985.16,1228.2,null,null,4.0347763278329896E-5,0.99808958498505207,"C"]
["9.2.1.1",98525,"SINAPI","LIMPEZA MECANIZADA DE CAMADA VEGETAL, VEGETAÇÃO E PEQUENAS ÁRVORES (DIÂMETRO DE TRONCO MENOR QUE 0,20 M), COM TRATOR DE ESTEIRAS","m²",3640,{"$f":"VLOOKUP(B420,'PREÇO UNITÁRIO'!$B$4:$F$124,5,0)","v":0.27},0.33660899999999999,982.8,1225.26,null,null,4.0251180943174145E-5,0.99812983616599527,"C"]
["9.3.1.2",98525,"SINAPI","LIMPEZA MECANIZADA DE CAMADA VEGETAL, VEGETAÇÃO E PEQUENAS ÁRVORES (DIÂMETRO DE TRONCO MENOR QUE 0,20 M), COM TRATOR DE ESTEIRAS","m²",3600,{"$f":"VLOOKUP(B421,'PREÇO UNITÁRIO'!$B$4:$F$124,5,0)","v":0.27},0.33660899999999999,972,1211.79,null,null,3.9808676162715664E-5,0.99816964484215798,"C"]
["4.3.3.2","72884","SINAPI","TRANSPORTE COMERCIAL COM CAMINHAO CARROCERIA 9 T (DE JAZIDA DISTANTE 10KM DE MONTES CLAROS/MG) ","m³*km",1327,{"$f":"VLOOKUP(B422,'PREÇO UNITÁRIO'!$B$4:$F$124,5,0)","v":0.73},0.91009099999999987,968.71,1207.69,null,null,3.9673986511648126E-5,0.99820931882866959,"C"]
["9.4.1.5","RO-41344","DEER/MG","TRANSPORTE DE MATERIAL DE JAZIDA PARA CONSERVAÇÃO. DISTÂNCIA MÉDIA DE TRANSPORTE > 50,10 KM (ESCAVAÇÃO+BASE E SUB BASE) ","m³xkm",1223.7,{"$f":"VLOOKUP(B423,'PREÇO UNITÁRIO'!$B$4:$F$124,5,0)","v":0.78},0.97242600000000001,954.49,1189.96,null,null,3.9091535898617036E-5,0.99824841036456824,"C"]
["6.1.5.1","ED-14723","DEER/MG","CANALETA PARA DRENAGEM, EM CONCRETO COM FCK 15MPA, MOLDADA IN LOCO, SEÇÃO 60X60CM, FORMA EM CONTRA BARRANCO, EXCLUSIVE TAMPA, INCLUSIVE ESCAVAÇÃO, REATERRO COM TRANSPORTE E RETIRADA DO MATERIAL ESCAVADO (EM CAÇAMBA)","m",4,{"$f":"VLOOKUP(B424,'PREÇO UNITÁRIO'!$B$4:$F$124,5,0)","v":236.98},295.44296599999996,947.92,1181.77,null,null,3.8822485107826016E-5,0.99828723284967602,"C"]
["9.5.1.2",98525,"SINAPI","LIMPEZA MECANIZADA DE CAMADA VEGETAL, VEGETAÇÃO E PEQUENAS ÁRVORES (DIÂMETRO DE TRONCO MENOR QUE 0,20 M), COM TRATOR DE ESTEIRAS","m²",3400.0000000000005,{"$f":"VLOOKUP(B425,'PREÇO UNITÁRIO'!$B$4:$F$124,5,0)","v":0.27},0.33660899999999999,918,1144.47,null,null,3.7597137794455472E-5,0.99832482998747052,"C"]
["7.5.3.1","RO-41841","DEER/MG","PLACA DE AÇO CARBONO COM PELÍCULA REFLETIVA GRAU TÉCNICO TIPO I DA ABNT - PLACA CIRCULAR (EXECUÇÃO, INCLUINDO FORNECIMENTO E TRANSPORTE DE TODOS OS MATERIAIS, INCLUSIVE POSTE DE SUSTENTAÇÃO)","m²",2.6,{"$f":"VLOOKUP(B426,'PREÇO UNITÁRIO'!$B$4:$F$124,5,0)","v":341.61},425.88518699999997,888.19,1107.3,null,null,3.6376061128557801E-5,0.99836120604859913,"C"]
["8.5.3.1","RO-41841","DEER/MG","PLACA DE AÇO CARBONO COM PELÍCULA REFLETIVA GRAU TÉCNICO TIPO I DA ABNT - PLACA CIRCULAR (EXECUÇÃO, INCLUINDO FORNECIMENTO E TRANSPORTE DE TODOS OS MATERIAIS, INCLUSIVE POSTE DE SUSTENTAÇÃO)","m²",2.6,{"$f":"VLOOKUP(B427,'PREÇO UNITÁRIO'!$B$4:$F$124,5,0)","v":341.61},425.88518699999997,888.19,1107.3,null,null,3.6376061128557801E-5,0.99839758210972773,"C"]
["4.1.3.5","ED-48676","DEER/MG","FORNECIMENTO, ASSENTAMENTO E  REJUNTAMENTO DE TUBO DE CONCRETO SIMPLES PS1 D = 400 MM","m",10,{"$f":"VLOOKUP(B428,'PREÇO UNITÁRIO'!$B$4:$F$124,5,0)","v":86.76},108.163692,867.6,1081.6400000000001,null,null,3.5533101019681444E-5,0.9984331152107474,"C"]
["5.1.2.5","ED-48676","DEER/MG","FORNECIMENTO, ASSENTAMENTO E  REJUNTAMENTO DE TUBO DE CONCRETO SIMPLES PS1 D = 400 MM","m",10,{"$f":"VLOOKUP(B429,'PREÇO UNITÁRIO'!$B$4:$F$124,5,0)","v":86.76},108.163692,867.6,1081.6400000000001,null,null,3.5533101019681444E-5,0.99846864831176707,"C"]
["9.4.1.3",96622,"SINAPI","LASTRO COM MATERIAL GRANULAR (AREIA)","m³",7.72,{"$f":"VLOOKUP(B430,'PREÇO UNITÁRIO'!$B$4:$F$124,5,0)","v":111.85},139.44339499999998,863.48,1076.5,null,null,3.5364246188830913E-5,0.99850401255795596,"C"]
["7.5.3.2","RO-41844","DEER/MG","PLACA DE AÇO CARBONO COM PELÍCULA REFLETIVA GRAU TÉCNICO TIPO I DA ABNT - PLACA QUADRADA (EXECUÇÃO, INCLUINDO FORNECIMENTO E TRANSPORTE DE TODOS OS MATERIAIS, INCLUSIVE POSTE DE SUSTENTAÇÃO)","m²",2.6,{"$f":"VLOOKUP(B431,'PREÇO UNITÁRIO'!$B$4:$F$124,5,0)","v":331.13},412.81977099999995,860.94,1073.33,null,null,3.5260108092761621E-5,0.99853927266604869,"C"]
["8.5.3.2","RO-41844","DEER/MG","PLACA DE AÇO CARBONO COM PELÍCULA REFLETIVA GRAU TÉCNICO TIPO I DA ABNT - PLACA QUADRADA (EXECUÇÃO, INCLUINDO FORNECIMENTO E TRANSPORTE DE TODOS OS MATERIAIS, INCLUSIVE POSTE DE SUSTENTAÇÃO)","m²",2.6,{"$f":"VLOOKUP(B432,'PREÇO UNITÁRIO'!$B$4:$F$124,5,0)","v":331.13},412.81977099999995,860.94,1073.33,null,null,3.5260108092761621E-5,0.99857453277414143,"C"]
["8.2.1.7",1107860,"DNIT/MG","LANÇAMENTO MECÂNICO DE CONCRETO COM BOMBA LANÇA SOBRE CHASSI COM CAPACIDADE DE 45 M³/H - CONFECÇÃO EM CENTRAL DOSADORA DE 40 M³/H","m³",27.08,{"$f":"VLOOKUP(B433,'PREÇO UNITÁRIO'!$B$4:$F$124,5,0)","v":31.39},39.133913,850.04,1059.75,null,null,3.4813989687518401E-5,0.99860934676382895,"C"]
["4.2.1.3","83534","SINAPI","LASTRO DE CONCRETO, PREPARO MECÂNICO, INCLUSOS ADITIVO IMPERMEABILIZANTE, LANÇAMENTO E ADENSAMENTO","m³",1.94,{"$f":"VLOOKUP(B434,'PREÇO UNITÁRIO'!$B$4:$F$124,5,0)","v":427.75},533.27592499999992,829.84,1034.56,null,null,3.3986469611813198E-5,0.99864333323344079,"C"]
["9.3.1.3",96622,"SINAPI","LASTRO COM MATERIAL GRANULAR (AREIA)","m³",7.25,{"$f":"VLOOKUP(B435,'PREÇO UNITÁRIO'!$B$4:$F$124,5,0)","v":111.85},139.44339499999998,810.91,1010.96,null,null,3.3211182839814677E-5,0.99867654441628062,"C"]
["1.2.5",98525,"SINAPI","LIMPEZA MECANIZADA DE CAMADA VEGETAL, VEGETAÇÃO E PEQUENAS ÁRVORES (DIÂMETRO DE TRONCO MENOR QUE 0,20 M), COM TRATOR DE ESTEIRAS (JAZIDA)","m²",3000,{"$f":"VLOOKUP(B436,'PREÇO UNITÁRIO'!$B$4:$F$124,5,0)","v":0.27},0.33660899999999999,810,1009.83,null,null,3.3174061057935086E-5,0.99870971847733858,"C"]
["4.2.1.4","5914569","DNIT/MG","TRANSPORTE COM CAMINHÃO BETONEIRA - RODOVIA PAVIMENTADA (Entre Bocaiúva/MG e Francisco Dumont/MG - 69,00km)","txkm",2227.3199999999997,{"$f":"VLOOKUP(B437,'PREÇO UNITÁRIO'!$B$4:$F$124,5,0)","v":0.36},0.44881199999999993,801.84,999.65,null,null,3.2839636509674708E-5,0.99874255811384827,"C"]
["9.1.1.2",96622,"SINAPI","LASTRO COM MATERIAL GRANULAR (AREIA)","m³",7,{"$f":"VLOOKUP(B438,'PREÇO UNITÁRIO'!$B$4:$F$124,5,0)","v":111.85},139.44339499999998,782.95,976.1,null,null,3.2065992294396525E-5,0.99877462410614271,"C"]
["6.4.1.1","83338","SINAPI","ESCAVACAO MECANICA, A CEU ABERTO, EM MATERIAL DE 1A CATEGORIA, COM ESCAVADEIRA HIDRAULICA, CAPACIDADE DE 0,78 M3 - CORTE","m³",365.65,{"$f":"VLOOKUP(B439,'PREÇO UNITÁRIO'!$B$4:$F$124,5,0)","v":2.12},2.6430039999999999,775.18,966.41,null,null,3.1747664801995435E-5,0.99880637177094467,"C"]
["4.1.2.1","2003441","DNIT/MG","DISSIPADOR DE ENERGIA DE 501 - AREIA E PEDRA DE MÃO COMERCIAIS","und",6,{"$f":"VLOOKUP(B440,'PREÇO UNITÁRIO'!$B$4:$F$124,5,0)","v":128.18},159.80200600000001,769.08,958.81,null,null,3.1497996180504379E-5,0.99883786976712519,"C"]
["9.6.1.4","RO-40251","DEER/MG","COMPACTAÇÃO DE ATERRO A 100% PROCTOR NORMAL","m³",244.74,{"$f":"VLOOKUP(B441,'PREÇO UNITÁRIO'!$B$4:$F$124,5,0)","v":3.14},3.9146380000000001,768.48,958.07,null,null,3.1473686341043415E-5,0.99886934345346623,"C"]
["5.2.1.8","92270","SINAPI","FABRICAÇÃO DE FÔRMA PARA VIGAS, COM MADEIRA SERRADA, E = 25 MM. AF_12/2015","m²",9.6,{"$f":"VLOOKUP(B442,'PREÇO UNITÁRIO'!$B$4:$F$124,5,0)","v":79.11},98.626436999999996,759.46,946.81,null,null,3.1103782567623777E-5,0.99890044723603388,"C"]
["9.5.1.1","RO-41352   OBR-VIA-370","DEER/MG","TRANSPORTE DE ROCHAS E MATERIAL DE 3A CATEGORIA, DISTÂNCIA MÉDIA DE TRANSPORTE > 50,10 KM","m³xkm",961.21,{"$f":"VLOOKUP(B443,'PREÇO UNITÁRIO'!$B$4:$F$124,5,0)","v":0.73},0.91009099999999987,701.68,874.79,null,null,2.8737843867652015E-5,0.99892918507990158,"C"]
["9.1.1.4","RO-41344","DEER/MG","TRANSPORTE DE MATERIAL DE JAZIDA PARA CONSERVAÇÃO. DISTÂNCIA MÉDIA DE TRANSPORTE > 50,10 KM (ESCAVAÇÃO+BASE E SUB BASE) - 5,0KM","m³xkm",879,{"$f":"VLOOKUP(B444,'PREÇO UNITÁRIO'!$B$4:$F$124,5,0)","v":0.78},0.97242600000000001,685.62,854.76,null,null,2.8079835645485473E-5,0.99895726491554704,"C"]
["9.8.1.12",96622,"SINAPI","LASTRO COM MATERIAL GRANULAR (AREIA)","m³",6.01,{"$f":"VLOOKUP(B445,'PREÇO UNITÁRIO'!$B$4:$F$124,5,0)","v":111.85},139.44339499999998,672.22,838.05,null,null,2.7530893189549231E-5,0.99898479580873656,"C"]
["5.3.3.2","72884","SINAPI","TRANSPORTE COMERCIAL COM CAMINHAO CARROCERIA 9 T (10KM)","m³*km",902.5,{"$f":"VLOOKUP(B446,'PREÇO UNITÁRIO'!$B$4:$F$124,5,0)","v":0.73},0.91009099999999987,658.83,821.36,null,null,2.6982607756301123E-5,0.99901177841649291,"C"]
["9.8.1.11",96624,"SINAPI","LASTRO COM MATERIAL GRANULAR (PEDRA BRITADA)","m³",6.01,{"$f":"VLOOKUP(B447,'PREÇO UNITÁRIO'!$B$4:$F$124,5,0)","v":107.21},133.65870699999999,644.33000000000004,803.29,null,null,2.6388987757571745E-5,0.99903816740425044,"C"]
["9.5.1.3",96622,"SINAPI","LASTRO COM MATERIAL GRANULAR (AREIA)","m³",5.74,{"$f":"VLOOKUP(B448,'PREÇO UNITÁRIO'!$B$4:$F$124,5,0)","v":111.85},139.44339499999998,642.02,800.41,null,null,2.6294376490480399E-5,0.99906446178074093,"C"]
["4.4.1.7",93176,"SINAPI","TRANSPORTE DE MATERIAL ASFALTICO, COM CAMINHÃO COM CAPACIDADE DE 30000 L EM RODOVIA PAVIMENTADA. AF_02/2016 (P/ ITEM 6.1.9) (ORIUNDO DE BETIM/MG DISTANTE 377KM DIRETO FCO DUMONT)","txkm",1320.5736959999999,{"$f":"VLOOKUP(B449,'PREÇO UNITÁRIO'!$B$4:$F$124,5,0)","v":0.47},0.58594899999999994,620.66999999999996,773.79,null,null,2.5419879292573592E-5,0.99908988166003354,"C"]
["6.6.2.1","RO-41237               OBR-VIA-245","DEER/MG","LINHAS DE RESINA ACRILICA 0,6MM DE ESPESSURA E LARGURA = 0,10M (EXECUÇÃO, INCLUSIVE PRÉ-MARCAÇÃO, FORNECIMENTO E TRANSPORTE DE TODOS OS MATERIAIS) - LINHAS BRANCAS","m²",344,{"$f":"VLOOKUP(B450,'PREÇO UNITÁRIO'!$B$4:$F$124,5,0)","v":1.73},2.1567909999999997,595.12,741.94,null,null,2.4373570661719656E-5,0.9991142552306953,"C"]
["6.3.3.1","72888","SINAPI","CARGA, MANOBRAS E DESCARGA DE AREIA, BRITA, PEDRA DE MAO E SOLOS COM CAMINHAO BASCULANTE 6 M3 (DESCARGA LIVRE)","m³",742.73,{"$f":"VLOOKUP(B451,'PREÇO UNITÁRIO'!$B$4:$F$124,5,0)","v":0.79},0.98489300000000002,586.76,731.51,null,null,2.4030933329857595E-5,0.99913828616402511,"C"]
["4.2.1.8","92270","SINAPI","FABRICAÇÃO DE FÔRMA PARA VIGAS, COM MADEIRA SERRADA, E = 25 MM. AF_12/2015","m²",7.32,{"$f":"VLOOKUP(B452,'PREÇO UNITÁRIO'!$B$4:$F$124,5,0)","v":79.11},98.626436999999996,579.09,721.95,null,null,2.3716876484929382E-5,0.99916200304051006,"C"]
["9.8.2.12","93382","SINAPI","REATERRO MANUAL DE VALAS COM COMPACTAÇÃO MECANIZADA. AF_04/2016","m³",24.02,{"$f":"VLOOKUP(B453,'PREÇO UNITÁRIO'!$B$4:$F$124,5,0)","v":24.07},30.008068999999999,578.16,720.79,null,null,2.3678769169017587E-5,0.99918568180967904,"C"]
["9.3.1.5","RO-41344","DEER/MG","TRANSPORTE DE MATERIAL DE JAZIDA PARA CONSERVAÇÃO. DISTÂNCIA MÉDIA DE TRANSPORTE > 50,10 KM (ESCAVAÇÃO+BASE E SUB BASE)","m³xkm",721.2,{"$f":"VLOOKUP(B454,'PREÇO UNITÁRIO'!$B$4:$F$124,5,0)","v":0.78},0.97242600000000001,562.54,701.31,null,null,2.3038829070774739E-5,0.99920872063874977,"C"]
["9.1.1.3","RO-40251","DEER/MG","COMPACTAÇÃO DE ATERRO A 100% PROCTOR NORMAL","m³",175.8,{"$f":"VLOOKUP(B455,'PREÇO UNITÁRIO'!$B$4:$F$124,5,0)","v":3.14},3.9146380000000001,552.01,688.19,null,null,2.2607822187358613E-5,0.9992313284609371,"C"]
["6.6.1.2","RO-41841","DEER/MG","PLACA DE AÇO CARBONO COM PELÍCULA REFLETIVA GRAU TÉCNICO TIPO I DA ABNT - PLACA CIRCULAR (EXECUÇÃO, INCLUINDO FORNECIMENTO E TRANSPORTE DE TODOS OS MATERIAIS, INCLUSIVE POSTE DE SUSTENTAÇÃO)","m²",1.57,{"$f":"VLOOKUP(B456,'PREÇO UNITÁRIO'!$B$4:$F$124,5,0)","v":341.61},425.88518699999997,536.33000000000004,668.64,null,null,2.1965582509707293E-5,0.99925329404344676,"C"]
["8.2.1.5","5914539","DNIT/MG","TRANSPORTE COM CAMINHÃO BETONEIRA - RODOVIA EM LEITO NATURAL (Entre Francisco Dumont/MG e Área R - 15,00km)","txkm",974.87999999999988,{"$f":"VLOOKUP(B457,'PREÇO UNITÁRIO'!$B$4:$F$124,5,0)","v":0.55000000000000004},0.68568499999999999,536.17999999999995,668.46,null,null,2.1959669305514085E-5,0.99927525371275228,"C"]
["7.2.1.1","72917","SINAPI","ESCAVACAO MECANICA DE VALA EM MATERIAL 2A CATEGORIA COM UTILIZACAO DE ESCAVADEIRA HIDRAULICA","m³",51.2,{"$f":"VLOOKUP(B458,'PREÇO UNITÁRIO'!$B$4:$F$124,5,0)","v":10.35},{"$f":"G458*(1+$J$4)","v":12.903344999999998},529.91999999999996,{"$f":"ROUND(F458*H458,2)","v":660.65},null,null,2.1703101945797624E-5,0.9992969568146981,"C"]
["8.1.2.1","2003441","DNIT/MG","DISSIPADOR DE ENERGIA DE 501 - AREIA E PEDRA DE MÃO COMERCIAIS","und",4,{"$f":"VLOOKUP(B459,'PREÇO UNITÁRIO'!$B$4:$F$124,5,0)","v":128.18},159.80200600000001,{"$f":"ROUND(F459*G459,2)","v":512.72},639.21,null,null,2.0998773624117612E-5,0.99931795558832226,{"$f":"IF(N459<=$M$2,\"A\",IF(N459<=$M$3,\"B\",\"C\"))","v":"C"}]
["9.4.1.5","RO-41344","DEER/MG","TRANSPORTE DE MATERIAL DE JAZIDA PARA CONSERVAÇÃO. DISTÂNCIA MÉDIA DE TRANSPORTE > 50,10 KM (ESCAVAÇÃO+BASE E SUB BASE) ","m³xkm",626.79999999999995,{"$f":"VLOOKUP(B460,'PREÇO UNITÁRIO'!$B$4:$F$124,5,0)","v":0.78},0.97242600000000001,488.9,609.52,null,null,{"$f":"SUM(J460/$J$3)","v":2.0023423443582181E-5},{"$f":"N459+M460","v":0.9993379790117658},"C"]
["7.2.1.3","83534","SINAPI","LASTRO DE CONCRETO, PREPARO MECÂNICO, INCLUSOS ADITIVO IMPERMEABILIZANTE, LANÇAMENTO E ADENSAMENTO","m³",1.1200000000000001,{"$f":"VLOOKUP(B461,'PREÇO UNITÁRIO'!$B$4:$F$124,5,0)","v":427.75},533.27592499999992,479.08,597.27,null,null,1.9620997047099896E-5,0.99935760000881291,"C"]
["9.5.1.5","RO-41344","DEER/MG","TRANSPORTE DE MATERIAL DE JAZIDA PARA CONSERVAÇÃO. DISTÂNCIA MÉDIA DE TRANSPORTE > 50,10 KM (ESCAVAÇÃO+BASE E SUB BASE) ","m³xkm",610.4,{"$f":"VLOOKUP(B462,'PREÇO UNITÁRIO'!$B$4:$F$124,5,0)","v":0.78},0.97242600000000001,476.11,593.57000000000005,null,null,1.9499447849795047E-5,0.99937709945666275,"C"]
["7.2.1.5","5914539","DNIT/MG","TRANSPORTE COM CAMINHÃO BETONEIRA - RODOVIA EM LEITO NATURAL (Entre Francisco Dumont/MG e Área N - 10,00km)","txkm",833.27999999999986,{"$f":"VLOOKUP(B463,'PREÇO UNITÁRIO'!$B$4:$F$124,5,0)","v":0.55000000000000004},0.68568499999999999,458.3,571.37,null,null,1.8770152665965927E-5,0.99939586960932869,"C"]
["9.3.1.4","RO-40251","DEER/MG","COMPACTAÇÃO DE ATERRO A 100% PROCTOR NORMAL","m³",144.24,{"$f":"VLOOKUP(B464,'PREÇO UNITÁRIO'!$B$4:$F$124,5,0)","v":3.14},3.9146380000000001,452.91,564.65,null,null,1.8549393042752788E-5,0.99941441900237149,"C"]
["6.3.2.1","72888","SINAPI","CARGA, MANOBRAS E DESCARGA DE AREIA, BRITA, PEDRA DE MAO E SOLOS COM CAMINHAO BASCULANTE 6 M3 (DESCARGA LIVRE)","m³",551.1,{"$f":"VLOOKUP(B465,'PREÇO UNITÁRIO'!$B$4:$F$124,5,0)","v":0.79},0.98489300000000002,435.37,542.77,null,null,1.7830610221933819E-5,0.99943224961259347,"C"]
["5.4.1.1","83338","SINAPI","ESCAVACAO MECANICA, A CEU ABERTO, EM MATERIAL DE 1A CATEGORIA, COM ESCAVADEIRA HIDRAULICA, CAPACIDADE DE 0,78 M3 - CORTE","m³",202.8,{"$f":"VLOOKUP(B466,'PREÇO UNITÁRIO'!$B$4:$F$124,5,0)","v":2.12},2.6430039999999999,429.94,536,null,null,1.7608208042000343E-5,0.99944985782063545,"C"]
["7.2.1.2","93382","SINAPI","REATERRO MANUAL DE VALAS COM COMPACTAÇÃO MECANIZADA. AF_04/2016","m³",17.600000000000001,{"$f":"VLOOKUP(B467,'PREÇO UNITÁRIO'!$B$4:$F$124,5,0)","v":24.07},30.008068999999999,423.63,528.14,null,null,1.7349998125563547E-5,0.99946720781876097,"C"]
["4.2.1.7",1107860,"DNIT/MG","LANÇAMENTO MECÂNICO DE CONCRETO COM BOMBA LANÇA SOBRE CHASSI COM CAPACIDADE DE 45 M³/H - CONFECÇÃO EM CENTRAL DOSADORA DE 40 M³/H","m³",13.45,{"$f":"VLOOKUP(B468,'PREÇO UNITÁRIO'!$B$4:$F$124,5,0)","v":31.39},39.133913,422.2,526.35,null,null,1.7291194594975524E-5,0.9994844990133559,"C"]
["7.1.4.4","RO-41624","DEER/MG","CONCRETO DE CIMENTO PORTLAND, FCK>=15,0MPA (EXECUÇÃO, INCLUINDO O FORNECIMENTO E TRANSPORTE DOS AGREGADOS)","m³",1.1519999999999999,{"$f":"VLOOKUP(B469,'PREÇO UNITÁRIO'!$B$4:$F$124,5,0)","v":365.06},455.12030199999998,420.55,524.29999999999995,null,null,1.7223849769441751E-5,0.99950172286312533,"C"]
["8.1.4.4","RO-41624","DEER/MG","CONCRETO DE CIMENTO PORTLAND, FCK>=15,0MPA (EXECUÇÃO, INCLUINDO OFORNECIMENTO E TRANSPORTE DOS AGREGADOS)","m³",1.1519999999999999,{"$f":"VLOOKUP(B470,'PREÇO UNITÁRIO'!$B$4:$F$124,5,0)","v":365.06},455.12030199999998,420.55,524.29999999999995,null,null,1.7223849769441751E-5,0.99951894671289476,"C"]
["5.4.1.7",93176,"SINAPI","TRANSPORTE DE MATERIAL ASFALTICO, COM CAMINHÃO COM CAPACIDADE DE 30000 L EM RODOVIA PAVIMENTADA. AF_02/2016 (P/ ITEM 6.1.6) (ORIUNDO DE BETIM/MG DISTANTE 377KM DIRETO PARA OBRA B)","txkm",870.51712799999996,{"$f":"VLOOKUP(B471,'PREÇO UNITÁRIO'!$B$4:$F$124,5,0)","v":0.47},0.58594899999999994,409.14,510.08,null,null,1.6756706638178236E-5,0.99953570341953291,"C"]
["5.4.1.10",93176,"SINAPI","TRANSPORTE DE MATERIAL ASFALTICO, COM CAMINHÃO COM CAPACIDADE DE 30000 L EM RODOVIA PAVIMENTADA. AF_02/2016 (P/ ITEM 6.1.9) (ORIUNDO DE BETIM/MG DISTANTE 377KM DIRETO PARA OBRA B)","txkm",870.51712799999996,{"$f":"VLOOKUP(B472,'PREÇO UNITÁRIO'!$B$4:$F$124,5,0)","v":0.47},0.58594899999999994,409.14,510.08,null,null,1.6756706638178236E-5,0.99955246012617105,"C"]
["6.6.3.1","RO-41841","DEER/MG","PLACA DE AÇO CARBONO COM PELÍCULA REFLETIVA GRAU TÉCNICO TIPO I DA ABNT - PLACA CIRCULAR (EXECUÇÃO, INCLUINDO FORNECIMENTO E TRANSPORTE DE TODOS OS MATERIAIS, INCLUSIVE POSTE DE SUSTENTAÇÃO)","m²",1.18,{"$f":"VLOOKUP(B473,'PREÇO UNITÁRIO'!$B$4:$F$124,5,0)","v":341.61},425.88518699999997,403.1,502.54,null,null,1.6509009084751591E-5,0.99956896913525584,"C"]
["9.5.1.6","C6","CPU","TRANSIÇÃO COMPACTADA, INCLUSIVE CARGA, TRANSP. E FORNEC. DE MATERIAL (DMT = 1,00 km)","m³",80.28,{"$f":"VLOOKUP(B474,'PREÇO UNITÁRIO'!$B$4:$F$124,5,0)","v":4.9565426753843438},6.1793217534016609,397.91,496.08,null,null,1.6296790756484199E-5,0.99958526592601227,"C"]
["9.4.1.4","RO-40251","DEER/MG","COMPACTAÇÃO DE ATERRO A 100% PROCTOR NORMAL","m³",125.36,{"$f":"VLOOKUP(B475,'PREÇO UNITÁRIO'!$B$4:$F$124,5,0)","v":3.14},3.9146380000000001,393.63,490.74,null,null,1.6121365698752331E-5,0.999601387291711,"C"]
["9.5.1.4","RO-40251","DEER/MG","COMPACTAÇÃO DE ATERRO A 100% PROCTOR NORMAL","m³",122.08,{"$f":"VLOOKUP(B476,'PREÇO UNITÁRIO'!$B$4:$F$124,5,0)","v":3.14},3.9146380000000001,383.33,477.9,null,null,1.5699557132970082E-5,0.99961708684884398,"C"]
["5.2.1.5","5914539","DNIT/MG","TRANSPORTE COM CAMINHÃO BETONEIRA - RODOVIA EM LEITO NATURAL (Entre Francisco Dumont/MG e Área B - 9,00km)","txkm",686.87999999999988,{"$f":"VLOOKUP(B477,'PREÇO UNITÁRIO'!$B$4:$F$124,5,0)","v":0.55000000000000004},0.68568499999999999,377.78,470.98,null,null,1.5472227282875602E-5,0.99963255907612691,"C"]
["5.1.2.2","ED-48193","DEER/MG","ALVENARIA DE VEDAÇÃO COM BLOCO DE CONCRETO, ESP.19 CM, PARA REVESTIMENTO, INCLUSIVE ARGAMASSA PARA ASSENTAMENTO","m²",7.64,{"$f":"VLOOKUP(B478,'PREÇO UNITÁRIO'!$B$4:$F$124,5,0)","v":49.12},61.237903999999993,375.28,467.86,null,null,1.5369731743526644E-5,0.99964792880787046,"C"]
["7.5.3.3","RO-43226","DEER/MG","COLOCAÇÃO DE PLACAS","m²",5.2,{"$f":"VLOOKUP(B479,'PREÇO UNITÁRIO'!$B$4:$F$124,5,0)","v":65.77},81.995458999999997,342,426.38,null,null,1.4007066688336019E-5,0.99966193587455876,"C"]
["8.5.3.3","RO-43226","DEER/MG","COLOCAÇÃO DE PLACAS","m²",5.2,{"$f":"VLOOKUP(B480,'PREÇO UNITÁRIO'!$B$4:$F$124,5,0)","v":65.77},81.995458999999997,342,426.38,null,null,1.4007066688336019E-5,0.99967594294124706,"C"]
["4.6.3.2","RO-41844","DEER/MG","PLACA DE AÇO CARBONO COM PELÍCULA REFLETIVA GRAU TÉCNICO TIPO I DA ABNT - PLACA QUADRADA (EXECUÇÃO, INCLUINDO FORNECIMENTO E TRANSPORTE DE TODOS OS MATERIAIS, INCLUSIVE POSTE DE SUSTENTAÇÃO)","m²",1,{"$f":"VLOOKUP(B481,'PREÇO UNITÁRIO'!$B$4:$F$124,5,0)","v":331.13},412.81977099999995,331.13,412.82,null,null,1.3561605305780936E-5,0.99968950454655281,"C"]
["5.6.3.2","RO-41844","DEER/MG","PLACA DE AÇO CARBONO COM PELÍCULA REFLETIVA GRAU TÉCNICO TIPO I DA ABNT - PLACA QUADRADA (EXECUÇÃO, INCLUINDO FORNECIMENTO E TRANSPORTE DE TODOS OS MATERIAIS, INCLUSIVE POSTE DE SUSTENTAÇÃO)","m²",1,{"$f":"VLOOKUP(B482,'PREÇO UNITÁRIO'!$B$4:$F$124,5,0)","v":331.13},412.81977099999995,331.13,412.82,null,null,1.3561605305780936E-5,0.99970306615185855,"C"]
["6.6.3.2","RO-41844","DEER/MG","PLACA DE AÇO CARBONO COM PELÍCULA REFLETIVA GRAU TÉCNICO TIPO I DA ABNT - PLACA QUADRADA (EXECUÇÃO, INCLUINDO FORNECIMENTO E TRANSPORTE DE TODOS OS MATERIAIS, INCLUSIVE POSTE DE SUSTENTAÇÃO)","m²",1,{"$f":"VLOOKUP(B483,'PREÇO UNITÁRIO'!$B$4:$F$124,5,0)","v":331.13},412.81977099999995,331.13,412.82,null,null,1.3561605305780936E-5,0.9997166277571643,"C"]
["5.1.2.4","RO-41624","DEER/MG","CONCRETO DE CIMENTO PORTLAND, FCK>=15,0MPA (EXECUÇÃO, INCLUINDO OFORNECIMENTO E TRANSPORTE DOS AGREGADOS)","m³",0.8,{"$f":"VLOOKUP(B484,'PREÇO UNITÁRIO'!$B$4:$F$124,5,0)","v":365.06},455.12030199999998,292.05,364.1,null,null,1.1961098037485683E-5,0.99972858885520177,"C"]
["6.2.1.5","5914539","DNIT/MG","TRANSPORTE COM CAMINHÃO BETONEIRA - RODOVIA EM LEITO NATURAL (Entre Francisco Dumont/MG e Área C - 6,00km)","txkm",516.96,{"$f":"VLOOKUP(B485,'PREÇO UNITÁRIO'!$B$4:$F$124,5,0)","v":0.55000000000000004},0.68568499999999999,284.33,354.47,null,null,1.1644741613148996E-5,0.99974023359681496,"C"]
["9.2.2.9",92795,"SINAPI","CORTE E DOBRA DE AÇO CA-50, DIÂMETRO DE 12,5 MM, UTILIZADO EM ESTRUTURAS DIVERSAS","KG",57.28,{"$f":"VLOOKUP(B486,'PREÇO UNITÁRIO'!$B$4:$F$124,5,0)","v":4.95},6.1711650000000002,283.54000000000002,353.48,null,null,1.1612218990086347E-5,0.99975184581580501,"C"]
["4.6.1.2","RO-41841","DEER/MG","PLACA DE AÇO CARBONO COM PELÍCULA REFLETIVA GRAU TÉCNICO TIPO I DA ABNT - PLACA CIRCULAR (EXECUÇÃO, INCLUINDO FORNECIMENTO E TRANSPORTE DE TODOS OS MATERIAIS, INCLUSIVE POSTE DE SUSTENTAÇÃO)","m²",0.78,{"$f":"VLOOKUP(B487,'PREÇO UNITÁRIO'!$B$4:$F$124,5,0)","v":341.61},425.88518699999997,266.45999999999998,332.19,null,null,1.091281833856734E-5,0.99976275863414354,"C"]
["5.6.1.2","RO-41841","DEER/MG","PLACA DE AÇO CARBONO COM PELÍCULA REFLETIVA GRAU TÉCNICO TIPO I DA ABNT - PLACA CIRCULAR (EXECUÇÃO, INCLUINDO FORNECIMENTO E TRANSPORTE DE TODOS OS MATERIAIS, INCLUSIVE POSTE DE SUSTENTAÇÃO)","m²",0.78,{"$f":"VLOOKUP(B488,'PREÇO UNITÁRIO'!$B$4:$F$124,5,0)","v":341.61},425.88518699999997,266.45999999999998,332.19,null,null,1.091281833856734E-5,0.99977367145248208,"C"]
["7.5.1.2","RO-41841","DEER/MG","PLACA DE AÇO CARBONO COM PELÍCULA REFLETIVA GRAU TÉCNICO TIPO I DA ABNT - PLACA CIRCULAR (EXECUÇÃO, INCLUINDO FORNECIMENTO E TRANSPORTE DE TODOS OS MATERIAIS, INCLUSIVE POSTE DE SUSTENTAÇÃO)","m²",0.78,{"$f":"VLOOKUP(B489,'PREÇO UNITÁRIO'!$B$4:$F$124,5,0)","v":341.61},425.88518699999997,266.45999999999998,332.19,null,null,1.091281833856734E-5,0.99978458427082062,"C"]
["8.5.1.2","RO-41841","DEER/MG","PLACA DE AÇO CARBONO COM PELÍCULA REFLETIVA GRAU TÉCNICO TIPO I DA ABNT - PLACA CIRCULAR (EXECUÇÃO, INCLUINDO FORNECIMENTO E TRANSPORTE DE TODOS OS MATERIAIS, INCLUSIVE POSTE DE SUSTENTAÇÃO)","m²",0.78,{"$f":"VLOOKUP(B490,'PREÇO UNITÁRIO'!$B$4:$F$124,5,0)","v":341.61},425.88518699999997,266.45999999999998,332.19,null,null,1.091281833856734E-5,0.99979549708915916,"C"]
["4.2.1.5","5914539","DNIT/MG","TRANSPORTE COM CAMINHÃO BETONEIRA - RODOVIA EM LEITO NATURAL (Entre Francisco Dumont/MG e Área A - 15,00km)","txkm",484.19999999999993,{"$f":"VLOOKUP(B491,'PREÇO UNITÁRIO'!$B$4:$F$124,5,0)","v":0.55000000000000004},0.68568499999999999,266.31,332.01,null,null,1.0906905134374131E-5,0.99980640399429355,"C"]
["6.6.2.2","RO-41237               OBR-VIA-245","DEER/MG","LINHAS DE RESINA ACRILICA 0,6MM DE ESPESSURA E LARGURA = 0,10M (EXECUÇÃO, INCLUSIVE PRÉ-MARCAÇÃO, FORNECIMENTO E TRANSPORTE DE TODOS OS MATERIAIS) - LINHAS AMARELAS","m²",139.5,{"$f":"VLOOKUP(B492,'PREÇO UNITÁRIO'!$B$4:$F$124,5,0)","v":1.73},2.1567909999999997,241.34,300.87,null,null,9.883920808948962E-6,0.99981628791510246,"C"]
["5.1.5.1","ED-48555","DEER/MG","CANALETA PARA DRENAGEM, PRÉ-MOLDADA, TIPO MEIA CANA, DIÂMETRO 60CM, EXCLUSIVE TAMPA, INCLUSIVE ASSENTAMENTO EM ARGAMASSA, TRAÇO 1:3 (CIMENTO E AREIA), ESCAVAÇÃO, TRANSPORTE E RETIRADA DO MATERIAL ESCAVADO (EM CAÇAMBA)","m",2,{"$f":"VLOOKUP(B493,'PREÇO UNITÁRIO'!$B$4:$F$124,5,0)","v":116.74},145.53975799999998,233.48,291.08,null,null,9.5623082031072015E-6,0.99982585022330561,"C"]
["6.3.1.1","72849","SINAPI","CARGA, MANOBRAS E DESCARGA DE MISTURAS DE SOLOS E AGREGADOS (BASES ESTABILIZADAS EM USINA) COM CAMINHAO BASCULANTE 6 M3","t",123.53,{"$f":"VLOOKUP(B494,'PREÇO UNITÁRIO'!$B$4:$F$124,5,0)","v":1.81},2.2565269999999997,223.59,278.75,null,null,9.1572537158723799E-6,0.99983500747702148,"C"]
["4.6.2.2","RO-41237               OBR-VIA-245","DEER/MG","LINHAS DE RESINA ACRILICA 0,6MM DE ESPESSURA E LARGURA = 0,10M (EXECUÇÃO, INCLUSIVE PRÉ-MARCAÇÃO, FORNECIMENTO E TRANSPORTE DE TODOS OS MATERIAIS) - LINHAS AMARELAS","m²",120,{"$f":"VLOOKUP(B495,'PREÇO UNITÁRIO'!$B$4:$F$124,5,0)","v":1.73},2.1567909999999997,207.6,258.81,null,null,8.5022020958024419E-6,0.99984350967911728,"C"]
["4.4.1.10",93176,"SINAPI","TRANSPORTE DE MATERIAL ASFALTICO, COM CAMINHÃO COM CAPACIDADE DE 30000 L EM RODOVIA PAVIMENTADA. AF_02/2016 (P/ ITEM 6.1.9) (ORIUNDO DE BETIM/MG DISTANTE 377KM DIRETO FCO DUMONT)","txkm",440.19123200000001,{"$f":"VLOOKUP(B496,'PREÇO UNITÁRIO'!$B$4:$F$124,5,0)","v":0.47},0.58594899999999994,206.89,257.93,null,null,8.4732930975245308E-6,0.99985198297221478,"C"]
["9.8.2.7",92793,"SINAPI","CORTE E DOBRA DE AÇO CA-50, DIÂMETRO DE 8,0 MM, UTILIZADO EM ESTRUTURA S DIVERSAS","KG",31.695999999999998,{"$f":"VLOOKUP(B497,'PREÇO UNITÁRIO'!$B$4:$F$124,5,0)","v":6.38},7.9539459999999993,202.22,252.11,null,null,8.2820994952774391E-6,0.99986026507171011,"C"]
["4.1.3.2","ED-48193","DEER/MG","ALVENARIA DE VEDAÇÃO COM BLOCO DE CONCRETO, ESP.19 CM, PARA REVESTIMENTO, INCLUSIVE ARGAMASSA PARA ASSENTAMENTO","m²",3.83,{"$f":"VLOOKUP(B498,'PREÇO UNITÁRIO'!$B$4:$F$124,5,0)","v":49.12},61.237903999999993,188.13,234.54,null,null,7.7049050637514181E-6,0.99986796997677385,"C"]
["4.1.3.4","RO-41624","DEER/MG","CONCRETO DE CIMENTO PORTLAND, FCK>=15,0MPA (EXECUÇÃO, INCLUINDO O FORNECIMENTO E TRANSPORTE DOS AGREGADOS)","m³",0.40200000000000002,{"$f":"VLOOKUP(B499,'PREÇO UNITÁRIO'!$B$4:$F$124,5,0)","v":365.06},455.12030199999998,146.75,182.96,null,null,6.0104435510529533E-6,0.99987398042032494,"C"]
["6.6.3.3","RO-43226","DEER/MG","COLOCAÇÃO DE PLACAS","m²",2.1799999999999997,{"$f":"VLOOKUP(B500,'PREÇO UNITÁRIO'!$B$4:$F$124,5,0)","v":65.77},81.995458999999997,143.38,178.75,null,null,5.8721402752006745E-6,0.99987985256060019,"C"]
["5.1.2.3","ED-50732","DEER/MG","EMBOÇO COM ARGAMASSA, TRAÇO 1:6 (CIMENTO E AREIA), ESP. 20MM, APLICAÇÃO MANUAL, PREPARO MECÂNICO","m²",6.06,{"$f":"VLOOKUP(B501,'PREÇO UNITÁRIO'!$B$4:$F$124,5,0)","v":22.84},28.474627999999999,138.41,172.56,null,null,5.6687917532230957E-6,0.99988552135235342,"C"]
["5.6.2.2","RO-41237               OBR-VIA-245","DEER/MG","LINHAS DE RESINA ACRILICA 0,6MM DE ESPESSURA E LARGURA = 0,10M (EXECUÇÃO, INCLUSIVE PRÉ-MARCAÇÃO, FORNECIMENTO E TRANSPORTE DE TODOS OS MATERIAIS) - LINHAS AMARELAS","m²",80,{"$f":"VLOOKUP(B502,'PREÇO UNITÁRIO'!$B$4:$F$124,5,0)","v":1.73},2.1567909999999997,138.4,172.54,null,null,5.668134730534961E-6,0.999891189487084,"C"]
["7.5.2.1","RO-41237               OBR-VIA-245","DEER/MG","LINHAS DE RESINA ACRILICA 0,6MM DE ESPESSURA E LARGURA = 0,10M (EXECUÇÃO, INCLUSIVE PRÉ-MARCAÇÃO, FORNECIMENTO E TRANSPORTE DE TODOS OS MATERIAIS) - LINHAS BRANCAS","m²",80,{"$f":"VLOOKUP(B503,'PREÇO UNITÁRIO'!$B$4:$F$124,5,0)","v":1.73},2.1567909999999997,138.4,172.54,null,null,5.668134730534961E-6,0.99989685762181457,"C"]
["7.5.2.2","RO-41237               OBR-VIA-245","DEER/MG","LINHAS DE RESINA ACRILICA 0,6MM DE ESPESSURA E LARGURA = 0,10M (EXECUÇÃO, INCLUSIVE PRÉ-MARCAÇÃO, FORNECIMENTO E TRANSPORTE DE TODOS OS MATERIAIS) - LINHAS AMARELAS","m²",80,{"$f":"VLOOKUP(B504,'PREÇO UNITÁRIO'!$B$4:$F$124,5,0)","v":1.73},2.1567909999999997,138.4,172.54,null,null,5.668134730534961E-6,0.99990252575654515,"C"]
["8.5.2.1","RO-41237               OBR-VIA-245","DEER/MG","LINHAS DE RESINA ACRILICA 0,6MM DE ESPESSURA E LARGURA = 0,10M (EXECUÇÃO, INCLUSIVE PRÉ-MARCAÇÃO, FORNECIMENTO E TRANSPORTE DE TODOS OS MATERIAIS) - LINHAS BRANCAS","m²",80,{"$f":"VLOOKUP(B505,'PREÇO UNITÁRIO'!$B$4:$F$124,5,0)","v":1.73},2.1567909999999997,138.4,172.54,null,null,5.668134730534961E-6,0.99990819389127572,"C"]
["8.5.2.2","RO-41237               OBR-VIA-245","DEER/MG","LINHAS DE RESINA ACRILICA 0,6MM DE ESPESSURA E LARGURA = 0,10M (EXECUÇÃO, INCLUSIVE PRÉ-MARCAÇÃO, FORNECIMENTO E TRANSPORTE DE TODOS OS MATERIAIS) - LINHAS AMARELAS","m²",80,{"$f":"VLOOKUP(B506,'PREÇO UNITÁRIO'!$B$4:$F$124,5,0)","v":1.73},2.1567909999999997,138.4,172.54,null,null,5.668134730534961E-6,0.99991386202600629,"C"]
["7.1.4.1","RO-40160","DEER/MG","ESCAVAÇÃO, CARGA, DESCARGA, ESPALHAMENTO E TRANSPORTE DE MATERIAL DE 1ª CATEGORIA, COMCAMINHÃO. DISTÂNCIA MÉDIA DE TRANSPORTE DE 3.001 A 4.000 M","m³",18,{"$f":"VLOOKUP(B507,'PREÇO UNITÁRIO'!$B$4:$F$124,5,0)","v":7.44},9.275447999999999,133.91999999999999,166.96,null,null,5.4848254005454801E-6,0.99991934685140682,"C"]
["8.1.4.1","RO-40160","DEER/MG","ESCAVAÇÃO, CARGA, DESCARGA, ESPALHAMENTO E TRANSPORTE DE MATERIAL DE 1ª CATEGORIA, COMCAMINHÃO. DISTÂNCIA MÉDIA DE TRANSPORTE DE 3.001 A 4.000 M","m³",18,{"$f":"VLOOKUP(B508,'PREÇO UNITÁRIO'!$B$4:$F$124,5,0)","v":7.44},9.275447999999999,133.91999999999999,166.96,null,null,5.4848254005454801E-6,0.99992483167680735,"C"]
["5.1.2.1","RO-40160","DEER/MG","ESCAVAÇÃO, CARGA, DESCARGA, ESPALHAMENTO E TRANSPORTE DE MATERIAL DE 1ª CATEGORIA, COMCAMINHÃO. DISTÂNCIA MÉDIA DE TRANSPORTE DE 3.001 A 4.000 M","m³",17.96,{"$f":"VLOOKUP(B509,'PREÇO UNITÁRIO'!$B$4:$F$124,5,0)","v":7.44},9.275447999999999,133.62,166.59,null,null,5.4726704808149954E-6,0.99993030434728813,"C"]
["4.6.3.1","RO-41841","DEER/MG","PLACA DE AÇO CARBONO COM PELÍCULA REFLETIVA GRAU TÉCNICO TIPO I DA ABNT - PLACA CIRCULAR (EXECUÇÃO, INCLUINDO FORNECIMENTO E TRANSPORTE DE TODOS OS MATERIAIS, INCLUSIVE POSTE DE SUSTENTAÇÃO)","m²",0.39,{"$f":"VLOOKUP(B510,'PREÇO UNITÁRIO'!$B$4:$F$124,5,0)","v":341.61},425.88518699999997,133.22999999999999,166.1,null,null,5.4565734249557036E-6,0.99993576092071312,"C"]
["5.6.3.1","RO-41841","DEER/MG","PLACA DE AÇO CARBONO COM PELÍCULA REFLETIVA GRAU TÉCNICO TIPO I DA ABNT - PLACA CIRCULAR (EXECUÇÃO, INCLUINDO FORNECIMENTO E TRANSPORTE DE TODOS OS MATERIAIS, INCLUSIVE POSTE DE SUSTENTAÇÃO)","m²",0.39,{"$f":"VLOOKUP(B511,'PREÇO UNITÁRIO'!$B$4:$F$124,5,0)","v":341.61},425.88518699999997,133.22999999999999,166.1,null,null,5.4565734249557036E-6,0.99994121749413811,"C"]
["9.2.1.4","RO-42263","DEER/MG","ESPALHAMENTO DE MATERIAL EM BOTA-FORA","m³",728,{"$f":"VLOOKUP(B512,'PREÇO UNITÁRIO'!$B$4:$F$124,5,0)","v":0.18},0.22440599999999997,131.04,163.37,null,null,5.3668898280253663E-6,0.99994658438396611,"C"]
["4.3.3.1","72888","SINAPI","CARGA, MANOBRAS E DESCARGA DE AREIA, BRITA, PEDRA DE MAO E SOLOS COM CAMINHAO BASCULANTE 6 M3 (DESCARGA LIVRE)","m³",132.69999999999999,{"$f":"VLOOKUP(B513,'PREÇO UNITÁRIO'!$B$4:$F$124,5,0)","v":0.79},0.98489300000000002,104.83,130.69999999999999,null,null,4.2936432669579196E-6,0.99995087802723304,"C"]
["4.6.2.1","RO-41237               OBR-VIA-245","DEER/MG","LINHAS DE RESINA ACRILICA 0,6MM DE ESPESSURA E LARGURA = 0,10M (EXECUÇÃO, INCLUSIVE PRÉ-MARCAÇÃO, FORNECIMENTO E TRANSPORTE DE TODOS OS MATERIAIS) - LINHAS BRANCAS","m²",59.99,{"$f":"VLOOKUP(B514,'PREÇO UNITÁRIO'!$B$4:$F$124,5,0)","v":1.73},2.1567909999999997,103.78,129.38999999999999,null,null,4.2506082808851198E-6,0.99995512863551395,"C"]
["4.6.3.3","RO-43226","DEER/MG","COLOCAÇÃO DE PLACAS","m²",1.39,{"$f":"VLOOKUP(B515,'PREÇO UNITÁRIO'!$B$4:$F$124,5,0)","v":65.77},81.995458999999997,91.42,113.97,null,null,3.744043788333543E-6,0.99995887267930228,"C"]
["5.6.3.3","RO-43226","DEER/MG","COLOCAÇÃO DE PLACAS","m²",1.39,{"$f":"VLOOKUP(B516,'PREÇO UNITÁRIO'!$B$4:$F$124,5,0)","v":65.77},81.995458999999997,91.42,113.97,null,null,3.744043788333543E-6,0.99996261672309061,"C"]
["4.2.2.9","ED-50430","DEER/MG","FORNECIMENTO E APLICAÇÃO DE GROUT PARA ANCORAGENS","m³",0.28800000000000003,{"$f":"VLOOKUP(B517,'PREÇO UNITÁRIO'!$B$4:$F$124,5,0)","v":272.01},339.11486699999995,78.34,97.67,null,null,3.2085702975040551E-6,0.99996582529338807,"C"]
["5.2.2.9","ED-50430","DEER/MG","FORNECIMENTO E APLICAÇÃO DE GROUT PARA ANCORAGENS","m³",0.28800000000000003,{"$f":"VLOOKUP(B518,'PREÇO UNITÁRIO'!$B$4:$F$124,5,0)","v":272.01},339.11486699999995,78.34,97.67,null,null,3.2085702975040551E-6,0.99996903386368552,"C"]
["6.2.2.9","ED-50430","DEER/MG","FORNECIMENTO E APLICAÇÃO DE GROUT PARA ANCORAGENS","m³",0.28800000000000003,{"$f":"VLOOKUP(B519,'PREÇO UNITÁRIO'!$B$4:$F$124,5,0)","v":272.01},339.11486699999995,78.34,97.67,null,null,3.2085702975040551E-6,0.99997224243398297,"C"]
["4.3.2.1","72888","SINAPI","CARGA, MANOBRAS E DESCARGA DE AREIA, BRITA, PEDRA DE MAO E SOLOS COM CAMINHAO BASCULANTE 6 M3 (DESCARGA LIVRE)","m³",98.5,{"$f":"VLOOKUP(B520,'PREÇO UNITÁRIO'!$B$4:$F$124,5,0)","v":0.79},0.98489300000000002,77.819999999999993,97.01,null,null,3.1868885487956222E-6,0.99997542932253181,"C"]
["5.3.3.1","72888","SINAPI","CARGA, MANOBRAS E DESCARGA DE AREIA, BRITA, PEDRA DE MAO E SOLOS COM CAMINHAO BASCULANTE 6 M3 (DESCARGA LIVRE)","m³",90.25,{"$f":"VLOOKUP(B521,'PREÇO UNITÁRIO'!$B$4:$F$124,5,0)","v":0.79},0.98489300000000002,71.3,88.89,null,null,2.9201373374130794E-6,0.99997834945986919,"C"]
["4.1.3.3","ED-50732","DEER/MG","EMBOÇO COM ARGAMASSA, TRAÇO 1:6 (CIMENTO E AREIA), ESP. 20MM, APLICAÇÃO MANUAL, PREPARO MECÂNICO","m²",3.03,{"$f":"VLOOKUP(B522,'PREÇO UNITÁRIO'!$B$4:$F$124,5,0)","v":22.84},{"$f":"G522*(1+$J$4)","v":28.474627999999999},69.209999999999994,{"$f":"ROUND(F522*H522,2)","v":86.28},null,null,2.8343958766115478E-6,0.99998118385574575,"C"]
["5.6.2.1","RO-41237               OBR-VIA-245","DEER/MG","LINHAS DE RESINA ACRILICA 0,6MM DE ESPESSURA E LARGURA = 0,10M (EXECUÇÃO, INCLUSIVE PRÉ-MARCAÇÃO, FORNECIMENTO E TRANSPORTE DE TODOS OS MATERIAIS) - LINHAS BRANCAS","m²",40,{"$f":"VLOOKUP(B523,'PREÇO UNITÁRIO'!$B$4:$F$124,5,0)","v":1.73},2.1567909999999997,{"$f":"ROUND(F523*G523,2)","v":69.2},86.27,null,null,2.8340673652674805E-6,0.99998401792311098,{"$f":"IF(N523<=$M$2,\"A\",IF(N523<=$M$3,\"B\",\"C\"))","v":"C"}]
["4.1.3.1","RO-40160","DEER/MG","ESCAVAÇÃO, CARGA, DESCARGA, ESPALHAMENTO E TRANSPORTE DE MATERIAL DE 1ª CATEGORIA, COMCAMINHÃO. DISTÂNCIA MÉDIA DE TRANSPORTE DE 3.001 A 4.000 M","m³",8.98,{"$f":"VLOOKUP(B524,'PREÇO UNITÁRIO'!$B$4:$F$124,5,0)","v":7.44},9.275447999999999,66.81,83.29,null,null,{"$f":"SUM(J524/$J$3)","v":2.7361709847354642E-6},{"$f":"N523+M524","v":0.99998675409409576},"C"]
["6.4.1.8",93178,"SINAPI","TRANSPORTE DE MATERIAL ASFALTICO, COM CAMINHÃO COM CAPACIDADE DE 30000 TXKM L EM RODOVIA NÃO PAVIMENTADA PARA DISTÂNCIAS MÉDIAS DE TRANSPORTE SUPERIORES A 100 KM. AF_02/2016  (ORIUNDO DE FRANCISCO DUMONT/MG DISTANTE 6KM DIRETO PARA OBRA C)","txkm",121.98052799999998,{"$f":"VLOOKUP(B525,'PREÇO UNITÁRIO'!$B$4:$F$124,5,0)","v":0.53},0.66075099999999998,64.650000000000006,80.599999999999994,null,null,2.647801433181395E-6,0.99998940189552898,"C"]
["5.6.4.2","28.10.01.99","DER/SP","FORN./INSTAL. BALIZ.(CATADIOPTRICO) P/DEF. MET. C/PELICULA GT+GT, CONF.OP-06-05","un.",2,{"$f":"VLOOKUP(B526,'PREÇO UNITÁRIO'!$B$4:$F$124,5,0)","v":28.99},36.141832999999998,57.98,72.28,null,null,2.374479994917509E-6,0.99999177637552394,"C"]
["5.3.2.1","72888","SINAPI","CARGA, MANOBRAS E DESCARGA DE AREIA, BRITA, PEDRA DE MAO E SOLOS COM CAMINHAO BASCULANTE 6 M3 (DESCARGA LIVRE)","m³",67,{"$f":"VLOOKUP(B527,'PREÇO UNITÁRIO'!$B$4:$F$124,5,0)","v":0.79},0.98489300000000002,52.93,65.989999999999995,null,null,2.1678463594992585E-6,0.99999394422188348,"C"]
["4.3.1.1","72849","SINAPI","CARGA, MANOBRAS E DESCARGA DE MISTURAS DE SOLOS E AGREGADOS (BASES ESTABILIZADAS EM USINA) COM CAMINHAO BASCULANTE 6 M3","t",22.1,{"$f":"VLOOKUP(B528,'PREÇO UNITÁRIO'!$B$4:$F$124,5,0)","v":1.81},2.2565269999999997,40,49.87,null,null,1.6382860728629798E-6,0.99999558250795639,"C"]
["4.4.1.8",93178,"SINAPI","TRANSPORTE DE MATERIAL ASFALTICO, COM CAMINHÃO COM CAPACIDADE DE 30000 TXKM L EM RODOVIA NÃO PAVIMENTADA PARA DISTÂNCIAS MÉDIAS DE TRANSPORTE SUPERIORES A 100 KM. AF_02/2016  (ORIUNDO DE FCO DUMONT DISTANTE 15KM DIRETO PARA OBRA A)","txkm",52.542719999999996,{"$f":"VLOOKUP(B529,'PREÇO UNITÁRIO'!$B$4:$F$124,5,0)","v":0.53},0.66075099999999998,27.85,34.72,null,null,1.1405913866012162E-6,0.99999672309934295,"C"]
["5.3.1.1","72849","SINAPI","CARGA, MANOBRAS E DESCARGA DE MISTURAS DE SOLOS E AGREGADOS (BASES ESTABILIZADAS EM USINA) COM CAMINHAO BASCULANTE 6 M3","t",15,{"$f":"VLOOKUP(B530,'PREÇO UNITÁRIO'!$B$4:$F$124,5,0)","v":1.81},2.2565269999999997,27.15,33.85,null,null,1.1120108996673725E-6,0.99999783511024265,"C"]
["6.4.1.11",93178,"SINAPI","TRANSPORTE DE MATERIAL ASFALTICO, COM CAMINHÃO COM CAPACIDADE DE 30000 TXKM L EM RODOVIA NÃO PAVIMENTADA PARA DISTÂNCIAS MÉDIAS DE TRANSPORTE SUPERIORES A 100 KM. AF_02/2016  (ORIUNDO DE FRANCISCO DUMONT/MG DISTANTE 6KM DIRETO PARA OBRA C)","txkm",40.660175999999993,{"$f":"VLOOKUP(B531,'PREÇO UNITÁRIO'!$B$4:$F$124,5,0)","v":0.53},0.66075099999999998,21.55,26.87,null,null,8.8270998150848746E-7,0.9999987178202242,"C"]
["5.4.1.8",93178,"SINAPI","TRANSPORTE DE MATERIAL ASFALTICO, COM CAMINHÃO COM CAPACIDADE DE 30000 TXKM L EM RODOVIA NÃO PAVIMENTADA PARA DISTÂNCIAS MÉDIAS DE TRANSPORTE SUPERIORES A 100 KM. AF_02/2016  (9KM EM TERRA) B)","txkm",20.781575999999998,{"$f":"VLOOKUP(B532,'PREÇO UNITÁRIO'!$B$4:$F$124,5,0)","v":0.53},0.66075099999999998,11.01,13.73,null,null,4.5104607540422525E-7,0.99999916886629958,"C"]
["5.4.1.11",93178,"SINAPI","TRANSPORTE DE MATERIAL ASFALTICO, COM CAMINHÃO COM CAPACIDADE DE 30000 TXKM L EM RODOVIA NÃO PAVIMENTADA PARA DISTÂNCIAS MÉDIAS DE TRANSPORTE SUPERIORES A 100 KM. AF_02/2016 (9KM EM TERRA) B)","txkm",20.781575999999998,{"$f":"VLOOKUP(B533,'PREÇO UNITÁRIO'!$B$4:$F$124,5,0)","v":0.53},0.66075099999999998,11.01,13.73,null,null,4.5104607540422525E-7,0.99999961991237496,"C"]
["4.4.1.11",93178,"SINAPI","TRANSPORTE DE MATERIAL ASFALTICO, COM CAMINHÃO COM CAPACIDADE DE 30000 TXKM L EM RODOVIA NÃO PAVIMENTADA PARA DISTÂNCIAS MÉDIAS DE TRANSPORTE SUPERIORES A 100 KM. AF_02/2016  (ORIUNDO DE FCO DUMONT DISTANTE 15KM DIRETO PARA OBRA A)","txkm",17.514240000000001,{"$f":"VLOOKUP(B534,'PREÇO UNITÁRIO'!$B$4:$F$124,5,0)","v":0.53},0.66075099999999998,9.2799999999999994,11.57,null,null,3.8008762508571637E-7,1,"C"]
["8.1.6.1","ED-14723","DEER/MG","CANALETA PARA DRENAGEM, EM CONCRETO COM FCK 15MPA, MOLDADA IN LOCO, SEÇÃO 60X60CM, FORMA EM CONTRA BARRANCO, EXCLUSIVE TAMPA, INCLUSIVE ESCAVAÇÃO, REATERRO COM TRANSPORTE E RETIRADA DO MATERIAL ESCAVADO (EM CAÇAMBA)","m",null,{"$f":"VLOOKUP(B535,'PREÇO UNITÁRIO'!$B$4:$F$124,5,0)","v":236.98},295.44296599999996,0,0,null,null,0,1,"C"]
[]
[]
[]
[{"$nulls":8},"Terraplanagem",{"$f":"J11+J13+J15+J17+J21+J23+J24+J28+J34+J36+J38+J41+J47+J49+J53+J60+J63+J65+J69+J76+J78+J82+J87+J89+J91+J100+J102+J104+J105+J110+J111+J118+J126+J128+J129+J130+J134+J141+J142+J144+J147+J157+J166+J167+J169+J174+J176+J183+J184+J188+J189+J196+J197+J199+J200+J211+J215+J217+J204+J219+J223+J230+J233+J235+J238+J245+J246+J248+J257+J258+J261+J263+J269+J270+J281+J282+J283+J284+J285+J286+J294+J297+J300+J302+J303+J304+J307+J308+J312+J314+J317+J322+J323+J325+J327+J340+J342+J330+J344+J347+J352+J353+J356+J357+J358+J359+J360+J361+J362+J363+J364+J365+J369+J370+J379+J381+J382+J383+J390+J392+J394+J395+J397+J400+J401+J402+J404+J409+J411+J413+J416+J419+J420+J421+J422+J423+J425+J430+J435+J436+J437+J438+J439+J441+J443+J444+J445+J446+J447+J448+J451+J453+J454+J455+J457+J458+J460+J462+J463+J464+J465+J466+J467+J474+J475+J476+J477+J485+J491+J494+J507+J508+J509+J512+J513+J520+J521+J524+J527+J528+J530","v":10261474.829999996},{"$f":"J539/$J$542","v":0.337101088851474}]
[{"$nulls":8},"Edificações",{"$f":"J542-J539-J541","v":5598959.3100000005},{"$f":"J540/$J$542","v":0.18393216483054983}]
[{"$nulls":8},"Concreto",14579914.970000001,0.47896674631797614]
[{"$nulls":9},{"$f":"J3","v":30440349.109999999}]

{"sheet":"TRAÇOS","index":13,"n_rows":107,"n_cols":19,"rows_kept":107,"cut":false,"hidden":false,"merged":[[2,1,2,4],[16,1,16,3],[18,1,18,3]]}
[null,"OBS.: O VOLUME DO CIMENTO, AREIA E BRITA FOI CALCULADO EM FUNÇÃO DO Fck DO CONCRETO, POIS PARA UM DETERMINADO Fck TEM-SE UM TRAÇO DE CONCRETO."]
[]
[null,"VOLUME - LOCAL A "]
[null,"CIMENTO (m³)","AREIA (m³)","BRITA (m³)","VOLUME DE CONCRETO (m³)"]
[null,0.53400000000000003,1.6020000000000001,3.2040000000000002,{"$f":"SUM(B5:D5)","v":5.34}]
[null,2.12,4.24,6.36,{"$f":"SUM(B6:D6)","v":12.72}]
[null,20.309999999999999,40.625,50.78,111.715]
[null,31.54,47.317999999999998,94.63,173.488]
[null,4.7E-2,0.11700000000000001,0.23499999999999999,0.39900000000000002]
[null,0.19400000000000001,0.58199999999999996,1.1599999999999999,1.9359999999999999]
[null,1.1830000000000001,3.5489999999999999,7.0979999999999999,11.83]
[null,1.4450000000000001,4.335,8.67,14.45]
[null,1.4870000000000001,3.7170000000000001,7.4349999999999996,12.638999999999999]
[null,1.1599999999999999,2.9,5.8,9.86]
[null,0.16400000000000001,0.41099999999999998,0.82,1.395]
[null,{"$f":"SUM(B5:B15)","v":60.183999999999997},{"$f":"SUM(C5:C15)","v":109.396},{"$f":"SUM(D5:D15)","v":186.19200000000001}]
[null,"VOLUME TOTAL DE CONCRETO",null,null,{"$f":"SUM(E5:E16)","v":355.77199999999999}]
[]
[null,"PESO DO CIMENTO",null,null,{"$f":"B16*1500","v":90276}]
[]
[null,"122KM","127KM","127KM"]
[]
[]
[]
[]
[{"$nulls":9},"1,00m³ (CBUQ)",{"$nulls":5},159.94999999999999,"m³"]
[{"$nulls":8},"0,138t","CAP",138,"kg",{"$f":"SUM(K27/$K$31)","v":6.3100137174211243E-2},null,null,{"$f":"SUM($P$26*K27)","v":22073.1},"kg",{"$f":"SUM(P27/1000)","v":22.0731},17]
[{"$nulls":8},"44kg","FILLER",44,"kg",{"$f":"SUM(K28/$K$31)","v":2.0118884316415182E-2},null,null,{"$f":"SUM($P$26*K28)","v":7037.7999999999993},"kg",{"$f":"SUM(P28/1000)","v":7.0377999999999989}]
[{"$nulls":8},"0,786m³","BRITA 1",1100,"kg",{"$f":"SUM(K29/$K$31)","v":0.5029721079103795},1400,"kg/m³",{"$f":"SUM($P$26*K29)","v":175945},"kg",{"$f":"SUM(P29/N29)","v":125.675}]
[{"$nulls":8},"0,616m³","AREIA MÉDIA",905,"kg",{"$f":"SUM(K30/$K$31)","v":0.41380887059899407},1470,"kg/m³",{"$f":"SUM($P$26*K30)","v":144754.75},"kg",{"$f":"SUM(P30/N30)","v":98.472619047619048}]
[{"$nulls":10},{"$f":"SUM(K27:K30)","v":2187},null,{"$f":"SUM(M27:M30)","v":1}]
[]
[]
[]
[]
[]
[null,null,"CBUQ",null,"2400kg/m³"]
[null,"Temos ",121,"pesos esp.",null,2.4,"t/m³",{"$f":"SUM(C38*F38)","v":290.39999999999998},"t",{"$f":"SUM(H38*1000)","v":290400},"kg"]
[null,"CAP","kg",null,0.06,0.13,"t/m³",{"$f":"SUM(H38*E39)","v":17.423999999999999}]
[null,"FILLER","m³",null,0.02,44,"kg/m³",{"$f":"SUM(H38*E40)","v":5.8079999999999998}]
[null,"BRITA","m³",null,0.5,0.78600000000000003,"m³",{"$f":"SUM(H38*E41)","v":145.19999999999999}]
[null,"AREIA","m³",null,0.42,0.61599999999999999,"m³",{"$f":"SUM(H38*E42)","v":121.96799999999999}]
[{"$nulls":4},{"$f":"SUM(E39:E42)","v":1},null,null,{"$f":"SUM(H39:H42)","v":290.39999999999998}]
{"$rows_empty":8}
[null,"http://www.guiadaobra.net/forum/viewtopic.php?t=463"]
[null,"PESOS ESPECIFICOS"]
[]
[null,"Material - Peso em Kg / m³"]
[null,"Areia Fina - 1.300"]
[null,"Areia Média e Areia Grossa - 1.470"]
[null,"Pedras 1, 2 e Pedra Meia - 1.400"]
[null,"Pedra 3 e 4 - 1430"]
[null,"Areia de brita - 1.500"]
[null,"Pó de pedra - 1.500"]
[null,"Pedrisco limpo - 1.400"]
[null,"Pedrisco misto - 1.600"]
[null,"Bica corrida - 1.700"]
[null,"Brita graduada - 1.650 a 1.700"]
[null,"Rachão - 1.500"]
[null,"Rachão de Gabião - 1.450"]
[null,"Rachão Graduado - 1.650"]
[null,"Cascalho - 1.470"]
[null,"Concreto - 2.500"]
[null,"Argila Expandida (bola) - 400 a 600"]
[null,"Argamassa de Cal 1.800"]
[null,"Argamassa de Cimento 2.100"]
[null,"Alvenaria de Tijolos Comuns 1.600"]
[null,"Alvenaria de Tijolos Cerâmicos 1.300"]
[null,"Alvenaria de Blocos de Concreto 1.200"]
[null,"Asfalto Fundido 1.400"]
[null,"Argila úmida 2.300"]
[null,"Argila Seca 1.800"]
[null,"Aço Carbono 7.850"]
[null,"Aço Cromo 7.950"]
[null,"Alumínio Laminado 2.750"]
[null,"Basalto 3.000"]
[null,"Benzina 700"]
[null,"Cinza Amontoada 1.000"]
[null,"Cortiça em Placas 300"]
[null,"Cedro 650"]
[null,"Cobre 8.800"]
[null,"Concreto Simples 2.400"]
[null,"Concreto Armado 2.500"]
[null,"Concreto Celular 550"]
[null,"Entulhos de Demolição 1.200"]
[null,"Escombros de Obra 1.400"]
[null,"Escória de Alto-Forno 800"]
[null,"Ferro Fundido 7.200"]
[null,"Gelo 900"]
[null,"Granito 2.700"]
[null,"Lixo 650"]
[null,"Latão Laminado 8.400"]
[null,"Mármore 2.800"]
[null,"Papel em Pacotes 900"]
[null,"Petróleo Crú 880"]
[null,"Peroba Rosa 785"]
[null,"Pinho do Paraná 450"]
[null,"Pinho Branco 430"]
[null,"Pozolana - Aparente 800"]
[null,"Pozolana - Real 2.150"]