Workbook

Sheet PFP
A1: PROPOSTA FINANCEIRA DO PROJETO | J1: CODIGO:
J2: PFP
A3: NOME DA CONSULTORA:
A5: PROJETO: | F5: CONTRATANTE: | J5: BASE: Ago/2020
A6: Estudos, Projetos Básico - Orla Macapá - AP | F6: Codevasf (Sede) | J6: SICRO: ago/20 CODE: Ago/20
A7: Base | B7: Cod1 | C7: Cod2 | D7: Categoria / Insumo | E7: Uni | F7: Qde | G7: CUD | H7: PU | I7: FatorK | J7: CT | K7: PT
A8: Codevasf | B8: MO | C8: P0 | D8: Engenheiro Sênior (Coordenador) | E8: mês | F8: ='CRO1_Ins-Pro'!D4 -> 0 | G8: 19796.48 | H8: =ROUND(I8*G8,2) -> 46377.21 | I8: ='PFP2.2_FatorKb'!$E$37 -> 2.3427 | J8: =ROUND(F8*G8,2) -> 0 | K8: =ROUND(F8*H8,2) -> 0 | L8: =J8*I8 -> 0
A9: SICRO | B9: MO | C9: P1 | D9: Engenheiro Sênior | E9: mês | F9: ='CRO1_Ins-Pro'!D5 -> 0 | H9: =ROUND(I9*G9,2) -> 0 | I9: ='PFP2.2_FatorKb'!$E$37 -> 2.3427 | J9: =ROUND(F9*G9,2) -> 0 | K9: =ROUND(F9*H9,2) -> 0
A10: Cofevasf | B10: MO | C10: P2 | D10: Engenheiro Pleno | E10: mês | F10: ='CRO1_Ins-Pro'!D6 -> 0 | G10: 15304.96 | H10: =ROUND(I10*G10,2) -> 35854.93 | I10: ='PFP2.1_FatorKa'!$E$37 -> 2.3427 | J10: =ROUND(F10*G10,2) -> 0 | K10: =ROUND(F10*H10,2) -> 0
A11: SICRO | B11: MO | C11: P3 | D11: Engenheiro Júnior | E11: mês | F11: ='CRO1_Ins-Pro'!D7 -> 0 | H11: =ROUND(I11*G11,2) -> 0 | I11: ='PFP2.1_FatorKa'!$E$37 -> 2.3427 | J11: =ROUND(F11*G11,2) -> 0 | K11: =ROUND(F11*H11,2) -> 0
A12: salario.com- CAGED | B12: MO | C12: S1 | D12: Analista Sênior | E12: mês | F12: ='CRO1_Ins-Pro'!D8 -> 0 | G12: 5255.97 | H12: =ROUND(I12*G12,2) -> 12313.16 | I12: ='PFP2.1_FatorKa'!$E$37 -> 2.3427 | J12: =ROUND(F12*G12,2) -> 0 | K12: =ROUND(F12*H12,2) -> 0
A13: salario.com- CAGED | B13: MO | C13: S2 | D13: Analista Pleno | E13: mês | F13: ='CRO1_Ins-Pro'!D9 -> 0 | G13: 3405.2 | H13: =ROUND(I13*G13,2) -> 7977.36 | I13: ='PFP2.1_FatorKa'!$E$37 -> 2.3427 | J13: =ROUND(F13*G13,2) -> 0 | K13: =ROUND(F13*H13,2) -> 0
A14: salario.com- CAGED | B14: MO | C14: S3 | D14: Analista Júnior | E14: mês | F14: ='CRO1_Ins-Pro'!D10 -> 0 | G14: 3239.25 | H14: =ROUND(I14*G14,2) -> 7588.59 | I14: ='PFP2.1_FatorKa'!$E$37 -> 2.3427 | J14: =ROUND(F14*G14,2) -> 0 | K14: =ROUND(F14*H14,2) -> 0
A15: SICRO | B15: MO | C15: T1 | D15: Técnico Sênior | E15: mês | F15: ='CRO1_Ins-Pro'!D11 -> 0 | H15: =ROUND(I15*G15,2) -> 0 | I15: ='PFP2.1_FatorKa'!$E$37 -> 2.3427 | J15: =ROUND(F15*G15,2) -> 0 | K15: =ROUND(F15*H15,2) -> 0
A16: Codevasf | B16: MO | C16: T2 | D16: Técnico Pleno | E16: mês | F16: ='CRO1_Ins-Pro'!D12 -> 0 | G16: 4781.92 | H16: =ROUND(I16*G16,2) -> 11202.6 | I16: ='PFP2.1_FatorKa'!$E$37 -> 2.3427 | J16: =ROUND(F16*G16,2) -> 0 | K16: =ROUND(F16*H16,2) -> 0
A17: Codevasf | B17: MO | C17: T3 | D17: Técnico Junior | E17: mês | F17: ='CRO1_Ins-Pro'!D13 -> 0 | G17: 4033.92 | H17: =ROUND(I17*G17,2) -> 9450.26 | I17: ='PFP2.1_FatorKa'!$E$37 -> 2.3427 | J17: =ROUND(F17*G17,2) -> 0 | K17: =ROUND(F17*H17,2) -> 0
A18: SICRO | B18: MO | C18: A1 | D18: Assistente Administrativo | E18: mês | F18: ='CRO1_Ins-Pro'!D14 -> 0 | G18: 4646.4 | H18: =ROUND(I18*G18,2) -> 10885.12 | I18: ='PFP2.1_FatorKa'!$E$37 -> 2.3427 | J18: =ROUND(F18*G18,2) -> 0 | K18: =ROUND(F18*H18,2) -> 0
A19: SICRO | B19: MO | C19: A2 | D19: Ajudante administrativo | E19: mês | F19: ='CRO1_Ins-Pro'!D15 -> 0 | G19: 4646.4 | H19: =ROUND(I19*G19,2) -> 10885.12 | I19: ='PFP2.1_FatorKa'!$E$37 -> 2.3427 | J19: =ROUND(F19*G19,2) -> 0 | K19: =ROUND(F19*H19,2) -> 0
A20: Codevasf | B20: DP | C20: V1 | D20: Diárias | E20: dia | F20: ='CRO1_Ins-Pro'!D16 -> 0 | G20: 239 | H20: =ROUND(I20*G20,2) -> 300.14 | I20: =PFP3_FatorKc!$E$19 -> 1.2558 | J20: =ROUND(F20*G20,2) -> 0 | K20: =ROUND(F20*H20,2) -> 0
A21: Codevasf | B21: DP | C21: V2 | D21: Aluguel Sedan 71 a 115 CV | E21: dia | F21: ='CRO1_Ins-Pro'!D17 -> 0 | G21: =3348.94/30 -> 111.63133 | H21: =ROUND(I21*G21,2) -> 140.19 | I21: =PFP3_FatorKc!$E$19 -> 1.2558 | J21: =ROUND(F21*G21,2) -> 0 | K21: =ROUND(F21*H21,2) -> 0
A22: SICRO | B22: DP | C22: V3 | D22: Caminhonete 140 a 165 CV | E22: dia | F22: ='CRO1_Ins-Pro'!D18 -> 0 | H22: =ROUND(I22*G22,2) -> 0 | I22: =PFP3_FatorKc!$E$19 -> 1.2558 | J22: =ROUND(F22*G22,2) -> 0 | K22: =ROUND(F22*H22,2) -> 0
A23: Cotação | B23: DP | C23: V4 | D23: Passagens Aéreas (ida e volta) | E23: un | F23: ='CRO1_Ins-Pro'!D19 -> 0 | G23: =Cotações!C6 -> 897 | H23: =ROUND(I23*G23,2) -> 1126.45 | I23: =PFP3_FatorKc!$E$19 -> 1.2558 | J23: =ROUND(F23*G23,2) -> 0 | K23: =ROUND(F23*H23,2) -> 0
A24: Cotação | B24: EM | C24: M1 | D24: Pen Drive 16 Gb | E24: un | F24: ='CRO1_Ins-Pro'!D20 -> 0 | G24: =Cotações!C3 -> 20.49 | H24: =ROUND(I24*G24,2) -> 25.73 | I24: =PFP3_FatorKc!$E$19 -> 1.2558 | J24: =ROUND(F24*G24,2) -> 0 | K24: =ROUND(F24*H24,2) -> 0
A25: Cotação | B25: EM | C25: M2 | D25: HD Externo 2 Tb | E25: un | F25: ='CRO1_Ins-Pro'!D21 -> 0 | G25: =Cotações!C4 -> 334.99 | H25: =ROUND(I25*G25,2) -> 420.68 | I25: =PFP3_FatorKc!$E$19 -> 1.2558 | J25: =ROUND(F25*G25,2) -> 0 | K25: =ROUND(F25*H25,2) -> 0
A26: Codevasf | B26: EM | C26: M3 | D26: Relatório Parcial | E26: un | F26: ='CRO1_Ins-Pro'!D22 -> 0 | G26: 33.35 | H26: =ROUND(I26*G26,2) -> 41.88 | I26: =PFP3_FatorKc!$E$19 -> 1.2558 | J26: =ROUND(F26*G26,2) -> 0 | K26: =ROUND(F26*H26,2) -> 0
A27: Codevasf | B27: EM | C27: M4 | D27: Relatório Final | E27: un | F27: ='CRO1_Ins-Pro'!D23 -> 0 | G27: 1478.8 | H27: =ROUND(I27*G27,2) -> 1857.08 | I27: =PFP3_FatorKc!$E$19 -> 1.2558 | J27: =ROUND(F27*G27,2) -> 0 | K27: =ROUND(F27*H27,2) -> 0
A28: Codevasf | B28: SG | C28: TP | D28: Total Serviços Cartográficos | E28: un | F28: 0 | G28: - | H28: ='PFP1.1_Topo'!G19 -> 0 | I28: - | J28: - | K28: =ROUND(F28*H28,2) -> 0
A29: Codevasf | B29: SG | C29: GT | D29: Total Serviços Geotécnicos | E29: un | F29: 0 | G29: - | H29: ='PFP1.2_Geo'!G44 -> 0 | I29: - | J29: - | K29: =ROUND(F29*H29,2) -> 0
A30: TOTAL DOS CUSTOS DIRETOS | H30: =SUM(J8:J29) -> 0
A31: TOTAL DOS ENCARGOS E DISPESAS DIVERSAS | H31: =H32-H30 -> 0
A32: TOTAL DA PROPOSTA A PREÇO GLOBAL | H32: =SUM(K8:K27) -> 0
A33: TOTAL DA PROPOSTA A PREÇO UNITÁRIO | H33: =SUM(K28:K29) -> 0
A34: TOTAL DA PROPOSTA | H34: =H32+H33 -> 0
A35: NOME DO INFORMANTE: | J35: QUALIFICAÇÃO
A37: ASSINATURA: | J37: DATA:
A39: OBSERVAÇÃO:
A40: Alocar os Insumos MO, com respectivo FatorK, dentro da categoria de vínculo contratual (com ou sem) de cada tipo de profissional
A41: Uni - unidade de medição do insumo;
A42: Qde - Quantidade do Insumo (não pode ocorrer alteração pela Licitante)
A43: CUD - Custo Unitário Direto do Insumo (sem encargos, taxas e impostos, valor não pode ser maior que o Orçado pela Codevasf)
...

Sheet PFP1.1_Topo
A1: SERVIÇOS TOPOGRÁFICOS/CARTOGRÁFICOS | G1: CODIGO:
G2: PFP-1.1
A3: NOME DA EMPRESA:
A5: PROJETO: | E5: CONTRATANTE: | G5: =PFP!J5 -> BASE: Ago/2020
A6: =PFP!A6 -> Estudos, Projetos Básico - Orla Macapá - AP | E6: =PFP!F6 -> Codevasf (Sede) | G6: CODE: Jan/20
A7: Cod. | B7: Base | C7: Insumos | D7: Uni | E7: Qde | F7: Preço Unitário (PU) | G7: Preço Total (PT)
A8: TP01 | B8: CODE | C8: Pontos GPS de dupla frequencia (L1/L2) | D8: un | E8: 0 | F8: 900.98 | G8: =ROUND(F8*E8,2) -> 0
A9: TP02 | B9: CODE | C9: Pontos GPS de dupla frequencia (L1) | D9: um | E9: 0 | F9: 446.35 | G9: =ROUND(F9*E9,2) -> 0
A10: TP03 | B10: CODE | C10: Poligonal eletrônica classe IIP | D10: km | E10: 0 | F10: 1637.53 | G10: =ROUND(F10*E10,2) -> 0
A11: TP04 | B11: CODE | C11: Nivelamento Geométrico classe IIN | D11: km | E11: 0 | F11: 725.69 | G11: =ROUND(F11*E11,2) -> 0
A12: TP05 | B12: CODE | C12: Seções Transversais (Nivelamento IIN) | D12: km | E12: 0 | F12: 725.69 | G12: =ROUND(F12*E12,2) -> 0
A13: TP06 | B13: CODE | C13: Levantamentos Topobatimétricos | D13: km | E13: 0 | F13: 1170.1 | G13: =ROUND(F13*E13,2) -> 0
A14: TP07 | B14: CODE | C14: Levantamentos Ecobatimétricos | D14: ha | E14: 0 | F14: 802.9 | G14: =ROUND(F14*E14,2) -> 0
A15: TP08 | B15: CODE | C15: Marco de Concreto (12x18x60cm) | D15: un | E15: 0 | F15: 47.49 | G15: =ROUND(F15*E15,2) -> 0
A16: TP09 | B16: CODE | C16: Barrotes de Maderia (10x10x50cm) | D16: un | E16: 0 | F16: 24.67 | G16: =ROUND(F16*E16,2) -> 0
A17: TP10 | B17: 924/ORSE | C17: Estacas Testemunhas (2x4x70cm) | D17: un | E17: 0 | F17: 5.83 | G17: =ROUND(F17*E17,2) -> 0
A18: TP11 | B18: CODE | C18: Piquetes de Madeira (2x2x20cm) | D18: un | E18: 0 | F18: 2.41 | G18: =ROUND(F18*E18,2) -> 0
A19: TOTAL SERVIÇOS TOPOGRÁFICOS | G19: =SUM(G8:G18) -> 0
A20: NOME DO INFORMANTE: | F20: QUALIFICAÇÃO:
A22: ASSINATURA: | F22: DATA:
A24: OBSERVAÇÃO:
A25: Uni - unidade de medição do insumo;
A26: Qde - Quantidade do Insumo (não pode ocorrer alteração pela Licitante)
A27: PU - Preço Unitário (composições padrão da Codevasf, já incluso o FatorK)
A28: PT - Preço Total (incluído encargos, taxas e impostos) - PT = Qde x PU

Sheet PFP1.2_Geo
A1: SERVIÇOS GEOLÓGICOS/GEOTÉCNICOS | G1: CODIGO:
G2: PFP-1.2
A3: NOME DA EMPRESA:
A5: PROJETO: | E5: CONTRATANTE: | G5: =PFP!J5 -> BASE: Ago/2020
A6: =PFP!A6 -> Estudos, Projetos Básico - Orla Macapá - AP | E6: =PFP!F6 -> Codevasf (Sede) | G6: CODE: Jan/20
A7: Cod. | B7: Base | C7: Insumos | D7: Uni | E7: Qde | F7: Preço Unitário (PU) | G7: Preço Total (PT)
A8: 1 | C8: SONDAGEM MISTA
A9: 1.1 | B9: CODE | C9: Sondagem Rotativa Subaquática
A10: 1.1.1 | B10: CODE | C10: Mobilização e desmobilização de equipamentos | D10: equip | E10: 0 | F10: 3476.27 | G10: =ROUND(F10*E10,2) -> 0
A11: 1.1.2 | B11: CODE | C11: Em grandes rochas e afins | G11: =ROUND(F11*E11,2) -> 0
A12: 1.1.3 | B12: CODE | C12: ø N | D12: m | E12: 0 | F12: 695.99 | G12: =ROUND(F12*E12,2) -> 0
A13: 1.1.4 | B13: CODE | C13: ø B | D13: m | E13: 0 | F13: 599.17 | G13: =ROUND(F13*E13,2) -> 0
A14: 1.1.5 | B14: CODE | C14: ø N (sondagem em solo) | D14: m | E14: 0 | F14: 251.94 | G14: =ROUND(F14*E14,2) -> 0
A15: 1.2 | B15: CODE | C15: Sondagem a Percussão Subaquática | G15: =ROUND(F15*E15,2) -> 0
A16: 1.2.1 | B16: CODE | C16: Mobilização e desmobilização de equipamentos | D16: equip | E16: 0 | F16: 915.66 | G16: =ROUND(F16*E16,2) -> 0
A17: 1.2.2 | B17: CODE | C17: Sondagem a percussão com SPT | D17: m | E17: 0 | F17: 80.3 | G17: =ROUND(F17*E17,2) -> 0
A18: 1.2.3 | B18: CODE | C18: Deslocamento/instalação de equipam. | G18: =ROUND(F18*E18,2) -> 0
C19: 0 a 200 metros | D19: un | E19: 0 | F19: 729.07 | G19: =ROUND(F19*E19,2) -> 0
A20: 1.3 | B20: CODE | C20: Sondagem a Percussão Terrestre | D20: m | E20: 0 | F20: 80.3 | G20: =ROUND(F20*E20,2) -> 0
A21: 2 | B21: CODE | C21: SONDAGEM A TRADO | D21: m | E21: 0 | F21: 66.07 | G21: =ROUND(F21*E21,2) -> 0
A22: 3 | B22: CODE | C22: POÇOS DE INSPEÇÃO (com retroescavadeira) | D22: m | G22: =ROUND(F22*E22,2) -> 0
A23: 4 | B23: CODE | C23: ENSAIOS | G23: =ROUND(F23*E23,2) -> 0
A24: 4.1 | B24: CODE | C24: Ensaios em Solos | G24: =ROUND(F24*E24,2) -> 0
A25: 4.1.1 | B25: CODE | C25: Umidade Natural | D25: un | E25: 0 | F25: 76.89 | G25: =ROUND(F25*E25,2) -> 0
A26: 4.1.2 | B26: CODE | C26: Densidade Natural | D26: un | E26: 0 | F26: 76.89 | G26: =ROUND(F26*E26,2) -> 0
A27: 4.1.3 | B27: CODE | C27: Limite de Liquidez | D27: un | E27: 0 | F27: 105.99 | G27: =ROUND(F27*E27,2) -> 0
A28: 4.1.4 | B28: CODE | C28: Limite de Plasticidade | D28: un | E28: 0 | F28: 105.99 | G28: =ROUND(F28*E28,2) -> 0
A29: 4.1.5 | B29: CODE | C29: Granulometria por Peneiramento | D29: un | E29: 0 | F29: 117.06 | G29: =ROUND(F29*E29,2) -> 0
A30: 4.1.6 | B30: CODE | C30: Ensaio de compactação Proctor Normal | D30: un | E30: 0 | F30: 150.84 | G30: =ROUND(F30*E30,2) -> 0
A31: 4.1.7 | B31: CODE | C31: Massa Específica Real dos Grãos | D31: un | E31: 0 | F31: 95.380017 | G31: =ROUND(F31*E31,2) -> 0
A32: 4.1.8 | B32: CODE | C32: Índice de Suporte Califórnia (ISC/CBR) | D32: un | G32: =ROUND(F32*E32,2) -> 0
A33: 4.2 | B33: CODE | C33: Ensaio de Agregados | G33: =ROUND(F33*E33,2) -> 0
A34: 4.2.1 | B34: CODE | C34: Abrasão "Los angeles" | D34: un | G34: =ROUND(F34*E34,2) -> 0
A35: 4.2.2 | B35: CODE | C35: Adesividade | D35: un | G35: =ROUND(F35*E35,2) -> 0
A36: 4.2.3 | B36: CODE | C36: Granulometria Comparativa | D36: un | E36: 0 | F36: 214.7 | G36: =ROUND(F36*E36,2) -> 0
A37: 4.2.4 | B37: CODE | C37: Crumb Test | D37: un | E37: 0 | F37: 79.56 | G37: =ROUND(F37*E37,2) -> 0
A38: 4.2.5 | B38: CODE | C38: Sanidade (Durabilidade) | D38: un | G38: =ROUND(F38*E38,2) -> 0
A39: 4.2.6 | B39: CODE | C39: Lâmina Petrográfica | D39: un | G39: =ROUND(F39*E39,2) -> 0
A40: 4.2.7 | B40: CODE | C40: Índice de Forma | D40: un | G40: =ROUND(F40*E40,2) -> 0
A41: 4.2.8 | B41: CODE | C41: Teor de Matéria Orgânica | D41: un | G41: =ROUND(F41*E41,2) -> 0
...

Sheet PFP2.1_FatorKa
A1: DETALHAMENTO DOS ENCARGOS SOCIAIS: Ka | F1: CODIGO:
F2: PFP-2.1
A3: NOME DA CONSULTORA:
A5: PROJETO: | C5: CONTRATANTE: | F5: =PFP!J5 -> BASE: Ago/2020
A6: ='PFP1.2_Geo'!A6 -> Estudos, Projetos Básico - Orla Macapá - AP | C6: ='PFP1.2_Geo'!E6 -> Codevasf (Sede) | F6: =PFP!J6 -> SICRO: ago/20 CODE: Ago/20
A7: DISCRIMINAÇÃO | E7: VALORES
E8: % | F8: R$
A9: A | B9: ENCARGOS SOCIAIS BÁSICOS | E9: =ROUND(SUM(E10:E18),4) -> 0.368 | F9: =ROUND(E9*PFP!H30,2) -> 0
A10: A1 | B10: Seconci | E10: 0 | F10: =ROUND(E10*PFP!$H$30,2) -> 0
A11: A2 | B11: INSS | E11: 0.2 | F11: =ROUND(E11*PFP!$H$30,2) -> 0
A12: A3 | B12: FGTS | E12: 0.08 | F12: =ROUND(E12*PFP!$H$30,2) -> 0
A13: A4 | B13: Incra | E13: 0.002 | F13: =ROUND(E13*PFP!$H$30,2) -> 0
A14: A5 | B14: Salário Educação | E14: 0.025 | F14: =ROUND(E14*PFP!$H$30,2) -> 0
A15: A6 | B15: Sebrae | E15: 0.006 | F15: =ROUND(E15*PFP!$H$30,2) -> 0
A16: A7 | B16: Seguro contra acidente | E16: 0.03 | F16: =ROUND(E16*PFP!$H$30,2) -> 0
A17: A8 | B17: Senai | E17: 0.01 | F17: =ROUND(E17*PFP!$H$30,2) -> 0
A18: A9 | B18: Sesi | E18: 0.015 | F18: =ROUND(E18*PFP!$H$30,2) -> 0
A19: B | B19: ENCARGOS SOCIAIS QUE RECEBEM INCIDÊNCIA DE "A" | E19: =ROUND(SUM(E20:E26),4) -> 0.1993 | F19: =ROUND(E19*PFP!$H$30,2) -> 0
A20: B1 | B20: 13º Salário | E20: 0.0833 | F20: =ROUND(E20*PFP!$H$30,2) -> 0
A21: B2 | B21: Auxilio Enfermidade | E21: 0.0069 | F21: =ROUND(E21*PFP!$H$30,2) -> 0
A22: B3 | B22: Licença Paternidade | E22: 0.0006 | F22: =ROUND(E22*PFP!$H$30,2) -> 0
A23: B4 | B23: Faltas Justificadas | E23: 0.0056 | F23: =ROUND(E23*PFP!$H$30,2) -> 0
A24: B5 | B24: Auxílio Acidente de Trabalho | E24: 0.0009 | F24: =ROUND(E24*PFP!$H$30,2) -> 0
A25: B6 | B25: Férias Gozadas | E25: 0.1017 | F25: =ROUND(E25*PFP!$H$30,2) -> 0
A26: B7 | B26: Salário Maternidade | E26: 0.0003 | F26: =ROUND(E26*PFP!$H$30,2) -> 0
A27: C | B27: ENCARGOS SOCIAIS QUE NÃO RECEBEM INCIDÊNCIA DE "A" | E27: =ROUND(SUM(E28:E32),4) -> 0.0724 | F27: =ROUND(E27*PFP!H30,2) -> 0
A28: C1 | B28: Aviso Prévio Indenizado | E28: 0.0287 | F28: =ROUND(E28*PFP!$H$30,2) -> 0
A29: C2 | B29: Aviso Prévio Trabalhado | E29: 0.0007 | F29: =ROUND(E29*PFP!$H$30,2) -> 0
A30: C3 | B30: Férias Indenizadas | E30: 0.0064 | F30: =ROUND(E30*PFP!$H$30,2) -> 0
A31: C4 | B31: Depósito Rescisão Sem Justa Causa | E31: 0.0342 | F31: =ROUND(E31*PFP!$H$30,2) -> 0
A32: C5 | B32: Indenização Adicional | E32: 0.0024 | F32: =ROUND(E32*PFP!$H$30,2) -> 0
A33: D | B33: REINCIDÊNCIAS | E33: =ROUND(SUM(E34:E35),4) -> 0.0759 | F33: =ROUND(E33*PFP!H30,2) -> 0
A34: D1 | B34: Reincidência de "A" sobre "B" | E34: =ROUND(E9*E19,4) -> 0.0733 | F34: =ROUND(E34*PFP!$H$30,2) -> 0
A35: D2 | B35: Reincidência de "A" sobre Aviso Prévio Trabalhado e reincidência do FGTS sobre Aviso Prévio Indenizado | E35: =ROUND((E29*E9)+(E28*E12),4) -> 0.0026 | F35: =ROUND(E35*PFP!$H$30,2) -> 0
A36: K1 | B36: ENCARGOS SOCIAIS | E36: =ROUND(E9+E19+E27+E33,4) -> 0.7156 | F36: =ROUND(E36*PFP!H30,2) -> 0
A37: Ka | B37: TAXA DE RESSARCIMENTO DE DESPESAS E ENCARGOS SOBRE MO CV | E37: =ROUND((1+E36+PFP3_FatorKc!E15)*(1+PFP3_FatorKc!E14)*(1+PFP3_FatorKc!E10),4) -> 2.3427
A38: NOME DO INFORMANTE: | E38: QUALIFICAÇÃO
A40: ASSINATURA: | E40: DATA:
A42: OBSERVAÇÃO:
A43: 1 - DISCRIMINAR OS ENCARGOS SOCIAIS COM SEUS RESPECTIVOS PERCENTUAS TOTALIZANDO OS MESMOS.
...

Sheet PFP2.2_FatorKb
A1: DETALHAMENTO DOS ENCARGOS SOCIAIS: Kb | F1: CODIGO:
F2: PFP-2.2
A3: NOME DA CONSULTORA:
A5: PROJETO: | C5: CONTRATANTE: | F5: ='PFP2.1_FatorKa'!F5 -> BASE: Ago/2020
A6: =PFP!A6 -> Estudos, Projetos Básico - Orla Macapá - AP | C6: =PFP!F6 -> Codevasf (Sede) | F6: ='PFP2.1_FatorKa'!F6 -> SICRO: ago/20 CODE: Ago/20
A7: DISCRIMINAÇÃO | E7: VALORES
E8: % | F8: R$
A9: A | B9: ENCARGOS SOCIAIS BÁSICOS | E9: =ROUND(SUM(E10:E18),4) -> 0.368 | F9: =ROUND(E9*PFP!$H$30,2) -> 0
A10: A1 | B10: Seconci | E10: 0 | F10: =ROUND(E10*PFP!$H$30,2) -> 0
A11: A2 | B11: INSS | E11: 0.2 | F11: =ROUND(E11*PFP!$H$30,2) -> 0
A12: A3 | B12: FGTS | E12: 0.08 | F12: =ROUND(E12*PFP!$H$30,2) -> 0
A13: A4 | B13: Incra | E13: 0.002 | F13: =ROUND(E13*PFP!$H$30,2) -> 0
A14: A5 | B14: Salário Educação | E14: 0.025 | F14: =ROUND(E14*PFP!$H$30,2) -> 0
A15: A6 | B15: Sebrae | E15: 0.006 | F15: =ROUND(E15*PFP!$H$30,2) -> 0
A16: A7 | B16: Seguro contra acidente | E16: 0.03 | F16: =ROUND(E16*PFP!$H$30,2) -> 0
A17: A8 | B17: Senai | E17: 0.01 | F17: =ROUND(E17*PFP!$H$30,2) -> 0
A18: A9 | B18: Sesi | E18: 0.015 | F18: =ROUND(E18*PFP!$H$30,2) -> 0
A19: B | B19: ENCARGOS SOCIAIS QUE RECEBEM INCIDÊNCIA DE "A" | E19: =ROUND(SUM(E20:E26),4) -> 0.1993 | F19: =ROUND(E19*PFP!$H$30,2) -> 0
A20: B1 | B20: 13º Salário | E20: 0.0833 | F20: =ROUND(E20*PFP!$H$30,2) -> 0
A21: B2 | B21: Auxilio Enfermidade | E21: 0.0069 | F21: =ROUND(E21*PFP!$H$30,2) -> 0
A22: B3 | B22: Licença Paternidade | E22: 0.0006 | F22: =ROUND(E22*PFP!$H$30,2) -> 0
A23: B4 | B23: Faltas Justificadas | E23: 0.0056 | F23: =ROUND(E23*PFP!$H$30,2) -> 0
A24: B5 | B24: Auxílio Acidente de Trabalho | E24: 0.0009 | F24: =ROUND(E24*PFP!$H$30,2) -> 0
A25: B6 | B25: Férias Gozadas | E25: 0.1017 | F25: =ROUND(E25*PFP!$H$30,2) -> 0
A26: B7 | B26: Salário Maternidade | E26: 0.0003 | F26: =ROUND(E26*PFP!$H$30,2) -> 0
A27: C | B27: ENCARGOS SOCIAIS QUE NÃO RECEBEM INCIDÊNCIA DE "A" | E27: =ROUND(SUM(E28:E32),4) -> 0.0724 | F27: =ROUND(E27*PFP!$H$30,2) -> 0
A28: C1 | B28: Aviso Prévio Indenizado | E28: 0.0287 | F28: =ROUND(E28*PFP!$H$30,2) -> 0
A29: C2 | B29: Aviso Prévio Trabalhado | E29: 0.0007 | F29: =ROUND(E29*PFP!$H$30,2) -> 0
A30: C3 | B30: Férias Indenizadas | E30: 0.0064 | F30: =ROUND(E30*PFP!$H$30,2) -> 0
A31: C4 | B31: Depósito Rescisão Sem Justa Causa | E31: 0.0342 | F31: =ROUND(E31*PFP!$H$30,2) -> 0
A32: C5 | B32: Indenização Adicional | E32: 0.0024 | F32: =ROUND(E32*PFP!$H$30,2) -> 0
A33: D | B33: REINCIDÊNCIAS | E33: =ROUND(SUM(E34:E35),4) -> 0.0759 | F33: =ROUND(E33*PFP!$H$30,2) -> 0
A34: D1 | B34: Reincidência de "A" sobre "B" | E34: =ROUND(E9*E19,4) -> 0.0733 | F34: =ROUND(E34*PFP!$H$30,2) -> 0
A35: D2 | B35: Reincidência de "A" sobre Aviso Prévio Trabalhado e reincidência do FGTS sobre Aviso Prévio Indenizado | E35: =ROUND(E9*E29,4)+ROUND(E28*E12,4) -> 0.0026 | F35: =ROUND(E35*PFP!$H$30,2) -> 0
A36: K1 | B36: ENCARGOS SOCIAIS | E36: =ROUND(E9+E19+E27+E33,4) -> 0.7156 | F36: =ROUND(E36*PFP!$H$30,2) -> 0
A37: Kb | B37: TAXA DE RESSARCIMENTO DE DESPESAS E ENCARGOS SOBRE MO SV | E37: =ROUND((1+E36+PFP3_FatorKc!E15)*(1+PFP3_FatorKc!E14)*(1+PFP3_FatorKc!E10),4) -> 2.3427
A38: NOME DO INFORMANTE: | E38: QUALIFICAÇÃO
A40: ASSINATURA: | E40: DATA:
A42: OBSERVAÇÃO:
A43: 1 - DISCRIMINAR OS ENCARGOS SOCIAIS COM SEUS RESPECTIVOS PERCENTUAS TOTALIZANDO OS MESMOS.
...

Sheet PFP3_FatorKc
A1: DESPESAS FISCAIS E CUSTOS DIVERSOS: Kc | F1: CODIGO:
F2: PFP-3
A3: NOME DA CONSULTORA:
A5: PROJETO: | C5: CONTRATANTE: | F5: BASE: Abril/2020
A6: =PFP!A6 -> Estudos, Projetos Básico - Orla Macapá - AP | C6: =PFP!F6 -> Codevasf (Sede)
A7: DISCRIMINAÇÃO 1 | D7: VALORES
D8: % preço | E8: % custo | F8: R$
A9: K4 | B9: DESPESAS FISCAIS | D9: K' (%)2 | E9: K (%)3
D10: =ROUND(D11+D12+D13,4) -> 0.124 | E10: =ROUND(E11+E12+E13,4) -> 0.1416 | F10: =E10*SUM((PFP!$J$10+PFP!$J$11+PFP!$J$12+PFP!$J$13+PFP!$J$14+PFP!$J$15+PFP!$J$16+PFP!$J$17+PFP!$J$18)*(1+'PFP2.1_FatorKa'!$E$36)+((PFP!$J$8+PFP!$J$9)*(1+'PFP2.2_FatorKb'!$E$36))+(PFP!$J$20+PFP!$J$21+PFP!$J$22+PFP!$J$23+PFP!$J$24+PFP!$J$25+PFP!$J$26+PFP!$J$27)+PFP3_FatorKc!$F$15) -> 0
A11: 1 | B11: ISS | D11: 0.05 | E11: =ROUND((1/(1-$D$10))*D11,4) -> 0.0571 | F11: =E11*SUM((PFP!$J$10+PFP!$J$11+PFP!$J$12+PFP!$J$13+PFP!$J$14+PFP!$J$15+PFP!$J$16+PFP!$J$17+PFP!$J$18)*(1+'PFP2.1_FatorKa'!$E$36)+((PFP!$J$8+PFP!$J$9)*(1+'PFP2.2_FatorKb'!$E$36))+(PFP!$J$20+PFP!$J$21+PFP!$J$22+PFP!$J$23+PFP!$J$24+PFP!$J$25+PFP!$J$26+PFP!$J$27)+PFP3_FatorKc!$F$15) -> 0
A12: 2 | B12: PIS - aliquota efetiva com percentual-desconto de 20% | D12: =ROUND(1.65%*0.8,4) -> 0.0132 | E12: =ROUND((1/(1-$D$10))*D12,4) -> 0.0151 | F12: =E12*SUM((PFP!$J$10+PFP!$J$11+PFP!$J$12+PFP!$J$13+PFP!$J$14+PFP!$J$15+PFP!$J$16+PFP!$J$17+PFP!$J$18)*(1+'PFP2.1_FatorKa'!$E$36)+((PFP!$J$8+PFP!$J$9)*(1+'PFP2.2_FatorKb'!$E$36))+(PFP!$J$20+PFP!$J$21+PFP!$J$22+PFP!$J$23+PFP!$J$24+PFP!$J$25+PFP!$J$26+PFP!$J$27)+PFP3_FatorKc!$F$15) -> 0
A13: 3 | B13: COFINS - aliquota efetiva com percentual-desconto de 20% | D13: =ROUND(7.6%*0.8,4) -> 0.0608 | E13: =ROUND((1/(1-$D$10))*D13,4) -> 0.0694 | F13: =E13*SUM((PFP!$J$10+PFP!$J$11+PFP!$J$12+PFP!$J$13+PFP!$J$14+PFP!$J$15+PFP!$J$16+PFP!$J$17+PFP!$J$18)*(1+'PFP2.1_FatorKa'!$E$36)+((PFP!$J$8+PFP!$J$9)*(1+'PFP2.2_FatorKb'!$E$36))+(PFP!$J$20+PFP!$J$21+PFP!$J$22+PFP!$J$23+PFP!$J$24+PFP!$J$25+PFP!$J$26+PFP!$J$27)+PFP3_FatorKc!$F$15) -> 0
A14: K3 | B14: REMUNERAÇÃO DA EMPRESA (LUCRO) | E14: 0.1 | F14: =E14*SUM((PFP!$J$10+PFP!$J$11+PFP!$J$12+PFP!$J$13+PFP!$J$14+PFP!$J$15+PFP!$J$16+PFP!$J$17+PFP!$J$18)*(1+'PFP2.1_FatorKa'!$E$36)+((PFP!$J$8+PFP!$J$9)*(1+'PFP2.2_FatorKb'!$E$36))+(PFP!$J$20+PFP!$J$21+PFP!$J$22+PFP!$J$23+PFP!$J$24+PFP!$J$25+PFP!$J$26+PFP!$J$27)+PFP3_FatorKc!$F$15) -> 0
A15: K2 | B15: CUSTOS DA ADMINISTRAÇÃO CENTRAL | E15: =ROUND(SUM(E16:E18),4) -> 0.15 | F15: =ROUND(E15*(PFP!$H$30),2) -> 0
A16: 4 | B16: Custos da administração central da empresa (diretoria, pessoal técnico de apoio e pessoal administrativo não diretamente vinculado à prestação dos serviços) | E16: 0.1 | F16: =ROUND(E16*(PFP!$H$30),2) -> 0
A17: 5 | B17: Outras despesas que afetam o custo de produção como treinamento, biblioteca, programa de qualidade, programa de benefícios, auditoria interna e externa | E17: 0.03 | F17: =ROUND(E17*(PFP!$H$30),2) -> 0
A18: 6 | B18: Despesas fixas e variaveis com patrimônio, aluguéis, comunicação, manutenção e transporte não diretamente relacionados com o custo direto dos serviços | E18: 0.02 | F18: =ROUND(E18*(PFP!$H$30),2) -> 0
A19: Kc | B19: TAXA RESSARCIMENTO DE DESPESAS SOBRE CUSTOS DIVERSOS | E19: =ROUND((1+E14)*(1+E10),4) -> 1.2558
A20: NOME DO INFORMANTE: | E20: QUALIFICAÇÃO:
A22: ASSINATURA: | E22: DATA:
A24: Observação:
A25: 1 - RELACIONAR OS CUSTOS DE ADMINISTRAÇÃO COM RESPECTIVOS PERCENTUAIS INCIDENTES NA MÃO -DE-OBRA
A26: 1 - DISCRIMINAR OS TRIBUTOS QUE INCIDEM SOBRE OS CUSTOS DA PRESTAÇÃO DOS SERVIÇOS
A27: 2 - K4 = INDICAR % DE CADA TRIBUTO E A SOMA DOS MESMOS (ex: ISS 5% + PIS 1,65% + COFINS 6,08% = 14,16%)
A28: 3 - PIS e COFINS, Regime de Incidencia Acumulativa (0,65% e 3,00% - sem percentual de desconto) ou em Regime de Incidencia Não Acumulativa (1,65% e 7,60% - aplicável percentual de desconto) de acordo com a forma de apuração do lucro no IRPJ. APRESENTAR COMPROVANTES de aproveitamento de créditos tributários dos últimos 12 meses em caso de aplicação de "percentual de desconto".
A29: 4 - AS DESPESAS FISCAIS (K4) INCIDEM SOBRE O TOTAL DA FATURA E NÃO SOBRE OS CUSTOS INCORRIDOS,
A30: DEVENDO SER CALCULADO O K4' APLICANDO-SE A SEGUINTE FÓRMULA:
A31: K4' = { [ 1 / ( 1 - K4) ] - 1 } x 100
A32: =CONCATENATE(" K4' = { [ 1 / ( 1 - ",D10," ) ] - 1 } x 100") -> K4' = { [ 1 / ( 1 - 0,124 ) ] - 1 } x 100
A33: Kc - Taxa de Ressarcimento de Despesas sobre Custos Diversos (incide sobre os Insumos Codigo DP e ME)
A34: Kc = (1 + K3) x (1 + K4)
A35: K2 - Incide sobre o Custo Total (CT) da Mão de Obra (MO)
A36: K3 - Incide sobre o Custo Total (CT) Mão de Obra com encargos (MO x Ka ou Kb), demais Custos (DP e EQ), e Custos da Administração Central (K2)
A37: K4 - Incide sobre o Custo Total (CT) Mão de Obra com encargos (MO x Ka ou Kb), demais Custos (DP e EQ), e Custos da Administração Central (K2) e Lucro (K3)

Sheet CRO1_Ins-Pro
A1: INSUMOS POR ETAPA/PRODUTO | G1: CODIGO:
G2: CRO-1
A3: Cod. | B3: Categoria / Insumo | C3: Uni | D3: Qde | E3: CUD | F3: PU | G3: FatorK | H3: 1. EVTEA | I3: 2. Est.Amb | J3: 3. PB | K3: 4.Rel.Fin
A4: P0 | B4: Engenheiro Sênior (Coordenador) | C4: mês | D4: =SUM(H4:J4) -> 0 | E4: =PFP!G8 -> 19796.48 | F4: =ROUND(E4*G4,2) -> 46377.21 | G4: =PFP!I8 -> 2.3427 | H4: ='CRO2_Ins-Mes'!E36 -> 0 | I4: ='CRO2_Ins-Mes'!E57 -> 0 | J4: ='CRO2_Ins-Mes'!E78 -> 0
A5: P1 | B5: Engenheiro Sênior | C5: mês | D5: =SUM(H5:J5) -> 0 | E5: =PFP!G9 -> 0 | F5: =ROUND(E5*G5,2) -> 0 | G5: =PFP!I9 -> 2.3427 | H5: ='CRO2_Ins-Mes'!E37 -> 0 | I5: ='CRO2_Ins-Mes'!E58 -> 0 | J5: ='CRO2_Ins-Mes'!E79 -> 0
A6: P2 | B6: Engenheiro Pleno | C6: mês | D6: =SUM(H6:J6) -> 0 | E6: =PFP!G10 -> 15304.96 | F6: =ROUND(E6*G6,2) -> 35854.93 | G6: =PFP!I10 -> 2.3427 | H6: ='CRO2_Ins-Mes'!E38 -> 0 | I6: ='CRO2_Ins-Mes'!E59 -> 0 | J6: ='CRO2_Ins-Mes'!E80 -> 0
A7: P3 | B7: Engenheiro Júnior | C7: mês | D7: =SUM(H7:J7) -> 0 | E7: =PFP!G11 -> 0 | F7: =ROUND(E7*G7,2) -> 0 | G7: =PFP!I11 -> 2.3427 | H7: ='CRO2_Ins-Mes'!E39 -> 0 | I7: ='CRO2_Ins-Mes'!E60 -> 0 | J7: ='CRO2_Ins-Mes'!E81 -> 0
A8: S1 | B8: Analista Sênior | C8: mês | D8: =SUM(H8:J8) -> 0 | E8: =PFP!G12 -> 5255.97 | F8: =ROUND(E8*G8,2) -> 12313.16 | G8: =PFP!I12 -> 2.3427 | H8: ='CRO2_Ins-Mes'!E40 -> 0 | I8: ='CRO2_Ins-Mes'!E61 -> 0 | J8: ='CRO2_Ins-Mes'!E82 -> 0
A9: S2 | B9: Analista Pleno | C9: mês | D9: =SUM(H9:J9) -> 0 | E9: =PFP!G13 -> 3405.2 | F9: =ROUND(E9*G9,2) -> 7977.36 | G9: =PFP!I13 -> 2.3427 | H9: ='CRO2_Ins-Mes'!E41 -> 0 | I9: ='CRO2_Ins-Mes'!E62 -> 0 | J9: ='CRO2_Ins-Mes'!E83 -> 0
A10: S3 | B10: Analista Júnior | C10: mês | D10: =SUM(H10:J10) -> 0 | E10: =PFP!G14 -> 3239.25 | F10: =ROUND(E10*G10,2) -> 7588.59 | G10: =PFP!I14 -> 2.3427 | H10: ='CRO2_Ins-Mes'!E42 -> 0 | I10: ='CRO2_Ins-Mes'!E63 -> 0 | J10: ='CRO2_Ins-Mes'!E84 -> 0
A11: T1 | B11: Técnico Sênior | C11: mês | D11: =SUM(H11:J11) -> 0 | E11: =PFP!G15 -> 0 | F11: =ROUND(E11*G11,2) -> 0 | G11: =PFP!I15 -> 2.3427 | H11: ='CRO2_Ins-Mes'!E43 -> 0 | I11: ='CRO2_Ins-Mes'!E64 -> 0 | J11: ='CRO2_Ins-Mes'!E85 -> 0
A12: T2 | B12: Técnico Pleno | C12: mês | D12: =SUM(H12:J12) -> 0 | E12: =PFP!G16 -> 4781.92 | F12: =ROUND(E12*G12,2) -> 11202.6 | G12: =PFP!I16 -> 2.3427 | H12: ='CRO2_Ins-Mes'!E44 -> 0 | I12: ='CRO2_Ins-Mes'!E65 -> 0 | J12: ='CRO2_Ins-Mes'!E86 -> 0
A13: T3 | B13: Técnico Junior | C13: mês | D13: =SUM(H13:J13) -> 0 | E13: =PFP!G17 -> 4033.92 | F13: =ROUND(E13*G13,2) -> 9450.26 | G13: =PFP!I17 -> 2.3427 | H13: ='CRO2_Ins-Mes'!E45 -> 0 | I13: ='CRO2_Ins-Mes'!E66 -> 0 | J13: ='CRO2_Ins-Mes'!E87 -> 0
A14: A1 | B14: Administrativo (Secretariado) | C14: dia | D14: =SUM(H14:J14) -> 0 | E14: =PFP!G18 -> 4646.4 | F14: =ROUND(E14*G14,2) -> 10885.12 | G14: =PFP!I18 -> 2.3427 | H14: ='CRO2_Ins-Mes'!E46 -> 0 | I14: ='CRO2_Ins-Mes'!E67 -> 0 | J14: ='CRO2_Ins-Mes'!E88 -> 0
A15: A2 | B15: Auxiliar | C15: dia | D15: =SUM(H15:J15) -> 0 | E15: =PFP!G19 -> 4646.4 | F15: =ROUND(E15*G15,2) -> 10885.12 | G15: =PFP!I19 -> 2.3427 | H15: ='CRO2_Ins-Mes'!E47 -> 0 | I15: ='CRO2_Ins-Mes'!E68 -> 0 | J15: ='CRO2_Ins-Mes'!E89 -> 0
A16: V1 | B16: Diárias | C16: dia | D16: =SUM(H16:J16) -> 0 | E16: =PFP!G20 -> 239 | F16: =ROUND(E16*G16,2) -> 300.14 | G16: =PFP!I20 -> 1.2558 | H16: ='CRO2_Ins-Mes'!E48 -> 0 | I16: ='CRO2_Ins-Mes'!E69 -> 0 | J16: ='CRO2_Ins-Mes'!E89 -> 0
A17: V2 | B17: Aluguel Sedan 71 a 115 CV | C17: un | D17: =SUM(H17:J17) -> 0 | E17: =PFP!G21 -> 111.63133 | F17: =ROUND(E17*G17,2) -> 140.19 | G17: =PFP!I21 -> 1.2558 | H17: ='CRO2_Ins-Mes'!E49 -> 0 | I17: ='CRO2_Ins-Mes'!E70 -> 0 | J17: ='CRO2_Ins-Mes'!E90 -> 0
A18: V3 | B18: Caminhonete 140 a 165 CV | C18: un | D18: =SUM(H18:J18) -> 0 | E18: =PFP!G22 -> 0 | F18: =ROUND(E18*G18,2) -> 0 | G18: =PFP!I22 -> 1.2558 | H18: ='CRO2_Ins-Mes'!E50 -> 0 | I18: ='CRO2_Ins-Mes'!E71 -> 0 | J18: ='CRO2_Ins-Mes'!E91 -> 0
A19: V4 | B19: Passagens Aéreas (ida e volta) | C19: un | D19: =SUM(H19:J19) -> 0 | E19: =PFP!G23 -> 897 | F19: =ROUND(E19*G19,2) -> 1126.45 | G19: =PFP!I23 -> 1.2558 | H19: ='CRO2_Ins-Mes'!E51 -> 0 | I19: ='CRO2_Ins-Mes'!E72 -> 0 | J19: ='CRO2_Ins-Mes'!E92 -> 0
A20: M1 | B20: Pen Drive 16 Gb | C20: un | D20: =SUM(H20:J20) -> 0 | E20: =PFP!G24 -> 20.49 | F20: =ROUND(E20*G20,2) -> 25.73 | G20: =PFP!I24 -> 1.2558 | H20: ='CRO2_Ins-Mes'!E52 -> 0 | I20: ='CRO2_Ins-Mes'!E73 -> 0 | J20: ='CRO2_Ins-Mes'!E93 -> 0
A21: M2 | B21: HD Externo 2 Tb | C21: un | D21: =SUM(H21:J21) -> 0 | E21: =PFP!G25 -> 334.99 | F21: =ROUND(E21*G21,2) -> 420.68 | G21: =PFP!I25 -> 1.2558 | H21: ='CRO2_Ins-Mes'!E53 -> 0 | I21: ='CRO2_Ins-Mes'!E74 -> 0 | J21: ='CRO2_Ins-Mes'!E94 -> 0
A22: M3 | B22: Relatório Parcial | C22: un | D22: =SUM(H22:J22) -> 0 | E22: =PFP!G26 -> 33.35 | F22: =ROUND(E22*G22,2) -> 41.88 | G22: =PFP!I26 -> 1.2558 | H22: ='CRO2_Ins-Mes'!E54 -> 0 | I22: ='CRO2_Ins-Mes'!E75 -> 0 | J22: ='CRO2_Ins-Mes'!E95 -> 0
A23: M4 | B23: Relatório Final | C23: un | D23: =SUM(H23:J23) -> 0 | E23: =PFP!G27 -> 1478.8 | F23: =ROUND(E23*G23,2) -> 1857.08 | G23: =PFP!I27 -> 1.2558 | H23: ='CRO2_Ins-Mes'!E55 -> 0 | I23: ='CRO2_Ins-Mes'!E76 -> 0 | J23: ='CRO2_Ins-Mes'!E96 -> 0
A24: TP | B24: Total Serviços Cartográficos | C24: un | D24: =SUM(H24:J24) -> 1 | E24: =PFP!G28 -> - | F24: =PFP!H28 -> 0 | G24: =PFP!I28 -> - | H24: 0 | I24: ='CRO2_Ins-Mes'!E77 -> 0 | J24: 1
A25: GT | B25: Total Serviços Geotécnicos | C25: um | D25: =SUM(H25:J25) -> 1 | E25: =PFP!G29 -> - | F25: =PFP!H29 -> 0 | G25: =PFP!I29 -> - | H25: 0 | I25: 0 | J25: 1
A26: TOTAL | B26: VALOR POR PRODUTO | C26: R$ | D26: =SUM(H26:K26) -> 0 | H26: {=SUM(H4:H25*$F$4:$F$25)*0.9} -> 0 | I26: {=SUM(I4:I25*$F$4:$F$25)*0.9} -> 0 | J26: {=SUM(J4:J25*$F$4:$F$25)*0.9} -> 0 | K26: =(H26/0.9+I26/0.9+J26/0.9)*0.1 -> 0
C27: % | D27: =SUM(H27:J27) -> #DIV/0! | H27: =ROUND(H26/$D$26,5) -> #DIV/0! | I27: =ROUND(I26/$D$26,5) -> #DIV/0! | J27: =ROUND(J26/$D$26,5) -> #DIV/0! | K27: =ROUND(K26/$D$26,5) -> #DIV/0!
A28: OBSERVAÇÃO:
A29: P - Profissionais nível superior nas áreas de Engenharia, Química, Arquitetura, Agronomia e Veterinária, conforme disposições da Lei 4.950-A/66
A30: S - Profissionais de nível superior nas demais áreas de atuação, incluindo Arqueólogo, Biólogo, Geógrafo e Socioólogo
A31: T - Profissionais de nível médio técnico nas diversas áreas de atuação
A32: A - Profissionais de nível médio de apoio técnico-administrativo

Sheet CRO2_Ins-Mes
A1: CRONOGRAMA SIMPLIFICADO
A3: Cod1 | B3: Cod2 | C3: Produtos | D3: Uni | E3: Qde | F3: 1 | G3: 2 | H3: 3 | I3: 4 | J3: 5 | K3: 6 | L3: 7 | M3: 8 | N3: 9 | O3: 10 | P3: 11 | Q3: 12 | R3: 13 | S3: 14 | T3: 15 | U3: 16 | V3: 17 | W3: 18 | X3: 19 | Y3: 20 | Z3: 21 | AA3: 22 | AB3: 23 | AC3: 24 | AD3: 25 | AE3: 26 | AF3: 27 | AG3: 28 | AH3: 29 | AI3: 30 | AJ3: 31 | AK3: 32 | AL3: 33 | AM3: 34 | AN3: 35
A4: 1 | B4: 1.0 | C4: Relatório de Programação/Relatório Fotográfico-Lev.Projetos/Relatório de Dados Levantados | D4: mês | E4: =SUM(F4:AN4) -> 0
A5: 1 | B5: 1.1 | C5: Estudos Ambientais | D5: mês | E5: =SUM(F5:AN5) -> 0
A6: 1 | B6: 1.2 | C6: Relatório de Estudo | D6: mês | E6: =SUM(F6:AN6) -> 0
A7: 1 | B7: 1.3 | C7: Memória Justificativa | D7: mês | E7: =SUM(F7:AN7) -> 0
A8: 1 | B8: 1.4 | C8: Relatório de Custos | D8: mês | E8: =SUM(F8:AN8) -> 0
A9: 1 | B9: 1.5 | C9: Relatório Final | D9: mês | E9: =SUM(F9:AN9) -> 0
A10: 1 | B10: 1 | C10: Estudo de Viabilidade Técnica, Econômica e Ambiental | D10: mês | E10: =SUM(F10:AN10) -> 0 | F10: =SUBTOTAL(4,F4:F9) -> 0 | G10: =SUBTOTAL(4,G4:G9) -> 0 | H10: =SUBTOTAL(4,H4:H9) -> 0 | I10: =SUBTOTAL(4,I4:I9) -> 0 | J10: =SUBTOTAL(4,J4:J9) -> 0 | K10: =SUBTOTAL(4,K4:K9) -> 0 | L10: =SUBTOTAL(4,L4:L9) -> 0 | M10: =SUBTOTAL(4,M4:M9) -> 0 | ... AN10: =SUBTOTAL(4,AN4:AN9) -> 0
A11: 2 | B11: 2.1 | C11: Estudo Autorização de Supressão Vegetal, Unidades de Conservação e Áreas Prioritárias | D11: mês | E11: =SUM(F11:AN11) -> 0
A12: 2 | B12: 2.2 | C12: Caracterização Empreendimento e Legislação Ambiental | D12: mês | E12: =SUM(F12:AN12) -> 0
A13: 2 | B13: 2.3 | C13: Definição das Áreas de Influência | D13: mês | E13: =SUM(F13:AN13) -> 0
A14: 2 | B14: 2.4 | C14: Diagnóstico Ambiental dos Meios Físico, Biótico e Socioeconômico | D14: mês | E14: =SUM(F14:AN14) -> 0
A15: 2 | B15: 2.5 | C15: Avaliação dos Impactos Ambientais | D15: mês | E15: =SUM(F15:AN15) -> 0
A16: 2 | B16: 2.6 | C16: Relatório dos Impactos no Meio Ambiente | D16: mês | E16: =SUM(F16:AN16) -> 0
A17: 2 | B17: 2.7 | C17: Programa Ambiental, Medidas Mitigadoras e Compensatória | D17: mês | E17: =SUM(F17:AN17) -> 0
A18: 2 | B18: 2.8 | C18: Audiência e Consultoria | D18: mês | E18: =SUM(F18:AN18) -> 0
A19: 2 | B19: 2.9 | C19: Relatório Final | D19: mês | E19: =SUM(F19:AN19) -> 0
A20: 2 | B20: 2 | C20: Estudos Ambientais | D20: mês | E20: =SUM(F20:AN20) -> 0 | F20: =SUBTOTAL(4,F11:F19) -> 0 | G20: =SUBTOTAL(4,G11:G19) -> 0 | H20: =SUBTOTAL(4,H11:H19) -> 0 | I20: =SUBTOTAL(4,I11:I19) -> 0 | J20: =SUBTOTAL(4,J11:J19) -> 0 | K20: =SUBTOTAL(4,K11:K19) -> 0 | L20: =SUBTOTAL(4,L11:L19) -> 0 | M20: =SUBTOTAL(4,M11:M19) -> 0 | ... AN20: =SUBTOTAL(4,AN11:AN19) -> 0
A21: 3 | B21: 3.1 | C21: Estudos Hidrológicos | D21: mês | E21: =SUM(F21:AN21) -> 0
A22: 3 | B22: 3.2 | C22: Estudos de Marés | D22: mês | E22: =SUM(F22:AN22) -> 0
A23: 3 | B23: 3.3 | C23: Estudos Topográficos | D23: mês | E23: =SUM(F23:AN23) -> 0
A24: 3 | B24: 3.4 | C24: Estudos Geológicos/Geotécnicos | D24: mês | E24: =SUM(F24:AN24) -> 0
A25: 3 | B25: 3.5 | C25: Projeto de Terraplenagem | D25: mês | E25: =SUM(F25:AN25) -> 0
A26: 3 | B26: 3.6 | C26: Projeto de Recomposição e Estabilização de Taludes | D26: mês | E26: =SUM(F26:AN26) -> 0
A27: 3 | B27: 3.7 | C27: Dimensionamento das Estruturas de Contenção | D27: mês | E27: =SUM(F27:AN27) -> 0
A28: 3 | B28: 3.8 | C28: Projeto de Drenagem | D28: mês | E28: =SUM(F28:AN28) -> 0
A29: 3 | B29: 3.9 | C29: Orçamento, Quantitativo e Especificações Técnicas | D29: mês | E29: =SUM(F29:AN29) -> 0
A30: 3 | B30: 3.10 | C30: Elaboração de Termo de Referência para contratação de Projeto Executivo | D30: mês | E30: =SUM(F30:AN30) -> 0
A31: 3 | B31: 3.11 | C31: Elaboração de Termo de Referência para contratação de Execução de Obra | D31: mês | E31: =SUM(F31:AN31) -> 0
A32: 3 | B32: 3.12 | C32: Divulgação, Apresentação, Detalhamentos e Cortes (Sketchup, DWG, etc.) | D32: mês | E32: =SUM(F32:AN32) -> 0
A33: 3 | B33: 3 | C33: Estudos de Campo e Projeto Básico | D33: mês | E33: =SUM(F33:AN33) -> 0 | F33: =SUBTOTAL(4,F21:F32) -> 0 | G33: =SUBTOTAL(4,G21:G32) -> 0 | H33: =SUBTOTAL(4,H21:H32) -> 0 | I33: =SUBTOTAL(4,I21:I32) -> 0 | J33: =SUBTOTAL(4,J21:J32) -> 0 | K33: =SUBTOTAL(4,K21:K32) -> 0 | L33: =SUBTOTAL(4,L21:L32) -> 0 | M33: =SUBTOTAL(4,M21:M32) -> 0 | ... AN33: =SUBTOTAL(4,AN21:AN32) -> 0
A34: Total | B34: Total | C34: Balanço Temporal | D34: mês | E34: =SUM(F34:AN34) -> 0 | F34: =SUBTOTAL(4,F4:F33) -> 0 | G34: =SUBTOTAL(4,G4:G33) -> 0 | H34: =SUBTOTAL(4,H4:H33) -> 0 | I34: =SUBTOTAL(4,I4:I33) -> 0 | J34: =SUBTOTAL(4,J4:J33) -> 0 | K34: =SUBTOTAL(4,K4:K33) -> 0 | L34: =SUBTOTAL(4,L4:L33) -> 0 | M34: =SUBTOTAL(4,M4:M33) -> 0 | ... AN34: =SUBTOTAL(4,AN4:AN33) -> 0
A35: Cod1 | B35: Cod2 | C35: Insumos | D35: Uni | E35: Qde | F35: 1 | G35: 2 | H35: 3 | I35: 4 | J35: 5 | K35: 6 | L35: 7 | M35: 8 | N35: 9 | O35: 10 | P35: 11 | Q35: 12 | R35: 13 | S35: 14 | T35: 15 | U35: 16 | V35: 17 | W35: 18 | X35: 19 | Y35: 20 | Z35: 21 | AA35: 22 | AB35: 23 | AC35: 24 | AD35: 25 | AE35: 26 | AF35: 27 | AG35: 28 | AH35: 29 | AI35: 30 | AJ35: 31 | AK35: 32 | AL35: 33 | AM35: 34 | AN35: 35
A36: 1 | B36: P0 | C36: Engenheiro Sênior (Coordenador) | D36: mês | E36: =SUM(F36:AN36) -> 0
A37: 1 | B37: P1 | C37: Engenheiro Sênior | D37: mês | E37: =SUM(F37:AN37) -> 0
A38: 1 | B38: P2 | C38: Engenheiro Pleno | D38: mês | E38: =SUM(F38:AN38) -> 0
A39: 1 | B39: P3 | C39: Engenheiro Júnior | D39: mês | E39: =SUM(F39:AN39) -> 0
A40: 1 | B40: S1 | C40: Analista Sênior | D40: mês | E40: =SUM(F40:AN40) -> 0
A41: 1 | B41: S2 | C41: Analista Pleno | D41: mês | E41: =SUM(F41:AN41) -> 0
...

Sheet CT_CV
A1: MODELO FICHA CURRICULAR DA EQUIPE TÉCNICA | G1: CODIGO:
G2: CV
A3: NOME DA CONSULTORA:
A5: PROJETO: | D5: CONTRATANTE: | G5: EDITAL:
A6: =PFP!A6 -> Estudos, Projetos Básico - Orla Macapá - AP | D6: =PFP!F6 -> Codevasf (Sede)
A7: NOME DO PROFISSIONAL:
A9: ATUAÇÃO NO PROJETO: | C9: FORMAÇÃO PRINCIPAL: | E9: NASCIMENTO: | G9: NACIONALIDADE:
A11: FORMAÇÃO
A12: ESCOLARIDADE | C12: ENTIDADE | E12: CIDADE | G12: DURAÇÃO | H12: ANO CONCL.
A13: Técnico (título) | C13: Escola | E13: Cidade | G13: X anos | H13: AAAA
A14: Superior (título) | C14: Universidade | E14: Cidade | G14: X anos | H14: AAAA
A15: Especialização (título) | C15: Universidade | E15: Cidade | G15: X anos | H15: AAAA
A16: Mestrado (título) | C16: Universidade | E16: Cidade | G16: X anos | H16: AAAA
A17: Doutorado (título) | C17: Universidade | E17: Cidade | G17: X anos | H17: AAAA
A18: PERIODO | B18: CAPACIDADE TÉCNICA - EXPERIÊNCIA PROFISSIONAL
A19: (MM/AA a MM/AA) | B19: (Empresa, cargo ou função, cidade)
A25: CAT | B25: CAPACIDADE TÉCNICA - SERVIÇO OU OBRA
A26: (nº da ART ou CAT) | B26: (Objeto resumido, quantificação, contratante, cidade)
A32: ANO | B32: CAPACIDADE TECNOLÓGICA - CERTIFICADO
A33: (AAAA) | B33: (Nome do curso, empresa de treinamento, carga horaria em hs, cidade)
A38: CONCORDO EM PARTICIPAR DESTE OBJETO (ASSINATURA): | E38: Nº DO REGISTRO PROFISSIONAL:
A40: NOME DO INFORMANTE: | G40: QUALIFICAÇÃO
A42: ASSINATURA: | G42: DATA:
A44: OBSERVAÇÃO:
A45: 1 – PREENCHER UMA FICHA PARA CADA PROFISSIONAL DA EQUIPE CHAVE (ESPECIALISTAS) E COMPLEMENTAR (ANALISTAS)
A46: 2 – JUNTAR COMPROVANTES DE ESCOLARIDADE (GRADUAÇÃO, ESPECIALIZAÇÃO, MESTRADO E DOUTORADO)
A47: 3 – JUNTAR OS COMPROVANTES DA EXP. PROFISSIONAL, CERTIFICADOS PELA UNIDADE PROFISSIONAL COMPETENTE
A48: 4 – JUNTAR OS COMPROVANTES DE CAPACIDADE TECNICA, RELATIVO AOS CAT DE SERVIÇOS SIMILARES OU CORRELATOS
A49: 5 – JUNTAR OS COMPROVANTES DE CAPACIDADE TECNÓLOGICA
A50: 6 – ITENS EM VERMELHO SÃO APENAS INSTRUÇÃO DE PREENCHIMENTO E DEVEM SER APAGADOS.

Sheet Cotações
B2: Empresas | C2: MÉDIA/MED | D2: Techinn | E2: Americanas | F2: Magalu
B3: Pen Drive 16G | C3: =AVERAGE(D3,E3,F3) -> 20.49 | D3: 19.99 | E3: 25.29 | F3: 16.19
B4: HD externo 2tb | C4: =MEDIAN(D4,E4,F4) -> 334.99 | D4: 334.99 | E4: 215.18 | F4: 541.76
B5: viagens no Decolar | C5: MÉDIA | D5: Belem do Pará | E5: Manaus | F5: Maranhão/Amapá | G5: Natal /Amapa
C6: =AVERAGE(D6,E6,F6,G6) -> 897 | D6: 520 | E6: 1259 | F6: 979 | G6: 830
B10: ISS = 5% | C10: Lei Lei Complementar Nº 110 DE 10/12/2014 - Município Macapá
