{"text_format":"2","workbook":"xlsx","n_sheets":8,"sheets":["PFP","PFP1.1_Topo","PFP1.2_Geo","PFP2.1_FatorKa","PFP2.2_FatorKb","PFP3_FatorKc","CRO1_Ins-Pro","CRO2_Pro-Mes"],"not_rendered":{"charts":0,"images":0,"macros":0,"external_links":0,"defined_names":5,"comments":1,"pivot_tables":0},"unopened":[],"bounds":{"document_bytes":16777216,"sheet_cells":100000,"run_cost":"one","rows_first":2000,"rows_last":500,"rows_between":2000,"halvings":0,"cell_chars":16384,"cell_head_chars":4096},"cells_cut":0,"cells_raw":0,"read":"whole","date_system":"1900"}

{"sheet":"PFP","index":0,"n_rows":42,"n_cols":11,"rows_kept":42,"cut":false,"hidden":false,"merged":[[5,9,5,10],[5,5,5,8],[25,0,25,6],[25,7,25,10],[5,0,5,4],[24,0,24,6],[24,7,24,10],[0,0,1,8],[4,5,4,8],[0,9,0,10],[1,9,1,10],[4,9,4,10],[2,0,2,10],[3,0,3,10],[4,0,4,4],[41,0,41,10],[34,0,34,10],[36,0,36,10],[29,0,29,10],[35,0,35,10],[31,0,31,10],[37,0,37,10],[38,0,38,10],[39,0,39,10],[40,0,40,10],[32,0,32,10],[27,7,27,10],[27,0,27,6],[26,7,26,10],[26,0,26,6],[33,0,33,10],[28,0,28,6],[28,7,28,10],[30,0,30,10]]}
["PROPOSTA FINANCEIRA DO PROJETO",{"$nulls":8},"CODIGO:"]
[{"$nulls":9},"PFP"]
["NOME DA CONSULTORA:"]
[]
["PROJETO:",{"$nulls":4},"CONTRATANTE:",null,null,null,"BASE: Nov/2020"]
["Projeto Executivo e Estudos Complementares dos Sistemas de Adução na Região do Seridó no Estado do Rio Grande do Norte ",{"$nulls":4},"CODEVASF (SEDE)",null,null,null,"CODE: Jan/2020\nPROP: Nov/2020"]
["Base","Cod1","Cod2","Categoria / Insumo","Uni","Qde","CUD","PU","FatorK","CT","PT"]
["CODE","MO2","P0","Engenheiro Sênior","mês",{"$f":"'CRO1_Ins-Pro'!D5","v":11.5},19796.48,{"$f":"ROUND(I8*G8,2)","v":33560.97},{"$f":"PFP2.2_FatorKb!$E$36","v":1.6953},{"$f":"ROUND(F8*G8,2)","v":227659.51999999999},{"$f":"ROUND(F8*H8,2)","v":385951.16}]
["CODE","MO2","P1","Engenheiro Pleno","mês",{"$f":"'CRO1_Ins-Pro'!D6","v":46},15304.96,25946.5,{"$f":"PFP2.2_FatorKb!$E$36","v":1.6953},704028.16000000003,1193539]
["CODE","MO1","P2","Engenheiro Médio","mês",{"$f":"'CRO1_Ins-Pro'!D7","v":46},11711.04,27690.75,{"$f":"PFP2.1_FatorKa!$E$36","v":2.3645},538707.84,1273774.5]
["CODE","MO1","P3","Engenheiro Júnior","mês",{"$f":"'CRO1_Ins-Pro'!D8","v":84},9724,22992.400000000001,{"$f":"PFP2.1_FatorKa!$E$36","v":2.3645},816816,1931361.6]
["PROP","MO1","S1","Analista Pleno","mês",{"$f":"'CRO1_Ins-Pro'!D9","v":2},5963.68,14101.12,{"$f":"PFP2.1_FatorKa!$E$36","v":2.3645},11927.36,28202.240000000002]
["PROP","MO1","S2","Analista Médio","mês",{"$f":"'CRO1_Ins-Pro'!D10","v":4},4782.6899999999996,11308.67,{"$f":"PFP2.1_FatorKa!$E$36","v":2.3645},19130.759999999998,45234.68]
["PROP","MO1","S3","Analista Júnior","mês",{"$f":"'CRO1_Ins-Pro'!D11","v":4},3601.69,8516.2000000000007,{"$f":"PFP2.1_FatorKa!$E$36","v":2.3645},14406.76,34064.800000000003]
["CODE","MO1","T2","Técnico Pleno","mês",{"$f":"'CRO1_Ins-Pro'!D12","v":46},5362.72,12680.15,{"$f":"PFP2.1_FatorKa!$E$36","v":2.3645},246685.12,583286.9]
["CODE","MO1","T3","Técnico Junior","mês",{"$f":"'CRO1_Ins-Pro'!D13","v":92},4627.04,10940.64,{"$f":"PFP2.1_FatorKa!$E$36","v":2.3645},425687.68,1006538.88]
["CODE","MO1","A1","Administrativo (Secretariado)","mês",{"$f":"'CRO1_Ins-Pro'!D14","v":23},5007.2,11839.52,{"$f":"PFP2.1_FatorKa!$E$36","v":2.3645},115165.6,272308.96000000002]
["CODE","DP","V1","Diárias","dia",{"$f":"'CRO1_Ins-Pro'!D15","v":615},239,300.14,{"$f":"PFP3_FatorKc!$E$17","v":1.2558},146985,184586.1]
["CODE","DP","V3","Caminhonete 2.8 4x4 Diesel","dia",{"$f":"'CRO1_Ins-Pro'!D16","v":246},196.18,246.36,{"$f":"PFP3_FatorKc!$E$17","v":1.2558},48260.28,60604.56]
["PROP","DP","V4","Passagens Aéreas (ida e volta)","un",{"$f":"'CRO1_Ins-Pro'!D17","v":115},{"$f":"AVERAGE(996,955,929,1014,1076)","v":994},1248.27,{"$f":"PFP3_FatorKc!$E$17","v":1.2558},114310,143551.04999999999]
["CODE","EM","M1","Relatório Parcial","un",{"$f":"'CRO1_Ins-Pro'!D18","v":33},33.35,41.88,{"$f":"PFP3_FatorKc!$E$17","v":1.2558},1100.55,{"$f":"ROUND(F21*H21,2)","v":1382.04}]
["CODE","EM","M2","Relatório Final","un",{"$f":"'CRO1_Ins-Pro'!D19","v":33},1478.8,1857.08,{"$f":"PFP3_FatorKc!$E$17","v":1.2558},48800.4,61283.64]
["CODE","SU","TP","Total Serviços Cartográficos","un",{"$f":"'CRO1_Ins-Pro'!D20","v":1},"-",{"$f":"PFP1.1_Topo!G17","v":437669.76},"-","-",437669.76]
["CODE","SU","GT","Total Serviços Geotécnicos","un",{"$f":"'CRO1_Ins-Pro'!D21","v":1},"-",{"$f":"PFP1.2_Geo!G39","v":975933.10999999987},"-","-",975933.11]
["TOTAL DOS CUSTOS DIRETOS",{"$nulls":6},{"$f":"SUM(J8:J24)","v":3479671.0299999993}]
["TOTAL DOS ENCARGOS E DISPESAS DIVERSAS",{"$nulls":6},{"$f":"H27-H25","v":3725999.0799999991}]
["TOTAL DA PROPOSTA A PREÇO GLOBAL",{"$nulls":6},{"$f":"SUM(K8:K22)","v":7205670.1099999985}]
["TOTAL DA PROPOSTA A PREÇO UNITÁRIO",{"$nulls":6},{"$f":"SUM(K23:K24)","v":1413602.87}]
["TOTAL DA PROPOSTA",{"$nulls":6},{"$f":"H27+H28","v":8619272.9799999986}]
["OBSERVAÇÃO:"]
["Alocar os Insumos MO, com respectivo FatorK, dentro da categoria de vínculo contratual (com ou sem) de cada tipo de profissional"]
["Uni - unidade de medição do insumo;"]
["Qde - Quantidade do Insumo (não pode ocorrer alteração pela Licitante)"]
["CUD - Custo Unitário Direto do Insumo (sem encargos, taxas e impostos, valor não pode ser maior que o Orçado pela Codevasf)"]
["CT - Custo Total (sem encargos, taxas e impostos) - CT = Qde x CUD"]
["FatorK - Taxa de Ressarcimento de Despesas e Encargos (detalhar composição nas Planilhas \"PFP2.1\", \"PFP2.2\", \"PFP3\")"]
["PU - Preço Unitário do Insumo (incluído encargos, taxas e impostos) - PU = CUD x FatorK"]
["PT - Preço Total do Insumo (incluído encargos, taxas e impostos) - PT = Qde x PU"]
["P - Profissionais nível superior nas áreas de Engenharia, Química, Arquitetura, Agronomia e Veterinária, conforme disposições da Lei 4.950-A/66"]
["S - Profissionais de nível superior nas demais áreas de atuação, incluindo Arqueólogo, Biólogo, Geógrafo e Socioólogo"]
["T - Profissionais de nível médio técnico nas diversas áreas de atuação"]
["A - Profissionais de nível médio de apoio técnico-administrativo"]

{"sheet":"PFP1.1_Topo","index":1,"n_rows":22,"n_cols":7,"rows_kept":22,"cut":false,"hidden":false,"merged":[[4,0,4,3],[2,0,2,6],[3,0,3,6],[16,0,16,5],[0,0,1,5],[5,0,5,3],[4,4,4,5],[5,4,5,5],[20,0,20,6],[21,0,21,6],[17,0,17,6],[18,0,18,6],[19,0,19,6]]}
["SERVIÇOS TOPOGRÁFICOS/CARTOGRÁFICOS",{"$nulls":5},"CODIGO:"]
[{"$nulls":6},"PFP-1.1"]
["NOME DA EMPRESA:"]
[]
["PROJETO:",null,null,null,"CONTRATANTE:",null,"BASE: Nov/2020"]
[{"$f":"PFP!A6","v":"Projeto Executivo e Estudos Complementares dos Sistemas de Adução na Região do Seridó no Estado do Rio Grande do Norte "},null,null,null,"CODEVASF (SEDE)",null,"CODE: Jan/2020"]
["Cod.","Base","Insumos","Uni","Qde","Preço Unitário (PU)","Preço Total (PT)"]
["TP08","CODE","Nivelamento Geométrico classe IIN","km",200,788.72,{"$f":"ROUND(F8*E8,2)","v":157744}]
["TP16.1","CODE","Poligonal Classe IIP","km",100,1984.3,198430]
["TP19","CODE","Pontos GPS de dupla frequencia (L1/L2)","un ",30,981.07,29432.1]
["TP20","CODE","Levantamento Ecobatimetrico","ha ",4,853.31,3413.24]
["TP21","CODE","Levantamento Topobatimétrico","km",4,1260.83,5043.32]
["TP27","CODE","Marco de Concreto (12x18x60cm)","un ",30,53.89,1616.7]
["TP28","CODE","Barrote de Madeira (10x10x50cm)","un ",500,28.7,14350]
["TP29","CODE","Piquetes de Madeira (2x2x20cm)","un ",5000,2.41,12050]
["PD06","CODE","Picada Manual p/ levantamento TP","km",80,194.88,{"$f":"ROUND(F16*E16,2)","v":15590.4}]
["TOTAL SERVIÇOS TOPOGRÁFICOS",{"$nulls":5},{"$f":"SUM(G8:G16)","v":437669.76}]
["OBSERVAÇÃO:"]
["Uni - unidade de medição do insumo;"]
["Qde - Quantidade do Insumo (não pode ocorrer alteração pela Licitante)"]
["PU - Preço Unitário (composições padrão da Codevasf, já incluso o FatorK)"]
["PT - Preço Total (incluído encargos, taxas e impostos) - PT = Qde x PU"]

{"sheet":"PFP1.2_Geo","index":2,"n_rows":44,"n_cols":7,"rows_kept":44,"cut":false,"hidden":false,"merged":[[4,0,4,3],[4,4,4,5],[2,0,2,6],[3,0,3,6],[0,0,1,5],[38,0,38,5],[42,0,42,6],[5,0,5,3],[5,4,5,5],[43,0,43,6],[39,0,39,6],[40,0,40,6],[41,0,41,6]]}
["SERVIÇOS GEOLÓGICOS/GEOTÉCNICOS",{"$nulls":5},"CODIGO:"]
[{"$nulls":6},"PFP-1.2"]
["NOME DA EMPRESA:"]
[]
["PROJETO:",null,null,null,"CONTRATANTE:",null,"BASE: Nov/2020"]
[{"$f":"PFP!A6","v":"Projeto Executivo e Estudos Complementares dos Sistemas de Adução na Região do Seridó no Estado do Rio Grande do Norte "},null,null,null,"CODEVASF (SEDE)",null,"CODE: Jan/2020"]
["Cod.","Base","Insumos","Uni","Qde","Preço Unitário (PU)","Preço Total (PT)"]
["GT07","CODE","Sondagem Percussão: (Des)Mobilização","un",18,878.94,{"$f":"ROUND(F8*E8,2)","v":15820.92}]
["GT08","CODE","Sondagem Percursão: com SPT","m",{"$f":"E8*50","v":900},77.08,69372]
["GT09","CODE","Sondagem Percursão: Desloc/Instalação 0-200 m","un",30,684.54,20536.2]
["GT10","CODE","Sondagem Percursão: Desloc/Instalação 201-500 m","un",60,1001.74,60104.4]
["GT11","CODE","Sondagem Percursão: Desloc/Instalação >500 m","un",80,1318.94,105515.2]
["GT13","CODE","Sondagem Trado 4''","m",400,64.94,25976]
["GT15","CODE","Ensaio: Umidade Natural ","un",400,84.49,33796]
["GT16","CODE","Ensaio: Densidade Natural","un",400,84.49,33796]
["GT17","CODE","Ensaio: Limite de Liquidez","un",400,117,46800]
["GT18","CODE","Ensaio: Limite de Plasticidade","un",400,117,46800]
["GT19","CODE","Ensaio: Granulometria por Peneiramento","un",400,123.34,49336]
["GT20","CODE","Ensaio: Granulometria por Sedimentação","un",400,382.79,153116]
["GT21","CODE","Ensaio: Compactação Proctor Normal","un",400,160.41,64164]
["GT22","CODE","Ensaio: Massa Especifica Real dos Grãos","un",400,104.27,41708]
["GT23","CODE","Ensaio: Adensamento Oedométrico","un",20,283.57,5671.4]
["GT24","CODE","Ensaio: Triaxial UU ñ consolidado ñ drenado","un",5,822.95,4114.75]
["GT25","CODE","Ensaio: Triaxial CU conslidado ñ drenado","un",40,1129.48,45179.199999999997]
["GT26","CODE","Ensaio: Expansão colapsividade em aneis","un",100,380.8,38080]
["GT27","CODE","Ensaio: Expansão amostra indeformada com pressão de expansão","un",40,300.93,12037.2]
["GT28","CODE","Ensaio: Dispersão Granulometria Comparativa","un",100,228.5,22850]
["GT29","CODE","Ensaio: Dispersão Crumb Test","un",100,84.66,8466]
["GT30","CODE","Ensaio: Infiltração","un",30,228.5,6855]
["GT31","CODE","Ensaio: Perda de Água 5 estágios","un",30,361.18,10835.4]
["GT32","CODE","Ensaio: Análise Quimica da Areia","un",6,459.82,2758.92]
["GT33","CODE","Ensaio: Mineralogia da Areia","un",20,529.20000000000005,10584]
["GT34","CODE","Ensaio: Análise Petrográfica/Mineralogia","un",6,529.20000000000005,3175.2]
["GT35","CODE","Ensaio: Abrasão Los Angeles","un",6,414.19,2485.14]
["GT36","CODE","Ensaio: Reatividade Potencial","un",6,1382.66,8295.9599999999991]
["GT37","CODE","Ensaio: Permeabilidade Vertical de Carga Variável","un",6,649.14,3894.84]
["GT38","CODE","Ensaio: Retirada de Amostra Indeformada","un",30,691.33,{"$f":"ROUND(F37*E37,2)","v":20739.900000000001}]
["GT39","CODE","Ensaio: Permeabilidade \"in situ\"","un",6,511.58,3069.48]
["TOTAL SERVIÇOS GEOTÉCNICOS",{"$nulls":5},{"$f":"SUM(G8:G38)","v":975933.10999999987}]
["LEGENDA:"]
["Uni - unidade de medição do insumo;"]
["Qde - Quantidade do Insumo (não pode ocorrer alteração pela Licitante)"]
["PU - Preço Unitário (composições padrão da Codevasf, já incluso o FatorK)"]
["PT - Preço Total (incluído encargos, taxas e impostos) - PT = Qde x PU"]

{"sheet":"PFP2.1_FatorKa","index":3,"n_rows":41,"n_cols":6,"rows_kept":41,"cut":false,"hidden":false,"merged":[[6,1,6,3],[32,1,32,3],[34,1,34,3],[35,1,35,3],[18,1,18,3],[19,1,19,3],[20,1,20,3],[21,1,21,3],[23,1,23,3],[24,1,24,3],[7,1,7,3],[17,1,17,3],[8,1,8,3],[13,1,13,3],[14,1,14,3],[15,1,15,3],[0,0,1,4],[2,0,2,5],[5,0,5,1],[5,2,5,4],[4,2,4,4],[3,0,3,5],[16,1,16,3],[9,1,9,3],[10,1,10,3],[11,1,11,3],[12,1,12,3],[40,0,40,5],[39,0,39,5],[38,0,38,5],[37,0,37,5],[22,1,22,3],[29,1,29,3],[30,1,30,3],[28,1,28,3],[25,1,25,3],[26,1,26,3],[27,1,27,3],[33,1,33,3],[31,1,31,3]]}
["DETALHAMENTO DOS ENCARGOS SOCIAIS: Ka",{"$nulls":4},"CODIGO:"]
[{"$nulls":5},"PFP-2.1"]
["NOME DA CONSULTORA:"]
[]
["PROJETO:",null,"CONTRATANTE:",null,null,"BASE: Nov/2020"]
[{"$f":"PFP!A6","v":"Projeto Executivo e Estudos Complementares dos Sistemas de Adução na Região do Seridó no Estado do Rio Grande do Norte "},null,"CODEVASF (SEDE)",null,null,"SINAPI/DF: Jan/2020"]
["Cod","DESCRIÇÃO",null,null,"%","R$"]
["A","ENCARGOS SOCIAIS BÁSICOS",null,null,{"$f":"ROUND(SUM(E9:E17),4)","v":0.378},{"$f":"ROUND(E8*SUMIF(PFP!$B$8:$B$24,\"MO1\",PFP!$J$8:$J$24),2)","v":827263.25}]
["A1","INSS",null,null,0.2,{"$f":"ROUND(E9*SUMIF(PFP!$B$8:$B$24,\"MO1\",PFP!$J$8:$J$24),2)","v":437705.42}]
["A2","SESI",null,null,1.4999999999999999E-2,{"$f":"ROUND(E10*SUMIF(PFP!$B$8:$B$24,\"MO1\",PFP!$J$8:$J$24),2)","v":32827.910000000003}]
["A3","SENAI",null,null,0.01,{"$f":"ROUND(E11*SUMIF(PFP!$B$8:$B$24,\"MO1\",PFP!$J$8:$J$24),2)","v":21885.27}]
["A4","INCRA",null,null,2E-3,{"$f":"ROUND(E12*SUMIF(PFP!$B$8:$B$24,\"MO1\",PFP!$J$8:$J$24),2)","v":4377.05}]
["A5","SEBRAE",null,null,6.0000000000000001E-3,{"$f":"ROUND(E13*SUMIF(PFP!$B$8:$B$24,\"MO1\",PFP!$J$8:$J$24),2)","v":13131.16}]
["A6","Salário Educação",null,null,2.5000000000000001E-2,{"$f":"ROUND(E14*SUMIF(PFP!$B$8:$B$24,\"MO1\",PFP!$J$8:$J$24),2)","v":54713.18}]
["A7","Seguro Contra Acidentes de Trabalho",null,null,0.03,{"$f":"ROUND(E15*SUMIF(PFP!$B$8:$B$24,\"MO1\",PFP!$J$8:$J$24),2)","v":65655.81}]
["A8","FGTS",null,null,0.08,{"$f":"ROUND(E16*SUMIF(PFP!$B$8:$B$24,\"MO1\",PFP!$J$8:$J$24),2)","v":175082.17}]
["A9","SECONCI",null,null,0.01,{"$f":"ROUND(E17*SUMIF(PFP!$B$8:$B$24,\"MO1\",PFP!$J$8:$J$24),2)","v":21885.27}]
["B"," ENCARGOS SOCIAIS QUE RECEBEM INCIDÊNCIA DE \"A\"",null,null,{"$f":"ROUND(SUM(E19:E25),4)","v":0.19439999999999999},{"$f":"ROUND(E18*SUMIF(PFP!$B$8:$B$24,\"MO1\",PFP!$J$8:$J$24),2)","v":425449.67}]
["B3","Auxílio Enfermidade",null,null,6.8999999999999999E-3,{"$f":"ROUND(E19*SUMIF(PFP!$B$8:$B$24,\"MO1\",PFP!$J$8:$J$24),2)","v":15100.84}]
["B4","13º Salário",null,null,8.3299999999999999E-2,{"$f":"ROUND(E20*SUMIF(PFP!$B$8:$B$24,\"MO1\",PFP!$J$8:$J$24),2)","v":182304.31}]
["B5","Licença Paternidade",null,null,5.9999999999999995E-4,{"$f":"ROUND(E21*SUMIF(PFP!$B$8:$B$24,\"MO1\",PFP!$J$8:$J$24),2)","v":1313.12}]
["B6","Faltas Justificadas",null,null,5.5999999999999999E-3,{"$f":"ROUND(E22*SUMIF(PFP!$B$8:$B$24,\"MO1\",PFP!$J$8:$J$24),2)","v":12255.75}]
["B8","Auxílio Acidente de Trabalho",null,null,8.9999999999999998E-4,{"$f":"ROUND(E23*SUMIF(PFP!$B$8:$B$24,\"MO1\",PFP!$J$8:$J$24),2)","v":1969.67}]
["B9","Férias Gozadas",null,null,9.6799999999999997E-2,{"$f":"ROUND(E24*SUMIF(PFP!$B$8:$B$24,\"MO1\",PFP!$J$8:$J$24),2)","v":211849.43}]
["B10","Salário Maternidade",null,null,2.9999999999999997E-4,{"$f":"ROUND(E25*SUMIF(PFP!$B$8:$B$24,\"MO1\",PFP!$J$8:$J$24),2)","v":656.56}]
["C"," ENCARGOS SOCIAIS QUE NÃO RECEBEM INCIDÊNCIA DE \"A\"",null,null,{"$f":"ROUND(SUM(E27:E31),4)","v":8.43E-2},{"$f":"ROUND(E26*SUMIF(PFP!$B$8:$B$24,\"MO1\",PFP!$J$8:$J$24),2)","v":184492.84}]
["C1","Aviso Prévio Indenizado",null,null,0.03,{"$f":"ROUND(E27*SUMIF(PFP!$B$8:$B$24,\"MO1\",PFP!$J$8:$J$24),2)","v":65655.81}]
["C2","Aviso Prévio Trabalhado",null,null,6.9999999999999999E-4,{"$f":"ROUND(E28*SUMIF(PFP!$B$8:$B$24,\"MO1\",PFP!$J$8:$J$24),2)","v":1531.97}]
["C3","Férias Indenizadas",null,null,1.35E-2,{"$f":"ROUND(E29*SUMIF(PFP!$B$8:$B$24,\"MO1\",PFP!$J$8:$J$24),2)","v":29545.119999999999}]
["C4","Depósito Rescisão Sem Justa Causa",null,null,3.7600000000000001E-2,{"$f":"ROUND(E30*SUMIF(PFP!$B$8:$B$24,\"MO1\",PFP!$J$8:$J$24),2)","v":82288.62}]
["C5","Indenização Adicional",null,null,2.5000000000000001E-3,{"$f":"ROUND(E31*SUMIF(PFP!$B$8:$B$24,\"MO1\",PFP!$J$8:$J$24),2)","v":5471.32}]
["D"," REINCIDÊNCIAS",null,null,{"$f":"ROUND(SUM(E33:E34),4)","v":7.6200000000000004E-2},{"$f":"ROUND(E32*SUMIF(PFP!$B$8:$B$24,\"MO1\",PFP!$J$8:$J$24),2)","v":166765.76999999999}]
["D1","Reincidência de \"A\" sobre \"B\"",null,null,{"$f":"ROUND(E8*E18,4)","v":7.3499999999999996E-2},{"$f":"ROUND(E33*SUMIF(PFP!$B$8:$B$24,\"MO1\",PFP!$J$8:$J$24),2)","v":160856.74}]
["D2","Reincidência de \"A\" sobre Aviso Prévio Trabalhado e reincidência do FGTS sobre Aviso Prévio Indenizado",null,null,{"$f":"ROUND((E28*E8)+(E27*E16),4)","v":2.7000000000000001E-3},{"$f":"ROUND(E34*SUMIF(PFP!$B$8:$B$24,\"MO1\",PFP!$J$8:$J$24),2)","v":5909.02}]
["K1","ENCARGOS SOCIAIS",null,null,{"$f":"ROUND(E8+E18+E26+E32,4)","v":0.7329},{"$f":"ROUND(E35*SUMIF(PFP!$B$8:$B$24,\"MO1\",PFP!$J$8:$J$24),2)","v":1603971.53}]
["Ka","TAXA DE RESSARCIMENTO DE DESPESAS E ENCARGOS SOBRE MO1",null,null,{"$f":"ROUND((1+E35+PFP3_FatorKc!E13)*(1+PFP3_FatorKc!E12)*(1+PFP3_FatorKc!E8),4)","v":2.3645}]
["OBSERVAÇÃO:"]
["1 - DISCRIMINAR OS ENCARGOS SOCIAIS COM SEUS RESPECTIVOS PERCENTUAS TOTALIZANDO OS MESMOS. "]
["2 - APLICAR O  % TOTAL P/ CALCULAR OS E. SOCIAIS INCIDENTES NA MÃO-DE-OBRA COM VÍNCULO PERMANENTE"]
["Ka - Taxa de Ressarcimento de Despesas e Encargos sobre a Mão de Obra COM VINCULO (incide apenas no Insumo Codigo M.O.)"]
["Ka = (1 + K1 + K2) x (1 + K3) x (1 + K4)"]

{"sheet":"PFP2.2_FatorKb","index":4,"n_rows":41,"n_cols":6,"rows_kept":41,"cut":false,"hidden":false,"merged":[[19,1,19,3],[0,0,1,4],[2,0,2,5],[3,0,3,5],[4,2,4,4],[5,0,5,1],[5,2,5,4],[7,1,7,3],[17,1,17,3],[18,1,18,3],[8,1,8,3],[9,1,9,3],[10,1,10,3],[16,1,16,3],[6,1,6,3],[12,1,12,3],[40,0,40,5],[37,0,37,5],[38,0,38,5],[39,0,39,5],[32,1,32,3],[33,1,33,3],[34,1,34,3],[35,1,35,3],[13,1,13,3],[14,1,14,3],[15,1,15,3],[11,1,11,3],[31,1,31,3],[20,1,20,3],[21,1,21,3],[22,1,22,3],[23,1,23,3],[24,1,24,3],[25,1,25,3],[26,1,26,3],[27,1,27,3],[28,1,28,3],[29,1,29,3],[30,1,30,3]]}
["DETALHAMENTO DOS ENCARGOS SOCIAIS: Kb",{"$nulls":4},"CODIGO:"]
[{"$nulls":5},"PFP-2.2"]
["NOME DA CONSULTORA:"]
[]
["PROJETO:",null,"CONTRATANTE:",null,null,"BASE: Nov/2020"]
[{"$f":"PFP!A6","v":"Projeto Executivo e Estudos Complementares dos Sistemas de Adução na Região do Seridó no Estado do Rio Grande do Norte "},null,"CODEVASF (SEDE)",null,null,"SINAPI/DF: Jan/2020"]
["Cod","DESCRIÇÃO",null,null,"%","R$"]
["A","ENCARGOS SOCIAIS BÁSICOS",null,null,{"$f":"ROUND(SUM(E9:E17),4)","v":0.2},{"$f":"ROUND(E8*SUMIF(PFP!$B$8:$B$24,\"MO2\",PFP!$J$8:$J$24),2)","v":186337.54}]
["A1","INSS",null,null,0,{"$f":"ROUND(E9*SUMIF(PFP!$B$8:$B$24,\"MO2\",PFP!$J$8:$J$24),2)","v":0}]
["A2","SESI",null,null,0,{"$f":"ROUND(E10*SUMIF(PFP!$B$8:$B$24,\"MO2\",PFP!$J$8:$J$24),2)","v":0}]
["A3","SENAI",null,null,0,{"$f":"ROUND(E11*SUMIF(PFP!$B$8:$B$24,\"MO2\",PFP!$J$8:$J$24),2)","v":0}]
["A4","INCRA",null,null,0,{"$f":"ROUND(E12*SUMIF(PFP!$B$8:$B$24,\"MO2\",PFP!$J$8:$J$24),2)","v":0}]
["A5","SEBRAE",null,null,0,{"$f":"ROUND(E13*SUMIF(PFP!$B$8:$B$24,\"MO2\",PFP!$J$8:$J$24),2)","v":0}]
["A6","Salário Educação",null,null,0,{"$f":"ROUND(E14*SUMIF(PFP!$B$8:$B$24,\"MO2\",PFP!$J$8:$J$24),2)","v":0}]
["A7","Seguro Contra Acidentes de Trabalho",null,null,0,{"$f":"ROUND(E15*SUMIF(PFP!$B$8:$B$24,\"MO2\",PFP!$J$8:$J$24),2)","v":0}]
["A8","FGTS",null,null,0.2,{"$f":"ROUND(E16*SUMIF(PFP!$B$8:$B$24,\"MO2\",PFP!$J$8:$J$24),2)","v":186337.54}]
["A9","SECONCI",null,null,0,{"$f":"ROUND(E17*SUMIF(PFP!$B$8:$B$24,\"MO2\",PFP!$J$8:$J$24),2)","v":0}]
["B"," ENCARGOS SOCIAIS QUE RECEBEM INCIDÊNCIA DE \"A\"",null,null,{"$f":"ROUND(SUM(E19:E25),4)","v":0},{"$f":"ROUND(E18*SUMIF(PFP!$B$8:$B$24,\"MO2\",PFP!$J$8:$J$24),2)","v":0}]
["B3","Auxílio Enfermidade",null,null,0,{"$f":"ROUND(E19*SUMIF(PFP!$B$8:$B$24,\"MO2\",PFP!$J$8:$J$24),2)","v":0}]
["B4","13º Salário",null,null,0,{"$f":"ROUND(E20*SUMIF(PFP!$B$8:$B$24,\"MO2\",PFP!$J$8:$J$24),2)","v":0}]
["B5","Licença Paternidade",null,null,0,{"$f":"ROUND(E21*SUMIF(PFP!$B$8:$B$24,\"MO2\",PFP!$J$8:$J$24),2)","v":0}]
["B6","Faltas Justificadas",null,null,0,{"$f":"ROUND(E22*SUMIF(PFP!$B$8:$B$24,\"MO2\",PFP!$J$8:$J$24),2)","v":0}]
["B8","Auxílio Acidente de Trabalho",null,null,0,{"$f":"ROUND(E23*SUMIF(PFP!$B$8:$B$24,\"MO2\",PFP!$J$8:$J$24),2)","v":0}]
["B9","Férias Gozadas",null,null,0,{"$f":"ROUND(E24*SUMIF(PFP!$B$8:$B$24,\"MO2\",PFP!$J$8:$J$24),2)","v":0}]
["B10","Salário Maternidade",null,null,0,{"$f":"ROUND(E25*SUMIF(PFP!$B$8:$B$24,\"MO2\",PFP!$J$8:$J$24),2)","v":0}]
["C"," ENCARGOS SOCIAIS QUE NÃO RECEBEM INCIDÊNCIA DE \"A\"",null,null,{"$f":"ROUND(SUM(E27:E31),4)","v":0},{"$f":"ROUND(E26*SUMIF(PFP!$B$8:$B$24,\"MO2\",PFP!$J$8:$J$24),2)","v":0}]
["C1","Aviso Prévio Indenizado",null,null,0,{"$f":"ROUND(E27*SUMIF(PFP!$B$8:$B$24,\"MO2\",PFP!$J$8:$J$24),2)","v":0}]
["C2","Aviso Prévio Trabalhado",null,null,0,{"$f":"ROUND(E28*SUMIF(PFP!$B$8:$B$24,\"MO2\",PFP!$J$8:$J$24),2)","v":0}]
["C3","Férias Indenizadas",null,null,0,{"$f":"ROUND(E29*SUMIF(PFP!$B$8:$B$24,\"MO2\",PFP!$J$8:$J$24),2)","v":0}]
["C4","Depósito Rescisão Sem Justa Causa",null,null,0,{"$f":"ROUND(E30*SUMIF(PFP!$B$8:$B$24,\"MO2\",PFP!$J$8:$J$24),2)","v":0}]
["C5","Indenização Adicional",null,null,0,{"$f":"ROUND(E31*SUMIF(PFP!$B$8:$B$24,\"MO2\",PFP!$J$8:$J$24),2)","v":0}]
["D"," REINCIDÊNCIAS",null,null,{"$f":"ROUND(SUM(E33:E34),4)","v":0},{"$f":"ROUND(E32*SUMIF(PFP!$B$8:$B$24,\"MO2\",PFP!$J$8:$J$24),2)","v":0}]
["D1","Reincidência de \"A\" sobre \"B\"",null,null,{"$f":"ROUND(E8*E18,4)","v":0},{"$f":"ROUND(E33*SUMIF(PFP!$B$8:$B$24,\"MO2\",PFP!$J$8:$J$24),2)","v":0}]
["D2","Reincidência de \"A\" sobre Aviso Prévio Trabalhado e reincidência do FGTS sobre Aviso Prévio Indenizado",null,null,{"$f":"ROUND(E8*E28,4)+ROUND(E27*E11,4)","v":0},{"$f":"ROUND(E34*SUMIF(PFP!$B$8:$B$24,\"MO2\",PFP!$J$8:$J$24),2)","v":0}]
["K1","ENCARGOS SOCIAIS",null,null,{"$f":"ROUND(E8+E18+E26+E32,4)","v":0.2},{"$f":"ROUND(E35*SUMIF(PFP!$B$8:$B$24,\"MO2\",PFP!$J$8:$J$24),2)","v":186337.54}]
["Kb","TAXA DE RESSARCIMENTO DE DESPESAS E ENCARGOS SOBRE MO2",null,null,{"$f":"ROUND((1+E35+PFP3_FatorKc!E13)*(1+PFP3_FatorKc!E12)*(1+PFP3_FatorKc!E8),4)","v":1.6953}]
["OBSERVAÇÃO:"]
["1 - DISCRIMINAR OS ENCARGOS SOCIAIS COM SEUS RESPECTIVOS PERCENTUAS TOTALIZANDO OS MESMOS. "]
["2 - APLICAR O % TOTAL P/ CALCULAR OS E. SOCIAIS INCIDENTES NA MÃO-DE-OBRA SEM VÍNCULO PERMANENTE"]
["Kb - Taxa de Ressarcimento de Despesas e Encargos sobre a Mão de Obra SEM VINCULO (incide apenas no Insumo Codigo M.O.)"]
["Kb = (1 + K1 + K2) x (1 + K3) x (1 + K4)"]

{"sheet":"PFP3_FatorKc","index":5,"n_rows":35,"n_cols":6,"rows_kept":35,"cut":false,"hidden":false,"merged":[[33,0,33,5],[34,0,34,5],[16,1,16,3],[13,1,13,3],[14,1,14,3],[15,1,15,3],[21,0,21,5],[26,0,26,5],[27,0,27,5],[22,0,22,5],[23,0,23,5],[24,0,24,5],[28,0,28,5],[29,0,29,5],[30,0,30,5],[31,0,31,5],[7,1,7,2],[25,0,25,5],[6,1,6,2],[0,0,1,4],[2,0,2,5],[5,0,5,1],[5,2,5,4],[4,2,4,4],[3,0,3,5],[32,0,32,5],[12,1,12,3],[11,1,11,3],[8,1,8,2],[9,1,9,2],[10,1,10,2]]}
["DESPESAS FISCAIS E CUSTOS DIVERSOS: Kc",{"$nulls":4},"CODIGO:"]
[{"$nulls":5},"PFP-3"]
["NOME DA CONSULTORA:"]
[]
["PROJETO:",null,"CONTRATANTE:",null,null,"BASE: Nov/2020"]
[{"$f":"PFP!A6","v":"Projeto Executivo e Estudos Complementares dos Sistemas de Adução na Região do Seridó no Estado do Rio Grande do Norte "},null,"CODEVASF (SEDE)",null,null,"PROP: Nov/2020"]
["Cod","DESCRIÇÃO1",null,"% preço2","% custo4","R$"]
["K4","TAXAS E IMPOSTOS",null,{"$f":"ROUND(D9+D10+D11,4)","v":0.124},{"$f":"ROUND(E9+E10+E11,4)","v":0.1416},{"$f":"E8*SUM(SUMIF(PFP!$B$8:$B$24,\"MO1\",PFP!$J$8:$J$24)*(1+PFP2.1_FatorKa!$E$35)+SUMIF(PFP!$B$8:$B$24,\"MO2\",PFP!$J$8:$J$24)*(1+PFP2.2_FatorKb!$E$35)+SUMIF(PFP!$B$8:$B$24,\"<>MO*\",PFP!$J$8:$J$24)+$F$13+$F$12)","v":893752.79775574862}]
["K4.1","ISS",null,0.05,{"$f":"ROUND((1/(1-$D$8))*D9,4)","v":5.7099999999999998E-2},{"$f":"E9*SUM(SUMIF(PFP!$B$8:$B$24,\"MO1\",PFP!$J$8:$J$24)*(1+PFP2.1_FatorKa!$E$35)+SUMIF(PFP!$B$8:$B$24,\"MO2\",PFP!$J$8:$J$24)*(1+PFP2.2_FatorKb!$E$35)+SUMIF(PFP!$B$8:$B$24,\"<>MO*\",PFP!$J$8:$J$24)+$F$13+$F$12)","v":360404.5533322969}]
["K4.2","PIS3 - aliquota efetiva com percentual-desconto",null,{"$f":"ROUND(1.65%*0.8,4)","v":1.32E-2},{"$f":"ROUND((1/(1-$D$8))*D10,4)","v":1.5100000000000001E-2},{"$f":"E10*SUM(SUMIF(PFP!$B$8:$B$24,\"MO1\",PFP!$J$8:$J$24)*(1+PFP2.1_FatorKa!$E$35)+SUMIF(PFP!$B$8:$B$24,\"MO2\",PFP!$J$8:$J$24)*(1+PFP2.2_FatorKb!$E$35)+SUMIF(PFP!$B$8:$B$24,\"<>MO*\",PFP!$J$8:$J$24)+$F$13+$F$12)","v":95308.384506439295}]
["K4.3","COFINS3 - aliquota efetiva com percentual-desconto",null,{"$f":"ROUND(7.6%*0.8,4)","v":6.08E-2},{"$f":"ROUND((1/(1-$D$8))*D11,4)","v":6.9400000000000003E-2},{"$f":"E11*SUM(SUMIF(PFP!$B$8:$B$24,\"MO1\",PFP!$J$8:$J$24)*(1+PFP2.1_FatorKa!$E$35)+SUMIF(PFP!$B$8:$B$24,\"MO2\",PFP!$J$8:$J$24)*(1+PFP2.2_FatorKb!$E$35)+SUMIF(PFP!$B$8:$B$24,\"<>MO*\",PFP!$J$8:$J$24)+$F$13+$F$12)","v":438039.85991701239}]
["K3","REMUNERAÇÃO DA EMPRESA (LUCRO)",null,null,0.1,{"$f":"E12*SUM(SUMIF(PFP!$B$8:$B$24,\"MO1\",PFP!$J$8:$J$24)*(1+PFP2.1_FatorKa!$E$35)+SUMIF(PFP!$B$8:$B$24,\"MO2\",PFP!$J$8:$J$24)*(1+PFP2.2_FatorKb!$E$35)+SUMIF(PFP!$B$8:$B$24,\"<>MO*\",PFP!$J$8:$J$24)+$F$13)","v":573801.23122479999}]
["K2","CUSTOS DA ADMINISTRAÇÃO CENTRAL",null,null,{"$f":"ROUND(SUM(E14:E16),4)","v":0.15},{"$f":"ROUND(E13*SUMIF(PFP!$B$8:$B$24,\"MO*\",PFP!$J$8:$J$24),2)","v":468032.22}]
["K2.1","Custos da administração central da empresa (diretoria, pessoal técnico de apoio e pessoal administrativo não diretamente vinculado à prestação dos serviços)",null,null,0.1,{"$f":"ROUND(E14*SUMIF(PFP!$B$8:$B$24,\"MO*\",PFP!$J$8:$J$24),2)","v":312021.48}]
["K2.2","Outras despesas que afetam o custo de produção como treinamento, biblioteca, programa de qualidade, programa de benefícios, auditoria interna e externa",null,null,0.03,{"$f":"ROUND(E15*SUMIF(PFP!$B$8:$B$24,\"MO*\",PFP!$J$8:$J$24),2)","v":93606.44}]
["K2.3","Despesas fixas e variaveis com patrimônio, aluguéis, comunicação, manutenção e transporte não diretamente relacionados com o custo direto dos serviços",null,null,0.02,{"$f":"ROUND(E16*SUMIF(PFP!$B$8:$B$24,\"MO*\",PFP!$J$8:$J$24),2)","v":62404.3}]
["Kc","TAXA RESSARCIMENTO DE DESPESAS SOBRE CUSTOS DIVERSOS",null,null,{"$f":"ROUND((1+E12)*(1+E8),4)","v":1.2558}]
["NOME DO INFORMANTE:",null,null,null,"QUALIFICAÇÃO:"]
[]
["ASSINATURA:",null,null,null,"DATA:"]
[]
["Observação:"]
["1 - RELACIONAR OS CUSTOS DE ADMINISTRAÇÃO COM RESPECTIVOS PERCENTUAIS INCIDENTES NA MÃO -DE-OBRA"]
["1 - DISCRIMINAR OS TRIBUTOS QUE INCIDEM SOBRE OS CUSTOS DA PRESTAÇÃO DOS SERVIÇOS"]
["2 - K4 = INDICAR % DE CADA TRIBUTO E A SOMA DOS MESMOS (ex: ISS 5% + PIS 1,65% + COFINS 7,60% = 14,25%)"]
["3 - PIS e COFINS, Regime de Incidencia Acumulativa (0,65% e 3,00% - sem percentual de desconto) ou em Regime de Incidencia Não Acumulativa (1,65% e 7,60% - aplicável percentual de desconto) de acordo com a forma de apuração do lucro no IRPJ. APRESENTAR COMPROVANTES de aproveitamento de créditos tributários dos últimos 12 meses em caso de aplicação de \"percentual de desconto\"."]
["4 - AS DESPESAS FISCAIS (K4) INCIDEM SOBRE O TOTAL DA FATURA E NÃO SOBRE OS CUSTOS INCORRIDOS, "]
["     DEVENDO SER CALCULADO O K4' APLICANDO-SE A SEGUINTE FÓRMULA:"]
["     K4' = { [ 1 / ( 1 - K4) ] - 1 } x 100"]
[{"$f":"CONCATENATE(\"     K4' = { [ 1 / ( 1 - \",D8,\" ) ] - 1 } x 100\")","v":"     K4' = { [ 1 / ( 1 - 0,124 ) ] - 1 } x 100"}]
["Kc - Taxa de Ressarcimento de Despesas sobre Custos Diversos (incide sobre os Insumos Codigo DP e EM)"]
["Kc = (1 + K3) x (1 + K4)"]
["K2 - Incide sobre o Custo Total (CT) da Mão de Obra (MO* = MO1 + MO2)"]
["K3 - Incide sobre o Custo Total (CT) Mão de Obra com encargos (MO1 x Ka ou MO2 x Kb), demais Custos (DP e EM), e Custos da Administração Central (K2)"]
["K4 -  Incide sobre o Custo Total (CT) Mão de Obra com encargos (MO1 x Ka ou MO2 x Kb), demais Custos (DP e EM), e Custos da Administração Central (K2) e Lucro (K3)"]

{"sheet":"CRO1_Ins-Pro","index":6,"n_rows":25,"n_cols":18,"rows_kept":25,"cut":false,"hidden":false,"merged":[[0,14,0,17],[1,14,1,17],[40,7,40,14],[40,15,40,17],[21,0,22,0],[21,1,22,1],[23,0,24,0],[0,0,1,13]]}
["INSUMOS POR ETAPA/PRODUTO",{"$nulls":13},"CODIGO:"]
[{"$nulls":14},"CRO-1"]
["Cod.","Categoria / Insumo","Uni","Qde","CUD","PU","FatorK","EC","T1N","T2N","T3N","T4N","T5N","T1S","T2S","T3S","T4S","T5S"]
[{"$nulls":6},"Meses",4,3,3,3,2,1,1,3,1,1,1]
["P0","Engenheiro Sênior","mês",{"$f":"SUM(H5:R5)","v":11.5},{"$f":"PFP!G8","v":19796.48},{"$f":"PFP!H8","v":33560.97},{"$f":"PFP!I8","v":1.6953},2,1.5,1.5,1.5,1,0.5,0.5,1.5,0.5,0.5,0.5]
["P1","Engenheiro Pleno","mês",46,{"$f":"PFP!G9","v":15304.96},{"$f":"PFP!H9","v":25946.5},{"$f":"PFP!I9","v":1.6953},8,6,6,6,4,2,2,6,2,2,2]
["P2","Engenheiro Médio","mês",46,{"$f":"PFP!G10","v":11711.04},{"$f":"PFP!H10","v":27690.75},{"$f":"PFP!I10","v":2.3645},8,6,6,6,4,2,2,6,2,2,2]
["P3","Engenheiro Júnior","mês",84,{"$f":"PFP!G11","v":9724},{"$f":"PFP!H11","v":22992.400000000001},{"$f":"PFP!I11","v":2.3645},8,12,12,12,8,4,4,12,4,4,4]
["S1","Analista Pleno","mês",2,{"$f":"PFP!G12","v":5963.68},{"$f":"PFP!H12","v":14101.12},{"$f":"PFP!I12","v":2.3645},2]
["S2","Analista Médio","mês",4,{"$f":"PFP!G13","v":4782.6899999999996},{"$f":"PFP!H13","v":11308.67},{"$f":"PFP!I13","v":2.3645},4]
["S3","Analista Júnior","mês",4,{"$f":"PFP!G14","v":3601.69},{"$f":"PFP!H14","v":8516.2000000000007},{"$f":"PFP!I14","v":2.3645},4]
["T2","Técnico Pleno","mês",46,{"$f":"PFP!G15","v":5362.72},{"$f":"PFP!H15","v":12680.15},{"$f":"PFP!I15","v":2.3645},8,6,6,6,4,2,2,6,2,2,2]
["T3","Técnico Junior","mês",92,{"$f":"PFP!G16","v":4627.04},{"$f":"PFP!H16","v":10940.64},{"$f":"PFP!I16","v":2.3645},16,12,12,12,8,4,4,12,4,4,4]
["A1","Administrativo (Secretariado)","dia",23,{"$f":"PFP!G17","v":5007.2},{"$f":"PFP!H17","v":11839.52},{"$f":"PFP!I17","v":2.3645},4,3,3,3,2,1,1,3,1,1,1]
["V1","Diárias","dia",615,{"$f":"PFP!G18","v":239},{"$f":"PFP!H18","v":300.14},{"$f":"PFP!I18","v":1.2558},140,75,75,75,50,25,25,75,25,25,25]
["V3","Caminhonete 2.8 4x4 Diesel","un",246,{"$f":"PFP!G19","v":196.18},{"$f":"PFP!H19","v":246.36},{"$f":"PFP!I19","v":1.2558},56,30,30,30,20,10,10,30,10,10,10]
["V4","Passagens Aéreas (ida e volta)","un",115,{"$f":"PFP!G20","v":994},{"$f":"PFP!H20","v":1248.27},{"$f":"PFP!I20","v":1.2558},20,15,15,15,10,5,5,15,5,5,5]
["M3","Relatório Parcial","un",33,{"$f":"PFP!G21","v":33.35},{"$f":"PFP!H21","v":41.88},{"$f":"PFP!I21","v":1.2558},3,3,3,3,3,3,3,3,3,3,3]
["M4","Relatório Final","un",33,{"$f":"PFP!G22","v":1478.8},{"$f":"PFP!H22","v":1857.08},{"$f":"PFP!I22","v":1.2558},3,3,3,3,3,3,3,3,3,3,3]
["TP","Total Serviços Cartográficos","un",1,{"$f":"PFP!G23","v":"-"},{"$f":"PFP!H23","v":437669.76},{"$f":"PFP!I23","v":"-"},1]
["GT","Total Serviços Geotécnicos","un",1,{"$f":"PFP!G24","v":"-"},{"$f":"PFP!H24","v":975933.10999999987},{"$f":"PFP!I24","v":"-"},1]
["TOTAL","VALOR TOTAL POR PRODUTO","R$",8619272.9750000015,null,null,null,{"$f":"SUM(H5:H21*$F$5:$F$21)","v":2611591.29},{"$f":"SUM(I5:I21*$F$5:$F$21)","v":945283.12500000035},{"$f":"SUM(J5:J21*$F$5:$F$21)","v":945283.12500000035},{"$f":"SUM(K5:K21*$F$5:$F$21)","v":945283.12500000035},{"$f":"SUM(L5:L21*$F$5:$F$21)","v":632087.71},{"$f":"SUM(M5:M21*$F$5:$F$21)","v":318892.29499999998},{"$f":"SUM(N5:N21*$F$5:$F$21)","v":318892.29499999998},{"$f":"SUM(O5:O21*$F$5:$F$21)","v":945283.12500000035},{"$f":"SUM(P5:P21*$F$5:$F$21)","v":318892.29499999998},{"$f":"SUM(Q5:Q21*$F$5:$F$21)","v":318892.29499999998},{"$f":"SUM(R5:R21*$F$5:$F$21)","v":318892.29499999998}]
[null,null,"%",1.0000000000000002,null,null,null,{"$f":"ROUND(H22/$D$22,5)","v":0.30298999999999998},{"$f":"ROUND(I22/$D$22,5)","v":0.10967},0.10967,0.10967,7.3330000000000006E-2,3.6999999999999998E-2,3.6999999999999998E-2,0.10967,3.6999999999999998E-2,3.6999999999999998E-2,3.6999999999999998E-2]
["TOTAL","VALOR DOS SUBPRODUTOS","R$",6895418.3800000018,null,null,null,{"$f":"H22*0.8","v":2089273.0320000001},{"$f":"I22*0.8","v":756226.50000000035},756226.50000000035,756226.50000000035,505670.16800000001,255113.83600000001,{"$f":"N22*0.8","v":255113.83600000001},756226.50000000035,255113.83600000001,255113.83600000001,255113.83600000001]
[null,"VALOR DO PRODUTO CONSOLIDADO","R$",1723854.5950000004,null,null,null,{"$f":"H22*0.2","v":522318.25800000003},{"$f":"I22*0.2","v":189056.62500000009},189056.62500000009,189056.62500000009,126417.542,63778.459000000003,{"$f":"N22*0.2","v":63778.459000000003},189056.62500000009,63778.459000000003,63778.459000000003,63778.459000000003]

{"sheet":"CRO2_Pro-Mes","index":7,"n_rows":13,"n_cols":15,"rows_kept":13,"cut":false,"hidden":false,"merged":[[0,0,0,14]]}
["CRONOGRAMA SIMPLIFICADO"]
["Cod.","Produto/ Mês","Soma",1,2,3,4,5,6,7,8,9,10,11,12]
["EC","Estudos Complementares",{"$f":"SUM(D3:O3)","v":4},1,1,1,1]
["T1N","Trecho 1N",{"$f":"SUM(D4:O4)","v":3},{"$nulls":6},1,1,1]
["T2N","Trecho 2N",{"$f":"SUM(D5:O5)","v":3},{"$nulls":7},1,1,1]
["T3N","Trecho 3N",{"$f":"SUM(D6:O6)","v":3},{"$nulls":8},1,1,1]
["T4N","Trecho 4N",{"$f":"SUM(D7:O7)","v":2},{"$nulls":10},1,1]
["T5N","Trecho 5N",{"$f":"SUM(D8:O8)","v":1},{"$nulls":11},1]
["T1S","Trecho 1S",{"$f":"SUM(D9:O9)","v":1},{"$nulls":4},1]
["T2S","Trecho 2S",{"$f":"SUM(D10:O10)","v":3},{"$nulls":4},1,1,1]
["T3S","Trecho 3S",{"$f":"SUM(D11:O11)","v":1},{"$nulls":7},1]
["T4S","Trecho 4S",{"$f":"SUM(D12:O12)","v":1},null,null,null,1]
["T5S","Trecho 5S",{"$f":"SUM(D13:O13)","v":1},null,null,1]