{"text_format":"2","workbook":"xlsx","n_sheets":11,"sheets":["PFS","PFS_I Equipe (2)","PFS_II Desp Viagens","PFS_III Ser Graf","PFS_IV Desp Gerais","PFS_V Cronog Financ","PFS_VI_ Det_ Custos Adm_","PFS_VII Det_ Desp Fiscais","PFS_VIII Det_ Enc_ Soc_","Plan1","Relatório de Compatibilidade"],"not_rendered":{"charts":0,"images":1,"macros":0,"external_links":2,"defined_names":58,"comments":0,"pivot_tables":0},"unopened":[],"bounds":{"document_bytes":16777216,"sheet_cells":100000,"run_cost":"one","rows_first":2000,"rows_last":500,"rows_between":2000,"halvings":0,"cell_chars":16384,"cell_head_chars":4096},"cells_cut":0,"cells_raw":0,"read":"whole","date_system":"1900"}

{"sheet":"PFS","index":0,"n_rows":45,"n_cols":15,"rows_kept":45,"cut":false,"hidden":false,"merged":[[9,0,9,5],[9,6,9,13],[10,0,10,14],[11,0,11,12],[11,13,11,14],[16,0,16,12],[16,13,16,14],[15,0,15,12],[13,0,13,12],[13,13,13,14],[21,0,21,12],[21,13,21,14],[4,0,5,12],[4,13,4,14],[5,13,5,14],[6,0,6,14],[12,0,12,14],[8,0,8,5],[8,6,8,13],[17,0,17,12],[26,0,26,12],[27,0,27,12],[22,0,22,12],[22,13,22,14],[23,0,23,12],[23,13,23,14],[14,0,14,12],[14,13,14,14],[20,13,20,14],[18,0,18,12],[18,13,18,14],[19,0,19,14],[20,0,20,12],[15,13,15,14],[17,13,17,14],[35,0,35,14],[37,0,37,14],[32,0,32,12],[32,13,32,14],[24,0,24,12],[24,13,24,14],[27,13,27,14],[26,13,26,14],[25,0,25,12],[25,13,25,14],[41,0,41,14],[42,0,42,14],[28,0,28,12],[28,13,28,14],[43,0,43,14],[29,0,29,8],[29,9,29,14],[30,0,30,8],[31,0,31,12],[31,13,31,14]]}
[{"$nulls":7},"Ministério da Integração Nacional - MI"]
[{"$nulls":7},"Companhia de Desenvolvimento dos Vales do São Francisco e do Parnaíba"]
[]
[]
["PROPOSTA FINANCEIRA DE SERVIÇOS",{"$nulls":12},"CODIGO:"]
[{"$nulls":13},"PFS"]
["NOME DA CONSULTORA:"]
[]
["PERÍMETRO(S):",{"$nulls":5},"OBJETO:",{"$nulls":7},"EDITAL:"]
[]
["SERVIÇOS PAGOS A PREÇO GLOBAL"]
["CUSTOS DIRETOS",{"$nulls":12},{"$f":"N14+N17+N24","v":7686810.9251999985}]
["MÃO-DE-OBRA"]
["A - TOTAL DE SALÁRIO DA EQUIPE",{"$nulls":12},{"$f":"SUM(N15:O16)","v":2764809.1199999996}]
["A1 - TOTAL SALÁRIOS DA EQUIPE COM VÍNCULO (PFS-I)",{"$nulls":12},{"$f":"'PFS_I Equipe (2)'!E24","v":2764809.1199999996}]
["A2 - TOTAL SALÁRIO DO AUTÔNOMO (PFS-I) - Consultoria",{"$nulls":12},0]
["B - TOTAL DE ENCARGOS SOCIAIS",{"$nulls":12},{"$f":"'PFS_VIII Det_ Enc_ Soc_'!G38","v":2135815.0451999996}]
["B1 -  77,25% INCIDENTE SOBRE O ITEM  A1 "]
["B2 -  20,00% INCIDENTE SOBRE O ITEM  A2"]
["OUTRAS DESPESAS"]
["C - DESPESAS COM VIAGENS (PFS-II)",{"$nulls":12},{"$f":"'PFS_II Desp Viagens'!L25","v":1365120}]
["D - SERVIÇOS GRÁFICOS (PFS-III)",{"$nulls":12},{"$f":"'PFS_III Ser Graf'!G42","v":1200}]
["E - DESPESAS GERAIS (PFS-IV)",{"$nulls":12},{"$f":"'PFS_IV Desp Gerais'!I41","v":1419866.7599999998}]
["TOTAL DE OUTRAS DESPESAS",{"$nulls":12},{"$f":"SUM(N21:O23)","v":2786186.76}]
["CUSTOS INDIRETOS",{"$nulls":12},{"$f":"SUM(N26:O28)","v":3060671.9699999997}]
["F -  CUSTO DE ADMINISTRAÇÃO - (25,00% DO ITEM A) (PFS-VI)",{"$nulls":12},{"$f":"'PFS_VI_ Det_ Custos Adm_'!G38","v":691202.27999999991}]
["G - REMUNERAÇÃO DA EMPRESA (LUCRO) - (10,00% DOS ITENS A+B+C+D+E+F)",{"$nulls":12},{"$f":"ROUND(((N14+N17+N21+N22+N23+N26)*0.1),2)","v":837801.32}]
["H - DESPESAS FISCAIS - (16,62% = DF' DOS ITENS A+B+C+D+E+F+G) (PFS-VII)",{"$nulls":12},{"$f":"ROUND(((N14+N17+N21+N22+N23+N26+N27)*0.1662),2)","v":1531668.37}]
["TOTAL DA PROPOSTA",{"$nulls":12},{"$f":"ROUND((N12+N25),2)","v":10747482.9}]
["NOME DO INFORMANTE:",{"$nulls":8},"QUALIFICAÇÃO:"]
[]
["ASSINATURA:",{"$nulls":12},"DATA:"]
[]
["OBSERVAÇÃO:"]
["ESTE ORÇAMENTO FOI CALCULADO COM OS SEGUINTES % MÁXIMOS DE ENCARGOS SOCIAIS E CUSTOS INDIRETOS: "]
["1. ENCARGOS SOCIAIS DE AUTÔNOMOS = 20% SOBRE O SALÁRIO MENSAL"]
["2. ENCARGOS SOCIAIS DA EQUIPE COM VÍNCULO = 77,25% SOBRE O SALÁRIO MENSAL"]
["3. CUSTO DE ADMINISTRAÇÃO = 25,00% SOBRE O TOTAL DE SALÁRIOS DA EQUIPE (A1 + A2)"]
["4. REMUNERAÇÃO DA EMPRESA (LUCRO) = 10,00% SOBRE OS ITENS DE CUSTOS DIRETOS + CUSTO DE ADMINISTRAÇÃO"]
["5. DF = A SOMA DOS TRIBUTOS (EX: ISS 5,00 + PIS 1,65 + COFINS 7,60 = 14,25%)"]
["6. DF' = UTILIZADO NA LINHA \"H\" SERÁ CALCULADO APLICANDO A SEGUINTE FÓRMULA:"]
["    DF' = { [ 1 / ( 1 - DF) ] - 1 } x 100"]
["    DF' = { [ 1 / ( 1 - 0,1425 ) ] - 1 } x 100"]
["    DF' = 0,1662  ou  16,62%"]
["7. NÃO foram incluídos os tributos IRPJ e CSLL, em cumprimento ao Acórdão nº 325/2007 – TCU – Plenário."]

{"sheet":"PFS_I Equipe (2)","index":1,"n_rows":33,"n_cols":11,"rows_kept":33,"cut":false,"hidden":false,"merged":[[4,0,5,7],[6,0,6,7],[8,3,8,7],[9,3,9,7]]}
[null,null,null,"Ministério da Integração Nacional - MI"]
[null,null,null,"Companhia de Desenvolvimento dos Vales do São Francisco e do Parnaíba"]
[]
[]
["SALÁRIOS E ENCARGOS DA EQUIPE",{"$nulls":7},"CODIGO:"]
[{"$nulls":8},"PFS-I"]
["NOME DA CONSULTORA:"]
[]
["PERÍMETRO(S):",null,null,"OBJETO:",{"$nulls":4},"EDITAL:",null,{"$f":"8*12","v":96}]
[]
["CATEGORIA FUNCIONAL","SÍMBOLO","TOTAL DE\nHOMENS X\nMÊS","SALÁRIO\nMENSAL\n(R$)","TOTAL CUSTO\nSALÁRIOS DE\nB1","TOTAL CUSTO\nSALÁRIOS DE\nB2","TOTAL\nCUSTO ENC.\nSOCIAIS DE\nB1","TOTAL\nCUSTO ENC.\nSOCIAIS DE\nB2","TAXA DE\nENCARGOS\nSOCIAIS\n%"]
["ENGENHEIRO COORDENADOR","P0",12,7244.45,{"$f":"D12*C12","v":86933.4},null,{"$f":"E12*I12","v":67156.051499999987},null,0.77249999999999996,{"$f":"C12/12","v":1}]
["ENGENHEIRO DE PLANEJAMENTO","P3",12,6154,{"$f":"D13*C13","v":73848},null,{"$f":"E13*I13","v":57047.579999999994},null,0.77249999999999996,{"$f":"C13/12","v":1}]
["ENGENHEIRO CIVIL / AGRONOMO","P3",72,6154,{"$f":"C14*D14","v":443088},"-",{"$f":"E14*I14","v":342285.48},"-",0.77249999999999996,6]
["GEÓLOGO","P3",24,6154,{"$f":"C15*D15","v":147696},"-",{"$f":"E15*I15","v":114095.15999999999},"-",0.77249999999999996,2]
["PROFISSIONAL DE AÇÃO SOCIAL NÍVEL SUPERIOR","NS",144,3887.52,559802.88,"-",432447.72479999997,"-",{"$f":"I14","v":0.77249999999999996},12]
["TECNICO DE CAMPO / AGRÍCOLA","T1",432,2852.96,1232478.72,"-",952089.81119999988,"-",{"$f":"I16","v":0.77249999999999996},{"$f":"C17/12","v":36}]
["ADMINISTRATIVO","A2",24,1770.74,42497.760000000002,"-",32829.5196,"-",{"$f":"I17","v":0.77249999999999996},2]
["TOPÓGRAFO","T0",24,4245.12,101882.88,null,78704.524799999999,null,{"$f":"I18","v":0.77249999999999996},2]
["AUXILIAR DE TOPÓGRAFO","T3",48,1052.48,50519.040000000001,null,39025.958399999996,null,{"$f":"I19","v":0.77249999999999996},4]
["CADISTA","T2",12,2171.87,26062.44,null,20133.23,null,0.77249999999999996,1]
[]
[]
["TOTAIS",null,null,null,{"$f":"SUM(E12:E23)","v":2764809.1199999996},0,{"$f":"SUM(G12:G23)","v":2135815.0403},0]
["NOME DO INFORMANTE:",{"$nulls":5},"QUALIFICAÇÃO:"]
[]
["ASSINATURA:",{"$nulls":6},"DATA:"]
[]
["LEGENDA:"]
["B1 - SALÁRIOS DA EQUIPE EM DIAS ÚTEIS"]
["B2- SALÁRIO DO PESSOAL AUTÔNOMO (CONSULTORES)"]
["OBSERVAÇÃO:"]
["DETALHAR OS ENCARGOS SOCIAIS NO FOR PFS-VIII"]

{"sheet":"PFS_II Desp Viagens","index":2,"n_rows":30,"n_cols":16,"rows_kept":30,"cut":false,"hidden":false,"merged":[[14,0,14,1],[5,0,6,11],[5,12,5,13],[6,12,6,13],[7,0,7,13],[11,2,11,7],[12,5,12,7],[11,0,13,1],[11,8,11,13],[23,2,23,4],[9,3,9,11],[12,8,12,10],[12,11,12,13],[19,0,19,1],[12,2,12,4],[20,0,20,1],[18,0,18,1],[21,0,21,1],[17,0,17,1],[15,0,15,1],[16,0,16,1],[28,0,28,13],[24,11,24,13],[24,0,24,10],[27,1,27,11],[23,11,23,13],[23,8,23,10],[23,5,23,7],[23,0,23,1]]}
[]
[{"$nulls":4},"Ministério da Integração Nacional - MI",{"$nulls":9},"VALOR DIARIA",60]
[{"$nulls":4},"Companhia de Desenvolvimento dos Vales do São Francisco e do Parnaíba",{"$nulls":9},"VALOR REF",30]
[]
[]
["DESPESAS COM VIAGENS",{"$nulls":11},"CODIGO:"]
[{"$nulls":12},"PFS-II"]
["NOME DA CONSULTORA:"]
[]
["PERÍMETRO(S):",null,null,"OBJETO:",{"$nulls":8},"EDITAL:"]
[]
["EQUIPE",null,"DIÁRIAS - PERNOITE",{"$nulls":5},"ALIMENTAÇÃO"]
[null,null,"NÍVEL SUPERIOR",null,null,"NÍVEL TÉC/AUX/APOIO",null,null,"NÍVEL SUPERIOR",null,null,"NÍVEL TÉC/AUX/APOIO"]
[null,null,"QUANT.","CUSTO (R$)","TOTAL (R$)","QUANT.","CUSTO (R$)","TOTAL (R$)","QUANT.","CUSTO (R$)","TOTAL (R$)","QUANT.","CUSTO (R$)","TOTAL (R$)"]
[{"$f":"'PFS_I Equipe (2)'!A12","v":"ENGENHEIRO COORDENADOR"},null,{"$f":"20*'PFS_I Equipe (2)'!C12","v":240},{"$f":"$P$2","v":60},{"$f":"C15*D15","v":14400},null,null,null,240,{"$f":"$P$3","v":30},{"$f":"I15*J15","v":7200}]
[{"$f":"'PFS_I Equipe (2)'!A13","v":"ENGENHEIRO DE PLANEJAMENTO"},null,{"$f":"4*'PFS_I Equipe (2)'!C13","v":48},{"$f":"$P$2","v":60},{"$f":"C16*D16","v":2880},null,null,null,{"$f":"C16","v":48},{"$f":"$P$3","v":30},{"$f":"I16*J16","v":1440}]
[{"$f":"'PFS_I Equipe (2)'!A14","v":"ENGENHEIRO CIVIL / AGRONOMO"},null,{"$f":"20*'PFS_I Equipe (2)'!C14","v":1440},{"$f":"$P$2","v":60},{"$f":"C17*D17","v":86400},null,null,null,{"$f":"C17","v":1440},{"$f":"$P$3","v":30},{"$f":"I17*J17","v":43200}]
[{"$f":"'PFS_I Equipe (2)'!A15","v":"GEÓLOGO"},null,{"$f":"20*'PFS_I Equipe (2)'!C15","v":480},{"$f":"$P$2","v":60},{"$f":"C18*D18","v":28800},null,null,null,{"$f":"C18","v":480},{"$f":"$P$3","v":30},{"$f":"I18*J18","v":14400}]
[{"$f":"'PFS_I Equipe (2)'!A16","v":"PROFISSIONAL DE AÇÃO SOCIAL NÍVEL SUPERIOR"},null,{"$f":"20*'PFS_I Equipe (2)'!C16","v":2880},{"$f":"$P$2","v":60},{"$f":"C19*D19","v":172800},null,null,null,{"$f":"C19","v":2880},{"$f":"$P$3","v":30},{"$f":"I19*J19","v":86400}]
[{"$f":"'PFS_I Equipe (2)'!A17","v":"TECNICO DE CAMPO / AGRÍCOLA"},{"$nulls":4},{"$f":"20*'PFS_I Equipe (2)'!C17","v":8640},60,{"$f":"F20*G20","v":518400},null,null,null,{"$f":"F20","v":8640},30,{"$f":"L20*M20","v":259200}]
[{"$f":"'PFS_I Equipe (2)'!A19","v":"TOPÓGRAFO"},{"$nulls":4},{"$f":"20*'PFS_I Equipe (2)'!C19","v":480},60,{"$f":"F21*G21","v":28800},null,null,null,{"$f":"F21","v":480},30,{"$f":"L21*M21","v":14400}]
[{"$f":"'PFS_I Equipe (2)'!A20","v":"AUXILIAR DE TOPÓGRAFO"},{"$nulls":4},{"$f":"20*'PFS_I Equipe (2)'!C20","v":960},60,{"$f":"F22*G22","v":57600},null,null,null,{"$f":"F22","v":960},30,{"$f":"L22*M22","v":28800}]
[null,null,{"$f":"SUM(C15:C22)","v":5088},"",null,{"$f":"SUM(F15:F22)","v":10080},null,null,{"$f":"SUM(I15:I22)","v":5088},null,null,{"$f":"SUM(L15:L22)","v":10080}]
["TOTAIS COM PASSAGENS/DIÁRIAS",null,{"$f":"SUM(E15:E23)","v":305280},null,null,{"$f":"SUM(H15:H23)","v":604800},null,null,{"$f":"SUM(K15:K23)","v":152640},null,null,{"$f":"SUM(N15:N23)","v":302400}]
["TOTAL DE DESPESAS COM VIAGENS ",{"$nulls":10},{"$f":"SUM(C24:N24)","v":1365120}]
[]
["NOME DO INFORMANTE:",{"$nulls":5},"QUALIFICAÇÃO:"]
["ASSINATURA:",{"$nulls":11},"DATA:"]
["OBSERVAÇÃO:"]
["1 - TRANSFERIR O TOTAL DAS DESPESAS COM VIAGENS PARA A LINHA \"C\" DO FORMULÁRIO PFS)"]

{"sheet":"PFS_III Ser Graf","index":3,"n_rows":50,"n_cols":7,"rows_kept":50,"cut":false,"hidden":false,"merged":[[50,0,50,6],[17,0,17,2],[22,0,22,2],[23,0,23,2],[28,0,28,2],[41,0,41,5],[44,0,44,4],[46,0,46,6],[39,0,39,5],[40,0,40,5],[15,0,15,2],[16,0,16,2],[13,0,13,2],[29,0,29,2],[12,0,12,2],[14,0,14,2],[11,0,11,2],[3,0,4,5],[5,0,5,6],[7,2,7,5],[9,0,10,2],[9,5,9,6]]}
[null,null,"Ministério da Integração Nacional - MI"]
[null,null,"Companhia de Desenvolvimento dos Vales do São Francisco e do Parnaíba"]
[]
["SERVIÇOS GRÁFICOS",{"$nulls":5},"CODIGO:"]
[{"$nulls":6},"PFS-III"]
["NOME DA CONSULTORA:"]
[]
["PERÍMETRO(S):",null,"OBJETO:",null,null,null,"EDITAL:"]
[]
["DISCRIMINAÇÃO",null,null,"EXEMPLARES/","Nº DE","CUSTOS (R$)"]
[null,null,null,"ITENS","VIAS","UNITÁRIO","TOTAL"]
["Relatórios mensais",null,null,12,2,50,{"$f":"D12*E12*F12","v":1200}]
{"$rows_empty":27}
["SUBTOTAL",{"$nulls":5},{"$f":"SUM(G12:G39)","v":1200}]
[]
["TOTAL  DE SERVIÇOS GRÁFICOS",{"$nulls":5},{"$f":"SUM(G40:G41)","v":1200}]
["NOME DO INFORMANTE:",null,null,"QUALIFICAÇÃO:"]
[]
["ASSINTATURA:",{"$nulls":4},"DATA:"]
[]
["OBSERVAÇÃO:"]
["1 - CORREPONDEM AOS SERVIÇOS COM IMPRESSÃO DOS  RELATÓRIOS. "]
["2 - RESERVA DE 10% CALCULADO SOBRE O SUBTOTAL PARA IMPRESSÃO DE RELATÓRIOS ESPECÍFICOS EXCEPCIONALMENTE "]
["     SOLICITADO PELA CODEVASF"]

{"sheet":"PFS_IV Desp Gerais","index":4,"n_rows":44,"n_cols":9,"rows_kept":44,"cut":false,"hidden":false,"merged":[[9,7,9,8],[12,1,12,4],[16,1,16,8],[20,0,20,7],[17,1,17,4],[13,1,13,4],[11,1,11,8],[32,0,32,7],[21,1,21,8],[15,0,15,7],[3,0,4,7],[8,3,8,7],[9,0,10,0],[9,1,10,4],[9,5,10,5],[9,6,10,6],[14,1,14,4],[26,1,26,4],[36,1,36,4],[37,1,37,4],[24,1,24,4],[31,1,31,4],[29,1,29,4],[25,1,25,4],[27,1,27,4],[28,1,28,4],[33,1,33,8],[30,1,30,4],[43,1,43,6],[19,1,19,4],[22,1,22,4],[23,1,23,4],[39,1,39,4],[40,1,40,7],[38,0,38,7],[34,1,34,4],[35,1,35,4]]}
[null,null,null,"Ministério da Integração Nacional - MI"]
[null,null,null,"Companhia de Desenvolvimento dos Vales do São Francisco e do Parnaíba"]
[]
["DESPESAS GERAIS ",{"$nulls":7},"CODIGO:"]
[{"$nulls":8},"PFS-IV"]
["NOME DA CONSULTORA:"]
[]
["PERÍMETRO(S):",null,null,"OBJETO:",{"$nulls":4},"EDITAL:"]
[]
["ITEM","DISCRIMINAÇÃO",null,null,null,"UNID.","QUANT.","CUSTOS (R$)"]
[{"$nulls":7},"UNITÁRIO","TOTAL"]
["1","VEÍCULOS"]
["1.1","Locação - Veículo tipo caminhoneta diesel, tração 4 x 4, cabine dupla, direção hidráulica, acionamento de vidros elétrico, sistema de trava automático nas quatro portas, ar condicionado, seminovo em bom estado de conservação, com no máximo um 02 anos de uso, cor branca, incluindo despesas com combustível, manutenção, licenciamento, seguros e impostos.",null,null,null,"Unid. X Mês",24,4573.8999999999996,{"$f":"G13*H13","v":109773.59999999999}]
["1.2","Fornecimento de veículo leve (1.4 ou superior) com no máximo 02 anos de uso, com ar-condicionado para apoio à fiscalização, incluindo despesas com combustível, óleos, manutenção, licenciamento, seguros, impostos",null,null,null,"Unid. X Mês",{"$f":"37*12","v":444},2303.0500000000002,{"$f":"G14*H14","v":1022554.2000000001}]
["1.3","VEÍCULO Utilitário tipo Kombi ou similar para equipe de topografia, incluindo despesas com combustível, óleo, manutenção, licenciamento, seguro, impostos, com no máximo um ano de uso.",null,null,null,"Unid. X Mês",24,2721.57,{"$f":"G15*H15","v":65317.680000000008}]
["Total das despesas com veículos",{"$nulls":7},{"$f":"SUM(I13:I15)","v":1197645.48}]
["2","EQUIPAMENTOS DE TOPOGRAFIA",null,"INSTALAÇÃO, MANUTENÇÃO E ADMINISTRAÇÃO DO ESCRITÓRIO"]
["2.1","Locação - Computador portátil com softwares de topografia e desenho",null,null,null,"Unid. x Mês",24,188.83,{"$f":"G18*H18","v":4531.92}]
["2.2","Rádio",null,null,null,"Unid. x Mês",24,90,{"$f":"G19*H19","v":2160}]
["2.3","Locação - Estação Total, leitura angular até 10 seg., acompanha 2,0 prismas e ombrela",null,null,null,"Unid. x Mês",24,1650,{"$f":"G20*H20","v":39600}]
["Total das despesas com equipamentos de topografia",{"$nulls":7},{"$f":"SUM(I18:I20)","v":46291.92}]
["3","ALUGUEL E MANUTENÇÃO DO ESCRITÓRIO CENTRAL",null,"INSTALAÇÃO, MANUTENÇÃO E ADMINISTRAÇÃO DO ESCRITÓRIO"]
["3.1","Aluguel de escritório com mobiliário e manutenção, água ,luz, limpeza",null,null,null,"Unid. x Mês",12,1500,{"$f":"G23*H23","v":18000}]
["3.2","Telefone (fixo)",null,null,null,"Unid. x Mês",12,300,3600]
["3.3","Telefone (celular - equipe de campo)",null,null,null,"Unid. x Mês",{"$f":"59*12","v":708},50,{"$f":"G25*H25","v":35400}]
["3.4","Internet",null,null,null,"Unid. x Mês",12,100,1200]
["3.5","Locação - Computador com periféricos",null,null,null,"Unid. x Mês",24,100,2400]
["3.6","Locação - Impressora multifuncional",null,null,null,"Unid. x Mês",12,122.93,1475.16]
["3.7","Plotagens",null,null,null,"Unid. x Mês",12,300,3600]
["3.8","Material de escritorio",null,null,null,"Unid. x Mês",12,260,3120]
["3.9","Scanner ",null,null,null,"Unid. x Mês",12,190,2280]
["3.10","Locação - Data show",null,null,null,"Unid. x Mês",60,150,9000]
["Total das despesas com o aluguel e manutenção do escritório central",{"$nulls":7},{"$f":"SUM(I23:I32)","v":80075.16}]
["4","MATERIAIS E EQUIPAMENTOS PARA TRABALHO DE CAMPO",null,"INSTALAÇÃO, MANUTENÇÃO E ADMINISTRAÇÃO DO ESCRITÓRIO"]
["4.1","Material de trabalho / serviços gráficos",null,null,null,"Unid. x Mês",648,30,{"$f":"G35*H35","v":19440}]
["4.2","Locação - Notebook conforme especificação",null,null,null,"Unid. x Mês",{"$f":"23*12","v":276},122.95,{"$f":"G36*H36","v":33934.200000000004}]
["4.3","Locação - Maquina fotográfica digital",null,null,null,"Unid. x Mês",{"$f":"59*12","v":708},30,{"$f":"G37*H37","v":21240}]
["4.4","Locação - GPS de navegação com cabo e software",null,null,null,"Unid. x Mês",{"$f":"59*12","v":708},30,{"$f":"G38*H38","v":21240}]
["Total das despesas com materiais e equipamentos para trabalho de campo",{"$nulls":7},{"$f":"SUM(I35:I38)","v":95854.200000000012}]
[]
[null,"TOTAL  DE DESPESAS GERAIS",{"$nulls":6},{"$f":"I16+I21+I33+I39","v":1419866.7599999998}]
[null,"NOME DO INFORMANTE:",{"$nulls":4},"QUALIFICAÇÃO:"]
[]
[null,"ASSINATURA:",{"$nulls":5},"DATA:"]

{"sheet":"PFS_V Cronog Financ","index":5,"n_rows":41,"n_cols":8,"rows_kept":41,"cut":false,"hidden":false,"merged":[[3,0,4,6],[5,0,5,7],[6,0,6,7],[8,0,8,1],[8,2,8,6],[9,2,9,4],[9,6,9,7],[39,0,39,4],[39,5,39,7],[35,0,35,5],[36,3,36,7],[37,0,37,2],[37,3,37,7],[38,0,38,4],[38,5,38,7]]}
[null,null,"Ministério da Integração Nacional - MI"]
[null,null,"Companhia de Desenvolvimento dos Vales do São Francisco e do Parnaíba"]
[]
["CRONOGRAMA FINANCEIRO",{"$nulls":6},"CODIGO:"]
[{"$nulls":7},"PFS-V"]
["NOME DA CONSULTORA:"]
["      "]
["PERÍMETRO(S):",null,"OBJETO:",{"$nulls":4},"EDITAL:"]
["Salitre"]
["Nº","TAREFA","RELATÓRIO/SERVIÇO DE CAMPO",null,null,"MESES\nCORRIDOS","VALOR DA PARCELA (R$)"]
[1,null,"Relatório mensal 01",null,null,1,{"$error":"#REF!"},{"$f":"PFS!$N$29/12","v":895623.57500000007}]
[2,null,"Relatório mensal 02",null,null,2,{"$error":"#REF!"},{"$f":"H11","v":895623.57500000007}]
[3,null,"Relatório mensal 03",null,null,3,{"$error":"#REF!"},{"$f":"PFS!$N$29/12","v":895623.57500000007}]
[4,null,"Relatório mensal 04",null,null,4,{"$error":"#REF!"},{"$f":"PFS!$N$29/12","v":895623.57500000007}]
[5,null,"Relatório mensal 05",null,null,5,{"$error":"#REF!"},{"$f":"PFS!$N$29/12","v":895623.57500000007}]
[6,null,"Relatório mensal 06",null,null,6,{"$error":"#REF!"},{"$f":"PFS!$N$29/12","v":895623.57500000007}]
[7,null,"Relatório mensal 07",null,null,7,{"$error":"#REF!"},{"$f":"PFS!$N$29/12","v":895623.57500000007}]
[8,null,"Relatório mensal 08",null,null,8,{"$error":"#REF!"},{"$f":"PFS!$N$29/12","v":895623.57500000007}]
[9,null,"Relatório mensal 09",null,null,9,{"$error":"#REF!"},{"$f":"PFS!$N$29/12","v":895623.57500000007}]
[10,null,"Relatório mensal 10",null,null,10,{"$error":"#REF!"},{"$f":"PFS!$N$29/12","v":895623.57500000007}]
[11,null,"Relatório mensal 11",null,null,11,{"$error":"#REF!"},{"$f":"PFS!$N$29/12","v":895623.57500000007}]
[12,null,"Relatório mensal 12",null,null,12,null,{"$f":"PFS!$N$29/12","v":895623.57500000007}]
{"$rows_empty":13}
["TOTAL DA FOLHA",{"$nulls":5},{"$error":"#REF!"},{"$f":"SUM(H11:H35)","v":10747482.899999999}]
["NOME DO INFORMANTE:",null,null,"QUALIFICAÇÃO:"]
[]
["ASSINATURA:",{"$nulls":4},"DATA:"]
[]
["OBSERVAÇÃO:"]

{"sheet":"PFS_VI_ Det_ Custos Adm_","index":6,"n_rows":42,"n_cols":7,"rows_kept":42,"cut":false,"hidden":false,"merged":[[3,0,4,5],[5,0,5,6],[9,0,10,4],[9,5,9,6],[42,0,42,6],[43,0,43,6],[44,0,44,6],[11,1,11,4],[12,1,12,4],[37,1,37,4],[41,0,41,6]]}
[null,null,"Ministério da Integração Nacional - MI"]
[null,null,"Companhia de Desenvolvimento dos Vales do São Francisco e do Parnaíba"]
[]
["DETALHAMENTO DO CUSTO DE ADMINISTRAÇÃO",{"$nulls":5},"CODIGO:"]
[{"$nulls":6},"PFS-VI"]
["NOME DA CONSULTORA:"]
[]
["PERÍMETRO(S):",null,"OBJETO:",null,null,null,"EDITAL:"]
["Salitre"]
["DISCRIMINAÇÃO",{"$nulls":4},"VALORES"]
[{"$nulls":5},"%","R$"]
[1,"Custos da equipe da administração central da empresa consultora ( diretoria, pessoal técnico de apoio e pessoal administrativo não diretamente vinculado à prestação dos serviços)",null,null,null,0.25,{"$f":"'PFS_I Equipe (2)'!E24*0.25","v":691202.27999999991}]
{"$rows_empty":25}
[null,"TOTAIS DO CUSTO DE ADMINISTRAÇÃO",null,null,null,0.25,{"$f":"SUM(G12:G37)","v":691202.27999999991}]
[]
["NOME DO INFORMANTE:",null,null,"QUALIFICAÇÃO:"]
["ASSINATURA:",{"$nulls":4},"DATA:"]
["OBSERVAÇAO:"]

{"sheet":"PFS_VII Det_ Desp Fiscais","index":7,"n_rows":50,"n_cols":10,"rows_kept":50,"cut":false,"hidden":false,"merged":[[31,0,31,4],[32,0,32,4],[13,0,13,4],[14,0,14,4],[33,0,33,4],[34,0,34,4],[25,0,25,4],[26,0,26,4],[29,0,29,4],[30,0,30,4],[27,0,27,4],[28,0,28,4],[50,0,50,7],[37,0,37,4],[38,0,38,4],[35,0,35,4],[36,0,36,4],[39,0,39,4],[44,0,44,7],[45,0,45,7],[3,0,4,6],[5,0,5,7],[9,0,10,4],[9,5,9,7],[15,0,15,4],[24,0,24,4],[11,0,11,4],[12,0,12,4]]}
[null,null,"Ministério da Integração Nacional - MI"]
[null,null,"Companhia de Desenvolvimento dos Vales do São Francisco e do Parnaíba"]
[]
["DETALHAMENTO DE DESPESAS FISCAIS",{"$nulls":6},"CODIGO:"]
[{"$nulls":7},"PFS-VII"]
["NOME DA CONSULTORA:"]
[]
["PERÍMETRO(S):",null,"OBJETO:",{"$nulls":4},"EDITAL:"]
[]
["DISCRIMINAÇÃO",{"$nulls":4},"VALORES"]
[{"$nulls":5},"DF %","DF' %","R$"]
[]
["1 - ISS",{"$nulls":4},5,5.8309037900874632,{"$f":"H40*J13","v":537427.498245614},null,{"$f":"(G13/$G$40)","v":0.35087719298245612}]
["2 - PIS",{"$nulls":4},1.65,1.9241982507288626,{"$f":"H40*J14","v":177351.07442105262},null,{"$f":"(G14/$G$40)","v":0.11578947368421051}]
["3 - COFINS",{"$nulls":4},7.6,8.8629737609329435,{"$f":"H40*J15","v":816889.79733333341},null,{"$f":"(G15/$G$40)","v":0.53333333333333333}]
{"$rows_empty":24}
["TOTAIS DE DESPESAS FISCAIS ",{"$nulls":4},14.25,16.618075801749271,{"$f":"PFS!N28","v":1531668.37}]
["NOME DO INFORMANTE:",null,null,"QUALIFICAÇÃO:"]
[]
["ASSINATURA:",{"$nulls":4},"DATA:"]
[]
["Observação:"]
[" As despesas fiscais (DF) incidem sobre o total da fatura e não sobre os custos incorridos. Portanto aplicar a seguinte fórmula:"]
[" DF' = { [ 1 / ( 1 - DF ) ] - 1 } x 100"]
[" ou seja, para o valor máximo de 14,25%, o valor a ser aplicado na composição dos preços será:"]
[" DF' = { [ 1 / ( 1 - 0,1425 ) ] - 1 } x 100"]
[" DF' =0,1662  ou  16,62%"]

{"sheet":"PFS_VIII Det_ Enc_ Soc_","index":8,"n_rows":41,"n_cols":7,"rows_kept":41,"cut":false,"hidden":false,"merged":[[11,1,11,4],[20,0,20,4],[3,0,4,5],[5,0,5,6],[9,0,10,4],[9,5,9,6],[35,0,35,4],[37,0,37,4],[28,1,28,4],[30,0,30,4],[31,0,31,6],[29,1,29,4],[34,1,34,4],[32,1,32,4],[21,0,21,5],[33,1,33,4],[24,0,24,4],[25,1,25,6],[22,1,22,4],[26,1,26,4],[27,1,27,4]]}
[null,null,"Ministério da Integração Nacional - MI"]
[null,null,"Companhia de Desenvolvimento dos Vales do São Francisco e do Parnaíba"]
[]
["DETALHAMENTO DOS ENCARGOS SOCIAIS",{"$nulls":5},"CODIGO:"]
[{"$nulls":6},"PFS-VIII"]
["NOME DA CONSULTORA:"]
[]
["PERÍMETRO(S):",null,"OBJETO:",null,null,null,"EDITAL:"]
[]
["DISCRIMINAÇÃO",{"$nulls":4},"VALORES"]
[{"$nulls":5},"%","R$"]
["A","ENCARGOS SOCIAIS BÁSICOS"]
["A2","INSS",null,null,null,0.2,{"$f":"'PFS_I Equipe (2)'!$E$24*F13","v":552961.82399999991}]
["A3","FGTS",null,null,null,0.08,{"$f":"'PFS_I Equipe (2)'!$E$24*F14","v":221184.72959999996}]
["A4","Incra",null,null,null,2E-3,{"$f":"'PFS_I Equipe (2)'!$E$24*F15","v":5529.6182399999998}]
["A5","Salário Educação ",null,null,null,2.5000000000000001E-2,{"$f":"'PFS_I Equipe (2)'!$E$24*F16","v":69120.227999999988}]
["A5","Sebrae",null,null,null,6.0000000000000001E-3,{"$f":"'PFS_I Equipe (2)'!$E$24*F17","v":16588.854719999999}]
["A7","Seguro contra acidente",null,null,null,0.03,{"$f":"'PFS_I Equipe (2)'!$E$24*F18","v":82944.273599999986}]
["A8","Senai",null,null,null,0.01,{"$f":"'PFS_I Equipe (2)'!$E$24*F19","v":27648.091199999995}]
["A9","Sesi",null,null,null,1.4999999999999999E-2,{"$f":"'PFS_I Equipe (2)'!$E$24*F20","v":41472.136799999993}]
["SUBTOTAL DE \"A\"",{"$nulls":4},{"$f":"SUM(F13:F20)","v":0.3680000000000001},{"$f":"SUM(G13:G20)","v":1017449.7561599998}]
[]
["B"," ENCARGOS SOCIAIS QUE RECEBEM INCIDÊNCIA DE \"A\""]
["B1","13º Salário  ",null,null,null,8.2199999999999995E-2,{"$f":"'PFS_I Equipe (2)'!$E$24*F24","v":227267.30966399997}]
["SUBTOTAL DE  \"B\"",{"$nulls":4},{"$f":"SUM(F24:F24)","v":8.2199999999999995E-2},{"$f":"SUM(G24:G24)","v":227267.30966399997}]
[]
["C"," ENCARGOS SOCIAIS QUE NÃO RECEBEM INCIDÊNCIA DE \"A\""]
["C1","Depósito por despedida injusta",null,null,null,4.3299999999999998E-2,{"$f":"'PFS_I Equipe (2)'!$E$24*F28","v":119716.23489599998}]
["C2","Férias ",null,null,null,0.10929999999999999,{"$f":"'PFS_I Equipe (2)'!$E$24*F29","v":302193.63681599993}]
["C3","Aviso Prévio",null,null,null,0.10199999999999999,{"$f":"'PFS_I Equipe (2)'!$E$24*F30","v":282010.53023999993}]
["SUBTOTAL DE \"C\"",{"$nulls":4},{"$f":"SUM(F28:F30)","v":0.25459999999999999},{"$f":"G28+G29+G30","v":703920.40195199987}]
[]
["D"," REINCIDÊNCIAS"]
["D1","Reincidência de \"A\" sobre \"B\"",null,null,null,3.0200000000000001E-2,{"$f":"'PFS_I Equipe (2)'!$E$24*F34","v":83497.235423999999}]
["D2","Reincidência de \"A\" sobre \"c3\"",null,null,null,3.7499999999999999E-2,{"$f":"'PFS_I Equipe (2)'!$E$24*F35","v":103680.34199999999}]
["SUBTOTAL DE \"D\"",{"$nulls":4},{"$f":"SUM(F34:F35)","v":6.7699999999999996E-2},{"$f":"G34+G35","v":187177.57742399999}]
[]
["TOTAIS DE ENCARGOS SOCIAIS",{"$nulls":4},{"$f":"F21+F25+F31+F36","v":0.77250000000000008},{"$f":"G21+G25+G31+G36","v":2135815.0451999996}]
["NOME DO INFORMANTE:",null,null,"QUALIFICAÇÃO:"]
["ASSINATURA:",{"$nulls":4},"DATA:"]
["Observação:"]

{"sheet":"Plan1","index":9,"n_rows":0,"n_cols":0,"rows_kept":0,"cut":false,"hidden":false,"merged":[]}

{"sheet":"Relatório de Compatibilidade","index":10,"n_rows":8,"n_cols":6,"rows_kept":8,"cut":false,"hidden":false,"merged":[]}
[null,"Relatório de Compatibilidade para Apoio 8ª SR 27.06 corrigida.xls"]
[null,"Executar em 26/9/2013 15:17"]
[]
[null,"Os seguintes recursos desta pasta de trabalho não têm suporte em versões anteriores do Excel. Eles poderão ser perdidos ou prejudicados se você abrir esta pasta de trabalho em uma versão anterior do Excel ou salvá-la em um formato de arquivo anterior."]
[]
[null,"Perda insignificante de fidelidade",null,null,"Núm. de ocorrências","Versão"]
[]
[null,"Algumas fórmulas nesta pasta de trabalho estão vinculadas a outras pastas de trabalho que estão fechadas. Quando as fórmulas forem recalculadas em versões anteriores do Excel sem que as pastas de trabalho vinculadas sejam abertas, não será possível retornar caracteres além do limite de 255.",null,null,"53\nNomes Definidos","Excel 97-2003"]